Back
From: metabase:user:30f4dfbe-2aae-11df-837a-5e0a49663a4f
Subject: PASS Data-FormValidator-4.80 v5.14.2 Dragonfly BSD
Date: 2012-12-05T03:01:00Z
This distribution has been tested as part of the CPAN Testers
project, supporting the Perl programming language. See
http://wiki.cpantesters.org/ for more information or email
questions to cpan-testers-discuss@perl.org
--
Dear Mark Stosberg,
This is a computer-generated report for Data-FormValidator-4.80
on perl 5.14.2, created by CPAN-Reporter-1.2006.
Thank you for uploading your work to CPAN. Congratulations!
All tests were successful.
Sections of this report:
* Tester comments
* Program output
* Prerequisites
* Environment and other context
------------------------------
TESTER COMMENTS
------------------------------
Additional comments from tester:
this report is from an automated smoke testing program
and was not reviewed by a human for accuracy
------------------------------
PROGRAM OUTPUT
------------------------------
Output from './Build test':
t/00_base.t .............................. ok
t/02_code_ref.t .......................... ok
t/03_dependency.t ........................ ok
t/04_arrayify_undef.t .................... ok
t/05_valid_ip_address.t .................. ok
t/06_regexp_map.t ........................ ok
t/09_require_some.t ...................... ok
t/11_procedural_match.t .................. ok
t/13_validator_packages.t ................ ok
t/15_literal_param_constraints.t ......... ok
t/16_cgi_object.t ........................ ok
t/17_multi_valued_keys.t ................. ok
t/18_constraint_refs.t ................... ok
t/19_refs_as_values.t .................... ok
t/20_careful_exception_handling.t ........ ok
t/21_multiple_fields.t ................... ok
t/25_results.t ........................... ok
t/26_qr.t ................................ ok
t/27_qualify_ref_happy_death.t ........... ok
t/28_defaults_for_new.t .................. ok
t/30_filter_definedness.t ................ ok
t/FV_length.t ............................ ok
t/any_errors.t ........................... ok
t/check_profile_syntax.t ................. ok
t/closure_msgs.t ......................... ok
t/constraint_method.t .................... ok
t/constraint_method_string.t ............. ok
t/constraint_method_zero.t ............... ok
t/constraint_regexp_map_profile_reuse.t .. ok
t/constraints_builtin.t .................. ok
t/constraints_builtin_closure.t .......... ok
t/constraints_factory.t .................. ok
t/constraints_invalid_once_only.t ........ ok
t/constraints_num_values.t ............... ok
t/constraints_regexp_map_interaction.t ... ok
t/constraints_reuse.t .................... ok
t/credit_card.t .......................... ok
t/dates.t ................................ ok
t/dates_closure.t ........................ ok
t/dependency_coderef.t ................... ok
t/dependency_groups.t .................... ok
t/filter_constraints.t ................... ok
t/filters_builtin.t ...................... ok
t/filters_shouldnt_modify.t .............. ok
t/get_filtered_data.t .................... ok
t/get_input_data.t ....................... ok
t/missing_optional.t ..................... ok
t/msgs.t ................................. ok
t/multiple_constraints.t ................. ok
t/params_not_mentioned.t ................. ok
t/pod.t .................................. ok
t/procedural_valid.t ..................... ok
t/profile_checking.t ..................... ok
t/regexp_common.t ........................ ok
t/regexp_common_closure.t ................ ok
t/rename_builtin_constraints.t ........... ok
t/results_success.t ...................... ok
t/simple.t ............................... ok
t/tt_and_overload.t ...................... ok
t/undefined_arrayref.t ................... ok
t/unknown.t .............................. ok
t/untaint.t .............................. ok
# Skipping CGI::Simple Tests
# testing with CGI.pm version: 3.63
# Running tests with CGI
t/upload.t ............................... ok
# testing with CGI.pm version: 3.63
t/upload_closure.t ....................... ok
t/upload_mime_types.t .................... ok
All tests successful.
Files=65, Tests=606, 18 wallclock secs ( 0.73 usr 1.24 sys + 8.57 cusr 7.70 csys = 18.23 CPU)
Result: PASS
------------------------------
PREREQUISITES
------------------------------
Prerequisite modules loaded:
requires:
Module Need Have
--------------- ----- ----------
Date::Calc 5 6.3
Email::Valid 0 0.190
File::MMagic 1.17 1.29
Image::Size 0 3.232
MIME::Types 1.005 1.36
overload 0 1.13
perl 5.008 5.014002
Perl6::Junction 1.1 1.50000
Regexp::Common 0 2011121001
Scalar::Util 0 1.25
Test::More 0 0.98
build_requires:
Module Need Have
--------------- ----- ----------
CGI 3.48 3.63
configure_requires:
Module Need Have
--------------- ----- ----------
Module::Build 0.38 0.4003
------------------------------
ENVIRONMENT AND OTHER CONTEXT
------------------------------
Environment variables:
AUTOMATED_TESTING = 1
PATH = /home/njh/perl5/perlbrew/bin:/home/njh/perl5/perlbrew/perls/perl-5.10.0/bin:/home/njh/perl5/perlbrew/bin:/sbin:/bin:/usr/sbin:/usr/bin:/usr/games:/usr/pkg/sbin:/usr/pkg/bin:/usr/pkg/xorg/bin:/usr/local/sbin:/usr/local/bin:/home/njh/bin:/usr/pkg/lib/perl5/site_perl/bin
PERL5LIB = /home/njh/.cpan/build/Regexp-Common-2011121001-I6bErh/blib/arch:/home/njh/.cpan/build/Regexp-Common-2011121001-I6bErh/blib/lib:/home/njh/.cpan/build/Perl6-Junction-1.50000-aM26FA/blib/arch:/home/njh/.cpan/build/Perl6-Junction-1.50000-aM26FA/blib/lib:/home/njh/.cpan/build/Image-Size-3.232-Tphrhd/blib/arch:/home/njh/.cpan/build/Image-Size-3.232-Tphrhd/blib/lib:/home/njh/.cpan/build/Module-Build-Bundle-0.09-88N8dA/blib/arch:/home/njh/.cpan/build/Module-Build-Bundle-0.09-88N8dA/blib/lib:/home/njh/.cpan/build/Test-MockObject-1.20120301-fpx_Q_/blib/arch:/home/njh/.cpan/build/Test-MockObject-1.20120301-fpx_Q_/blib/lib:/home/njh/.cpan/build/UNIVERSAL-can-1.20120726-c7aJKu/blib/arch:/home/njh/.cpan/build/UNIVERSAL-can-1.20120726-c7aJKu/blib/lib:/home/njh/.cpan/build/UNIVERSAL-isa-1.20120726-C1FxoT/blib/arch:/home/njh/.cpan/build/UNIVERSAL-isa-1.20120726-C1FxoT/blib/lib:/home/njh/.cpan/build/File-Tempdir-0.02-zqmDDg/blib/arch:/home/njh/.cpan/build/File-Tempdir-0.02-zqmDDg/blib/lib
PERL5OPT =
PERL5_CPANPLUS_IS_RUNNING = 72102
PERL5_CPAN_IS_RUNNING = 72102
PERL5_MINISMOKEBOX = 0.54
PERLBREW_BASHRC_VERSION = 0.53
PERLBREW_HOME = /home/njh/.perlbrew
PERLBREW_MANPATH = /home/njh/perl5/perlbrew/perls/perl-5.10.0/man
PERLBREW_PATH = /home/njh/perl5/perlbrew/bin:/home/njh/perl5/perlbrew/perls/perl-5.10.0/bin
PERLBREW_PERL = perl-5.10.0
PERLBREW_ROOT = /home/njh/perl5/perlbrew
PERLBREW_VERSION = 0.58
PERL_EXTUTILS_AUTOINSTALL = --defaultdeps
PERL_MM_USE_DEFAULT = 1
SHELL = /usr/pkg/bin/bash
TERM = xterm
Perl special variables (and OS-specific diagnostics, for MSWin32):
$^X = /usr/pkg/bin/perl
$UID/$EUID = 1001 / 1001
$GID = 1002 1002 0
$EGID = 1002 1002 0
Perl module toolchain versions installed:
Module Have
------------------- --------
CPAN 1.9800
CPAN::Meta 2.120921
Cwd 3.36
ExtUtils::CBuilder 0.280205
ExtUtils::Command 1.17
ExtUtils::Install 1.56
ExtUtils::MakeMaker 6.62
ExtUtils::Manifest 1.61
ExtUtils::ParseXS 3.18
File::Spec 3.33
JSON 2.53
JSON::PP 2.27200
Module::Build 0.4003
Module::Signature 0.70
Parse::CPAN::Meta 1.4404
Test::Harness 3.25
Test::More 0.98
YAML 0.84
YAML::Syck 1.21
version 0.9901
--
Summary of my perl5 (revision 5 version 14 subversion 2) configuration:
Platform:
osname=dragonfly, osvers=3.1-development, archname=i386-dragonfly-thread-multi
uname='dragonfly pkgbox32.dragonflybsd.org 3.1-development dragonfly v3.1.0.1426.g383d6d-development #24: thu aug 23 18:36:41 pdt 2012 root@pkgbox32.dragonflybsd.org:usrobjusrsrc-miscsyspkgbox32 i386 '
config_args='-sde -D ccflags=-O2 -pthread -I/usr/include -D ldflags= -pthread -L/usr/lib -Wl,-R/usr/lib -Wl,-R/usr/pkg/lib -Duseshrplib -Duseithreads -Uusemymalloc'
hint=recommended, useposix=true, d_sigaction=define
useithreads=define, usemultiplicity=define
useperlio=define, d_sfio=undef, uselargefiles=define, usesocks=undef
use64bitint=undef, use64bitall=undef, uselongdouble=undef
usemymalloc=n, bincompat5005=undef
Compiler:
cc='cc', ccflags ='-O2 -pthread -I/usr/include -DHAS_FPSETMASK -DHAS_FLOATINGPOINT_H -fno-strict-aliasing -pipe -fstack-protector -I/usr/local/include',
optimize='-O2 -pthread -I/usr/include',
cppflags='-O2 -pthread -I/usr/include -DHAS_FPSETMASK -DHAS_FLOATINGPOINT_H -fno-strict-aliasing -pipe -fstack-protector -I/usr/local/include'
ccversion='', gccversion='4.4.7 2011.10.25', gccosandvers=''
intsize=4, longsize=4, ptrsize=4, doublesize=8, byteorder=1234
d_longlong=define, longlongsize=8, d_longdbl=define, longdblsize=12
ivtype='long', ivsize=4, nvtype='double', nvsize=8, Off_t='off_t', lseeksize=8
alignbytes=4, prototype=define
Linker and Libraries:
ld='cc', ldflags ='-Wl,-R/usr/pkg/lib -pthread -Wl,-E -fstack-protector'
libpth=/usr/lib /usr/local/lib
libs=-lm -lcrypt -lpthread -lrt
perllibs=-lm -lcrypt -lpthread -lrt
libc=, so=so, useshrplib=true, libperl=libperl.so
gnulibc_version=''
Dynamic Linking:
dlsrc=dl_dlopen.xs, dlext=so, d_dlsymun=undef, ccdlflags=' -Wl,-R/usr/pkg/lib/perl5/5.14.0/i386-dragonfly-thread-multi/CORE'
cccdlflags='-DPIC -fPIC', lddlflags='-Wl,-R/usr/pkg/lib -shared -L/usr/local/lib -fstack-protector'
Characteristics of this binary (from libperl):
Compile-time options: MULTIPLICITY PERL_DONT_CREATE_GVSV
PERL_IMPLICIT_CONTEXT PERL_MALLOC_WRAP
PERL_PRESERVE_IVUV USE_ITHREADS USE_LARGE_FILES
USE_PERLIO USE_PERL_ATOF USE_REENTRANT_API
Built under dragonfly
Compiled at Aug 24 2012 04:13:49
%ENV:
PERL5LIB="/home/njh/.cpan/build/Regexp-Common-2011121001-I6bErh/blib/arch:/home/njh/.cpan/build/Regexp-Common-2011121001-I6bErh/blib/lib:/home/njh/.cpan/build/Perl6-Junction-1.50000-aM26FA/blib/arch:/home/njh/.cpan/build/Perl6-Junction-1.50000-aM26FA/blib/lib:/home/njh/.cpan/build/Image-Size-3.232-Tphrhd/blib/arch:/home/njh/.cpan/build/Image-Size-3.232-Tphrhd/blib/lib:/home/njh/.cpan/build/Module-Build-Bundle-0.09-88N8dA/blib/arch:/home/njh/.cpan/build/Module-Build-Bundle-0.09-88N8dA/blib/lib:/home/njh/.cpan/build/Test-MockObject-1.20120301-fpx_Q_/blib/arch:/home/njh/.cpan/build/Test-MockObject-1.20120301-fpx_Q_/blib/lib:/home/njh/.cpan/build/UNIVERSAL-can-1.20120726-c7aJKu/blib/arch:/home/njh/.cpan/build/UNIVERSAL-can-1.20120726-c7aJKu/blib/lib:/home/njh/.cpan/build/UNIVERSAL-isa-1.20120726-C1FxoT/blib/arch:/home/njh/.cpan/build/UNIVERSAL-isa-1.20120726-C1FxoT/blib/lib:/home/njh/.cpan/build/File-Tempdir-0.02-zqmDDg/blib/arch:/home/njh/.cpan/build/File-Tempdir-0.02-zqmDDg/blib/lib"
PERL5OPT=""
PERL5_CPANPLUS_IS_RUNNING="72102"
PERL5_CPAN_IS_RUNNING="72102"
PERL5_MINISMOKEBOX="0.54"
PERLBREW_BASHRC_VERSION="0.53"
PERLBREW_HOME="/home/njh/.perlbrew"
PERLBREW_MANPATH="/home/njh/perl5/perlbrew/perls/perl-5.10.0/man"
PERLBREW_PATH="/home/njh/perl5/perlbrew/bin:/home/njh/perl5/perlbrew/perls/perl-5.10.0/bin"
PERLBREW_PERL="perl-5.10.0"
PERLBREW_ROOT="/home/njh/perl5/perlbrew"
PERLBREW_VERSION="0.58"
PERL_EXTUTILS_AUTOINSTALL="--defaultdeps"
PERL_MM_USE_DEFAULT="1"
@INC:
/home/njh/.cpan/build/Regexp-Common-2011121001-I6bErh/blib/arch
/home/njh/.cpan/build/Regexp-Common-2011121001-I6bErh/blib/lib
/home/njh/.cpan/build/Perl6-Junction-1.50000-aM26FA/blib/arch
/home/njh/.cpan/build/Perl6-Junction-1.50000-aM26FA/blib/lib
/home/njh/.cpan/build/Image-Size-3.232-Tphrhd/blib/arch
/home/njh/.cpan/build/Image-Size-3.232-Tphrhd/blib/lib
/home/njh/.cpan/build/Module-Build-Bundle-0.09-88N8dA/blib/arch
/home/njh/.cpan/build/Module-Build-Bundle-0.09-88N8dA/blib/lib
/home/njh/.cpan/build/Test-MockObject-1.20120301-fpx_Q_/blib/arch
/home/njh/.cpan/build/Test-MockObject-1.20120301-fpx_Q_/blib/lib
/home/njh/.cpan/build/UNIVERSAL-can-1.20120726-c7aJKu/blib/arch
/home/njh/.cpan/build/UNIVERSAL-can-1.20120726-c7aJKu/blib/lib
/home/njh/.cpan/build/UNIVERSAL-isa-1.20120726-C1FxoT/blib/arch
/home/njh/.cpan/build/UNIVERSAL-isa-1.20120726-C1FxoT/blib/lib
/home/njh/.cpan/build/File-Tempdir-0.02-zqmDDg/blib/arch
/home/njh/.cpan/build/File-Tempdir-0.02-zqmDDg/blib/lib
/usr/pkg/lib/perl5/site_perl/5.14.0/i386-dragonfly-thread-multi
/usr/pkg/lib/perl5/site_perl/5.14.0
/usr/pkg/lib/perl5/vendor_perl/5.14.0/i386-dragonfly-thread-multi
/usr/pkg/lib/perl5/vendor_perl/5.14.0
/usr/pkg/lib/perl5/5.14.0/i386-dragonfly-thread-multi
/usr/pkg/lib/perl5/5.14.0
.