Mail-DKIM v1.20240923 Perl 5 v5.40.2 MSWin32-x64-multi-thread
- Status
- Pass
- From
- LNATION
- Dist
-
Mail-DKIM v1.20240923
- Platform
- Perl 5 v5.40.2 MSWin32-x64-multi-thread
- Date
- 2025-05-18 16:32:07
- ID
- ff69bcd6-6d08-1014-8029-a7a0da3f38ad
This distribution has been tested as part of the CPAN Testers
project, supporting the Perl programming language. See
http://wiki.cpantesters.org/ for more information or email
questions to cpan-testers-discuss@perl.org
--
Dear Marc Bradshaw,
This is a computer-generated report for Mail-DKIM-1.20240923
on perl 5.40.2, created by CPAN-Reporter-1.2020.
Thank you for uploading your work to CPAN. Congratulations!
All tests were successful.
Sections of this report:
* Tester comments
* Program output
* Prerequisites
* Environment and other context
------------------------------
TESTER COMMENTS
------------------------------
Additional comments from tester:
this report is from an automated smoke testing program
and was not reviewed by a human for accuracy
------------------------------
PROGRAM OUTPUT
------------------------------
Output from 'C:\STRAWB~1\c\bin\gmake.exe test':
"C:\Strawberry\perl\bin\perl.exe" "-MExtUtils::Command::MM" "-MTest::Harness" "-e" "undef *Test::Harness::Switches; test_harness(0, 'blib\lib', 'blib\arch')" t/*.t
The system cannot find the path specified.
t/adsp.t ........................ ok
The system cannot find the path specified.
Authentication-Results Header parse error: not expecting a string at C:\STRAWB~1\cpan\build\Mail-DKIM-1.20240923-0\blib\lib/Mail/DKIM/ARC/Signer.pm line 116.
Authentication-Results: Garbage Authentication-Results Header - SHOULD NOT PARSE at C:\STRAWB~1\cpan\build\Mail-DKIM-1.20240923-0\blib\lib/Mail/DKIM/ARC/Signer.pm line 121.
t/arc-draft-sign-tests.t ........ ok
The system cannot find the path specified.
t/arc-draft-validation-tests.t .. ok
The system cannot find the path specified.
t/arc-signer.t .................. ok
t/author-pod-syntax.t ........... skipped: these tests are for testing by the author
t/dev-manifest.t ................ skipped: Author tests not required for installation
The system cannot find the path specified.
t/external_signer.t ............. ok
t/Mail-DKIM.t ................... ok
The system cannot find the path specified.
t/policy.t ...................... ok
The system cannot find the path specified.
t/public_key.t .................. ok
The system cannot find the path specified.
t/signature.t ................... ok
The system cannot find the path specified.
t/signer.t ...................... ok
The system cannot find the path specified.
t/signer_dk.t ................... ok
The system cannot find the path specified.
t/signer_expiration.t ........... ok
The system cannot find the path specified.
t/signer_expiration_set_time.t .. ok
The system cannot find the path specified.
t/signer_policy.t ............... ok
The system cannot find the path specified.
t/simple_canonicalization.t ..... ok
t/textwrap.t .................... ok
The system cannot find the path specified.
did not cache that DNS entry: 2023-05-ed25519-does-not-exist._domainkey.wander.science
>>>
No results: NXDOMAIN
<<<
t/verifier.t .................... ok
The system cannot find the path specified.
t/verifier_strict.t ............. ok
All tests successful.
Files=20, Tests=495, 15 wallclock secs ( 0.28 usr + 0.12 sys = 0.41 CPU)
Result: PASS
------------------------------
PREREQUISITES
------------------------------
Prerequisite modules loaded:
requires:
Module Need Have
----------------------------------------------- ----- ----------
base 0 2.27
Carp 0 1.54
Crypt::OpenSSL::RSA 0 0.35
Crypt::PK::Ed25519 0 0.086
Digest::SHA 0 6.04
Mail::Address 0 2.22
Mail::AuthenticationResults::Header::AuthServID 0 2.20231031
Mail::AuthenticationResults::Parser 0 2.20231031
MIME::Base64 0 3.16_01
Net::DNS 0 1.50
perl 5.006 5.040002
strict 0 1.13
warnings 0 1.70
build_requires:
Module Need Have
----------------------------------------------- ----- ----------
Data::Dumper 0 2.189
ExtUtils::MakeMaker 0 7.74
lib 0 0.65
Net::DNS::Resolver 0 2009
Net::DNS::Resolver::Mock 0 1.20230216
Test::More 0 1.302212
Test::RequiresInternet 0 0.05
Test::Simple 0 1.302212
YAML 0 1.31
YAML::XS 0 v0.904.0
configure_requires:
Module Need Have
----------------------------------------------- ----- ----------
ExtUtils::MakeMaker 0 7.74
------------------------------
ENVIRONMENT AND OTHER CONTEXT
------------------------------
Environment variables:
AUTOMATED_TESTING = 1
COMSPEC = C:\Windows\system32\cmd.exe
NUMBER_OF_PROCESSORS = 2
PATH = C:\Windows\system32;C:\Windows;C:\Windows\System32\Wbem;C:\Windows\System32\WindowsPowerShell\v1.0\;C:\Windows\System32\OpenSSH\;C:\Program Files\Amazon\cfn-bootstrap\;C:\Strawberry\c\bin;C:\Strawberry\perl\site\bin;C:\Strawberry\perl\bin;C:\Users\Administrator\AppData\Local\Microsoft\WindowsApps;C:\Users\Administrator\AppData\Local\Microsoft\WinGet\Links;
PERL5LIB =
PERL5OPT =
PERL5_CPANPLUS_IS_RUNNING = 5268
PERL5_CPAN_IS_RUNNING = 5268
PERL5_CPAN_IS_RUNNING_IN_RECURSION = 4248,5268
PERL_CR_SMOKER_CURRENT = Mail-SpamAssassin-Plugin-Konfidi-1.0.1
PERL_EXTUTILS_AUTOINSTALL = --defaultdeps
PERL_MM_USE_DEFAULT = 1
PERL_USE_UNSAFE_INC = 1
PROCESSOR_IDENTIFIER = Intel64 Family 6 Model 85 Stepping 7, GenuineIntel
TEMP = C:\Users\ADMINI~1\AppData\Local\Temp\2
Perl special variables (and OS-specific diagnostics, for MSWin32):
$^X = C:\Strawberry\perl\bin\perl.exe
$UID/$EUID = 0 / 0
$GID = 0
$EGID = 0
Win32::GetOSName = WinServer
Win32::GetOSVersion = , 10, 0, 26100, 2, 0, 0, 400, 3
Win32::FsType = NTFS
Win32::IsAdminUser = 1
Perl module toolchain versions installed:
Module Have
------------------- --------
CPAN 2.38
CPAN::Meta 2.150010
Cwd 3.91
ExtUtils::CBuilder 0.280240
ExtUtils::Command 7.74
ExtUtils::Install 2.22
ExtUtils::MakeMaker 7.74
ExtUtils::Manifest 1.75
ExtUtils::ParseXS 3.57
File::Spec 3.91
JSON 4.10
JSON::PP 4.16
Module::Build 0.4234
Module::Signature n/a
Parse::CPAN::Meta 2.150010
Test2 1.302212
Test::Harness 3.52
Test::More 1.302212
YAML 1.31
YAML::Syck 1.34
version 0.9933
--
Summary of my perl5 (revision 5 version 40 subversion 2) configuration:
Platform:
osname=MSWin32
osvers=10.0.22631.5189
archname=MSWin32-x64-multi-thread
uname='Win32 strawberry-perl 5.40.2.1 # 05:42:50 Sun May 11 2025 x64'
config_args='undef'
hint=recommended
useposix=true
d_sigaction=undef
useithreads=define
usemultiplicity=define
use64bitint=define
use64bitall=undef
uselongdouble=undef
usemymalloc=n
default_inc_excludes_dot=define
Compiler:
cc='gcc'
ccflags ='-std=c99 -DWIN32 -DWIN64 -DPERL_TEXTMODE_SCRIPTS -DMULTIPLICITY -DPERL_IMPLICIT_SYS -DUSE_PERLIO -D__USE_MINGW_ANSI_STDIO -fwrapv -fno-strict-aliasing -mms-bitfields'
optimize='-O2'
cppflags='-DWIN32'
ccversion=''
gccversion='13.2.0'
gccosandvers=''
intsize=4
longsize=4
ptrsize=8
doublesize=8
byteorder=12345678
doublekind=3
d_longlong=define
longlongsize=8
d_longdbl=define
longdblsize=16
longdblkind=3
ivtype='long long'
ivsize=8
nvtype='double'
nvsize=8
Off_t='long long'
lseeksize=8
alignbytes=8
prototype=define
Linker and Libraries:
ld='g++'
ldflags ='-s -L"C:\STRAWB~1\perl\lib\CORE" -L"C:\STRAWB~1\c\lib" -L"C:\STRAWB~1\c\x86_64-w64-mingw32\lib" -L"C:\STRAWB~1\c\lib\gcc\x86_64-w64-mingw32\13.2.0"'
libpth=C:\STRAWB~1\c\lib C:\STRAWB~1\c\x86_64-w64-mingw32\lib C:\STRAWB~1\c\lib\gcc\x86_64-w64-mingw32\13.2.0 C:\STRAWB~1\c\x86_64-w64-mingw32\lib C:\STRAWB~1\c\lib\gcc\x86_64-w64-mingw32\13.2.0
libs= -lmoldname -lkernel32 -luser32 -lgdi32 -lwinspool -lcomdlg32 -ladvapi32 -lshell32 -lole32 -loleaut32 -lnetapi32 -luuid -lws2_32 -lmpr -lwinmm -lversion -lodbc32 -lodbccp32 -lcomctl32
perllibs= -lmoldname -lkernel32 -luser32 -lgdi32 -lwinspool -lcomdlg32 -ladvapi32 -lshell32 -lole32 -loleaut32 -lnetapi32 -luuid -lws2_32 -lmpr -lwinmm -lversion -lodbc32 -lodbccp32 -lcomctl32
libc=-lucrt
so=dll
useshrplib=true
libperl=libperl540.a
gnulibc_version=''
Dynamic Linking:
dlsrc=dl_win32.xs
dlext=xs.dll
d_dlsymun=undef
ccdlflags=' '
cccdlflags=' '
lddlflags='-shared -s -L"C:\STRAWB~1\perl\lib\CORE" -L"C:\STRAWB~1\c\lib" -L"C:\STRAWB~1\c\x86_64-w64-mingw32\lib" -L"C:\STRAWB~1\c\lib\gcc\x86_64-w64-mingw32\13.2.0"'
Characteristics of this binary (from libperl):
Compile-time options:
HAS_LONG_DOUBLE
HAS_TIMES
HAVE_INTERP_INTERN
MULTIPLICITY
PERLIO_LAYERS
PERL_COPY_ON_WRITE
PERL_DONT_CREATE_GVSV
PERL_HASH_FUNC_SIPHASH13
PERL_HASH_USE_SBOX32
PERL_IMPLICIT_SYS
PERL_MALLOC_WRAP
PERL_OP_PARENT
PERL_PRESERVE_IVUV
PERL_USE_SAFE_PUTENV
USE_64_BIT_INT
USE_ITHREADS
USE_LARGE_FILES
USE_LOCALE
USE_LOCALE_COLLATE
USE_LOCALE_CTYPE
USE_LOCALE_NUMERIC
USE_LOCALE_TIME
USE_PERLIO
USE_PERL_ATOF
USE_THREAD_SAFE_LOCALE
Built under MSWin32
Compiled at May 11 2025 15:48:20
%ENV:
PERL5_CPANPLUS_IS_RUNNING="5268"
PERL5_CPAN_IS_RUNNING="5268"
PERL5_CPAN_IS_RUNNING_IN_RECURSION="4248,5268"
PERL_CR_SMOKER_CURRENT="Mail-SpamAssassin-Plugin-Konfidi-1.0.1"
PERL_EXTUTILS_AUTOINSTALL="--defaultdeps"
PERL_MM_USE_DEFAULT="1"
PERL_USE_UNSAFE_INC="1"
@INC:
C:/Strawberry/perl/site/lib
C:/Strawberry/perl/vendor/lib
C:/Strawberry/perl/lib
.