Report for KiokuDB-0.57

Back
From: metabase:user:30f4dfbe-2aae-11df-837a-5e0a49663a4f
Subject: PASS KiokuDB-0.57 v5.12.5 Mac OS X
Date: 2014-03-26T10:32:57Z

This distribution has been tested as part of the CPAN Testers
project, supporting the Perl programming language.  See
http://wiki.cpantesters.org/ for more information or email
questions to cpan-testers-discuss@perl.org


--
Dear Jesse Luehrs,

This is a computer-generated report for KiokuDB-0.57
on perl 5.12.5, created by CPAN-Reporter-1.2011.

Thank you for uploading your work to CPAN.  Congratulations!
All tests were successful.

Sections of this report:

    * Tester comments
    * Program output
    * Prerequisites
    * Environment and other context

------------------------------
TESTER COMMENTS
------------------------------

Additional comments from tester:

this report is from an automated smoke testing program
and was not reviewed by a human for accuracy

------------------------------
PROGRAM OUTPUT
------------------------------

Output from '/sw/bin/make test':

PERL_DL_NONLAZY=1 /Users/hornenj/perl5/perlbrew/perls/perl-5.12.5/bin/perl "-MExtUtils::Command::MM" "-MTest::Harness" "-e" "undef *Test::Harness::Switches; test_harness(0, 'blib/lib', 'blib/arch')" t/*.t
t/00-compile.t ................. ok
t/coderefs.t ................... ok
t/collapser.t .................. ok
t/digest.t ..................... ok
t/directory.t .................. ok
t/entry.t ...................... ok
t/gc_naive.t ................... ok
t/gin.t ........................ ok
t/hash.t ....................... ok
t/hash_backend.t ............... ok
t/jspon_serialization.t ........ ok
t/kiokudb_class_native.t ....... ok
t/lazy.t ....................... ok
t/link_checker.t ............... ok
t/link_checker_real.t .......... ok
t/live_objs.t .................. ok
t/moose_triggers.t ............. ok
t/ref.t ........................ ok
t/scaling.t .................... ok
t/serializer.t ................. ok
t/stream.t ..................... ok
t/tied.t ....................... ok
t/typemap.t .................... ok
t/typemap_default_json.t ....... ok
t/typemap_default_storable.t ... ok
t/typemap_entry_callback.t ..... ok
t/typemap_entry_mop.t .......... ok
t/typemap_entry_naive.t ........ ok
t/typemap_entry_passthrough.t .. ok
t/typemap_entry_storable.t ..... ok
t/typemap_extra.t .............. ok
t/typemap_resolver.t ........... ok
t/typemap_values.t ............. ok
t/uuid.t ....................... ok
t/versioning.t ................. ok
All tests successful.
Files=35, Tests=23266, 84 wallclock secs ( 1.82 usr  0.21 sys + 78.80 cusr  5.13 csys = 85.96 CPU)
Result: PASS

------------------------------
PREREQUISITES
------------------------------

Prerequisite modules loaded:

requires:

    Module                                         Need   Have    
    ---------------------------------------------- ------ --------
    B                                              0      1.23    
    B::Deparse                                     0      0.9701  
    Cache::Ref                                     0.02   0.04    
    Carp                                           0      1.32    
    Class::Load                                    0      0.20    
    constant                                       0      1.27    
    Data::Stream::Bulk                             0.08   0.11    
    Data::Stream::Bulk::Util                       0      0.11    
    Data::Swap                                     0      0.08    
    Data::UUID                                     1.203  1.219   
    Data::Visitor                                  0.24   0.30    
    Digest::SHA                                    0      5.87    
    Encode                                         0      2.57    
    Hash::Util::FieldHash::Compat                  0      0.07    
    IO::Handle                                     0      1.28    
    JSON                                           2.12   2.90    
    JSON::XS                                       2.231  3.01    
    List::Util                                     0      1.38    
    Module::Pluggable::Object                      0      4.8     
    Moose                                          2.0000 2.1204  
    Moose::Exporter                                0      2.1204  
    Moose::Role                                    0      2.1204  
    Moose::Util                                    0      2.1204  
    Moose::Util::MetaRole                          0      2.1204  
    Moose::Util::TypeConstraints                   0      2.1204  
    MooseX::Clone                                  0.04   0.05    
    MooseX::Clone::Meta::Attribute::Trait::NoClone 0      0       
    MooseX::Role::Parameterized                    0.10   1.02    
    MooseX::YAML                                   0.04   0.04    
    namespace::clean                               0.08   0.24    
    overload                                       0      1.10    
    PadWalker                                      1.9    1.96    
    Path::Class                                    0      0.32    
    POSIX                                          0      1.19    
    Scalar::Util                                   0      1.38    
    Scope::Guard                                   0      0.20    
    Search::GIN::Driver                            0      0.08    
    Search::GIN::Extract                           0      0.08    
    Search::GIN::Query::Class                      0.03   0.08    
    Set::Object                                    1.26   1.34    
    Storable                                       0      2.45    
    strict                                         0      1.04    
    Sub::Exporter                                  0      0.987   
    Symbol                                         0      1.07    
    Test::Exception                                0      0.32    
    Test::Moose                                    0      2.1204  
    Test::More                                     0.88   1.001002
    Throwable                                      0      0.200008
    Tie::RefHash                                   0      1.39    
    Tie::ToObject                                  0      0.03    
    Try::Tiny                                      0      0.19    
    utf8                                           0      1.08    
    warnings                                       0      1.09    
    YAML::XS                                       0.30   0.41    

build_requires:

    Module                                         Need   Have    
    ---------------------------------------------- ------ --------
    base                                           0      2.18    
    Cache::Ref::CART                               0      0.04    
    Cache::Ref::CLOCK                              0      0.04    
    Data::Dumper                                   0      2.145   
    Data::Stream::Bulk::Callback                   0      0.11    
    File::Spec                                     0      3.40    
    if                                             0      0.0601  
    IO::Handle                                     0      1.28    
    IPC::Open3                                     0      1.05    
    Search::GIN::Driver::Hash                      0      0.08    
    Search::GIN::Extract::Class                    0      0.08    
    Search::GIN::Extract::Delegate                 0      0.08    
    Test::More                                     0.88   1.001002

configure_requires:

    Module                                         Need   Have    
    ---------------------------------------------- ------ --------
    ExtUtils::MakeMaker                            6.30   6.90    


------------------------------
ENVIRONMENT AND OTHER CONTEXT
------------------------------

Environment variables:

    AUTOMATED_TESTING = 1
    LC_ALL = POSIX
    LD_LIBRARY_PATH = :/net/traces01.be-md.ncbi.nlm.nih.gov/trace_software/vdb/mac/release/x86_64/lib
    PATH = /Users/hornenj/perl5/perlbrew/bin:/Users/hornenj/perl5/perlbrew/perls/perl-5.12.5/bin:/Users/hornenj/perl5/perlbrew/bin:/Users/hornenj/perl5/perlbrew/perls/perl-5.18.2/bin:/sw/lib/perl5/ExtUtils:/sw/bin:/sw/sbin:/am/ncbiapdata/bin:/usr/bin:/bin:/usr/X11R6/bin:/Users/hornenj/bin:/netopt/ncbi_tools/bin:/usr/local/ncbi/blast/bin:/net/traces01.be-md.ncbi.nlm.nih.gov/trace_software/vdb/mac/release/x86_64/bin
    PERL5LIB = /Users/hornenj/.cpan/build/MooseX-Clone-0.05-0iOQZt/blib/arch:/Users/hornenj/.cpan/build/MooseX-Clone-0.05-0iOQZt/blib/lib:/Users/hornenj/.cpan/build/MooseX-YAML-0.04-DNIe5o/blib/arch:/Users/hornenj/.cpan/build/MooseX-YAML-0.04-DNIe5o/blib/lib:/Users/hornenj/.cpan/build/MooseX-Blessed-Reconstruct-0.04-RxYyUM/blib/arch:/Users/hornenj/.cpan/build/MooseX-Blessed-Reconstruct-0.04-RxYyUM/blib/lib:/Users/hornenj/.cpan/build/Data-Visitor-0.30-JxWXNa/blib/arch:/Users/hornenj/.cpan/build/Data-Visitor-0.30-JxWXNa/blib/lib:/Users/hornenj/.cpan/build/Tie-ToObject-0.03-dJJ1ML/blib/arch:/Users/hornenj/.cpan/build/Tie-ToObject-0.03-dJJ1ML/blib/lib:/Users/hornenj/.cpan/build/Cache-Ref-0.04-7YtBkT/blib/arch:/Users/hornenj/.cpan/build/Cache-Ref-0.04-7YtBkT/blib/lib:/Users/hornenj/.cpan/build/Hash-Util-FieldHash-Compat-0.07-LeTdJA/blib/arch:/Users/hornenj/.cpan/build/Hash-Util-FieldHash-Compat-0.07-LeTdJA/blib/lib:/Users/hornenj/.cpan/build/MooseX-Role-Parameterized-1.02-cIumXX/blib/arch:/Users/hornenj/.cpan/build/MooseX-Role-Parameterized-1.02-cIumXX/blib/lib:/Users/hornenj/.cpan/build/Data-Swap-0.08-REzmrb/blib/arch:/Users/hornenj/.cpan/build/Data-Swap-0.08-REzmrb/blib/lib:/Users/hornenj/.cpan/build/Search-GIN-0.08-5yel5r/blib/arch:/Users/hornenj/.cpan/build/Search-GIN-0.08-5yel5r/blib/lib:/Users/hornenj/.cpan/build/Scope-Guard-0.20-a25jE_/blib/arch:/Users/hornenj/.cpan/build/Scope-Guard-0.20-a25jE_/blib/lib:/Users/hornenj/.cpan/build/Data-Stream-Bulk-0.11-uYPjep/blib/arch:/Users/hornenj/.cpan/build/Data-Stream-Bulk-0.11-uYPjep/blib/lib:/Users/hornenj/.cpan/build/MooseX-Types-Set-Object-0.04-Vb3GNq/blib/arch:/Users/hornenj/.cpan/build/MooseX-Types-Set-Object-0.04-Vb3GNq/blib/lib:/Users/hornenj/.cpan/build/Set-Object-1.34-v3P1er/blib/arch:/Users/hornenj/.cpan/build/Set-Object-1.34-v3P1er/blib/lib
    PERL5OPT = 
    PERL5_CPANPLUS_IS_RUNNING = 77779
    PERL5_CPAN_IS_RUNNING = 77779
    PERL5_MINISMOKEBOX = 0.58
    PERLBREW_BASHRC_VERSION = 0.66
    PERLBREW_HOME = /Users/hornenj/.perlbrew
    PERLBREW_MANPATH = /Users/hornenj/perl5/perlbrew/perls/perl-5.12.5/man
    PERLBREW_PATH = /Users/hornenj/perl5/perlbrew/bin:/Users/hornenj/perl5/perlbrew/perls/perl-5.12.5/bin
    PERLBREW_PERL = perl-5.12.5
    PERLBREW_ROOT = /Users/hornenj/perl5/perlbrew
    PERLBREW_VERSION = 0.66
    PERL_EXTUTILS_AUTOINSTALL = --defaultdeps
    PERL_MM_USE_DEFAULT = 1
    SHELL = /bin/bash
    TERM = xterm
    TMPDIR = /var/folders/pz/pd7y1qjs6s3cbk170cw50fjc000c61/T/
    VERSIONER_PERL_PREFER_32_BIT = no
    VERSIONER_PERL_VERSION = 5.12
    ac_cv_path_INTLTOOL_PERL = /usr/bin/perl

Perl special variables (and OS-specific diagnostics, for MSWin32):

    $^X = /Users/hornenj/perl5/perlbrew/perls/perl-5.12.5/bin/perl
    $UID/$EUID = 12481 / 12481
    $GID = 14 14 5344 527 241 223 206 402 12 62 204
    $EGID = 14 14 5344 527 241 223 206 402 12 62 204

Perl module toolchain versions installed:

    Module              Have    
    ------------------- --------
    CPAN                2.00    
    CPAN::Meta          2.140640
    Cwd                 3.40    
    ExtUtils::CBuilder  0.280212
    ExtUtils::Command   1.18    
    ExtUtils::Install   1.55    
    ExtUtils::MakeMaker 6.90    
    ExtUtils::Manifest  1.63    
    ExtUtils::ParseXS   3.22    
    File::Spec          3.40    
    JSON                2.90    
    JSON::PP            2.27203 
    Module::Build       0.4205  
    Module::Signature   n/a     
    Parse::CPAN::Meta   1.4414  
    Test::Harness       3.30    
    Test::More          1.001002
    YAML                0.90    
    YAML::Syck          1.27    
    version             0.9903  


--

Summary of my perl5 (revision 5 version 12 subversion 5) configuration:
   
  Platform:
    osname=darwin, osvers=12.2.1, archname=darwin-2level
    uname='darwin ncbimac2008.ncbi.nlm.nih.gov 12.2.1 darwin kernel version 12.2.1: thu oct 18 12:13:47 pdt 2012; root:xnu-2050.20.9~1release_x86_64 x86_64 '
    config_args='-de -Dprefix=/Users/hornenj/perl5/perlbrew/perls/perl-5.12.5'
    hint=recommended, useposix=true, d_sigaction=define
    useithreads=undef, usemultiplicity=undef
    useperlio=define, d_sfio=undef, uselargefiles=define, usesocks=undef
    use64bitint=define, use64bitall=define, uselongdouble=undef
    usemymalloc=n, bincompat5005=undef
  Compiler:
    cc='cc', ccflags ='-fno-common -DPERL_DARWIN -no-cpp-precomp -fno-strict-aliasing -pipe -fstack-protector',
    optimize='-O3',
    cppflags='-no-cpp-precomp -fno-common -DPERL_DARWIN -no-cpp-precomp -fno-strict-aliasing -pipe -fstack-protector'
    ccversion='', gccversion='4.2.1 Compatible Apple LLVM 4.2 (clang-425.0.24)', gccosandvers=''
    intsize=4, longsize=8, ptrsize=8, doublesize=8, byteorder=12345678
    d_longlong=define, longlongsize=8, d_longdbl=define, longdblsize=16
    ivtype='long', ivsize=8, nvtype='double', nvsize=8, Off_t='off_t', lseeksize=8
    alignbytes=8, prototype=define
  Linker and Libraries:
    ld='env MACOSX_DEPLOYMENT_TARGET=10.3 cc', ldflags =' -fstack-protector'
    libpth=/usr/lib
    libs=-ldbm -ldl -lm -lutil -lc
    perllibs=-ldl -lm -lutil -lc
    libc=, so=dylib, useshrplib=false, libperl=libperl.a
    gnulibc_version=''
  Dynamic Linking:
    dlsrc=dl_dlopen.xs, dlext=bundle, d_dlsymun=undef, ccdlflags=' '
    cccdlflags=' ', lddlflags=' -bundle -undefined dynamic_lookup -fstack-protector'


Characteristics of this binary (from libperl): 
  Compile-time options: PERL_DONT_CREATE_GVSV PERL_MALLOC_WRAP USE_64_BIT_ALL
                        USE_64_BIT_INT USE_LARGE_FILES USE_PERLIO
                        USE_PERL_ATOF
  Built under darwin
  Compiled at Mar  5 2013 11:08:14
  %ENV:
    PERL5LIB="/Users/hornenj/.cpan/build/MooseX-Clone-0.05-0iOQZt/blib/arch:/Users/hornenj/.cpan/build/MooseX-Clone-0.05-0iOQZt/blib/lib:/Users/hornenj/.cpan/build/MooseX-YAML-0.04-DNIe5o/blib/arch:/Users/hornenj/.cpan/build/MooseX-YAML-0.04-DNIe5o/blib/lib:/Users/hornenj/.cpan/build/MooseX-Blessed-Reconstruct-0.04-RxYyUM/blib/arch:/Users/hornenj/.cpan/build/MooseX-Blessed-Reconstruct-0.04-RxYyUM/blib/lib:/Users/hornenj/.cpan/build/Data-Visitor-0.30-JxWXNa/blib/arch:/Users/hornenj/.cpan/build/Data-Visitor-0.30-JxWXNa/blib/lib:/Users/hornenj/.cpan/build/Tie-ToObject-0.03-dJJ1ML/blib/arch:/Users/hornenj/.cpan/build/Tie-ToObject-0.03-dJJ1ML/blib/lib:/Users/hornenj/.cpan/build/Cache-Ref-0.04-7YtBkT/blib/arch:/Users/hornenj/.cpan/build/Cache-Ref-0.04-7YtBkT/blib/lib:/Users/hornenj/.cpan/build/Hash-Util-FieldHash-Compat-0.07-LeTdJA/blib/arch:/Users/hornenj/.cpan/build/Hash-Util-FieldHash-Compat-0.07-LeTdJA/blib/lib:/Users/hornenj/.cpan/build/MooseX-Role-Parameterized-1.02-cIumXX/blib/arch:/Users/hornenj/.cpan/build/MooseX-Role-Parameterized-1.02-cIumXX/blib/lib:/Users/hornenj/.cpan/build/Data-Swap-0.08-REzmrb/blib/arch:/Users/hornenj/.cpan/build/Data-Swap-0.08-REzmrb/blib/lib:/Users/hornenj/.cpan/build/Search-GIN-0.08-5yel5r/blib/arch:/Users/hornenj/.cpan/build/Search-GIN-0.08-5yel5r/blib/lib:/Users/hornenj/.cpan/build/Scope-Guard-0.20-a25jE_/blib/arch:/Users/hornenj/.cpan/build/Scope-Guard-0.20-a25jE_/blib/lib:/Users/hornenj/.cpan/build/Data-Stream-Bulk-0.11-uYPjep/blib/arch:/Users/hornenj/.cpan/build/Data-Stream-Bulk-0.11-uYPjep/blib/lib:/Users/hornenj/.cpan/build/MooseX-Types-Set-Object-0.04-Vb3GNq/blib/arch:/Users/hornenj/.cpan/build/MooseX-Types-Set-Object-0.04-Vb3GNq/blib/lib:/Users/hornenj/.cpan/build/Set-Object-1.34-v3P1er/blib/arch:/Users/hornenj/.cpan/build/Set-Object-1.34-v3P1er/blib/lib"
    PERL5OPT=""
    PERL5_CPANPLUS_IS_RUNNING="77779"
    PERL5_CPAN_IS_RUNNING="77779"
    PERL5_MINISMOKEBOX="0.58"
    PERLBREW_BASHRC_VERSION="0.66"
    PERLBREW_HOME="/Users/hornenj/.perlbrew"
    PERLBREW_MANPATH="/Users/hornenj/perl5/perlbrew/perls/perl-5.12.5/man"
    PERLBREW_PATH="/Users/hornenj/perl5/perlbrew/bin:/Users/hornenj/perl5/perlbrew/perls/perl-5.12.5/bin"
    PERLBREW_PERL="perl-5.12.5"
    PERLBREW_ROOT="/Users/hornenj/perl5/perlbrew"
    PERLBREW_VERSION="0.66"
    PERL_EXTUTILS_AUTOINSTALL="--defaultdeps"
    PERL_MM_USE_DEFAULT="1"
  @INC:
    /Users/hornenj/.cpan/build/MooseX-Clone-0.05-0iOQZt/blib/arch
    /Users/hornenj/.cpan/build/MooseX-Clone-0.05-0iOQZt/blib/lib
    /Users/hornenj/.cpan/build/MooseX-YAML-0.04-DNIe5o/blib/arch
    /Users/hornenj/.cpan/build/MooseX-YAML-0.04-DNIe5o/blib/lib
    /Users/hornenj/.cpan/build/MooseX-Blessed-Reconstruct-0.04-RxYyUM/blib/arch
    /Users/hornenj/.cpan/build/MooseX-Blessed-Reconstruct-0.04-RxYyUM/blib/lib
    /Users/hornenj/.cpan/build/Data-Visitor-0.30-JxWXNa/blib/arch
    /Users/hornenj/.cpan/build/Data-Visitor-0.30-JxWXNa/blib/lib
    /Users/hornenj/.cpan/build/Tie-ToObject-0.03-dJJ1ML/blib/arch
    /Users/hornenj/.cpan/build/Tie-ToObject-0.03-dJJ1ML/blib/lib
    /Users/hornenj/.cpan/build/Cache-Ref-0.04-7YtBkT/blib/arch
    /Users/hornenj/.cpan/build/Cache-Ref-0.04-7YtBkT/blib/lib
    /Users/hornenj/.cpan/build/Hash-Util-FieldHash-Compat-0.07-LeTdJA/blib/arch
    /Users/hornenj/.cpan/build/Hash-Util-FieldHash-Compat-0.07-LeTdJA/blib/lib
    /Users/hornenj/.cpan/build/MooseX-Role-Parameterized-1.02-cIumXX/blib/arch
    /Users/hornenj/.cpan/build/MooseX-Role-Parameterized-1.02-cIumXX/blib/lib
    /Users/hornenj/.cpan/build/Data-Swap-0.08-REzmrb/blib/arch
    /Users/hornenj/.cpan/build/Data-Swap-0.08-REzmrb/blib/lib
    /Users/hornenj/.cpan/build/Search-GIN-0.08-5yel5r/blib/arch
    /Users/hornenj/.cpan/build/Search-GIN-0.08-5yel5r/blib/lib
    /Users/hornenj/.cpan/build/Scope-Guard-0.20-a25jE_/blib/arch
    /Users/hornenj/.cpan/build/Scope-Guard-0.20-a25jE_/blib/lib
    /Users/hornenj/.cpan/build/Data-Stream-Bulk-0.11-uYPjep/blib/arch
    /Users/hornenj/.cpan/build/Data-Stream-Bulk-0.11-uYPjep/blib/lib
    /Users/hornenj/.cpan/build/MooseX-Types-Set-Object-0.04-Vb3GNq/blib/arch
    /Users/hornenj/.cpan/build/MooseX-Types-Set-Object-0.04-Vb3GNq/blib/lib
    /Users/hornenj/.cpan/build/Set-Object-1.34-v3P1er/blib/arch
    /Users/hornenj/.cpan/build/Set-Object-1.34-v3P1er/blib/lib
    /Users/hornenj/perl5/perlbrew/perls/perl-5.12.5/lib/site_perl/5.12.5/darwin-2level
    /Users/hornenj/perl5/perlbrew/perls/perl-5.12.5/lib/site_perl/5.12.5
    /Users/hornenj/perl5/perlbrew/perls/perl-5.12.5/lib/5.12.5/darwin-2level
    /Users/hornenj/perl5/perlbrew/perls/perl-5.12.5/lib/5.12.5
    .