Test-Moose-More v0.050 Perl 5 v5.24.1 x86_64-linux-thread-multi
- Status
- Pass
- From
- Nigel Horne
- Dist
-
Test-Moose-More v0.050
- Platform
- Perl 5 v5.24.1 x86_64-linux-thread-multi
- Date
- 2017-11-01 04:20:30
- ID
- ff1127dc-bebb-11e7-9be1-bbe64cf6c7cd
This distribution has been tested as part of the CPAN Testers
project, supporting the Perl programming language. See
http://wiki.cpantesters.org/ for more information or email
questions to cpan-testers-discuss@perl.org
--
Dear Chris Weyl,
This is a computer-generated report for Test-Moose-More-0.050
on perl 5.24.1, created by CPAN-Reporter-1.2018.
Thank you for uploading your work to CPAN. Congratulations!
All tests were successful.
Sections of this report:
* Tester comments
* Program output
* Prerequisites
* Environment and other context
------------------------------
TESTER COMMENTS
------------------------------
Additional comments from tester:
this report is from an automated smoke testing program
and was not reviewed by a human for accuracy
------------------------------
PROGRAM OUTPUT
------------------------------
Output from '/usr/bin/make test':
PERL_DL_NONLAZY=1 "/home/njh/perl5/perlbrew/perls/perl-5.24.1/bin/perl" "-MExtUtils::Command::MM" "-MTest::Harness" "-e" "undef *Test::Harness::Switches; test_harness(0, 'blib/lib', 'blib/arch')" t/*.t t/attribute_options_ok/*.t t/is_class_ok/*.t t/validate_attribute/*.t t/validate_class/*.t t/validate_role/*.t t/validate_thing/*.t t/wrapped/*.t
t/00-check-deps.t ...................................... ok
#
# Versions for all modules listed in MYMETA.json (including optional ones):
#
# === Configure Requires ===
#
# Module Want Have
# ------------------- ---- ----
# ExtUtils::MakeMaker any 7.30
#
# === Build Requires ===
#
# Module Want Have
# ------------------- ---- ----
# ExtUtils::MakeMaker any 7.30
#
# === Test Requires ===
#
# Module Want Have
# ---------------------- ----- --------
# ExtUtils::MakeMaker any 7.30
# File::Spec any 3.63_01
# IO::Handle any 1.36
# IPC::Open3 any 1.20
# List::Util 1.45 1.47
# Moose any 2.2005
# Moose::Meta::Attribute any 2.2005
# Moose::Role any 2.2005
# Moose::Util::MetaRole any 2.2005
# TAP::SimpleOutput 0.009 0.009
# Test::Builder::Tester any 1.302085
# Test::CheckDeps 0.010 0.010
# Test::More 0.94 1.302085
# namespace::autoclean any 0.28
#
# === Test Recommends ===
#
# Module Want Have
# ---------- -------- --------
# CPAN::Meta 2.120900 2.150010
#
# === Runtime Requires ===
#
# Module Want Have
# ---------------------------- ---- --------
# Carp any 1.40
# Data::OptList any 0.110
# List::MoreUtils any 0.419
# List::Util 1.45 1.47
# Moose::Util any 2.2005
# Moose::Util::TypeConstraints any 2.2005
# Scalar::Util any 1.47
# Sub::Exporter::Progressive any 0.001013
# Syntax::Keyword::Junction any 0.003008
# Test::Builder any 1.302085
# Test::Moose any 2.2005
# Test::More 0.94 1.302085
# strict any 1.11
# warnings any 1.36
#
t/00-report-prereqs.t .................................. ok
t/00-compile.t ......................................... ok
t/attribute_options_ok/basic.t ......................... ok
t/attribute_options_ok/subtest-wrapper.t ............... ok
t/check_sugar.t ........................................ ok
t/definition_context.t ................................. ok
t/does_metaroles_ok.t .................................. ok
t/does_not_metaroles_ok.t .............................. ok
t/does_not_ok.t ........................................ ok
t/does_ok.t ............................................ ok
t/has_attribute_ok.t ................................... ok
t/is_anon_ok.t ......................................... ok
t/is_class_ok/basic.t .................................. ok
t/is_class_ok/moose-meta-attribute-should-be-moosey.t .. ok
t/is_immutable_ok.t .................................... ok
t/is_not_anon_ok.t ..................................... ok
t/is_role_ok.t ......................................... ok
t/meta_ok.t ............................................ ok
t/method_is_accessor_ok.t .............................. ok
t/method_from_pkg_ok.t ................................. ok
t/method_is_not_accessor_ok.t .......................... ok
t/method_not_from_pkg_ok.t ............................. ok
t/no_meta_ok.t ......................................... ok
t/method_ok.t .......................................... ok
t/requires_method_ok.t ................................. ok
t/pristine_ok.t ........................................ ok
t/subtest-1.t .......................................... ok
t/validate_attribute/basic.t ........................... ok
t/validate_attribute/coerce.t .......................... ok
t/validate_attribute/in_roles.t ........................ ok
t/validate_attribute/lazy.t ............................ ok
t/validate_attribute/required.t ........................ ok
t/validate_class/metaclasses.t ......................... ok
t/validate_class/basic.t ............................... ok
t/validate_class/metaroles.t ........................... ok
t/validate_class/methods.t ............................. ok
t/validate_role/basic.t ................................ ok
t/validate_role/compose.t .............................. ok
t/validate_role/metaclasses.t .......................... ok
t/validate_role/metaroles.t ............................ ok
t/validate_thing/metaclasses.t ......................... ok
t/validate_thing/methods.t ............................. ok
t/validate_thing/sugar.t ............................... ok
t/wrapped/in_roles.t ................................... ok
All tests successful.
Test Summary Report
-------------------
t/00-check-deps.t (Wstat: 0 Tests: 32 Failed: 0)
TODO passed: 32
Files=45, Tests=235, 3 wallclock secs ( 0.18 usr 0.01 sys + 9.75 cusr 0.91 csys = 10.85 CPU)
Result: PASS
------------------------------
PREREQUISITES
------------------------------
Prerequisite modules loaded:
requires:
Module Need Have
---------------------------- ----- --------
Carp 0 1.40
Data::OptList 0 0.110
List::MoreUtils 0 0.419
List::Util 1.45 1.47
Moose::Util 0 2.2005
Moose::Util::TypeConstraints 0 2.2005
perl 5.006 5.024001
Scalar::Util 0 1.47
strict 0 1.11
Sub::Exporter::Progressive 0 0.001013
Syntax::Keyword::Junction 0 0.003008
Test::Builder 0 1.302085
Test::Moose 0 2.2005
Test::More 0.94 1.302085
warnings 0 1.36
build_requires:
Module Need Have
---------------------------- ----- --------
ExtUtils::MakeMaker 0 7.30
File::Spec 0 3.63_01
IO::Handle 0 1.36
IPC::Open3 0 1.20
List::Util 1.45 1.47
Moose 0 2.2005
Moose::Meta::Attribute 0 2.2005
Moose::Role 0 2.2005
Moose::Util::MetaRole 0 2.2005
namespace::autoclean 0 0.28
TAP::SimpleOutput 0.009 0.009
Test::Builder::Tester 0 1.302085
Test::CheckDeps 0.010 0.010
Test::More 0.94 1.302085
configure_requires:
Module Need Have
---------------------------- ----- --------
ExtUtils::MakeMaker 0 7.30
perl 5.006 5.024001
------------------------------
ENVIRONMENT AND OTHER CONTEXT
------------------------------
Environment variables:
AUTOMATED_TESTING = 1
HARNESS_OPTIONS = j4
LANG = en_GB.UTF-8
LANGUAGE = en_GB:en
PATH = /home/njh/perl5/perlbrew/bin:/home/njh/perl5/perlbrew/perls/perl-5.24.1/bin:/home/njh/perl5/perlbrew/bin:/usr/bin:/bin
PERL5LIB = /home/njh/.cpan/build/TAP-SimpleOutput-0.009-27/blib/arch:/home/njh/.cpan/build/TAP-SimpleOutput-0.009-27/blib/lib:/home/njh/.cpan/build/Perl-Version-1.013-27/blib/arch:/home/njh/.cpan/build/Perl-Version-1.013-27/blib/lib:/home/njh/.cpan/build/File-Slurp-Tiny-0.004-23/blib/arch:/home/njh/.cpan/build/File-Slurp-Tiny-0.004-23/blib/lib:/home/njh/.cpan/build/Syntax-Keyword-Junction-0.003008-27/blib/arch:/home/njh/.cpan/build/Syntax-Keyword-Junction-0.003008-27/blib/lib:/home/njh/.cpan/build/syntax-0.004-27/blib/arch:/home/njh/.cpan/build/syntax-0.004-27/blib/lib
PERL5OPT =
PERL5_CPANPLUS_IS_RUNNING = 24588
PERL5_CPAN_IS_RUNNING = 24588
PERLBREW_BASHRC_VERSION = 0.80
PERLBREW_HOME = /home/njh/.perlbrew
PERLBREW_LIB =
PERLBREW_MANPATH = /home/njh/perl5/perlbrew/perls/perl-5.24.1/man
PERLBREW_PATH = /home/njh/perl5/perlbrew/bin:/home/njh/perl5/perlbrew/perls/perl-5.24.1/bin
PERLBREW_PERL = perl-5.24.1
PERLBREW_ROOT = /home/njh/perl5/perlbrew
PERLBREW_VERSION = 0.80
PERL_LOCAL_LIB_ROOT =
SHELL = /bin/sh
Perl special variables (and OS-specific diagnostics, for MSWin32):
$^X = /home/njh/perl5/perlbrew/perls/perl-5.24.1/bin/perl
$UID/$EUID = 1000 / 1000
$GID = 1000 4 24 25 29 30 44 46 108 112 1000
$EGID = 1000 4 24 25 29 30 44 46 108 112 1000
Perl module toolchain versions installed:
Module Have
------------------- --------
CPAN 2.16
CPAN::Meta 2.150010
Cwd 3.63_01
ExtUtils::CBuilder 0.280225
ExtUtils::Command 7.30
ExtUtils::Install 2.14
ExtUtils::MakeMaker 7.30
ExtUtils::Manifest 1.70
ExtUtils::ParseXS 3.31
File::Spec 3.63_01
JSON 2.94
JSON::PP 2.94
Module::Build 0.4224
Module::Signature n/a
Parse::CPAN::Meta 2.150010
Test::Harness 3.39
Test::More 1.302085
YAML 1.23
YAML::Syck 1.30
version 0.9918
--
Summary of my perl5 (revision 5 version 24 subversion 1) configuration:
Platform:
osname=linux, osvers=4.7.0-1-amd64, archname=x86_64-linux-thread-multi
uname='linux gateway 4.7.0-1-amd64 #1 smp debian 4.7.5-1 (2016-09-26) x86_64 gnulinux '
config_args='-de -Dprefix=/home/njh/perl5/perlbrew/perls/perl-5.24.1 -Duseithreads -Dusemultiplicity -Dusedevel -Accflags= -Aeval:scriptdir=/home/njh/perl5/perlbrew/perls/perl-5.24.1/bin'
hint=recommended, useposix=true, d_sigaction=define
useithreads=define, usemultiplicity=define
use64bitint=define, use64bitall=define, uselongdouble=undef
usemymalloc=n, bincompat5005=undef
Compiler:
cc='cc', ccflags ='-D_REENTRANT -D_GNU_SOURCE -fwrapv -fno-strict-aliasing -pipe -fstack-protector-strong -I/usr/local/include -D_LARGEFILE_SOURCE -D_FILE_OFFSET_BITS=64',
optimize='-O2',
cppflags='-D_REENTRANT -D_GNU_SOURCE -fwrapv -fno-strict-aliasing -pipe -fstack-protector-strong -I/usr/local/include'
ccversion='', gccversion='6.2.1 20161124', gccosandvers=''
intsize=4, longsize=8, ptrsize=8, doublesize=8, byteorder=12345678, doublekind=3
d_longlong=define, longlongsize=8, d_longdbl=define, longdblsize=16, longdblkind=3
ivtype='long', ivsize=8, nvtype='double', nvsize=8, Off_t='off_t', lseeksize=8
alignbytes=8, prototype=define
Linker and Libraries:
ld='cc', ldflags =' -fstack-protector-strong -L/usr/local/lib'
libpth=/usr/local/lib /usr/lib/gcc/x86_64-linux-gnu/6/include-fixed /usr/include/x86_64-linux-gnu /usr/lib /lib/x86_64-linux-gnu /lib/../lib /usr/lib/x86_64-linux-gnu /usr/lib/../lib /lib
libs=-lpthread -lnsl -lgdbm -ldb -ldl -lm -lcrypt -lutil -lc -lgdbm_compat
perllibs=-lpthread -lnsl -ldl -lm -lcrypt -lutil -lc
libc=libc-2.24.so, so=so, useshrplib=false, libperl=libperl.a
gnulibc_version='2.24'
Dynamic Linking:
dlsrc=dl_dlopen.xs, dlext=so, d_dlsymun=undef, ccdlflags='-Wl,-E'
cccdlflags='-fPIC', lddlflags='-shared -O2 -L/usr/local/lib -fstack-protector-strong'
Characteristics of this binary (from libperl):
Compile-time options: HAS_TIMES MULTIPLICITY PERLIO_LAYERS
PERL_COPY_ON_WRITE PERL_DONT_CREATE_GVSV
PERL_HASH_FUNC_ONE_AT_A_TIME_HARD
PERL_IMPLICIT_CONTEXT PERL_MALLOC_WRAP
PERL_PRESERVE_IVUV PERL_USE_DEVEL USE_64_BIT_ALL
USE_64_BIT_INT USE_ITHREADS USE_LARGE_FILES
USE_LOCALE USE_LOCALE_COLLATE USE_LOCALE_CTYPE
USE_LOCALE_NUMERIC USE_LOCALE_TIME USE_PERLIO
USE_PERL_ATOF USE_REENTRANT_API
Built under linux
Compiled at Jan 24 2017 00:39:08
%ENV:
PERL5LIB="/home/njh/.cpan/build/TAP-SimpleOutput-0.009-27/blib/arch:/home/njh/.cpan/build/TAP-SimpleOutput-0.009-27/blib/lib:/home/njh/.cpan/build/Perl-Version-1.013-27/blib/arch:/home/njh/.cpan/build/Perl-Version-1.013-27/blib/lib:/home/njh/.cpan/build/File-Slurp-Tiny-0.004-23/blib/arch:/home/njh/.cpan/build/File-Slurp-Tiny-0.004-23/blib/lib:/home/njh/.cpan/build/Syntax-Keyword-Junction-0.003008-27/blib/arch:/home/njh/.cpan/build/Syntax-Keyword-Junction-0.003008-27/blib/lib:/home/njh/.cpan/build/syntax-0.004-27/blib/arch:/home/njh/.cpan/build/syntax-0.004-27/blib/lib"
PERL5OPT=""
PERL5_CPANPLUS_IS_RUNNING="24588"
PERL5_CPAN_IS_RUNNING="24588"
PERLBREW_BASHRC_VERSION="0.80"
PERLBREW_HOME="/home/njh/.perlbrew"
PERLBREW_LIB=""
PERLBREW_MANPATH="/home/njh/perl5/perlbrew/perls/perl-5.24.1/man"
PERLBREW_PATH="/home/njh/perl5/perlbrew/bin:/home/njh/perl5/perlbrew/perls/perl-5.24.1/bin"
PERLBREW_PERL="perl-5.24.1"
PERLBREW_ROOT="/home/njh/perl5/perlbrew"
PERLBREW_VERSION="0.80"
PERL_LOCAL_LIB_ROOT=""
@INC:
/home/njh/.cpan/build/TAP-SimpleOutput-0.009-27/blib/arch
/home/njh/.cpan/build/TAP-SimpleOutput-0.009-27/blib/lib
/home/njh/.cpan/build/Perl-Version-1.013-27/blib/arch
/home/njh/.cpan/build/Perl-Version-1.013-27/blib/lib
/home/njh/.cpan/build/File-Slurp-Tiny-0.004-23/blib/arch
/home/njh/.cpan/build/File-Slurp-Tiny-0.004-23/blib/lib
/home/njh/.cpan/build/Syntax-Keyword-Junction-0.003008-27/blib/arch
/home/njh/.cpan/build/Syntax-Keyword-Junction-0.003008-27/blib/lib
/home/njh/.cpan/build/syntax-0.004-27/blib/arch
/home/njh/.cpan/build/syntax-0.004-27/blib/lib
/home/njh/perl5/perlbrew/perls/perl-5.24.1/lib/site_perl/5.24.1/x86_64-linux-thread-multi
/home/njh/perl5/perlbrew/perls/perl-5.24.1/lib/site_perl/5.24.1
/home/njh/perl5/perlbrew/perls/perl-5.24.1/lib/5.24.1/x86_64-linux-thread-multi
/home/njh/perl5/perlbrew/perls/perl-5.24.1/lib/5.24.1
.