Archive-Tar-Wrapper v0.33 Perl 5 v5.29.4 x86_64-linux
- Status
- Pass
- From
- Carlos Guevara
- Dist
-
Archive-Tar-Wrapper v0.33
- Platform
- Perl 5 v5.29.4 x86_64-linux
- Date
- 2018-10-13 18:37:10
- ID
- ff0ade9c-cf16-11e8-a37f-d8800ca14ab1
This distribution has been tested as part of the CPAN Testers
project, supporting the Perl programming language. See
http://wiki.cpantesters.org/ for more information or email
questions to cpan-testers-discuss@perl.org
--
Dear Alceu Rodrigues de Freitas Junior,
This is a computer-generated report for Archive-Tar-Wrapper-0.33
on perl 5.29.4, created by CPAN-Reporter-1.2018.
Thank you for uploading your work to CPAN. Congratulations!
All tests were successful.
Sections of this report:
* Tester comments
* Program output
* Prerequisites
* Environment and other context
------------------------------
TESTER COMMENTS
------------------------------
Additional comments from tester:
none provided
------------------------------
PROGRAM OUTPUT
------------------------------
Output from '/usr/bin/make test':
PERL_DL_NONLAZY=1 "/home/cpan/bin/perl-blead/bin/perl5.29.4" "-MExtUtils::Command::MM" "-MTest::Harness" "-e" "undef *Test::Harness::Switches; test_harness(0, 'blib/lib', 'blib/arch')" t/*.t
t/001Basic.t .............. ok
t/002Mult.t ............... ok
t/003Dirs.t ............... ok
t/004Utf8.t ............... ok
t/005Cwd.t ................ ok
t/006DirPerms.t ........... ok
t/007bzip.t ............... ok
# with grep: Ran 1102 iterations (68 outliers).
# with grep: Rounded run time per iteration: 0.001021 +/- 0.000001 (0.1%)
# with grep and compiled regex: Ran 1157 iterations (147 outliers).
# with grep and compiled regex: Rounded run time per iteration: 0.001336 +/- 0.000001 (0.0%)
# with eq: Ran 1403 iterations (354 outliers).
# with eq: Rounded run time per iteration: 0.000902 +/- 0.000000 (0.0%)
# with enhanced eq: Ran 1274 iterations (212 outliers).
# with enhanced eq: Rounded run time per iteration: 0.000876 +/- 0.000000 (0.0%)
# with enhanced eq mark2: Ran 1157 iterations (143 outliers).
# with enhanced eq mark2: Rounded run time per iteration: 0.000760 +/- 0.000000 (0.1%)
# with enhanced eq mark3: Ran 1214 iterations (174 outliers).
# with enhanced eq mark3: Rounded run time per iteration: 0.000660 +/- 0.000000 (0.0%)
# sort and shift: Ran 1337 iterations (325 outliers).
# sort and shift: Rounded run time per iteration: 0.000981 +/- 0.000000 (0.0%)
t/008performance.t ........ ok
# with grep: Ran 1214 iterations (144 outliers).
# with grep: Rounded run time per iteration: 0.000038 +/- 0.000000 (0.0%)
# with grep and compiled regex: Ran 1274 iterations (224 outliers).
# with grep and compiled regex: Rounded run time per iteration: 0.000044 +/- 0.000000 (0.0%)
# with eq: Ran 1274 iterations (238 outliers).
# with eq: Rounded run time per iteration: 0.000033 +/- 0.000000 (0.0%)
# with enhanced eq: Ran 1214 iterations (197 outliers).
# with enhanced eq: Rounded run time per iteration: 0.000033 +/- 0.000000 (0.0%)
# with enhanced eq mark2: Ran 1214 iterations (197 outliers).
# with enhanced eq mark2: Rounded run time per iteration: 0.000035 +/- 0.000000 (0.0%)
# with enhanced eq mark3: Ran 1214 iterations (183 outliers).
# with enhanced eq mark3: Rounded run time per iteration: 0.000034 +/- 0.000000 (0.0%)
# sort and shift: Ran 1214 iterations (184 outliers).
# sort and shift: Rounded run time per iteration: 0.000031 +/- 0.000000 (0.0%)
t/009performance-small.t .. ok
All tests successful.
Test Summary Report
-------------------
t/008performance.t (Wstat: 0 Tests: 1 Failed: 0)
TODO passed: 1
t/009performance-small.t (Wstat: 0 Tests: 1 Failed: 0)
TODO passed: 1
Files=9, Tests=54, 33 wallclock secs ( 0.07 usr 0.00 sys + 27.58 cusr 5.31 csys = 32.96 CPU)
Result: PASS
------------------------------
PREREQUISITES
------------------------------
Prerequisite modules loaded:
requires:
Module Need Have
------------------- -------- ----------
Cwd 0 3.75
File::Temp 0 0.2308
File::Which 0 1.22
IPC::Run 0 20180523.0
Log::Log4perl 0 1.49
perl 5.008001 5.029004
build_requires:
Module Need Have
------------------- -------- ----------
Dumbbench 0.111 0.111
ExtUtils::MakeMaker 0 7.34
Test::Simple 1.302073 1.302140
configure_requires:
Module Need Have
------------------- -------- ----------
ExtUtils::MakeMaker 0 7.34
File::Which 0 1.22
------------------------------
ENVIRONMENT AND OTHER CONTEXT
------------------------------
Environment variables:
LANG = en_US.UTF-8
LC_ALL = C
NONINTERACTIVE_TESTING = 1
PATH = /home/cpan/bin/perl-blead/bin:/home/cpan/bin/perl-blead/bin:/home/cpan/bin:/home/cpan/bin:/usr/local/bin:/usr/bin:/bin:/usr/local/games:/usr/games
PERL5LIB =
PERL5OPT =
PERL5_CPANPLUS_IS_RUNNING = 3596
PERL5_CPAN_IS_RUNNING = 3596
PERL_MM_USE_DEFAULT = 1
PERL_USE_UNSAFE_INC = 1
PERL_VERSION = blead
SHELL = /bin/bash
TERM = screen
TMPDIR = /home/cpan/tmp
Perl special variables (and OS-specific diagnostics, for MSWin32):
$^X = /home/cpan/bin/perl-blead/bin/perl5.29.4
$UID/$EUID = 1002 / 1002
$GID = 1002 1002
$EGID = 1002 1002
Perl module toolchain versions installed:
Module Have
------------------- --------
CPAN 2.21
CPAN::Meta 2.150010
Cwd 3.75
ExtUtils::CBuilder 0.280230
ExtUtils::Command 7.34
ExtUtils::Install 2.14
ExtUtils::MakeMaker 7.34
ExtUtils::Manifest 1.71
ExtUtils::ParseXS 3.39
File::Spec 3.75
JSON n/a
JSON::PP 2.97001
Module::Build 0.4224
Module::Signature n/a
Parse::CPAN::Meta 2.150010
Test::Harness 3.42
Test::More 1.302140
YAML n/a
YAML::Syck n/a
version 0.9924
--
Summary of my perl5 (revision 5 version 29 subversion 4) configuration:
Commit id: 8fc05532aec097a3733b92fbb2cabb1528daa5c4
Platform:
osname=linux
osvers=4.9.0-8-amd64
archname=x86_64-linux
uname='linux cjg-stretch 4.9.0-8-amd64 #1 smp debian 4.9.110-3+deb9u6 (2018-10-08) x86_64 gnulinux '
config_args='-des -Dprefix=~/bin/perl-blead -Dscriptdir=~/bin/perl-blead/bin -Dusedevel -Duse64bitall'
hint=recommended
useposix=true
d_sigaction=define
useithreads=undef
usemultiplicity=undef
use64bitint=define
use64bitall=define
uselongdouble=undef
usemymalloc=n
default_inc_excludes_dot=define
bincompat5005=undef
Compiler:
cc='cc'
ccflags ='-fwrapv -fno-strict-aliasing -pipe -fstack-protector-strong -I/usr/local/include -D_LARGEFILE_SOURCE -D_FILE_OFFSET_BITS=64 -D_FORTIFY_SOURCE=2'
optimize='-O2'
cppflags='-fwrapv -fno-strict-aliasing -pipe -fstack-protector-strong -I/usr/local/include'
ccversion=''
gccversion='6.3.0 20170516'
gccosandvers=''
intsize=4
longsize=8
ptrsize=8
doublesize=8
byteorder=12345678
doublekind=3
d_longlong=define
longlongsize=8
d_longdbl=define
longdblsize=16
longdblkind=3
ivtype='long'
ivsize=8
nvtype='double'
nvsize=8
Off_t='off_t'
lseeksize=8
alignbytes=8
prototype=define
Linker and Libraries:
ld='cc'
ldflags =' -fstack-protector-strong -L/usr/local/lib'
libpth=/usr/local/lib /usr/lib/gcc/x86_64-linux-gnu/6/include-fixed /usr/include/x86_64-linux-gnu /usr/lib /lib/x86_64-linux-gnu /lib/../lib /usr/lib/x86_64-linux-gnu /usr/lib/../lib /lib
libs=-lpthread -lnsl -ldl -lm -lcrypt -lutil -lc
perllibs=-lpthread -lnsl -ldl -lm -lcrypt -lutil -lc
libc=libc-2.24.so
so=so
useshrplib=false
libperl=libperl.a
gnulibc_version='2.24'
Dynamic Linking:
dlsrc=dl_dlopen.xs
dlext=so
d_dlsymun=undef
ccdlflags='-Wl,-E'
cccdlflags='-fPIC'
lddlflags='-shared -O2 -L/usr/local/lib -fstack-protector-strong'
Characteristics of this binary (from libperl):
Compile-time options:
HAS_TIMES
PERLIO_LAYERS
PERL_COPY_ON_WRITE
PERL_DONT_CREATE_GVSV
PERL_MALLOC_WRAP
PERL_OP_PARENT
PERL_PRESERVE_IVUV
PERL_USE_DEVEL
USE_64_BIT_ALL
USE_64_BIT_INT
USE_LARGE_FILES
USE_LOCALE
USE_LOCALE_COLLATE
USE_LOCALE_CTYPE
USE_LOCALE_NUMERIC
USE_LOCALE_TIME
USE_PERLIO
USE_PERL_ATOF
Built under linux
Compiled at Oct 13 2018 12:50:45
%ENV:
PERL5LIB=""
PERL5OPT=""
PERL5_CPANPLUS_IS_RUNNING="3596"
PERL5_CPAN_IS_RUNNING="3596"
PERL_MM_USE_DEFAULT="1"
PERL_USE_UNSAFE_INC="1"
PERL_VERSION="blead"
@INC:
/home/cpan/bin/perl-blead/lib/site_perl/5.29.4/x86_64-linux
/home/cpan/bin/perl-blead/lib/site_perl/5.29.4
/home/cpan/bin/perl-blead/lib/5.29.4/x86_64-linux
/home/cpan/bin/perl-blead/lib/5.29.4
.