App-Oozie v0.016 Perl 5 v5.16.3 amd64-freebsd-thread-multi

Status
Pass
From
Slaven Rezić
Dist
App-Oozie v0.016
Platform
Perl 5 v5.16.3 amd64-freebsd-thread-multi
Date
2023-12-06T17:43:41
ID
feeb9498-945e-11ee-a2df-dc046e8775ea
This distribution has been tested as part of the CPAN Testers
project, supporting the Perl programming language.  See
http://wiki.cpantesters.org/ for more information or email
questions to cpan-testers-discuss@perl.org


--
Dear Burak Gursoy,

This is a computer-generated report for App-Oozie-0.016
on perl 5.16.3, created by CPAN-Reporter-1.2019.

Thank you for uploading your work to CPAN.  Congratulations!
All tests were successful.

Sections of this report:

    * Tester comments
    * Program output
    * Prerequisites
    * Environment and other context

------------------------------
TESTER COMMENTS
------------------------------

Additional comments from tester:

none provided

------------------------------
PROGRAM OUTPUT
------------------------------

Output from '/usr/bin/make test':

PERL_DL_NONLAZY=1 "/usr/perl5.16.3t/bin/perl5.16.3" "-MExtUtils::Command::MM" "-MTest::Harness" "-e" "undef *Test::Harness::Switches; test_harness(0, 'blib/lib', 'blib/arch')" t/*.t
Ambiguous use of -DEFAULT_START_DATE_DAY_FRAME resolved as -&DEFAULT_START_DATE_DAY_FRAME() at /usr/home/cpansand/.cpan/build/2023120618/App-Oozie-0.016-0/blib/lib/App/Oozie/Run.pm line 226.
Ambiguous use of -DEFAULT_START_DATE_DAY_FRAME resolved as -&DEFAULT_START_DATE_DAY_FRAME() at /usr/home/cpansand/.cpan/build/2023120618/App-Oozie-0.016-0/blib/lib/App/Oozie/Run.pm line 226.
t/00-compile.t ........... ok
# 
# Versions for all modules listed in MYMETA.json (including optional ones):
# 
# === Configure Requires ===
# 
#     Module              Want Have
#     ------------------- ---- ----
#     ExtUtils::MakeMaker  any 7.70
# 
# === Build Requires ===
# 
#     Module              Want Have
#     ------------------- ---- ----
#     ExtUtils::MakeMaker  any 7.70
# 
# === Test Requires ===
# 
#     Module              Want     Have
#     ------------------- ---- --------
#     ExtUtils::MakeMaker  any     7.70
#     File::Spec           any     3.75
#     IO::Handle           any     1.51
#     IPC::Open3           any     1.12
#     Test::More           any 1.302198
# 
# === Test Recommends ===
# 
#     Module         Want     Have
#     ---------- -------- --------
#     CPAN::Meta 2.120900 2.150010
# 
# === Runtime Requires ===
# 
#     Module                            Want     Have
#     -------------------------------- ----- --------
#     AppConfig                          any     1.71
#     Archive::Zip                       any     1.67
#     Carp                               any     1.50
#     Carp::Always                       any     0.16
#     Clone                              any     0.46
#     Config::General                    any     2.65
#     Config::Properties                 any     1.80
#     Cwd                                any     3.75
#     Data::Dumper                       any    2.183
#     Date::Format                       any     2.24
#     Date::Parse                        any     2.30
#     DateTime                           any     1.65
#     DateTime::Format::Duration         any     1.03
#     DateTime::Format::Strptime         any     1.79
#     Email::Valid                       any    1.203
#     Exporter                           any     5.77
#     Fcntl                              any     1.11
#     File::Basename                     any     2.84
#     File::Copy                         any     2.23
#     File::Find                         any     1.20
#     File::Find::Rule                   any     0.34
#     File::Path                         any     2.18
#     File::Spec                         any     3.75
#     File::Spec::Functions              any     3.75
#     File::Temp                         any   0.2311
#     Getopt::Long                       any     2.56
#     Git::Repository                    any    1.323
#     Graph::Directed                    any    undef
#     Hash::Flatten                      any     1.19
#     IO::Interactive                    any    1.022
#     IPC::Cmd                           any     1.04
#     JSON                               any     4.10
#     List::MoreUtils                    any    0.430
#     List::Util                         any     1.63
#     Log::Log4perl                      any     1.56
#     Moo                                any 2.005005
#     Moo::Role                          any 2.005005
#     MooX::Options                    4.103    4.103
#     Net::Hadoop::Oozie                 any    0.113
#     Net::Hadoop::WebHDFS::LWP        0.011    0.011
#     Net::Hadoop::YARN::NameNode::JMX   any    0.203
#     Path::Tiny                         any    0.144
#     Ref::Util                          any    0.204
#     Scalar::Util                       any     1.63
#     Sub::Quote                         any 2.006008
#     Sys::Hostname                      any     1.16
#     Template                           any    3.101
#     Template::Base                     any    3.100
#     Text::Glob                         any     0.11
#     Text::ParseWords                   any     3.30
#     Text::Trim                         any     1.04
#     Time::Duration                     any     1.21
#     Time::HiRes                        any   1.9764
#     Type::Library                      any 2.004000
#     Type::Tiny                         any 2.004000
#     Type::Utils                        any 2.004000
#     Types::Standard                    any 2.004000
#     XML::Compile::Cache                any     1.05
#     XML::Compile::Util                 any     1.59
#     XML::LibXML                        any   2.0209
#     XML::LibXML::Simple                any     1.01
#     XML::Twig                          any     3.52
#     YAML::XS                           any     0.88
#     base                               any     2.18
#     constant                           any     1.33
#     namespace::autoclean               any     0.29
#     overload                           any     1.18
#     parent                             any    0.240
#     perl                             5.014 5.016003
#     strict                             any     1.07
#     warnings                           any     1.13
# 
t/00-report-prereqs.t .... ok
t/author-critic.t ........ skipped: these tests are for testing by the author
t/author-distmeta.t ...... skipped: these tests are for testing by the author
t/author-pod-coverage.t .. skipped: these tests are for testing by the author
t/author-pod-syntax.t .... skipped: these tests are for testing by the author
Ambiguous use of -DEFAULT_START_DATE_DAY_FRAME resolved as -&DEFAULT_START_DATE_DAY_FRAME() at /usr/home/cpansand/.cpan/build/2023120618/App-Oozie-0.016-0/blib/lib/App/Oozie/Run.pm line 226.
t/use.t .................. ok
All tests successful.
Files=7, Tests=47, 13 wallclock secs ( 0.02 usr  0.03 sys + 10.77 cusr  1.09 csys = 11.91 CPU)
Result: PASS

------------------------------
PREREQUISITES
------------------------------

Prerequisite modules loaded:

requires:

    Module                           Need     Have    
    -------------------------------- -------- --------
    AppConfig                        0        1.71    
    Archive::Zip                     0        1.67    
    base                             0        2.18    
    Carp                             0        1.50    
    Carp::Always                     0        0.16    
    Clone                            0        0.46    
    Config::General                  0        2.65    
    Config::Properties               0        1.80    
    constant                         0        1.33    
    Cwd                              0        3.75    
    Data::Dumper                     0        2.183   
    Date::Format                     0        2.24    
    Date::Parse                      0        2.30    
    DateTime                         0        1.65    
    DateTime::Format::Duration       0        1.03    
    DateTime::Format::Strptime       0        1.79    
    Email::Valid                     0        1.203   
    Exporter                         0        5.77    
    Fcntl                            0        1.11    
    File::Basename                   0        2.84    
    File::Copy                       0        2.23    
    File::Find                       0        1.20    
    File::Find::Rule                 0        0.34    
    File::Path                       0        2.18    
    File::Spec                       0        3.75    
    File::Spec::Functions            0        3.75    
    File::Temp                       0        0.2311  
    Getopt::Long                     0        2.56    
    Git::Repository                  0        1.323   
    Graph::Directed                  0        0       
    Hash::Flatten                    0        1.19    
    IO::Interactive                  0        1.022   
    IPC::Cmd                         0        1.04    
    JSON                             0        4.10    
    List::MoreUtils                  0        0.430   
    List::Util                       0        1.63    
    Log::Log4perl                    0        1.56    
    Moo                              0        2.005005
    Moo::Role                        0        2.005005
    MooX::Options                    4.103    4.103   
    namespace::autoclean             0        0.29    
    Net::Hadoop::Oozie               0        0.113   
    Net::Hadoop::WebHDFS::LWP        0.011    0.011   
    Net::Hadoop::YARN::NameNode::JMX 0        0.203   
    overload                         0        1.18    
    parent                           0        0.240   
    Path::Tiny                       0        0.144   
    perl                             5.014    5.016003
    Ref::Util                        0        0.204   
    Scalar::Util                     0        1.63    
    strict                           0        1.07    
    Sub::Quote                       0        2.006008
    Sys::Hostname                    0        1.16    
    Template                         0        3.101   
    Template::Base                   0        3.100   
    Text::Glob                       0        0.11    
    Text::ParseWords                 0        3.30    
    Text::Trim                       0        1.04    
    Time::Duration                   0        1.21    
    Time::HiRes                      0        1.9764  
    Type::Library                    0        2.004000
    Type::Tiny                       0        2.004000
    Type::Utils                      0        2.004000
    Types::Standard                  0        2.004000
    warnings                         0        1.13    
    XML::Compile::Cache              0        1.05    
    XML::Compile::Util               0        1.59    
    XML::LibXML                      0        2.0209  
    XML::LibXML::Simple              0        1.01    
    XML::Twig                        0        3.52    
    YAML::XS                         0        0.88    

build_requires:

    Module                           Need     Have    
    -------------------------------- -------- --------
    ExtUtils::MakeMaker              0        7.70    
    File::Spec                       0        3.75    
    IO::Handle                       0        1.51    
    IPC::Open3                       0        1.12    
    Test::More                       0        1.302198

configure_requires:

    Module                           Need     Have    
    -------------------------------- -------- --------
    ExtUtils::MakeMaker              0        7.70    

opt_build_requires:

    Module                           Need     Have    
    -------------------------------- -------- --------
    CPAN::Meta                       2.120900 2.150010


------------------------------
ENVIRONMENT AND OTHER CONTEXT
------------------------------

Environment variables:

    LC_ALL = de_DE.ISO8859-1
    PATH = /usr/local/bin:/usr/bin:/bin:/usr/local/sbin:/usr/sbin:/sbin:/home/cpansand/bin/freebsd9.3:/home/cpansand/bin/sh:/home/cpansand/bin:/usr/games:/home/cpansand/devel:/usr/home/eserte/src/srezic-misc/scripts
    PERL5LIB = 
    PERL5OPT = 
    PERL5_CPANPLUS_IS_RUNNING = 38070
    PERL5_CPAN_IS_RUNNING = 38070
    PERL5_CPAN_IS_RUNNING_IN_RECURSION = 2054,38070
    PERLDOC = -MPod::Perldoc::ToTextOverstrike
    PERL_BATCH = yes
    PERL_CANARY_STABILITY_NOPROMPT = 1
    PERL_CPAN_REPORTER_CONFIG = /var/tmp/cpansmoker-1023/2023120602/cpanreporter_000_config.ini
    PERL_EXTUTILS_AUTOINSTALL = --defaultdeps
    PERL_USE_UNSAFE_INC = 1
    SHELL = /usr/local/bin/zsh
    TERM = screen
    TMPDIR = /var/tmp/cpansmoker-1023/2023120602

Perl special variables (and OS-specific diagnostics, for MSWin32):

    $^X = /usr/perl5.16.3t/bin/perl5.16.3
    $UID/$EUID = 1023 / 1023
    $GID = 1023 1023
    $EGID = 1023 1023

Perl module toolchain versions installed:

    Module              Have    
    ------------------- --------
    CPAN                2.36    
    CPAN::Meta          2.150010
    Cwd                 3.75    
    ExtUtils::CBuilder  0.280236
    ExtUtils::Command   7.70    
    ExtUtils::Install   2.22    
    ExtUtils::MakeMaker 7.70    
    ExtUtils::Manifest  1.75    
    ExtUtils::ParseXS   3.51    
    File::Spec          3.75    
    JSON                4.10    
    JSON::PP            4.16    
    Module::Build       0.4234  
    Module::Signature   0.88    
    Parse::CPAN::Meta   2.150010
    Test2               1.302198
    Test::Harness       3.47    
    Test::More          1.302198
    YAML                1.30    
    YAML::Syck          1.34    
    version             0.9929  


--

Summary of my perl5 (revision 5 version 16 subversion 3) configuration:
   
  Platform:
    osname=freebsd, osvers=9.2-release-p4, archname=amd64-freebsd-thread-multi
    uname='freebsd cvrsnica-freebsd-92 9.2-release-p4 freebsd 9.2-release-p4 #0: tue apr 8 18:08:22 utc 2014 root@amd64-builder.daemonology.net:usrobjusrsrcsysgeneric amd64 '
    config_args='-ds -e -Dprefix=/usr/perl5.16.3t -Dusethreads'
    hint=recommended, useposix=true, d_sigaction=define
    useithreads=define, usemultiplicity=define
    useperlio=define, d_sfio=undef, uselargefiles=define, usesocks=undef
    use64bitint=define, use64bitall=define, uselongdouble=undef
    usemymalloc=n, bincompat5005=undef
  Compiler:
    cc='cc', ccflags ='-DHAS_FPSETMASK -DHAS_FLOATINGPOINT_H -fno-strict-aliasing -pipe -fstack-protector -I/usr/local/include',
    optimize='-O',
    cppflags='-DHAS_FPSETMASK -DHAS_FLOATINGPOINT_H -fno-strict-aliasing -pipe -fstack-protector -I/usr/local/include'
    ccversion='', gccversion='4.2.1 20070831 patched [FreeBSD]', gccosandvers=''
    intsize=4, longsize=8, ptrsize=8, doublesize=8, byteorder=12345678
    d_longlong=define, longlongsize=8, d_longdbl=define, longdblsize=16
    ivtype='long', ivsize=8, nvtype='double', nvsize=8, Off_t='off_t', lseeksize=8
    alignbytes=8, prototype=define
  Linker and Libraries:
    ld='cc', ldflags ='-pthread -Wl,-E  -fstack-protector -L/usr/local/lib'
    libpth=/usr/lib /usr/local/lib
    libs=-lgdbm -lm -lcrypt
    perllibs=-lm -lcrypt
    libc=, so=so, useshrplib=false, libperl=libperl.a
    gnulibc_version=''
  Dynamic Linking:
    dlsrc=dl_dlopen.xs, dlext=so, d_dlsymun=undef, ccdlflags=' '
    cccdlflags='-DPIC -fPIC', lddlflags='-shared  -L/usr/local/lib -fstack-protector'


Characteristics of this binary (from libperl): 
  Compile-time options: HAS_TIMES MULTIPLICITY PERLIO_LAYERS
                        PERL_DONT_CREATE_GVSV PERL_IMPLICIT_CONTEXT
                        PERL_MALLOC_WRAP PERL_PRESERVE_IVUV USE_64_BIT_ALL
                        USE_64_BIT_INT USE_ITHREADS USE_LARGE_FILES
                        USE_LOCALE USE_LOCALE_COLLATE USE_LOCALE_CTYPE
                        USE_LOCALE_NUMERIC USE_PERLIO USE_PERL_ATOF
                        USE_REENTRANT_API
  Built under freebsd
  Compiled at May 16 2014 07:49:48
  %ENV:
    PERL5LIB=""
    PERL5OPT=""
    PERL5_CPANPLUS_IS_RUNNING="38070"
    PERL5_CPAN_IS_RUNNING="38070"
    PERL5_CPAN_IS_RUNNING_IN_RECURSION="2054,38070"
    PERLDOC="-MPod::Perldoc::ToTextOverstrike"
    PERL_BATCH="yes"
    PERL_CANARY_STABILITY_NOPROMPT="1"
    PERL_CPAN_REPORTER_CONFIG="/var/tmp/cpansmoker-1023/2023120602/cpanreporter_000_config.ini"
    PERL_EXTUTILS_AUTOINSTALL="--defaultdeps"
    PERL_USE_UNSAFE_INC="1"
  @INC:
    /usr/perl5.16.3t/lib/site_perl/5.16.3/amd64-freebsd-thread-multi
    /usr/perl5.16.3t/lib/site_perl/5.16.3
    /usr/perl5.16.3t/lib/5.16.3/amd64-freebsd-thread-multi
    /usr/perl5.16.3t/lib/5.16.3
    .