Back
From: metabase:user:dc0e0640-6c6b-1014-a0d0-a458ac4ab0b0
Subject: PASS Email-Simple-Test-TraceHeaders-0.091702 v5.14.3
Date: 2014-02-11T00:27:30Z
This distribution has been tested as part of the CPAN Testers
project, supporting the Perl programming language. See
http://wiki.cpantesters.org/ for more information or email
questions to cpan-testers-discuss@perl.org
--
Dear Ricardo SIGNES,
This is a computer-generated report for Email-Simple-Test-TraceHeaders-0.091702
on perl 5.14.3, created by CPAN-Reporter-1.2010.
Thank you for uploading your work to CPAN. Congratulations!
All tests were successful.
Sections of this report:
* Tester comments
* Program output
* Prerequisites
* Environment and other context
------------------------------
TESTER COMMENTS
------------------------------
Additional comments from tester:
none provided
------------------------------
PROGRAM OUTPUT
------------------------------
Output from 'C:\Perl64\site\bin\dmake.exe test':
C:\Perl64\bin\perl.exe "-MExtUtils::Command::MM" "-MTest::Harness" "-e" "undef *Test::Harness::Switches; test_harness(0, 'blib\lib', 'blib\arch')" t/*.t
t/00-compile.t ................ ok
#
#
# Generated by Dist::Zilla::Plugin::ReportVersions::Tiny v1.09
# perl: 5.014003 (wanted any version) on MSWin32 from C:\Perl64\bin\perl.exe
#
# Capture::Tiny => 0.24 (want any version)
# Carp => 1.32 (want any version)
# Email::Date::Format => 1.004 (want any version)
# Email::Simple => 2.202 (want any version)
# Email::Simple::Creator => 2.202 (want any version)
# ExtUtils::MakeMaker => 6.88 (want 6.30)
# Sub::Exporter => 0.985 (want any version)
# Sub::Exporter::Util => 0.985 (want any version)
# Test::More => 0.98 (want 0.96)
# Test::Pod => 1.48 (want 1.41)
# blib => 1.06 (want any version)
# strict => 1.04 (want any version)
# version => 0.9901 (want 0.9901)
# warnings => 1.12 (want any version)
#
# Thanks for using my code. I hope it works for you.
# If not, please try and include this output in the bug report.
# That will help me reproduce the issue and solve your problem.
#
t/000-report-versions-tiny.t .. ok
t/basic.t ..................... ok
All tests successful.
Files=3, Tests=8, 1 wallclock secs ( 0.03 usr + 0.03 sys = 0.06 CPU)
Result: PASS
------------------------------
PREREQUISITES
------------------------------
Prerequisite modules loaded:
requires:
Module Need Have
---------------------- ---- -----
Carp 0 1.32
Email::Date::Format 0 1.004
Email::Simple 0 2.202
Email::Simple::Creator 0 2.202
strict 0 1.04
Sub::Exporter 0 0.985
Sub::Exporter::Util 0 0.985
Test::More 0.88 0.98
warnings 0 1.12
build_requires:
Module Need Have
---------------------- ---- -----
blib 0 1.06
Capture::Tiny 0 0.24
Test::More 0.96 0.98
configure_requires:
Module Need Have
---------------------- ---- -----
ExtUtils::MakeMaker 6.30 6.88
------------------------------
ENVIRONMENT AND OTHER CONTEXT
------------------------------
Environment variables:
COMSPEC = C:\WINDOWS\system32\cmd.exe
NUMBER_OF_PROCESSORS = 2
PATH = C:\Program Files (x86)\Subversion;C:\WINDOWS\system32;C:\WINDOWS;C:\WINDOWS\System32\Wbem;C:\WINDOWS\System32\WindowsPowerShell\v1.0\;C:/cygwin/bin;C:/cygwin/lib;C:/cygwin/usr/lib;C:\Perl64\bin;C:\Perl64\site\bin;C:\Perl64\lib;C:\Perl64\site\lib;C:\SysInternals;C:\Program Files (x86)\ActiveState Perl Dev Kit 9.1\bin\;C:\Program Files (x86)\Common Files\Roxio Shared\DLLShared\;C:\Program Files (x86)\Common Files\Roxio Shared\9.0\DLLShared\;C:\Program Files\Microsoft Windows Performance Toolkit\;C:\OpenVPN\bin;C:\Program Files (x86)\GtkSharp\2.12\bin;C:\Go\bin;C:\Program Files (x86)\QuickTime\QTSystem\;C:\Program Files (x86)\WinSCP\;C:\Program Files\nodejs\;C:\Program Files\Mercurial\;C:\Program Files (x86)\Git\cmd;C:\Program Files (x86)\Git\bin;C:\Users\JMW060155\AppData\Roaming\Python\Scripts;C:\Users\JMW060155\AppData\Roaming\npm
PERL5LIB =
PERL5OPT =
PERL5_CPANPLUS_IS_RUNNING = 6084
PERL5_CPAN_IS_RUNNING = 6084
PROCESSOR_IDENTIFIER = Intel64 Family 6 Model 23 Stepping 10, GenuineIntel
TEMP = C:\Windows\Temp
Perl special variables (and OS-specific diagnostics, for MSWin32):
$^X = C:\Perl64\bin\perl.exe
$UID/$EUID = 0 / 0
$GID = 0
$EGID = 0
Win32::GetOSName = Win7
Win32::GetOSVersion = Service Pack 1, 6, 1, 7601, 2, 1, 0, 256, 1
Win32::FsType = NTFS
Win32::IsAdminUser = 1
Perl module toolchain versions installed:
Module Have
------------------- --------
CPAN 2.00
CPAN::Meta 2.133380
Cwd 3.40
ExtUtils::CBuilder 0.280205
ExtUtils::Command 1.17
ExtUtils::Install 1.54
ExtUtils::MakeMaker 6.88
ExtUtils::Manifest 1.61
ExtUtils::ParseXS 3.18
File::Spec 3.40
JSON 2.53
JSON::PP 2.27203
Module::Build 0.4204
Module::Signature n/a
Parse::CPAN::Meta 1.4409
Test::Harness 3.30
Test::More 0.98
YAML 0.84
YAML::Syck 1.22
version 0.9901
--
Summary of my perl5 (revision 5 version 14 subversion 3) configuration:
Platform:
osname=MSWin32, osvers=5.2, archname=MSWin32-x64-multi-thread
uname=''
config_args='undef'
hint=recommended, useposix=true, d_sigaction=undef
useithreads=define, usemultiplicity=define
useperlio=define, d_sfio=undef, uselargefiles=define, usesocks=undef
use64bitint=define, use64bitall=undef, uselongdouble=undef
usemymalloc=n, bincompat5005=undef
Compiler:
cc='C:\Perl64\site\bin\gcc.exe', ccflags ='-DNDEBUG -DWIN32 -D_CONSOLE -DNO_STRICT -DWIN64 -DCONSERVATIVE -DPERL_TEXTMODE_SCRIPTS -DUSE_SITECUSTOMIZE -DPERL_IMPLICIT_CONTEXT -DPERL_IMPLICIT_SYS -DUSE_PERLIO -DHASATTRIBUTE -fno-strict-aliasing -mms-bitfields',
optimize='-O2',
cppflags='-DWIN32'
ccversion='', gccversion='gcc.exe (rubenvb-4.5.4) 4.5.4', gccosandvers=''
intsize=4, longsize=4, ptrsize=8, doublesize=8, byteorder=12345678
d_longlong=undef, longlongsize=8, d_longdbl=define, longdblsize=8
ivtype='__int64', ivsize=8, nvtype='double', nvsize=8, Off_t='__int64', lseeksize=8
alignbytes=8, prototype=define
Linker and Libraries:
ld='C:\Perl64\site\bin\g++.exe', ldflags ='-L"C:\Perl64\lib\CORE"'
libpth=\lib
libs=-lkernel32 -luser32 -lgdi32 -lwinspool -lcomdlg32 -ladvapi32 -lshell32 -lole32 -loleaut32 -lnetapi32 -luuid -lws2_32 -lmpr -lwinmm -lversion -lodbc32 -lodbccp32 -lcomctl32 -lmsvcrt
perllibs=-lkernel32 -luser32 -lgdi32 -lwinspool -lcomdlg32 -ladvapi32 -lshell32 -lole32 -loleaut32 -lnetapi32 -luuid -lws2_32 -lmpr -lwinmm -lversion -lodbc32 -lodbccp32 -lcomctl32 -lmsvcrt
libc=msvcrt.lib, so=dll, useshrplib=true, libperl=perl514.lib
gnulibc_version=''
Dynamic Linking:
dlsrc=dl_win32.xs, dlext=dll, d_dlsymun=undef, ccdlflags=' '
cccdlflags=' ', lddlflags='-mdll -L"C:\Perl64\lib\CORE"'
Characteristics of this binary (from libperl):
Compile-time options: MULTIPLICITY PERL_DONT_CREATE_GVSV
PERL_IMPLICIT_CONTEXT PERL_IMPLICIT_SYS
PERL_MALLOC_WRAP PERL_PRESERVE_IVUV PL_OP_SLAB_ALLOC
USE_64_BIT_INT USE_ITHREADS USE_LARGE_FILES
USE_PERLIO USE_PERL_ATOF USE_SITECUSTOMIZE
Locally applied patches:
ActivePerl Build 1404 [296513]
ca8398a sv.c: S_anonymise_cv_maybe UTF8 cleanup.
Built under MSWin32
Compiled at Dec 18 2012 22:07:02
%ENV:
PERL5_CPANPLUS_IS_RUNNING="6084"
PERL5_CPAN_IS_RUNNING="6084"
@INC:
C:/Perl64/site/lib
C:/Perl64/lib
.