Test-Class-Moose v0.98 Perl 5 v5.31.9 x86_64-linux-ld
- Status
- Pass
- From
- Andreas J. König (ANDK)
- Dist
-
Test-Class-Moose v0.98
- Platform
- Perl 5 v5.31.9 x86_64-linux-ld
- Date
- 2020-01-27 14:55:01
- ID
- feb0aad2-4114-11ea-a2bc-d926ce6284ad
This distribution has been tested as part of the CPAN Testers
project, supporting the Perl programming language. See
http://wiki.cpantesters.org/ for more information or email
questions to cpan-testers-discuss@perl.org
--
Dear Dave Rolsky,
This is a computer-generated report for Test-Class-Moose-0.98
on perl 5.31.9, created by CPAN-Reporter-1.2018.
Thank you for uploading your work to CPAN. Congratulations!
All tests were successful.
Sections of this report:
* Tester comments
* Program output
* Prerequisites
* Environment and other context
------------------------------
TESTER COMMENTS
------------------------------
Additional comments from tester:
this report is from an automated smoke testing program
and was not reviewed by a human for accuracy
------------------------------
PROGRAM OUTPUT
------------------------------
Output from '/usr/bin/make test':
PERL_DL_NONLAZY=1 "/tmp/basesmoker-reloperl-Uh_c/bin/perl" "-MExtUtils::Command::MM" "-MTest::Harness" "-e" "undef *Test::Harness::Switches; test_harness(0, 'blib/lib', 'blib/arch')" t/*.t
#
# Versions for all modules listed in MYMETA.json (including optional ones):
#
# === Configure Requires ===
#
# Module Want Have
# ------------------- ---- ----
# ExtUtils::MakeMaker any 7.44
#
# === Build Requires ===
#
# Module Want Have
# ------------------- ---- ----
# ExtUtils::MakeMaker any 7.44
#
# === Test Requires ===
#
# Module Want Have
# --------------------- -------- --------
# ExtUtils::MakeMaker any 7.44
# File::Spec any 3.78
# File::Temp any 0.2309
# Test2::Tools::Basic any 0.000127
# Test2::Tools::Class any 0.000127
# Test2::Tools::Compare any 0.000127
# Test2::Tools::Subtest any 0.000127
# Test2::V0 any 0.000127
# Test::Builder any 1.302171
# Test::More 1.302015 1.302171
# Test::Requires any 0.10
# Test::Warnings any 0.028
# lib any 0.65
#
# === Test Recommends ===
#
# Module Want Have
# ------------ -------- --------
# CPAN::Meta 2.120900 2.150010
# Test::Output 0.0005 1.031
#
# === Runtime Requires ===
#
# Module Want Have
# ---------------------------- -------- --------
# Benchmark any 1.22
# Carp any 1.50
# Class::MOP any 2.2012
# Exporter any 5.74
# File::Find any 1.37
# File::Spec any 3.78
# Import::Into any 1.002005
# JSON::MaybeXS any 1.004000
# List::SomeUtils any 0.58
# List::Util any 1.53
# Module::Runtime any 0.016
# Module::Util any 1.09
# Moose 2.0000 2.2012
# Moose::Role 2.0000 2.2012
# Moose::Util any 2.2012
# Moose::Util::TypeConstraints any 2.2012
# MooseX::Getopt 0.71 0.74
# MooseX::Getopt::Dashes any 0.74
# Package::DeprecationManager 0.16 0.17
# Parallel::ForkManager any missing
# Scalar::Util any 1.53
# Sub::Attribute any 0.07
# TAP::Formatter::Color 3.29 3.42
# Test2 1.302118 1.302171
# Test2::API any 1.302171
# Test2::AsyncSubtest 0.000018 0.000127
# Test2::IPC any 1.302171
# Test2::Tools::AsyncSubtest any 0.000127
# Test::Most any 0.35
# Try::Tiny any 0.30
# namespace::autoclean any 0.29
# strict any 1.11
# warnings any 1.46
#
# === Runtime Recommends ===
#
# Module Want Have
# --------------------- ------ -------
# Parallel::ForkManager v0.7.6 missing
#
#
# *** WARNING WARNING WARNING WARNING WARNING WARNING WARNING WARNING ***
#
# The following REQUIRED prerequisites were not satisfied:
#
# Parallel::ForkManager is not installed (any version required)
#
t/00-report-prereqs.t .......... ok
t/autouse.t .................... ok
t/bad_subclass.t ............... ok
Prototype mismatch: sub main::warnings (&) vs (;&) at t/bare.t line 5.
t/bare.t ....................... ok
t/basic.t ...................... ok
Can't stat t/lib/Local: No such file or directory
at /tmp/loop_over_bdir-1287974-2A70xf/Test-Class-Moose-0.98-0/blib/lib/Test/Class/Moose/Load.pm line 73.
t/cli.t ........................ ok
t/environment.t ................ ok
t/executor_roles.t ............. ok
t/include_classes.t ............ ok
t/include_exclude.t ............ ok
t/load-special-characters.t .... ok
t/load.t ....................... ok
t/no_tests_run.t ............... ok
t/non_randomize_classes.t ...... ok
t/parallel.t ................... skipped: Test requires module 'Parallel::ForkManager' but it's not found
t/parameterized.t .............. ok
t/plans.t ...................... ok
t/process_name.t ............... ok
t/reportpassed.t ............... ok
t/skip.t ....................... ok
t/tags.t ....................... ok
t/test_class_is_not_loaded.t ... ok
t/test_control_methods.t ....... ok
t/test_control_methods_skip.t .. ok
t/timing.t ..................... ok
t/todo.t ....................... ok
All tests successful.
Files=26, Tests=187, 12 wallclock secs ( 0.10 usr 0.08 sys + 8.86 cusr 1.26 csys = 10.30 CPU)
Result: PASS
------------------------------
PREREQUISITES
------------------------------
Prerequisite modules loaded:
requires:
Module Need Have
---------------------------- -------- --------
Benchmark 0 1.22
Carp 0 1.50
Class::MOP 0 2.2012
Exporter 0 5.74
File::Find 0 1.37
File::Spec 0 3.78
Import::Into 0 1.002005
JSON::MaybeXS 0 1.004000
List::SomeUtils 0 0.58
List::Util 0 1.53
Module::Runtime 0 0.016
Module::Util 0 1.09
Moose 2.0000 2.2012
Moose::Role 2.0000 2.2012
Moose::Util 0 2.2012
Moose::Util::TypeConstraints 0 2.2012
MooseX::Getopt 0.71 0.74
MooseX::Getopt::Dashes 0 0.74
namespace::autoclean 0 0.29
Package::DeprecationManager 0.16 0.17
! Parallel::ForkManager 0 n/a
perl 5.010000 5.031009
Scalar::Util 0 1.53
strict 0 1.11
Sub::Attribute 0 0.07
TAP::Formatter::Color 3.29 3.42
Test2 1.302118 1.302171
Test2::API 0 1.302171
Test2::AsyncSubtest 0.000018 0.000127
Test2::IPC 0 1.302171
Test2::Tools::AsyncSubtest 0 0.000127
Test::Most 0 0.35
Try::Tiny 0 0.30
warnings 0 1.46
build_requires:
Module Need Have
---------------------------- -------- --------
ExtUtils::MakeMaker 0 7.44
File::Spec 0 3.78
File::Temp 0 0.2309
lib 0 0.65
Test2::Tools::Basic 0 0.000127
Test2::Tools::Class 0 0.000127
Test2::Tools::Compare 0 0.000127
Test2::Tools::Subtest 0 0.000127
Test2::V0 0 0.000127
Test::Builder 0 1.302171
Test::More 1.302015 1.302171
Test::Requires 0 0.10
Test::Warnings 0 0.028
configure_requires:
Module Need Have
---------------------------- -------- --------
ExtUtils::MakeMaker 0 7.44
opt_requires:
Module Need Have
---------------------------- -------- --------
! Parallel::ForkManager v0.7.6 n/a
------------------------------
ENVIRONMENT AND OTHER CONTEXT
------------------------------
Environment variables:
AUTOMATED_TESTING = 1
LANG = en_US.UTF-8
PATH = /home/sand/bin:/usr/local/bin:/usr/bin:/bin:/usr/games:/usr/local/perl/bin:/usr/X11/bin:/sbin:/usr/sbin
PERL5LIB =
PERL5OPT =
PERL5_CPANPLUS_IS_RUNNING = 3304429
PERL5_CPAN_IS_RUNNING = 3304429
PERL_CANARY_STABILITY_NOPROMPT = 1
PERL_MM_USE_DEFAULT = 1
PERL_USE_UNSAFE_INC = 1
SHELL = /usr/bin/zsh
TERM = screen
Perl special variables (and OS-specific diagnostics, for MSWin32):
$^X = /tmp/basesmoker-reloperl-Uh_c/bin/perl
$UID/$EUID = 1005 / 1005
$GID = 1005 1005
$EGID = 1005 1005
Perl module toolchain versions installed:
Module Have
------------------- --------
CPAN 2.27
CPAN::Meta 2.150010
Cwd 3.78
ExtUtils::CBuilder 0.280234
ExtUtils::Command 7.44
ExtUtils::Install 2.14
ExtUtils::MakeMaker 7.44
ExtUtils::Manifest 1.72
ExtUtils::ParseXS 3.40
File::Spec 3.78
JSON 4.02
JSON::PP 4.04
Module::Build 0.4229
Module::Signature 0.83
Parse::CPAN::Meta 2.150010
Test::Harness 3.42
Test::More 1.302171
YAML 1.29
YAML::Syck 1.31
version 0.9924
--
Summary of my perl5 (revision 5 version 31 subversion 9) configuration:
Commit id: fd9c22e56536c51f0c621c365b440c3ca01c1ce4
Platform:
osname=linux
osvers=5.3.0-2-amd64
archname=x86_64-linux-ld
uname='linux k93msid 5.3.0-2-amd64 #1 smp debian 5.3.9-3 (2019-11-19) x86_64 gnulinux '
config_args='-Dprefix=/home/sand/src/perl/repoperls/installed-perls/host/k93msid/v5.31.8-49-gfd9c22e565/ea6b -Dmyhostname=k93msid -Dinstallusrbinperl=n -Uversiononly -Dusedevel -des -Ui_db -Dlibswanted=cl pthread socket inet nsl gdbm dbm malloc dl ld sun m crypt sec util c cposix posix ucb BSD gdbm_compat -Uuseithreads -Duselongdouble -DEBUGGING=none'
hint=recommended
useposix=true
d_sigaction=define
useithreads=undef
usemultiplicity=undef
use64bitint=define
use64bitall=define
uselongdouble=define
usemymalloc=n
default_inc_excludes_dot=define
bincompat5005=undef
Compiler:
cc='cc'
ccflags ='-fwrapv -fno-strict-aliasing -pipe -fstack-protector-strong -I/usr/local/include -D_LARGEFILE_SOURCE -D_FILE_OFFSET_BITS=64 -D_FORTIFY_SOURCE=2'
optimize='-O2'
cppflags='-fwrapv -fno-strict-aliasing -pipe -fstack-protector-strong -I/usr/local/include'
ccversion=''
gccversion='9.2.1 20191109'
gccosandvers=''
intsize=4
longsize=8
ptrsize=8
doublesize=8
byteorder=12345678
doublekind=3
d_longlong=define
longlongsize=8
d_longdbl=define
longdblsize=16
longdblkind=3
ivtype='long'
ivsize=8
nvtype='long double'
nvsize=16
Off_t='off_t'
lseeksize=8
alignbytes=16
prototype=define
Linker and Libraries:
ld='cc'
ldflags =' -fstack-protector-strong -L/usr/local/lib'
libpth=/usr/local/lib /usr/lib/gcc/x86_64-linux-gnu/9/include-fixed /usr/include/x86_64-linux-gnu /usr/lib /lib/x86_64-linux-gnu /lib/../lib /usr/lib/x86_64-linux-gnu /usr/lib/../lib /lib
libs=-lpthread -lnsl -ldl -lm -lcrypt -lutil -lc
perllibs=-lpthread -lnsl -ldl -lm -lcrypt -lutil -lc
libc=libc-2.29.so
so=so
useshrplib=false
libperl=libperl.a
gnulibc_version='2.29'
Dynamic Linking:
dlsrc=dl_dlopen.xs
dlext=so
d_dlsymun=undef
ccdlflags='-Wl,-E'
cccdlflags='-fPIC'
lddlflags='-shared -O2 -L/usr/local/lib -fstack-protector-strong'
Characteristics of this binary (from libperl):
Compile-time options:
HAS_TIMES
PERLIO_LAYERS
PERL_COPY_ON_WRITE
PERL_DONT_CREATE_GVSV
PERL_MALLOC_WRAP
PERL_OP_PARENT
PERL_PRESERVE_IVUV
PERL_USE_DEVEL
USE_64_BIT_ALL
USE_64_BIT_INT
USE_LARGE_FILES
USE_LOCALE
USE_LOCALE_COLLATE
USE_LOCALE_CTYPE
USE_LOCALE_NUMERIC
USE_LOCALE_TIME
USE_LONG_DOUBLE
USE_PERLIO
USE_PERL_ATOF
Built under linux
Compiled at Jan 25 2020 19:44:01
%ENV:
PERL5LIB=""
PERL5OPT=""
PERL5_CPANPLUS_IS_RUNNING="3304429"
PERL5_CPAN_IS_RUNNING="3304429"
PERL_CANARY_STABILITY_NOPROMPT="1"
PERL_MM_USE_DEFAULT="1"
PERL_USE_UNSAFE_INC="1"
@INC:
/home/sand/src/perl/repoperls/installed-perls/host/k93msid/v5.31.8-49-gfd9c22e565/ea6b/lib/site_perl/5.31.9/x86_64-linux-ld
/home/sand/src/perl/repoperls/installed-perls/host/k93msid/v5.31.8-49-gfd9c22e565/ea6b/lib/site_perl/5.31.9
/home/sand/src/perl/repoperls/installed-perls/host/k93msid/v5.31.8-49-gfd9c22e565/ea6b/lib/5.31.9/x86_64-linux-ld
/home/sand/src/perl/repoperls/installed-perls/host/k93msid/v5.31.8-49-gfd9c22e565/ea6b/lib/5.31.9
.