Dist-Zilla-Plugin-CheckExtraTests v0.029 Perl 5 v5.26.1 x86_64-linux-thread-multi
- Status
- Pass
- From
- David Cantrell (DCANTRELL)
- Dist
-
Dist-Zilla-Plugin-CheckExtraTests v0.029
- Platform
- Perl 5 v5.26.1 x86_64-linux-thread-multi
- Date
- 2019-04-01 12:45:14
- ID
- fe9db26e-547b-11e9-8463-c2db7247484a
This distribution has been tested as part of the CPAN Testers
project, supporting the Perl programming language. See
http://wiki.cpantesters.org/ for more information or email
questions to cpan-testers-discuss@perl.org
--
Dear David Golden,
This is a computer-generated report for Dist-Zilla-Plugin-CheckExtraTests-0.029
on perl 5.26.1, created by CPAN-Reporter-1.2018.
Thank you for uploading your work to CPAN. Congratulations!
All tests were successful.
Sections of this report:
* Tester comments
* Program output
* Prerequisites
* Environment and other context
------------------------------
TESTER COMMENTS
------------------------------
Additional comments from tester:
this report is from an automated smoke testing program
and was not reviewed by a human for accuracy
------------------------------
PROGRAM OUTPUT
------------------------------
Output from '/usr/bin/make test':
PERL_DL_NONLAZY=1 "/home/david/cpantesting/perl-5.26.1/bin/perl" "-MExtUtils::Command::MM" "-MTest::Harness" "-e" "undef *Test::Harness::Switches; test_harness(0, 'blib/lib', 'blib/arch')" t/*.t
do "t/00-report-prereqs.dd" failed, '.' is no longer in @INC; did you mean do "./t/00-report-prereqs.dd"? at t/00-report-prereqs.t line 71.
#
# Versions for all modules listed in MYMETA.json (including optional ones):
#
# === Configure Requires ===
#
# Module Want Have
# ------------------- ---- ----
# ExtUtils::MakeMaker 6.17 7.24
#
# === Configure Suggests ===
#
# Module Want Have
# -------- ------- ----------
# JSON::PP 2.27300 2.27400_02
#
# === Build Requires ===
#
# Module Want Have
# ------------------- ---- ----
# ExtUtils::MakeMaker any 7.24
#
# === Test Requires ===
#
# Module Want Have
# ------------------------ ---- --------
# Capture::Tiny any 0.46
# Dist::Zilla::App::Tester any 6.012
# ExtUtils::MakeMaker any 7.24
# File::Spec any 3.67
# Params::Util any 1.07
# Sub::Exporter any 0.987
# Test::More 0.88 1.302162
# Test::Requires any 0.10
# Try::Tiny any 0.28
# lib any 0.64
#
# === Test Recommends ===
#
# Module Want Have
# ---------- -------- --------
# CPAN::Meta 2.120900 2.150010
#
# === Runtime Requires ===
#
# Module Want Have
# -------------------------------- ----- ------
# App::Prove 3.00 3.38
# Archive::Tar any 2.24
# Dist::Zilla 4.3 6.012
# Dist::Zilla::App any 6.012
# Dist::Zilla::Role::BeforeRelease any 6.012
# Dist::Zilla::Role::TestRunner any 6.012
# File::pushd any 1.014
# Moose 2 2.2011
# Path::Iterator::Rule any 1.014
# Path::Tiny 0.013 0.108
# namespace::autoclean 0.09 0.28
# strict any 1.11
# warnings any 1.37
#
t/00-report-prereqs.t .. ok
t/checkxt.t ............ ok
t/runxt.t .............. ok
t/withblib.t ........... ok
All tests successful.
Files=4, Tests=20, 30 wallclock secs ( 0.02 usr 0.02 sys + 5.17 cusr 1.79 csys = 7.00 CPU)
Result: PASS
------------------------------
PREREQUISITES
------------------------------
Prerequisite modules loaded:
requires:
Module Need Have
-------------------------------- ----- --------
App::Prove 3.00 3.38
Archive::Tar 0 2.24
Dist::Zilla 4.3 6.012
Dist::Zilla::App 0 6.012
Dist::Zilla::Role::BeforeRelease 0 6.012
Dist::Zilla::Role::TestRunner 0 6.012
File::pushd 0 1.014
Moose 2 2.2011
namespace::autoclean 0.09 0.28
Path::Iterator::Rule 0 1.014
Path::Tiny 0.013 0.108
perl 5.006 5.026001
strict 0 1.11
warnings 0 1.37
build_requires:
Module Need Have
-------------------------------- ----- --------
Capture::Tiny 0 0.46
Dist::Zilla::App::Tester 0 6.012
ExtUtils::MakeMaker 0 7.24
File::Spec 0 3.67
lib 0 0.64
Params::Util 0 1.07
Sub::Exporter 0 0.987
Test::More 0.88 1.302162
Test::Requires 0 0.10
Try::Tiny 0 0.28
configure_requires:
Module Need Have
-------------------------------- ----- --------
ExtUtils::MakeMaker 6.17 7.24
perl 5.006 5.026001
------------------------------
ENVIRONMENT AND OTHER CONTEXT
------------------------------
Environment variables:
AUTOMATED_TESTING = 1
NONINTERACTIVE_TESTING = 1
PATH = /usr/local/bin:/usr/bin:/bin:/usr/local/games:/usr/games
PERL = 5.26.1
PERL5LIB =
PERL5OPT =
PERL5_CPANPLUS_IS_RUNNING = 7669
PERL5_CPAN_IS_RUNNING = 7669
PERLVER = 5.26.1
PERL_INLINE_DIRECTORY = /home/david/.Inline-5.26.1
PERL_MM_USE_DEFAULT = 1
PERL_USE_UNSAFE_INC = 0
SHELL = /bin/bash
TERM = screen
Perl special variables (and OS-specific diagnostics, for MSWin32):
$^X = /home/david/cpantesting/perl-5.26.1/bin/perl
$UID/$EUID = 1000 / 1000
$GID = 1000 1000
$EGID = 1000 1000
Perl module toolchain versions installed:
Module Have
------------------- ----------
CPAN 2.18
CPAN::Meta 2.150010
Cwd 3.67
ExtUtils::CBuilder 0.280231
ExtUtils::Command 7.24
ExtUtils::Install 2.04
ExtUtils::MakeMaker 7.24
ExtUtils::Manifest 1.70
ExtUtils::ParseXS 3.34
File::Spec 3.67
JSON 4.02
JSON::PP 2.27400_02
Module::Build 0.4224
Module::Signature n/a
Parse::CPAN::Meta 2.150010
Test::Harness 3.38
Test::More 1.302162
YAML 1.27
YAML::Syck n/a
version 0.9917
--
Summary of my perl5 (revision 5 version 26 subversion 1) configuration:
Platform:
osname=linux
osvers=3.16.0-4-amd64
archname=x86_64-linux-thread-multi
uname='linux pigsty.barnyard.co.uk 3.16.0-4-amd64 #1 smp debian 3.16.36-1+deb8u1 (2016-09-03) x86_64 gnulinux '
config_args='-de -Duse64bitall -Dusethreads -Dprefix=/home/david/cpantesting/perl-5.26.1'
hint=recommended
useposix=true
d_sigaction=define
useithreads=define
usemultiplicity=define
use64bitint=define
use64bitall=define
uselongdouble=undef
usemymalloc=n
default_inc_excludes_dot=define
bincompat5005=undef
Compiler:
cc='cc'
ccflags ='-D_REENTRANT -D_GNU_SOURCE -fwrapv -fno-strict-aliasing -pipe -fstack-protector-strong -I/usr/local/include -D_LARGEFILE_SOURCE -D_FILE_OFFSET_BITS=64 -D_FORTIFY_SOURCE=2'
optimize='-O2'
cppflags='-D_REENTRANT -D_GNU_SOURCE -fwrapv -fno-strict-aliasing -pipe -fstack-protector-strong -I/usr/local/include'
ccversion=''
gccversion='4.9.2'
gccosandvers=''
intsize=4
longsize=8
ptrsize=8
doublesize=8
byteorder=12345678
doublekind=3
d_longlong=define
longlongsize=8
d_longdbl=define
longdblsize=16
longdblkind=3
ivtype='long'
ivsize=8
nvtype='double'
nvsize=8
Off_t='off_t'
lseeksize=8
alignbytes=8
prototype=define
Linker and Libraries:
ld='cc'
ldflags =' -fstack-protector-strong -L/usr/local/lib'
libpth=/usr/local/lib /usr/lib/gcc/x86_64-linux-gnu/4.9/include-fixed /usr/include/x86_64-linux-gnu /usr/lib /lib/x86_64-linux-gnu /lib/../lib /usr/lib/x86_64-linux-gnu /usr/lib/../lib /lib
libs=-lpthread -lnsl -ldb -ldl -lm -lcrypt -lutil -lc
perllibs=-lpthread -lnsl -ldl -lm -lcrypt -lutil -lc
libc=libc-2.19.so
so=so
useshrplib=false
libperl=libperl.a
gnulibc_version='2.19'
Dynamic Linking:
dlsrc=dl_dlopen.xs
dlext=so
d_dlsymun=undef
ccdlflags='-Wl,-E'
cccdlflags='-fPIC'
lddlflags='-shared -O2 -L/usr/local/lib -fstack-protector-strong'
Characteristics of this binary (from libperl):
Compile-time options:
HAS_TIMES
MULTIPLICITY
PERLIO_LAYERS
PERL_COPY_ON_WRITE
PERL_DONT_CREATE_GVSV
PERL_IMPLICIT_CONTEXT
PERL_MALLOC_WRAP
PERL_OP_PARENT
PERL_PRESERVE_IVUV
USE_64_BIT_ALL
USE_64_BIT_INT
USE_ITHREADS
USE_LARGE_FILES
USE_LOCALE
USE_LOCALE_COLLATE
USE_LOCALE_CTYPE
USE_LOCALE_NUMERIC
USE_LOCALE_TIME
USE_PERLIO
USE_PERL_ATOF
USE_REENTRANT_API
Built under linux
Compiled at Sep 26 2017 16:23:50
%ENV:
PERL="5.26.1"
PERL5LIB=""
PERL5OPT=""
PERL5_CPANPLUS_IS_RUNNING="7669"
PERL5_CPAN_IS_RUNNING="7669"
PERLVER="5.26.1"
PERL_INLINE_DIRECTORY="/home/david/.Inline-5.26.1"
PERL_MM_USE_DEFAULT="1"
PERL_USE_UNSAFE_INC="0"
@INC:
/home/david/cpantesting/perl-5.26.1/lib/site_perl/5.26.1/x86_64-linux-thread-multi
/home/david/cpantesting/perl-5.26.1/lib/site_perl/5.26.1
/home/david/cpantesting/perl-5.26.1/lib/5.26.1/x86_64-linux-thread-multi
/home/david/cpantesting/perl-5.26.1/lib/5.26.1