Devel-CheckLib v1.16 Perl 5 v5.34.3 x86_64-linux-thread-multi-ld
- Status
- Pass
- From
- Nigel Horne
- Dist
-
Devel-CheckLib v1.16
- Platform
- Perl 5 v5.34.3 x86_64-linux-thread-multi-ld
- Date
- 2025-10-14 00:52:01
- ID
- fe7e9542-a897-11f0-b628-be9eb543e668
This distribution has been tested as part of the CPAN Testers
project, supporting the Perl programming language. See
http://wiki.cpantesters.org/ for more information or email
questions to cpan-testers-discuss@perl.org
--
Dear Yasuhiro Matsumoto,
This is a computer-generated report for Devel-CheckLib-1.16
on perl 5.34.3, created by CPAN-Reporter-1.2020.
Thank you for uploading your work to CPAN. Congratulations!
All tests were successful.
Sections of this report:
* Tester comments
* Program output
* Prerequisites
* Environment and other context
------------------------------
TESTER COMMENTS
------------------------------
Additional comments from tester:
this report is from an automated smoke testing program
and was not reviewed by a human for accuracy
------------------------------
PROGRAM OUTPUT
------------------------------
Output from '/usr/bin/make test':
PERL_DL_NONLAZY=1 "/home/njh/perl5/perlbrew/perls/perl-5.34.3-thread-multi-ld/bin/perl5.34.3" "-MExtUtils::Command::MM" "-MTest::Harness" "-e" "undef *Test::Harness::Switches; test_harness(0, 'blib/lib', 'blib/arch')" t/*.t
Name "Config::STORE" used only once: possible typo at t/bad-single-word-compiler.t line 18.
t/00-load.t ................... ok
t/bad-single-word-compiler.t .. ok
t/dash-l-libs.t ............... ok
t/analyze-binary.t ............ ok
t/cmdline-LIBS-INC.t .......... ok
t/exit_with_message.t ......... ok
t/headers.t ................... ok
t/custom-function.t ........... ok
Name "Config::STORE" used only once: possible typo at t/multi-word-compiler.t line 18.
t/flags.t ..................... ok
t/multi-word-compiler.t ....... ok
t/not_found.t ................. ok
t/found.t ..................... ok
All tests successful.
Files=12, Tests=42, 1 wallclock secs ( 0.03 usr 0.01 sys + 2.85 cusr 1.29 csys = 4.18 CPU)
Result: PASS
------------------------------
PREREQUISITES
------------------------------
Prerequisite modules loaded:
requires:
Module Need Have
------------------- -------- --------
Exporter 0 5.76
File::Spec 0 3.80
File::Temp 0.16 0.2311
perl 5.004050 5.034003
build_requires:
Module Need Have
------------------- -------- --------
Capture::Tiny 0 0.50
ExtUtils::MakeMaker 0 7.62
Mock::Config 0.02 0.05
Test::More 0.88 1.302214
configure_requires:
Module Need Have
------------------- -------- --------
ExtUtils::MakeMaker 0 7.62
------------------------------
ENVIRONMENT AND OTHER CONTEXT
------------------------------
Environment variables:
AUTOMATED_TESTING = 1
HARNESS_OPTIONS = j4
LANG = en_US.UTF-8
PATH = /home/njh/perl5/perlbrew/bin:/home/njh/perl5/perlbrew/perls/perl-5.34.3-thread-multi-ld/bin:/home/njh/perl5/perlbrew/bin:/home/njh/src/njh/smoker/bin:/usr/bin:/bin
PERL5LIB = /tmp/user/1000/build/Mock-Config-0.05-0/blib/arch:/tmp/user/1000/build/Mock-Config-0.05-0/blib/lib:/tmp/user/1000/build/Module-Find-0.17-0/blib/arch:/tmp/user/1000/build/Module-Find-0.17-0/blib/lib:/tmp/user/1000/build/Inline-0.87-0/blib/arch:/tmp/user/1000/build/Inline-0.87-0/blib/lib:/tmp/user/1000/build/CPANSA-DB-20251013.131-0/blib/arch:/tmp/user/1000/build/CPANSA-DB-20251013.131-0/blib/lib
PERL5OPT =
PERL5_CPANPLUS_IS_RUNNING = 379171
PERL5_CPAN_IS_RUNNING = 379171
PERL5_CPAN_IS_RUNNING_IN_RECURSION = 377170,379171
PERLBREW_LIB =
PERLBREW_MANPATH = /home/njh/perl5/perlbrew/perls/perl-5.34.3-thread-multi-ld/man
PERLBREW_PATH = /home/njh/perl5/perlbrew/bin:/home/njh/perl5/perlbrew/perls/perl-5.34.3-thread-multi-ld/bin
PERLBREW_PERL = perl-5.34.3-thread-multi-ld
PERLBREW_ROOT = /home/njh/perl5/perlbrew
PERLBREW_SHELLRC_VERSION = 1.02
PERLBREW_VERSION = 1.02
PERL_LOCAL_LIB_ROOT =
PERL_MM_USE_DEFAULT = 1
PERL_USE_UNSAFE_INC = 1
SHELL = /bin/sh
TEMP = /tmp/user/1000
TMPDIR = /tmp/user/1000/testwrapper.379164
Perl special variables (and OS-specific diagnostics, for MSWin32):
$^X = /home/njh/perl5/perlbrew/perls/perl-5.34.3-thread-multi-ld/bin/perl5.34.3
$UID/$EUID = 1000 / 1000
$GID = 1000 4 24 25 29 30 44 46 103 108 115 123 996 1000
$EGID = 1000 4 24 25 29 30 44 46 103 108 115 123 996 1000
Perl module toolchain versions installed:
Module Have
------------------- --------
CPAN 2.28
CPAN::Meta 2.150010
Cwd 3.80
ExtUtils::CBuilder 0.280236
ExtUtils::Command 7.62
ExtUtils::Install 2.20
ExtUtils::MakeMaker 7.62
ExtUtils::Manifest 1.73
ExtUtils::ParseXS 3.43
File::Spec 3.80
JSON n/a
JSON::PP 4.06
Module::Build 0.4234
Module::Signature n/a
Parse::CPAN::Meta 2.150010
Test2 1.302214
Test::Harness 3.43
Test::More 1.302214
YAML 1.31
YAML::Syck n/a
version 0.9928
--
Summary of my perl5 (revision 5 version 34 subversion 3) configuration:
Platform:
osname=linux
osvers=6.12.5-amd64
archname=x86_64-linux-thread-multi-ld
uname='linux amelia 6.12.5-amd64 #1 smp preempt_dynamic debian 6.12.5-1 (2024-12-15) x86_64 gnulinux '
config_args='-de -Dprefix=/home/njh/perl5/perlbrew/perls/perl-5.34.3-thread-multi-ld -Dusedevel -Duselongdouble -Dusethreads -Dusemultiplicity -Accflags=-O2 -W -Wformat=2 -Wswitch -Wshadow -Wwrite-strings -Wuninitialized -Wall -pipe -fomit-frame-pointer -pedantic -D_FORTIFY_SOURCE=2 -Wpointer-arith -Wstrict-prototypes -fstack-protector -Wstack-protector -Wextra -Wbad-function-cast -Wcast-align -Wcast-qual -Wdisabled-optimization -Wendif-labels -Wfloat-equal -Wformat-nonliteral -Winline -Wmissing-declarations -Wmissing-prototypes -Wnested-externs -Wpointer-arith -Wundef -Wformat-security -ftree-vectorize -msse -mfpmath=sse -msse2 -mssse3 -msse4.1 -msse4.2 -maes -fdiagnostics-color=auto -flto -mtune=native -march=native -Aeval:scriptdir=/home/njh/perl5/perlbrew/perls/perl-5.34.3-thread-multi-ld/bin'
hint=recommended
useposix=true
d_sigaction=define
useithreads=define
usemultiplicity=define
use64bitint=define
use64bitall=define
uselongdouble=define
usemymalloc=n
default_inc_excludes_dot=define
Compiler:
cc='cc'
ccflags ='-D_REENTRANT -D_GNU_SOURCE -O2 -W -Wformat=2 -Wswitch -Wshadow -Wwrite-strings -Wuninitialized -Wall -pipe -fomit-frame-pointer -pedantic -D_FORTIFY_SOURCE=2 -Wpointer-arith -Wstrict-prototypes -fstack-protector -Wstack-protector -Wextra -Wbad-function-cast -Wcast-align -Wcast-qual -Wdisabled-optimization -Wendif-labels -Wfloat-equal -Wformat-nonliteral -Winline -Wmissing-declarations -Wmissing-prototypes -Wnested-externs -Wpointer-arith -Wundef -Wformat-security -ftree-vectorize -msse -mfpmath=sse -msse2 -mssse3 -msse4.1 -msse4.2 -maes -fdiagnostics-color=auto -flto -mtune=native -march=native -fwrapv -fno-strict-aliasing -fstack-protector-strong -I/usr/local/include -D_LARGEFILE_SOURCE -D_FILE_OFFSET_BITS=64'
optimize='-O2'
cppflags='-D_REENTRANT -D_GNU_SOURCE -O2 -W -Wformat=2 -Wswitch -Wshadow -Wwrite-strings -Wuninitialized -Wall -pipe -fomit-frame-pointer -pedantic -D_FORTIFY_SOURCE=2 -Wpointer-arith -Wstrict-prototypes -fstack-protector -Wstack-protector -Wextra -Wbad-function-cast -Wcast-align -Wcast-qual -Wdisabled-optimization -Wendif-labels -Wfloat-equal -Wformat-nonliteral -Winline -Wmissing-declarations -Wmissing-prototypes -Wnested-externs -Wpointer-arith -Wundef -Wformat-security -ftree-vectorize -msse -mfpmath=sse -msse2 -mssse3 -msse4.1 -msse4.2 -maes -fdiagnostics-color=auto -flto -mtune=native -march=native -fwrapv -fno-strict-aliasing -fstack-protector-strong -I/usr/local/include'
ccversion=''
gccversion='14.2.0'
gccosandvers=''
intsize=4
longsize=8
ptrsize=8
doublesize=8
byteorder=12345678
doublekind=3
d_longlong=define
longlongsize=8
d_longdbl=define
longdblsize=16
longdblkind=3
ivtype='long'
ivsize=8
nvtype='long double'
nvsize=16
Off_t='off_t'
lseeksize=8
alignbytes=16
prototype=define
Linker and Libraries:
ld='cc'
ldflags =' -fstack-protector-strong -L/usr/local/lib'
libpth=/usr/local/lib /usr/lib/x86_64-linux-gnu /usr/lib /usr/lib64
libs=-lpthread -lnsl -lgdbm -ldb -ldl -lm -lcrypt -lutil -lc
perllibs=-lpthread -lnsl -ldl -lm -lcrypt -lutil -lc
libc=/lib/x86_64-linux-gnu/libc.so.6
so=so
useshrplib=false
libperl=libperl.a
gnulibc_version='2.40'
Dynamic Linking:
dlsrc=dl_dlopen.xs
dlext=so
d_dlsymun=undef
ccdlflags='-Wl,-E'
cccdlflags='-fPIC'
lddlflags='-shared -O2 -L/usr/local/lib -fstack-protector-strong'
Characteristics of this binary (from libperl):
Compile-time options:
HAS_TIMES
MULTIPLICITY
PERLIO_LAYERS
PERL_COPY_ON_WRITE
PERL_DONT_CREATE_GVSV
PERL_IMPLICIT_CONTEXT
PERL_MALLOC_WRAP
PERL_OP_PARENT
PERL_PRESERVE_IVUV
PERL_USE_DEVEL
USE_64_BIT_ALL
USE_64_BIT_INT
USE_ITHREADS
USE_LARGE_FILES
USE_LOCALE
USE_LOCALE_COLLATE
USE_LOCALE_CTYPE
USE_LOCALE_NUMERIC
USE_LOCALE_TIME
USE_LONG_DOUBLE
USE_PERLIO
USE_PERL_ATOF
USE_REENTRANT_API
USE_THREAD_SAFE_LOCALE
Built under linux
Compiled at Dec 23 2024 17:58:48
%ENV:
PERL5LIB="/tmp/user/1000/build/Mock-Config-0.05-0/blib/arch:/tmp/user/1000/build/Mock-Config-0.05-0/blib/lib:/tmp/user/1000/build/Module-Find-0.17-0/blib/arch:/tmp/user/1000/build/Module-Find-0.17-0/blib/lib:/tmp/user/1000/build/Inline-0.87-0/blib/arch:/tmp/user/1000/build/Inline-0.87-0/blib/lib:/tmp/user/1000/build/CPANSA-DB-20251013.131-0/blib/arch:/tmp/user/1000/build/CPANSA-DB-20251013.131-0/blib/lib"
PERL5OPT=""
PERL5_CPANPLUS_IS_RUNNING="379171"
PERL5_CPAN_IS_RUNNING="379171"
PERL5_CPAN_IS_RUNNING_IN_RECURSION="377170,379171"
PERLBREW_LIB=""
PERLBREW_MANPATH="/home/njh/perl5/perlbrew/perls/perl-5.34.3-thread-multi-ld/man"
PERLBREW_PATH="/home/njh/perl5/perlbrew/bin:/home/njh/perl5/perlbrew/perls/perl-5.34.3-thread-multi-ld/bin"
PERLBREW_PERL="perl-5.34.3-thread-multi-ld"
PERLBREW_ROOT="/home/njh/perl5/perlbrew"
PERLBREW_SHELLRC_VERSION="1.02"
PERLBREW_VERSION="1.02"
PERL_LOCAL_LIB_ROOT=""
PERL_MM_USE_DEFAULT="1"
PERL_USE_UNSAFE_INC="1"
@INC:
/tmp/user/1000/build/Mock-Config-0.05-0/blib/arch
/tmp/user/1000/build/Mock-Config-0.05-0/blib/lib
/tmp/user/1000/build/Module-Find-0.17-0/blib/arch
/tmp/user/1000/build/Module-Find-0.17-0/blib/lib
/tmp/user/1000/build/Inline-0.87-0/blib/arch
/tmp/user/1000/build/Inline-0.87-0/blib/lib
/tmp/user/1000/build/CPANSA-DB-20251013.131-0/blib/arch
/tmp/user/1000/build/CPANSA-DB-20251013.131-0/blib/lib
/home/njh/perl5/perlbrew/perls/perl-5.34.3-thread-multi-ld/lib/site_perl/5.34.3/x86_64-linux-thread-multi-ld
/home/njh/perl5/perlbrew/perls/perl-5.34.3-thread-multi-ld/lib/site_perl/5.34.3
/home/njh/perl5/perlbrew/perls/perl-5.34.3-thread-multi-ld/lib/5.34.3/x86_64-linux-thread-multi-ld
/home/njh/perl5/perlbrew/perls/perl-5.34.3-thread-multi-ld/lib/5.34.3
.