Smartcat-Client v0.0.2 Perl 5 v5.30.2 amd64-openbsd

Status
Pass
From
Alceu Rodrigues de Freitas Junior
Dist
Smartcat-Client v0.0.2
Platform
Perl 5 v5.30.2 amd64-openbsd
Date
2020-07-24 18:17:54
ID
fe27a956-cdd9-11ea-a8aa-a41b442c0a0f
This distribution has been tested as part of the CPAN Testers
project, supporting the Perl programming language.  See
http://wiki.cpantesters.org/ for more information or email
questions to cpan-testers-discuss@perl.org


--
Dear Taras Semenenko,

This is a computer-generated report for Smartcat-Client-0.0.2
on perl 5.30.2, created by CPAN-Reporter-1.2018.

Thank you for uploading your work to CPAN.  Congratulations!
All tests were successful.

Sections of this report:

    * Tester comments
    * Program output
    * Prerequisites
    * Environment and other context

------------------------------
TESTER COMMENTS
------------------------------

Additional comments from tester:

this report is from an automated smoke testing program
and was not reviewed by a human for accuracy

------------------------------
PROGRAM OUTPUT
------------------------------

Output from './Build test':

t/AccountApiTest.t .............................................. ok
t/AccountModelTest.t ............................................ ok
t/AdditionalHeaderModelTest.t ................................... ok
t/AssignExecutivesRequestModelTest.t ............................ ok
t/AssignMyTeamExecutivesRequestModelTest.t ...................... ok
t/AssignedExecutiveModelTest.t .................................. ok
t/BilingualFileImportSetingsModelTest.t ......................... ok
t/CallbackApiTest.t ............................................. ok
t/CallbackErrorModelTest.t ...................................... ok
t/CallbackPropertyModelTest.t ................................... ok
t/CancelInvoiceModelTest.t ...................................... ok
t/ClientApiTest.t ............................................... ok
t/ClientModelTest.t ............................................. ok
t/CreateDocumentPropertyModelTest.t ............................. ok
t/CreateInvoiceModelTest.t ...................................... ok
t/CreateProjectModelTest.t ...................................... ok
t/CreateTranslationMemoryModelTest.t ............................ ok
t/DirectoriesApiTest.t .......................................... ok
t/DirectoryItemModelTest.t ...................................... ok
t/DirectoryModelTest.t .......................................... ok
t/DocumentApiTest.t ............................................. ok
t/DocumentExportApiTest.t ....................................... ok
t/DocumentModelTest.t ........................................... ok
t/DocumentStatisticsModelTest.t ................................. ok
t/DocumentTargetIdTest.t ........................................ ok
t/DocumentWorkflowStageModelTest.t .............................. ok
t/ExecutiveModelTest.t .......................................... ok
t/ExecutiveStatisticsModelTest.t ................................ ok
t/ExecutiveTest.t ............................................... ok
t/ExportDocumentTaskModelTest.t ................................. ok
t/FileFormatModelTest.t ......................................... ok
t/GlossaryApiTest.t ............................................. ok
t/GlossaryModelTest.t ........................................... ok
t/ImportJobModelTest.t .......................................... ok
t/InhouseTranslatorCreationModelTest.t .......................... ok
t/InvoiceApiTest.t .............................................. ok
t/LspServiceModelTest.t ......................................... ok
t/MTEngineModelTest.t ........................................... ok
t/ModelWithFilesCreateProjectModelTest.t ........................ ok
t/ModelWithFilesIReadOnlyListCreateDocumentPropertyModelTest.t .. ok
t/ModelWithFilesUploadDocumentPropertiesModelTest.t ............. ok
t/MyTeamMemberModelTest.t ....................................... ok
t/MyTeamSearchRequestModelTest.t ................................ ok
t/NetRateModelTest.t ............................................ ok
t/ObjectTest.t .................................................. ok
t/PlaceholderFormatApiApiTest.t ................................. ok
t/PlaceholderFormatModelTest.t .................................. ok
t/ProjectApiTest.t .............................................. ok
t/ProjectChangesModelTest.t ..................................... ok
t/ProjectModelTest.t ............................................ ok
t/ProjectStatisticsModelTest.t .................................. ok
t/ProjectStatisticsObsoleteModelTest.t .......................... ok
t/ProjectTranslationMemoryModelTest.t ........................... ok
t/ProjectWorkflowStageModelTest.t ............................... ok
t/SegmentModelTest.t ............................................ ok
t/SegmentTagModelTest.t ......................................... ok
t/SegmentWithMatchesModelTest.t ................................. ok
t/ServiceModelTest.t ............................................ ok
t/StatisticsRowModelTest.t ...................................... ok
t/TMImportTaskModelTest.t ....................................... ok
t/TMMatchesRequestTest.t ........................................ ok
t/TMRangeRateModelTest.t ........................................ ok
t/TagsFromUnitTest.t ............................................ ok
t/TranslationMemoriesApiTest.t .................................. ok
t/TranslationMemoriesForLanguageModelTest.t ..................... ok
t/TranslationMemoryForProjectModelTest.t ........................ ok
t/TranslationMemoryModelTest.t .................................. ok
t/UploadDocumentPropertiesModelTest.t ........................... ok
t/UploadedFileTest.t ............................................ ok
t/author-pod-syntax.t ........................................... skipped: these tests are for testing by the author
All tests successful.
Files=70, Tests=138, 37 wallclock secs ( 0.30 usr  0.66 sys + 26.50 cusr  8.49 csys = 35.95 CPU)
Result: PASS

------------------------------
PREREQUISITES
------------------------------

Prerequisite modules loaded:

requires:

    Module                   Need   Have    
    ------------------------ ------ --------
    base                     0      2.27    
    Carp                     0      1.50    
    Class::Accessor          0      0.51    
    Class::Data::Inheritable 0      0.08    
    Class::Inspector         0      1.36    
    constant                 0      1.33    
    Data::Dumper             0      2.174   
    Date::Parse              0      2.33    
    DateTime                 0      1.52    
    Exporter                 0      5.74    
    HTTP::Headers            0      6.25    
    HTTP::Request::Common    0      6.25    
    HTTP::Response           0      6.25    
    HTTP::Status             0      6.25    
    JSON                     0      4.02    
    List::MoreUtils          0      0.428   
    Log::Any                 0      1.708   
    LWP::UserAgent           0      6.46    
    MIME::Base64             0      3.15    
    Module::Find             0      0.15    
    Module::Runtime          0      0.016   
    Moose::Role              0      2.2013  
    namespace::autoclean     0      0.29    
    perl                     v5.6.0 5.030002
    Scalar::Util             0      1.55    
    strict                   0      1.11    
    URI::Escape              0      3.31    
    URI::Query               0      0.16    
    utf8                     0      1.22    
    warnings                 0      1.44    

build_requires:

    Module                   Need   Have    
    ------------------------ ------ --------
    File::Spec               0      3.78    
    IO::Handle               0      1.40    
    IPC::Open3               0      1.20    
    lib                      0      0.65    
    Test::Exception          0      0.43    
    Test::More               0      1.302175

configure_requires:

    Module                   Need   Have    
    ------------------------ ------ --------
    ExtUtils::MakeMaker      0      7.45_01 
    Module::Build::Tiny      0.034  0.039   


------------------------------
ENVIRONMENT AND OTHER CONTEXT
------------------------------

Environment variables:

    AUTOMATED_TESTING = 1
    DBD_MYSQL_TESTDB = test
    DBD_MYSQL_TESTHOST = localhost
    DBD_MYSQL_TESTPASSWORD = 
    DBD_MYSQL_TESTPORT = 3306
    DBD_MYSQL_TESTUSER = goku
    EXTENDED_TESTING = 1
    PATH = /home/goku/perl5/perlbrew/bin:/home/goku/perl5/bin:/home/goku/bin:/usr/bin:/bin:/usr/sbin:/sbin:/usr/X11R6/bin:/usr/local/bin:/usr/local/sbin
    PERL5LIB = /mnt/cpan_build_dir/goku/Serge-1.4-0/blib/arch:/mnt/cpan_build_dir/goku/Serge-1.4-0/blib/lib:/home/goku/perl5/lib/perl5
    PERL5OPT = 
    PERL5_CPANPLUS_IS_RUNNING = 66281
    PERL5_CPAN_IS_RUNNING = 66281
    PERL5_CPAN_IS_RUNNING_IN_RECURSION = 19241,66281
    PERLBREW_HOME = /home/goku/.perlbrew
    PERLBREW_PATH = /home/goku/perl5/perlbrew/bin
    PERLBREW_ROOT = /home/goku/perl5/perlbrew
    PERLBREW_SHELLRC_VERSION = 0.88
    PERLBREW_VERSION = 0.88
    PERL_CR_SMOKER_CURRENT = Serge-Sync-Plugin-TranslationService-Smartcat-0.0.5
    PERL_EXTUTILS_AUTOINSTALL = --defaultdeps
    PERL_LOCAL_LIB_ROOT = /home/goku/perl5
    PERL_MB_OPT = --install_base "/home/goku/perl5"
    PERL_MM_OPT = INSTALL_BASE=/home/goku/perl5
    PERL_MM_USE_DEFAULT = 1
    PERL_USE_UNSAFE_INC = 1
    SHELL = /usr/local/bin/bash
    TERM = xterm-256color

Perl special variables (and OS-specific diagnostics, for MSWin32):

    $^X = /usr/bin/perl
    $UID/$EUID = 1001 / 1001
    $GID = 999 999 1001
    $EGID = 999 999 1001

Perl module toolchain versions installed:

    Module              Have    
    ------------------- --------
    CPAN                2.28    
    CPAN::Meta          2.150010
    Cwd                 3.78    
    ExtUtils::CBuilder  0.280234
    ExtUtils::Command   7.45_01 
    ExtUtils::Install   2.16    
    ExtUtils::MakeMaker 7.45_01 
    ExtUtils::Manifest  1.72    
    ExtUtils::ParseXS   3.40    
    File::Spec          3.78    
    JSON                4.02    
    JSON::PP            4.05    
    Module::Build       0.4231  
    Module::Signature   0.87    
    Parse::CPAN::Meta   2.150010
    Test::Harness       3.43_02 
    Test::More          1.302175
    YAML                1.30    
    YAML::Syck          n/a     
    version             0.9924  


--

Summary of my perl5 (revision 5 version 30 subversion 2) configuration:
   
  Platform:
    osname=openbsd
    osvers=6.7
    archname=amd64-openbsd
    uname='openbsd'
    config_args='-dsE -Dopenbsd_distribution=defined -Dccflags=-DNO_LOCALE_NUMERIC -DNO_LOCALE_COLLATE -Dmksymlinks'
    hint=recommended
    useposix=true
    d_sigaction=define
    useithreads=undef
    usemultiplicity=undef
    use64bitint=define
    use64bitall=define
    uselongdouble=undef
    usemymalloc=n
    default_inc_excludes_dot=define
    bincompat5005=undef
  Compiler:
    cc='cc'
    ccflags ='-DNO_LOCALE_NUMERIC -DNO_LOCALE_COLLATE -fno-strict-aliasing -fno-delete-null-pointer-checks -pipe -fstack-protector-strong -D_FORTIFY_SOURCE=2 -I/usr/local/include'
    optimize='-O2'
    cppflags='-DNO_LOCALE_NUMERIC -DNO_LOCALE_COLLATE -fno-strict-aliasing -fno-delete-null-pointer-checks -pipe -fstack-protector-strong -I/usr/local/include'
    ccversion=''
    gccversion='4.2.1 Compatible OpenBSD Clang 8.0.1 (tags/RELEASE_801/final)'
    gccosandvers=''
    intsize=4
    longsize=8
    ptrsize=8
    doublesize=8
    byteorder=12345678
    doublekind=3
    d_longlong=define
    longlongsize=8
    d_longdbl=define
    longdblsize=16
    longdblkind=3
    ivtype='long'
    ivsize=8
    nvtype='double'
    nvsize=8
    Off_t='off_t'
    lseeksize=8
    alignbytes=8
    prototype=define
  Linker and Libraries:
    ld='cc'
    ldflags ='-Wl,-E  -fstack-protector-strong -L/usr/local/lib'
    libpth=/usr/lib /usr/lib
    libs=-lm -lc
    perllibs=-lm -lc
    libc=/usr/lib/libc.a
    so=so
    useshrplib=true
    libperl=libperl.so.20.0
    gnulibc_version=''
  Dynamic Linking:
    dlsrc=dl_dlopen.xs
    dlext=so
    d_dlsymun=undef
    ccdlflags='-Wl,-R/usr/libdata/perl5/amd64-openbsd/CORE'
    cccdlflags='-DPIC -fPIC '
    lddlflags='-shared -fPIC  -fstack-protector-strong -L/usr/local/lib'


Characteristics of this binary (from libperl): 
  Compile-time options:
    HAS_TIMES
    PERLIO_LAYERS
    PERL_COPY_ON_WRITE
    PERL_DONT_CREATE_GVSV
    PERL_MALLOC_WRAP
    PERL_OP_PARENT
    PERL_PRESERVE_IVUV
    USE_64_BIT_ALL
    USE_64_BIT_INT
    USE_LARGE_FILES
    USE_LOCALE
    USE_LOCALE_CTYPE
    USE_LOCALE_TIME
    USE_PERLIO
    USE_PERL_ATOF
  Built under openbsd
  %ENV:
    PERL5LIB="/mnt/cpan_build_dir/goku/Serge-1.4-0/blib/arch:/mnt/cpan_build_dir/goku/Serge-1.4-0/blib/lib:/home/goku/perl5/lib/perl5"
    PERL5OPT=""
    PERL5_CPANPLUS_IS_RUNNING="66281"
    PERL5_CPAN_IS_RUNNING="66281"
    PERL5_CPAN_IS_RUNNING_IN_RECURSION="19241,66281"
    PERLBREW_HOME="/home/goku/.perlbrew"
    PERLBREW_PATH="/home/goku/perl5/perlbrew/bin"
    PERLBREW_ROOT="/home/goku/perl5/perlbrew"
    PERLBREW_SHELLRC_VERSION="0.88"
    PERLBREW_VERSION="0.88"
    PERL_CR_SMOKER_CURRENT="Serge-Sync-Plugin-TranslationService-Smartcat-0.0.5"
    PERL_EXTUTILS_AUTOINSTALL="--defaultdeps"
    PERL_LOCAL_LIB_ROOT="/home/goku/perl5"
    PERL_MB_OPT="--install_base "/home/goku/perl5""
    PERL_MM_OPT="INSTALL_BASE=/home/goku/perl5"
    PERL_MM_USE_DEFAULT="1"
    PERL_USE_UNSAFE_INC="1"
  @INC:
    /mnt/cpan_build_dir/goku/Serge-1.4-0/blib/arch
    /mnt/cpan_build_dir/goku/Serge-1.4-0/blib/lib
    /home/goku/perl5/lib/perl5/5.30.2/amd64-openbsd
    /home/goku/perl5/lib/perl5/5.30.2
    /home/goku/perl5/lib/perl5/amd64-openbsd
    /home/goku/perl5/lib/perl5
    /usr/local/libdata/perl5/site_perl/amd64-openbsd
    /usr/local/libdata/perl5/site_perl
    /usr/libdata/perl5/amd64-openbsd
    /usr/libdata/perl5
    .