KiokuDB v0.57 Perl 5 v5.28.0 x86_64-linux

Status
Pass
From
Slaven Rezić (SREZIC)
Dist
KiokuDB v0.57
Platform
Perl 5 v5.28.0 x86_64-linux
Date
2018-09-25 00:57:35
ID
fdc727b0-c05d-11e8-a84b-936304bafbc9
This distribution has been tested as part of the CPAN Testers
project, supporting the Perl programming language.  See
http://wiki.cpantesters.org/ for more information or email
questions to cpan-testers-discuss@perl.org


--
Dear Jesse Luehrs,

This is a computer-generated report for KiokuDB-0.57
on perl 5.28.0, created by CPAN-Reporter-1.2018.

Thank you for uploading your work to CPAN.  Congratulations!
All tests were successful.

Sections of this report:

    * Tester comments
    * Program output
    * Prerequisites
    * Environment and other context

------------------------------
TESTER COMMENTS
------------------------------

Additional comments from tester:

none provided

------------------------------
PROGRAM OUTPUT
------------------------------

Output from 'make test':

PERL_DL_NONLAZY=1 "/opt/perl-5.28.0/bin/perl" "-MExtUtils::Command::MM" "-MTest::Harness" "-e" "undef *Test::Harness::Switches; test_harness(0, 'blib/lib', 'blib/arch')" t/*.t
t/00-compile.t ................. ok
t/coderefs.t ................... ok
t/collapser.t .................. ok
t/digest.t ..................... ok
t/directory.t .................. ok
t/entry.t ...................... ok
t/gc_naive.t ................... ok
Attempt to free unreferenced scalar: SV 0x686d560 at /home/cpansand/.cpan/build/2018092500/KiokuDB-0.57-0/blib/lib/KiokuDB/Test/Fixture/Sets.pm line 150.
t/gin.t ........................ ok
Attempt to free unreferenced scalar: SV 0x6a26068 at /home/cpansand/.cpan/build/2018092500/KiokuDB-0.57-0/blib/lib/KiokuDB/Test/Fixture/Sets.pm line 150.
Attempt to free unreferenced scalar: SV 0x74c8450 at /home/cpansand/.cpan/build/2018092500/KiokuDB-0.57-0/blib/lib/KiokuDB/Test/Fixture/Sets.pm line 150.
Attempt to free unreferenced scalar: SV 0x76e62c0 at /home/cpansand/.cpan/build/2018092500/KiokuDB-0.57-0/blib/lib/KiokuDB/Test/Fixture/Sets.pm line 150.
Attempt to free unreferenced scalar: SV 0x7a585d8 at /home/cpansand/.cpan/build/2018092500/KiokuDB-0.57-0/blib/lib/KiokuDB/Test/Fixture/Sets.pm line 150.
Attempt to free unreferenced scalar: SV 0x7760e00 at /home/cpansand/.cpan/build/2018092500/KiokuDB-0.57-0/blib/lib/KiokuDB/Test/Fixture/Sets.pm line 150.
Attempt to free unreferenced scalar: SV 0x7a333f8 at /home/cpansand/.cpan/build/2018092500/KiokuDB-0.57-0/blib/lib/KiokuDB/Test/Fixture/Sets.pm line 150.
Attempt to free unreferenced scalar: SV 0x71d9bc8 at /home/cpansand/.cpan/build/2018092500/KiokuDB-0.57-0/blib/lib/KiokuDB/Test/Fixture/Sets.pm line 150.
Attempt to free unreferenced scalar: SV 0x7a49040 at /home/cpansand/.cpan/build/2018092500/KiokuDB-0.57-0/blib/lib/KiokuDB/Test/Fixture/Sets.pm line 150.
Attempt to free unreferenced scalar: SV 0x74899a8 at /home/cpansand/.cpan/build/2018092500/KiokuDB-0.57-0/blib/lib/KiokuDB/Test/Fixture/Sets.pm line 150.
Attempt to free unreferenced scalar: SV 0x7853918 at /home/cpansand/.cpan/build/2018092500/KiokuDB-0.57-0/blib/lib/KiokuDB/Test/Fixture/Sets.pm line 150.
Attempt to free unreferenced scalar: SV 0x79b3570 at /home/cpansand/.cpan/build/2018092500/KiokuDB-0.57-0/blib/lib/KiokuDB/Test/Fixture/Sets.pm line 150.
Attempt to free unreferenced scalar: SV 0x7d2a280 at /home/cpansand/.cpan/build/2018092500/KiokuDB-0.57-0/blib/lib/KiokuDB/Test/Fixture/Sets.pm line 150.
Attempt to free unreferenced scalar: SV 0x80351e0 at /home/cpansand/.cpan/build/2018092500/KiokuDB-0.57-0/blib/lib/KiokuDB/Test/Fixture/Sets.pm line 150.
Attempt to free unreferenced scalar: SV 0x74d8148 at /home/cpansand/.cpan/build/2018092500/KiokuDB-0.57-0/blib/lib/KiokuDB/Test/Fixture/Sets.pm line 150.
Attempt to free unreferenced scalar: SV 0x7f06d20 at /home/cpansand/.cpan/build/2018092500/KiokuDB-0.57-0/blib/lib/KiokuDB/Test/Fixture/Sets.pm line 150.
Attempt to free unreferenced scalar: SV 0x7d15328 at /home/cpansand/.cpan/build/2018092500/KiokuDB-0.57-0/blib/lib/KiokuDB/Test/Fixture/Sets.pm line 150.
Attempt to free unreferenced scalar: SV 0x8106130 at /home/cpansand/.cpan/build/2018092500/KiokuDB-0.57-0/blib/lib/KiokuDB/Test/Fixture/Sets.pm line 150.
Attempt to free unreferenced scalar: SV 0x7fb7148 at /home/cpansand/.cpan/build/2018092500/KiokuDB-0.57-0/blib/lib/KiokuDB/Test/Fixture/Sets.pm line 150.
Attempt to free unreferenced scalar: SV 0x7cfb3c0 at /home/cpansand/.cpan/build/2018092500/KiokuDB-0.57-0/blib/lib/KiokuDB/Test/Fixture/Sets.pm line 150.
Attempt to free unreferenced scalar: SV 0x88e2920 at /home/cpansand/.cpan/build/2018092500/KiokuDB-0.57-0/blib/lib/KiokuDB/Test/Fixture/Sets.pm line 150.
Attempt to free unreferenced scalar: SV 0x8123170 at /home/cpansand/.cpan/build/2018092500/KiokuDB-0.57-0/blib/lib/KiokuDB/Test/Fixture/Sets.pm line 150.
Attempt to free unreferenced scalar: SV 0x819dc50 at /home/cpansand/.cpan/build/2018092500/KiokuDB-0.57-0/blib/lib/KiokuDB/Test/Fixture/Sets.pm line 150.
Attempt to free unreferenced scalar: SV 0x85eab80 at /home/cpansand/.cpan/build/2018092500/KiokuDB-0.57-0/blib/lib/KiokuDB/Test/Fixture/Sets.pm line 150.
Attempt to free unreferenced scalar: SV 0x8090b88 at /home/cpansand/.cpan/build/2018092500/KiokuDB-0.57-0/blib/lib/KiokuDB/Test/Fixture/Sets.pm line 150.
Attempt to free unreferenced scalar: SV 0x764d320 at /home/cpansand/.cpan/build/2018092500/KiokuDB-0.57-0/blib/lib/KiokuDB/Test/Fixture/Sets.pm line 150.
Attempt to free unreferenced scalar: SV 0x8b75e28 at /home/cpansand/.cpan/build/2018092500/KiokuDB-0.57-0/blib/lib/KiokuDB/Test/Fixture/Sets.pm line 150.
Attempt to free unreferenced scalar: SV 0x841b708 at /home/cpansand/.cpan/build/2018092500/KiokuDB-0.57-0/blib/lib/KiokuDB/Test/Fixture/Sets.pm line 150.
Attempt to free unreferenced scalar: SV 0x8c49170 at /home/cpansand/.cpan/build/2018092500/KiokuDB-0.57-0/blib/lib/KiokuDB/Test/Fixture/Sets.pm line 150.
Attempt to free unreferenced scalar: SV 0x8199308 at /home/cpansand/.cpan/build/2018092500/KiokuDB-0.57-0/blib/lib/KiokuDB/Test/Fixture/Sets.pm line 150.
Attempt to free unreferenced scalar: SV 0x8b21598 at /home/cpansand/.cpan/build/2018092500/KiokuDB-0.57-0/blib/lib/KiokuDB/Test/Fixture/Sets.pm line 150.
Attempt to free unreferenced scalar: SV 0x879a468 at /home/cpansand/.cpan/build/2018092500/KiokuDB-0.57-0/blib/lib/KiokuDB/Test/Fixture/Sets.pm line 150.
Attempt to free unreferenced scalar: SV 0x7fb4590 at /home/cpansand/.cpan/build/2018092500/KiokuDB-0.57-0/blib/lib/KiokuDB/Test/Fixture/Sets.pm line 150.
t/hash.t ....................... ok
t/hash_backend.t ............... ok
t/jspon_serialization.t ........ ok
t/kiokudb_class_native.t ....... ok
t/lazy.t ....................... ok
t/link_checker.t ............... ok
t/link_checker_real.t .......... ok
t/live_objs.t .................. ok
t/moose_triggers.t ............. ok
t/ref.t ........................ ok
t/scaling.t .................... ok
t/serializer.t ................. ok
t/stream.t ..................... ok
t/tied.t ....................... ok
t/typemap.t .................... ok
t/typemap_default_json.t ....... ok
t/typemap_default_storable.t ... ok
t/typemap_entry_callback.t ..... ok
t/typemap_entry_mop.t .......... ok
t/typemap_entry_naive.t ........ ok
t/typemap_entry_passthrough.t .. ok
t/typemap_entry_storable.t ..... ok
t/typemap_extra.t .............. ok
t/typemap_resolver.t ........... ok
t/typemap_values.t ............. ok
t/uuid.t ....................... ok
t/versioning.t ................. ok
All tests successful.
Files=35, Tests=23755, 60 wallclock secs ( 0.50 usr  0.50 sys + 52.90 cusr  6.09 csys = 59.99 CPU)
Result: PASS

------------------------------
PREREQUISITES
------------------------------

Prerequisite modules loaded:

requires:

    Module                                         Need   Have    
    ---------------------------------------------- ------ --------
    B                                              0      1.74    
    B::Deparse                                     0      1.48    
    Cache::Ref                                     0.02   0.04    
    Carp                                           0      1.50    
    Class::Load                                    0      0.25    
    constant                                       0      1.33    
    Data::Stream::Bulk                             0.08   0.11    
    Data::Stream::Bulk::Util                       0      0.11    
    Data::Swap                                     0      0.08    
    Data::UUID                                     1.203  1.221   
    Data::Visitor                                  0.24   0.30    
    Digest::SHA                                    0      6.02    
    Encode                                         0      2.98    
    Hash::Util::FieldHash::Compat                  0      0.11    
    IO::Handle                                     0      1.39    
    JSON                                           2.12   2.97001 
    JSON::XS                                       2.231  3.04    
    List::Util                                     0      1.50    
    Module::Pluggable::Object                      0      5.2     
    Moose                                          2.0000 2.2011  
    Moose::Exporter                                0      2.2011  
    Moose::Role                                    0      2.2011  
    Moose::Util                                    0      2.2011  
    Moose::Util::MetaRole                          0      2.2011  
    Moose::Util::TypeConstraints                   0      2.2011  
    MooseX::Clone                                  0.04   0.06    
    MooseX::Clone::Meta::Attribute::Trait::NoClone 0      0.06    
    MooseX::Role::Parameterized                    0.10   1.10    
    MooseX::YAML                                   0.04   0.04    
    namespace::clean                               0.08   0.27    
    overload                                       0      1.30    
    PadWalker                                      1.9    2.3     
    Path::Class                                    0      0.37    
    POSIX                                          0      1.84    
    Scalar::Util                                   0      1.50    
    Scope::Guard                                   0      0.21    
    Search::GIN::Driver                            0      0.11    
    Search::GIN::Extract                           0      0.11    
    Search::GIN::Query::Class                      0.03   0.11    
    Set::Object                                    1.26   1.39    
    Storable                                       0      3.08    
    strict                                         0      1.11    
    Sub::Exporter                                  0      0.987   
    Symbol                                         0      1.08    
    Test::Exception                                0      0.43    
    Test::Moose                                    0      2.2011  
    Test::More                                     0.88   1.302140
    Throwable                                      0      0.200013
    Tie::RefHash                                   0      1.39    
    Tie::ToObject                                  0      0.03    
    Try::Tiny                                      0      0.30    
    utf8                                           0      1.21    
    warnings                                       0      1.42    
    YAML::XS                                       0.30   0.70    

build_requires:

    Module                                         Need   Have    
    ---------------------------------------------- ------ --------
    base                                           0      2.27    
    Cache::Ref::CART                               0      0.04    
    Cache::Ref::CLOCK                              0      0.04    
    Data::Dumper                                   0      2.172   
    Data::Stream::Bulk::Callback                   0      0.11    
    File::Spec                                     0      3.75    
    if                                             0      0.0608  
    IO::Handle                                     0      1.39    
    IPC::Open3                                     0      1.20    
    Search::GIN::Driver::Hash                      0      0.11    
    Search::GIN::Extract::Class                    0      0.11    
    Search::GIN::Extract::Delegate                 0      0.11    
    Test::More                                     0.88   1.302140

configure_requires:

    Module                                         Need   Have    
    ---------------------------------------------- ------ --------
    ExtUtils::MakeMaker                            6.30   7.34    


------------------------------
ENVIRONMENT AND OTHER CONTEXT
------------------------------

Environment variables:

    LANG = en_US.UTF-8
    PATH = /usr/local/bin:/usr/bin:/bin:/usr/local/sbin:/usr/sbin:/sbin:/home/cpansand/bin/linux-gnu:/home/cpansand/bin/sh:/home/cpansand/bin:/usr/games:/home/cpansand/devel:/home/eserte/src/srezic-misc/scripts
    PERL5LIB = /home/cpansand/.cpan/build/2018092500/Search-GIN-0.11-0/blib/arch:/home/cpansand/.cpan/build/2018092500/Search-GIN-0.11-0/blib/lib:/home/cpansand/.cpan/build/2018092500/MooseX-Types-Set-Object-0.05-0/blib/arch:/home/cpansand/.cpan/build/2018092500/MooseX-Types-Set-Object-0.05-0/blib/lib:/home/cpansand/.cpan/build/2018092500/MooseX-YAML-0.04-0/blib/arch:/home/cpansand/.cpan/build/2018092500/MooseX-YAML-0.04-0/blib/lib:/home/cpansand/.cpan/build/2018092500/MooseX-Blessed-Reconstruct-1.00-0/blib/arch:/home/cpansand/.cpan/build/2018092500/MooseX-Blessed-Reconstruct-1.00-0/blib/lib:/home/cpansand/.cpan/build/2018092500/Data-Swap-0.08-0/blib/arch:/home/cpansand/.cpan/build/2018092500/Data-Swap-0.08-0/blib/lib:/home/cpansand/.cpan/build/2018092500/Cache-Ref-0.04-0/blib/arch:/home/cpansand/.cpan/build/2018092500/Cache-Ref-0.04-0/blib/lib:/home/cpansand/.cpan/build/2018092500/Deeme-Backend-DBI-0.04-1/blib/arch:/home/cpansand/.cpan/build/2018092500/Deeme-Backend-DBI-0.04-1/blib/lib:/home/cpansand/.cpan/build/2018092500/Deeme-0.05-1/blib/arch:/home/cpansand/.cpan/build/2018092500/Deeme-0.05-1/blib/lib:/home/cpansand/.cpan/build/2018092500/Mojolicious-8.0-33/blib/arch:/home/cpansand/.cpan/build/2018092500/Mojolicious-8.0-33/blib/lib
    PERL5OPT = -MDevel::Hide
    PERL5_CPANPLUS_IS_RUNNING = 32319
    PERL5_CPAN_IS_RUNNING = 32319
    PERL5_CPAN_IS_RUNNING_IN_RECURSION = 18110,32319
    PERLDOC = -MPod::Perldoc::ToTextOverstrike
    PERL_BATCH = yes
    PERL_CANARY_STABILITY_NOPROMPT = 1
    PERL_CPAN_REPORTER_CONFIG = /var/tmp/cpansmoker-1023/2018092420/cpanreporter_000_config.ini
    PERL_EXTUTILS_AUTOINSTALL = --defaultdeps
    PERL_USE_UNSAFE_INC = 1
    SHELL = /bin/zsh
    TERM = screen
    TMPDIR = /var/tmp/cpansmoker-1023/2018092420

Perl special variables (and OS-specific diagnostics, for MSWin32):

    $^X = /opt/perl-5.28.0/bin/perl
    $UID/$EUID = 1023 / 1023
    $GID = 1023 1023
    $EGID = 1023 1023

Perl module toolchain versions installed:

    Module              Have    
    ------------------- --------
    CPAN                2.20    
    CPAN::Meta          2.150010
    Cwd                 3.75    
    ExtUtils::CBuilder  0.280230
    ExtUtils::Command   7.34    
    ExtUtils::Install   2.14    
    ExtUtils::MakeMaker 7.34    
    ExtUtils::Manifest  1.70    
    ExtUtils::ParseXS   3.39    
    File::Spec          3.75    
    JSON                2.97001 
    JSON::PP            2.97001 
    Module::Build       0.4224  
    Module::Signature   0.83    
    Parse::CPAN::Meta   2.150010
    Test::Harness       3.42    
    Test::More          1.302140
    YAML                1.26    
    YAML::Syck          1.30    
    version             0.9923  


--

Summary of my perl5 (revision 5 version 28 subversion 0) configuration:
   
  Platform:
    osname=linux
    osvers=2.6.32-696.3.1.el6.x86_64
    archname=x86_64-linux
    uname='linux centos6 2.6.32-696.3.1.el6.x86_64 #1 smp tue may 30 19:52:55 utc 2017 x86_64 x86_64 x86_64 gnulinux '
    config_args='-ds -e -Dprefix=/opt/perl-5.28.0 -Dcf_email=srezic@cpan.org'
    hint=recommended
    useposix=true
    d_sigaction=define
    useithreads=undef
    usemultiplicity=undef
    use64bitint=define
    use64bitall=define
    uselongdouble=undef
    usemymalloc=n
    default_inc_excludes_dot=define
    bincompat5005=undef
  Compiler:
    cc='cc'
    ccflags ='-fwrapv -fno-strict-aliasing -pipe -fstack-protector -I/usr/local/include -D_LARGEFILE_SOURCE -D_FILE_OFFSET_BITS=64 -D_FORTIFY_SOURCE=2'
    optimize='-O2'
    cppflags='-fwrapv -fno-strict-aliasing -pipe -fstack-protector -I/usr/local/include'
    ccversion=''
    gccversion='4.4.7 20120313 (Red Hat 4.4.7-18)'
    gccosandvers=''
    intsize=4
    longsize=8
    ptrsize=8
    doublesize=8
    byteorder=12345678
    doublekind=3
    d_longlong=define
    longlongsize=8
    d_longdbl=define
    longdblsize=16
    longdblkind=3
    ivtype='long'
    ivsize=8
    nvtype='double'
    nvsize=8
    Off_t='off_t'
    lseeksize=8
    alignbytes=8
    prototype=define
  Linker and Libraries:
    ld='cc'
    ldflags =' -fstack-protector -L/usr/local/lib'
    libpth=/usr/local/lib /usr/lib /lib/../lib64 /usr/lib/../lib64 /lib /lib64 /usr/lib64 /usr/local/lib64
    libs=-lpthread -lnsl -lgdbm -ldb -ldl -lm -lcrypt -lutil -lc
    perllibs=-lpthread -lnsl -ldl -lm -lcrypt -lutil -lc
    libc=libc-2.12.so
    so=so
    useshrplib=false
    libperl=libperl.a
    gnulibc_version='2.12'
  Dynamic Linking:
    dlsrc=dl_dlopen.xs
    dlext=so
    d_dlsymun=undef
    ccdlflags='-Wl,-E'
    cccdlflags='-fPIC'
    lddlflags='-shared -O2 -L/usr/local/lib -fstack-protector'


Characteristics of this binary (from libperl): 
  Compile-time options:
    HAS_TIMES
    PERLIO_LAYERS
    PERL_COPY_ON_WRITE
    PERL_DONT_CREATE_GVSV
    PERL_MALLOC_WRAP
    PERL_OP_PARENT
    PERL_PRESERVE_IVUV
    USE_64_BIT_ALL
    USE_64_BIT_INT
    USE_LARGE_FILES
    USE_LOCALE
    USE_LOCALE_COLLATE
    USE_LOCALE_CTYPE
    USE_LOCALE_NUMERIC
    USE_LOCALE_TIME
    USE_PERLIO
    USE_PERL_ATOF
  Built under linux
  Compiled at Jun 23 2018 06:41:58
  %ENV:
    PERL5LIB="/home/cpansand/.cpan/build/2018092500/Search-GIN-0.11-0/blib/arch:/home/cpansand/.cpan/build/2018092500/Search-GIN-0.11-0/blib/lib:/home/cpansand/.cpan/build/2018092500/MooseX-Types-Set-Object-0.05-0/blib/arch:/home/cpansand/.cpan/build/2018092500/MooseX-Types-Set-Object-0.05-0/blib/lib:/home/cpansand/.cpan/build/2018092500/MooseX-YAML-0.04-0/blib/arch:/home/cpansand/.cpan/build/2018092500/MooseX-YAML-0.04-0/blib/lib:/home/cpansand/.cpan/build/2018092500/MooseX-Blessed-Reconstruct-1.00-0/blib/arch:/home/cpansand/.cpan/build/2018092500/MooseX-Blessed-Reconstruct-1.00-0/blib/lib:/home/cpansand/.cpan/build/2018092500/Data-Swap-0.08-0/blib/arch:/home/cpansand/.cpan/build/2018092500/Data-Swap-0.08-0/blib/lib:/home/cpansand/.cpan/build/2018092500/Cache-Ref-0.04-0/blib/arch:/home/cpansand/.cpan/build/2018092500/Cache-Ref-0.04-0/blib/lib:/home/cpansand/.cpan/build/2018092500/Deeme-Backend-DBI-0.04-1/blib/arch:/home/cpansand/.cpan/build/2018092500/Deeme-Backend-DBI-0.04-1/blib/lib:/home/cpansand/.cpan/build/2018092500/Deeme-0.05-1/blib/arch:/home/cpansand/.cpan/build/2018092500/Deeme-0.05-1/blib/lib:/home/cpansand/.cpan/build/2018092500/Mojolicious-8.0-33/blib/arch:/home/cpansand/.cpan/build/2018092500/Mojolicious-8.0-33/blib/lib"
    PERL5OPT="-MDevel::Hide"
    PERL5_CPANPLUS_IS_RUNNING="32319"
    PERL5_CPAN_IS_RUNNING="32319"
    PERL5_CPAN_IS_RUNNING_IN_RECURSION="18110,32319"
    PERLDOC="-MPod::Perldoc::ToTextOverstrike"
    PERL_BATCH="yes"
    PERL_CANARY_STABILITY_NOPROMPT="1"
    PERL_CPAN_REPORTER_CONFIG="/var/tmp/cpansmoker-1023/2018092420/cpanreporter_000_config.ini"
    PERL_EXTUTILS_AUTOINSTALL="--defaultdeps"
    PERL_USE_UNSAFE_INC="1"
  @INC:
    CODE(0xbe4238)
    /home/cpansand/.cpan/build/2018092500/Search-GIN-0.11-0/blib/arch
    /home/cpansand/.cpan/build/2018092500/Search-GIN-0.11-0/blib/lib
    /home/cpansand/.cpan/build/2018092500/MooseX-Types-Set-Object-0.05-0/blib/arch
    /home/cpansand/.cpan/build/2018092500/MooseX-Types-Set-Object-0.05-0/blib/lib
    /home/cpansand/.cpan/build/2018092500/MooseX-YAML-0.04-0/blib/arch
    /home/cpansand/.cpan/build/2018092500/MooseX-YAML-0.04-0/blib/lib
    /home/cpansand/.cpan/build/2018092500/MooseX-Blessed-Reconstruct-1.00-0/blib/arch
    /home/cpansand/.cpan/build/2018092500/MooseX-Blessed-Reconstruct-1.00-0/blib/lib
    /home/cpansand/.cpan/build/2018092500/Data-Swap-0.08-0/blib/arch
    /home/cpansand/.cpan/build/2018092500/Data-Swap-0.08-0/blib/lib
    /home/cpansand/.cpan/build/2018092500/Cache-Ref-0.04-0/blib/arch
    /home/cpansand/.cpan/build/2018092500/Cache-Ref-0.04-0/blib/lib
    /home/cpansand/.cpan/build/2018092500/Deeme-Backend-DBI-0.04-1/blib/arch
    /home/cpansand/.cpan/build/2018092500/Deeme-Backend-DBI-0.04-1/blib/lib
    /home/cpansand/.cpan/build/2018092500/Deeme-0.05-1/blib/arch
    /home/cpansand/.cpan/build/2018092500/Deeme-0.05-1/blib/lib
    /home/cpansand/.cpan/build/2018092500/Mojolicious-8.0-33/blib/arch
    /home/cpansand/.cpan/build/2018092500/Mojolicious-8.0-33/blib/lib
    /opt/perl-5.28.0/lib/site_perl/5.28.0/x86_64-linux
    /opt/perl-5.28.0/lib/site_perl/5.28.0
    /opt/perl-5.28.0/lib/5.28.0/x86_64-linux
    /opt/perl-5.28.0/lib/5.28.0
    .