Dist-Zilla-Plugin-Git v2.051 Perl 5 v5.41.13 darwin-2level

Status
Pass
From
David Cantrell (DCANTRELL)
Dist
Dist-Zilla-Plugin-Git v2.051
Platform
Perl 5 v5.41.13 darwin-2level
Date
2025-05-20 22:51:38
ID
fcf64e24-35cc-11f0-a72e-9e481e4e7144
This distribution has been tested as part of the CPAN Testers
project, supporting the Perl programming language.  See
http://wiki.cpantesters.org/ for more information or email
questions to cpan-testers-discuss@perl.org


--
Dear Karen Etheridge,

This is a computer-generated report for Dist-Zilla-Plugin-Git-2.051
on perl 5.41.13, created by CPAN-Reporter-1.2020.

Thank you for uploading your work to CPAN.  Congratulations!
All tests were successful.

Sections of this report:

    * Tester comments
    * Program output
    * Prerequisites
    * Environment and other context

------------------------------
TESTER COMMENTS
------------------------------

Additional comments from tester:

this report is from an automated smoke testing program
and was not reviewed by a human for accuracy

------------------------------
PROGRAM OUTPUT
------------------------------

Output from '/usr/bin/make test':

"/Users/cpantesting/cpantesting/perl-blead/bin/perl5.41.13" "-Iblib/arch" "-Iblib/lib" Makefile_git.PL Makefile_git 
PERL_DL_NONLAZY=1 "/Users/cpantesting/cpantesting/perl-blead/bin/perl5.41.13" "-MExtUtils::Command::MM" "-MTest::Harness" "-e" "undef *Test::Harness::Switches; test_harness(0, 'blib/lib', 'blib/arch')" t/*.t
# 
# Versions for all modules listed in MYMETA.json (including optional ones):
# 
# === Configure Requires ===
# 
#     Module               Want     Have
#     ------------------- ----- --------
#     ExtUtils::MakeMaker   any     7.74
#     Text::ParseWords      any     3.31
#     perl                5.010 5.041013
#     version               any   0.9933
# 
# === Build Requires ===
# 
#     Module              Want Have
#     ------------------- ---- ----
#     ExtUtils::MakeMaker  any 7.74
# 
# === Test Requires ===
# 
#     Module                            Want     Have
#     -------------------------------- ----- --------
#     CPAN::Meta::Check                0.011    0.018
#     CPAN::Meta::Requirements           any    2.143
#     Dist::Zilla::File::InMemory        any    6.033
#     Dist::Zilla::Plugin::Config::Git   any     0.92
#     Dist::Zilla::Role::Releaser        any    6.033
#     Dist::Zilla::Tester                any    6.033
#     Encode                             any     3.21
#     Exporter                           any     5.79
#     ExtUtils::MakeMaker                any     7.74
#     File::Copy                         any     2.41
#     File::Copy::Recursive              any     0.45
#     File::Path                        2.07     2.18
#     File::Spec                         any     3.94
#     File::Which                        any     1.27
#     File::pushd                        any    1.016
#     Log::Dispatchouli                  any    3.009
#     Test::DZil                         any    6.033
#     Test::Fatal                        any    0.017
#     Test::More                        0.88 1.302210
#     lib                                any     0.65
#     perl                             5.010 5.041013
#     utf8                               any     1.27
# 
# === Test Recommends ===
# 
#     Module         Want     Have
#     ---------- -------- --------
#     CPAN::Meta 2.120900 2.150010
# 
# === Runtime Requires ===
# 
#     Module                                 Want     Have
#     ---------------------------------- -------- --------
#     Cwd                                     any     3.94
#     DateTime                                any     1.66
#     Dist::Zilla                               4    6.033
#     Dist::Zilla::Plugin::GatherDir     4.200016    6.033
#     Dist::Zilla::Role::AfterBuild           any    6.033
#     Dist::Zilla::Role::AfterMint            any    6.033
#     Dist::Zilla::Role::AfterRelease         any    6.033
#     Dist::Zilla::Role::BeforeRelease        any    6.033
#     Dist::Zilla::Role::FilePruner           any    6.033
#     Dist::Zilla::Role::GitConfig            any     0.92
#     Dist::Zilla::Role::PluginBundle         any    6.033
#     Dist::Zilla::Role::VersionProvider      any    6.033
#     File::Spec::Functions                   any     3.94
#     File::Temp                              any   0.2311
#     File::chdir                             any   0.1011
#     Git::Wrapper                          0.021    0.048
#     IPC::Open3                              any     1.24
#     IPC::System::Simple                     any     1.30
#     List::Util                             1.45  1.68_01
#     Module::Runtime                         any    0.018
#     Moose                                   any   2.2207
#     Moose::Role                             any   2.2207
#     MooseX::Has::Sugar                      any 1.000006
#     Path::Tiny                            0.048    0.148
#     String::Formatter                       any    1.235
#     Try::Tiny                               any     0.32
#     Type::Utils                             any 2.008002
#     Types::Path::Tiny                       any    0.006
#     Types::Standard                         any 2.008002
#     Version::Next                           any    1.000
#     constant                                any     1.33
#     namespace::autoclean                   0.09     0.31
#     perl                                  5.010 5.041013
#     strict                                  any     1.14
#     version                                0.80   0.9933
#     warnings                                any     1.74
# 
# === Other Modules ===
# 
#     Module             Have
#     --------------- -------
#     Encode             3.21
#     File::Temp       0.2311
#     JSON::PP           4.16
#     Module::Runtime   0.018
#     Pod::Coverage   missing
#     Sub::Name       missing
#     YAML            missing
#     autodie            2.37
# 
t/00-report-prereqs.t ........... ok
# git version 2.49.0
t/000-report-git-version.t ...... ok
t/check.t ....................... ok
t/commit-build-custom.t ......... ok
t/commit-build-src-as-parent.t .. ok
t/commit-build.t ................ ok
t/commit-dirtydir.t ............. ok
t/commit-message.t .............. ok
t/commit-signoff.t .............. ok
t/commit-utf8.t ................. ok
t/commit-ws.t ................... ok
t/commit.t ...................... ok
t/gatherdir-multi.t ............. ok
t/gatherdir.t ................... ok
t/push-gitconfig.t .............. ok
t/push-multi.t .................. ok
t/push.t ........................ ok
t/repo-dir.t .................... ok
t/tag-signed.t .................. ok
t/tag.t ......................... ok
t/version-by-branch.t ........... ok
t/version-default.t ............. ok
t/version-extraction.t .......... ok
t/version-regexp.t .............. ok
t/zzz-check-breaks.t ............ ok
All tests successful.
Files=25, Tests=211, 85 wallclock secs ( 0.14 usr  0.08 sys + 50.78 cusr 23.96 csys = 74.96 CPU)
Result: PASS

------------------------------
PREREQUISITES
------------------------------

Prerequisite modules loaded:

requires:

    Module                             Need     Have    
    ---------------------------------- -------- --------
    constant                           0        1.33    
    Cwd                                0        3.94    
    DateTime                           0        1.66    
    Dist::Zilla                        4        6.033   
    Dist::Zilla::Plugin::GatherDir     4.200016 6.033   
    Dist::Zilla::Role::AfterBuild      0        6.033   
    Dist::Zilla::Role::AfterMint       0        6.033   
    Dist::Zilla::Role::AfterRelease    0        6.033   
    Dist::Zilla::Role::BeforeRelease   0        6.033   
    Dist::Zilla::Role::FilePruner      0        6.033   
    Dist::Zilla::Role::GitConfig       0        0.92    
    Dist::Zilla::Role::PluginBundle    0        6.033   
    Dist::Zilla::Role::VersionProvider 0        6.033   
    File::chdir                        0        0.1011  
    File::Spec::Functions              0        3.94    
    File::Temp                         0        0.2311  
    Git::Wrapper                       0.021    0.048   
    IPC::Open3                         0        1.24    
    IPC::System::Simple                0        1.30    
    List::Util                         1.45     1.68_01 
    Module::Runtime                    0        0.018   
    Moose                              0        2.2207  
    Moose::Role                        0        2.2207  
    MooseX::Has::Sugar                 0        1.000006
    namespace::autoclean               0.09     0.31    
    Path::Tiny                         0.048    0.148   
    perl                               5.010    5.041013
    strict                             0        1.14    
    String::Formatter                  0        1.235   
    Try::Tiny                          0        0.32    
    Type::Utils                        0        2.008002
    Types::Path::Tiny                  0        0.006   
    Types::Standard                    0        2.008002
    version                            0.80     0.9933  
    Version::Next                      0        1.000   
    warnings                           0        1.74    

build_requires:

    Module                             Need     Have    
    ---------------------------------- -------- --------
    CPAN::Meta::Check                  0.011    0.018   
    CPAN::Meta::Requirements           0        2.143   
    Dist::Zilla::File::InMemory        0        6.033   
    Dist::Zilla::Plugin::Config::Git   0        0.92    
    Dist::Zilla::Role::Releaser        0        6.033   
    Dist::Zilla::Tester                0        6.033   
    Encode                             0        3.21    
    Exporter                           0        5.79    
    ExtUtils::MakeMaker                0        7.74    
    File::Copy                         0        2.41    
    File::Copy::Recursive              0        0.45    
    File::Path                         2.07     2.18    
    File::pushd                        0        1.016   
    File::Spec                         0        3.94    
    File::Which                        0        1.27    
    lib                                0        0.65    
    Log::Dispatchouli                  0        3.009   
    Test::DZil                         0        6.033   
    Test::Fatal                        0        0.017   
    Test::More                         0.88     1.302210
    utf8                               0        1.27    

configure_requires:

    Module                             Need     Have    
    ---------------------------------- -------- --------
    ExtUtils::MakeMaker                0        7.74    
    perl                               5.010    5.041013
    Text::ParseWords                   0        3.31    
    version                            0        0.9933  

opt_build_requires:

    Module                             Need     Have    
    ---------------------------------- -------- --------
    CPAN::Meta                         2.120900 2.150010


------------------------------
ENVIRONMENT AND OTHER CONTEXT
------------------------------

Environment variables:

    AUTOMATED_TESTING = 1
    LANG = en_GB.UTF-8
    LC_TERMINAL = iTerm2
    LC_TERMINAL_VERSION = 3.5.13
    NONINTERACTIVE_TESTING = 1
    PATH = /Users/cpantesting/perl5/perlbrew/bin:/Users/cpantesting/perl5/perlbrew/perls/perl-5.32.0/bin:/usr/local/bin:/System/Cryptexes/App/usr/bin:/usr/bin:/bin:/usr/sbin:/sbin:/var/run/com.apple.security.cryptexd/codex.system/bootstrap/usr/local/bin:/var/run/com.apple.security.cryptexd/codex.system/bootstrap/usr/bin:/var/run/com.apple.security.cryptexd/codex.system/bootstrap/usr/appleinternal/bin:/opt/X11/bin:/Library/Apple/usr/bin:/Applications/VMware Fusion.app/Contents/Public:/usr/local/zfs/bin:/Users/cpantesting/.cargo/bin
    PERL = blead
    PERL5LIB = 
    PERL5OPT = 
    PERL5_CPANPLUS_IS_RUNNING = 32159
    PERL5_CPAN_IS_RUNNING = 32159
    PERLBREW_HOME = /Users/cpantesting/.perlbrew
    PERLBREW_MANPATH = /Users/cpantesting/perl5/perlbrew/perls/perl-5.32.0/man
    PERLBREW_PATH = /Users/cpantesting/perl5/perlbrew/bin:/Users/cpantesting/perl5/perlbrew/perls/perl-5.32.0/bin
    PERLBREW_PERL = perl-5.32.0
    PERLBREW_ROOT = /Users/cpantesting/perl5/perlbrew
    PERLBREW_SHELLRC_VERSION = 0.94
    PERLBREW_VERSION = 0.94
    PERLVER = blead
    PERL_INLINE_DIRECTORY = /Users/cpantesting/.Inline-blead
    PERL_MM_USE_DEFAULT = 1
    PERL_USE_UNSAFE_INC = 0
    SHELL = /bin/bash
    TERM = screen
    TMPDIR = /var/folders/zy/47mkymr176b35xhyp425tk7h0000gq/T/

Perl special variables (and OS-specific diagnostics, for MSWin32):

    $^X = /Users/cpantesting/cpantesting/perl-blead/bin/perl5.41.13
    $UID/$EUID = 503 / 503
    $GID = 20 20 12 61 399 703 702 701 100
    $EGID = 20 20 12 61 399 703 702 701 100

Perl module toolchain versions installed:

    Module              Have    
    ------------------- --------
    CPAN                2.38    
    CPAN::Meta          2.150010
    Cwd                 3.94    
    ExtUtils::CBuilder  0.280241
    ExtUtils::Command   7.74    
    ExtUtils::Install   2.22    
    ExtUtils::MakeMaker 7.74    
    ExtUtils::Manifest  1.75    
    ExtUtils::ParseXS   3.57    
    File::Spec          3.94    
    JSON                n/a     
    JSON::PP            4.16    
    Module::Build       0.4234  
    Module::Signature   n/a     
    Parse::CPAN::Meta   2.150010
    Test2               1.302210
    Test::Harness       3.50    
    Test::More          1.302210
    YAML                n/a     
    YAML::Syck          n/a     
    version             0.9933  


--

Summary of my perl5 (revision 5 version 41 subversion 13) configuration:
  Commit id: 482fd30fb27ae01e0305c037bd35dda662dc8de9
  Platform:
    osname=darwin
    osvers=24.4.0
    archname=darwin-2level
    uname='darwin harrow.home 24.4.0 darwin kernel version 24.4.0: fri apr 11 18:28:23 pdt 2025; root:xnu-11417.101.15~117release_x86_64 x86_64 '
    config_args='-de -Dprefix=/Users/cpantesting/cpantesting/perl-blead -Dusedevel'
    hint=recommended
    useposix=true
    d_sigaction=define
    useithreads=undef
    usemultiplicity=undef
    use64bitint=define
    use64bitall=define
    uselongdouble=undef
    usemymalloc=n
    default_inc_excludes_dot=define
  Compiler:
    cc='cc'
    ccflags ='-fno-common -DPERL_DARWIN -mmacosx-version-min=15.4 -DNO_THREAD_SAFE_QUERYLOCALE -DNO_POSIX_2008_LOCALE -DHAS_BROKEN_LANGINFO_CODESET -DNO_LOCALE_COLLATE -fno-strict-aliasing -pipe -fstack-protector-strong -I/usr/local/include'
    optimize='-O3'
    cppflags='-fno-common -DPERL_DARWIN -mmacosx-version-min=15.4 -DNO_THREAD_SAFE_QUERYLOCALE -DNO_POSIX_2008_LOCALE -DHAS_BROKEN_LANGINFO_CODESET -DNO_LOCALE_COLLATE -fno-strict-aliasing -pipe -fstack-protector-strong -I/usr/local/include'
    ccversion=''
    gccversion='Apple LLVM 17.0.0 (clang-1700.0.13.3)'
    gccosandvers=''
    intsize=4
    longsize=8
    ptrsize=8
    doublesize=8
    byteorder=12345678
    doublekind=3
    d_longlong=define
    longlongsize=8
    d_longdbl=define
    longdblsize=16
    longdblkind=3
    ivtype='long'
    ivsize=8
    nvtype='double'
    nvsize=8
    Off_t='off_t'
    lseeksize=8
    alignbytes=8
    prototype=define
  Linker and Libraries:
    ld='cc'
    ldflags =' -mmacosx-version-min=15.4 -fstack-protector-strong -L/usr/local/lib'
    libpth=/usr/local/lib /Applications/Xcode.app/Contents/Developer/Toolchains/XcodeDefault.xctoolchain/usr/lib/clang/17/lib /Applications/Xcode.app/Contents/Developer/Platforms/MacOSX.platform/Developer/SDKs/MacOSX.sdk/usr/lib /Applications/Xcode.app/Contents/Developer/Toolchains/XcodeDefault.xctoolchain/usr/lib /usr/lib
    libs=-lgdbm
    perllibs=
    libc=
    so=dylib
    useshrplib=false
    libperl=libperl.a
    gnulibc_version=''
  Dynamic Linking:
    dlsrc=dl_dlopen.xs
    dlext=bundle
    d_dlsymun=undef
    ccdlflags=' '
    cccdlflags=' '
    lddlflags=' -mmacosx-version-min=15.4 -bundle -undefined dynamic_lookup -L/usr/local/lib -fstack-protector-strong'


Characteristics of this binary (from libperl): 
  Compile-time options:
    HAS_LONG_DOUBLE
    HAS_STRTOLD
    HAS_TIMES
    PERLIO_LAYERS
    PERL_COPY_ON_WRITE
    PERL_DONT_CREATE_GVSV
    PERL_HASH_FUNC_SIPHASH13
    PERL_HASH_USE_SBOX32
    PERL_MALLOC_WRAP
    PERL_OP_PARENT
    PERL_PRESERVE_IVUV
    PERL_USE_DEVEL
    PERL_USE_SAFE_PUTENV
    USE_64_BIT_ALL
    USE_64_BIT_INT
    USE_LARGE_FILES
    USE_LOCALE
    USE_LOCALE_CTYPE
    USE_LOCALE_NUMERIC
    USE_LOCALE_TIME
    USE_PERLIO
    USE_PERL_ATOF
  Built under darwin
  Compiled at May 16 2025 01:38:26
  %ENV:
    PERL="blead"
    PERL5LIB=""
    PERL5OPT=""
    PERL5_CPANPLUS_IS_RUNNING="32159"
    PERL5_CPAN_IS_RUNNING="32159"
    PERLBREW_HOME="/Users/cpantesting/.perlbrew"
    PERLBREW_MANPATH="/Users/cpantesting/perl5/perlbrew/perls/perl-5.32.0/man"
    PERLBREW_PATH="/Users/cpantesting/perl5/perlbrew/bin:/Users/cpantesting/perl5/perlbrew/perls/perl-5.32.0/bin"
    PERLBREW_PERL="perl-5.32.0"
    PERLBREW_ROOT="/Users/cpantesting/perl5/perlbrew"
    PERLBREW_SHELLRC_VERSION="0.94"
    PERLBREW_VERSION="0.94"
    PERLVER="blead"
    PERL_INLINE_DIRECTORY="/Users/cpantesting/.Inline-blead"
    PERL_MM_USE_DEFAULT="1"
    PERL_USE_UNSAFE_INC="0"
  @INC:
    /Users/cpantesting/cpantesting/perl-blead/lib/site_perl/5.41.13/darwin-2level
    /Users/cpantesting/cpantesting/perl-blead/lib/site_perl/5.41.13
    /Users/cpantesting/cpantesting/perl-blead/lib/5.41.13/darwin-2level
    /Users/cpantesting/cpantesting/perl-blead/lib/5.41.13