Math-NumSeq v75 Perl 5 v5.37.5 x86_64-linux-thread-multi

Status
Pass
From
Andreas J. König (ANDK)
Dist
Math-NumSeq v75
Platform
Perl 5 v5.37.5 x86_64-linux-thread-multi
Date
2022-11-02 21:19:08
ID
fcc6ae8c-5af3-11ed-86d6-1f80d23107cd
This distribution has been tested as part of the CPAN Testers
project, supporting the Perl programming language.  See
http://wiki.cpantesters.org/ for more information or email
questions to cpan-testers-discuss@perl.org


--
Dear Kevin Ryde,

This is a computer-generated report for Math-NumSeq-75
on perl 5.37.5, created by CPAN-Reporter-1.2018.

Thank you for uploading your work to CPAN.  Congratulations!
All tests were successful.

Sections of this report:

    * Tester comments
    * Program output
    * Prerequisites
    * Environment and other context

------------------------------
TESTER COMMENTS
------------------------------

Additional comments from tester:

this report is from an automated smoke testing program
and was not reviewed by a human for accuracy

------------------------------
PROGRAM OUTPUT
------------------------------

Output from '/usr/bin/make test':

PERL_DL_NONLAZY=1 "/tmp/basesmoker-reloperl-JkzD/bin/perl" "-MExtUtils::Command::MM" "-MTest::Harness" "-e" "undef *Test::Harness::Switches; test_harness(0, 'blib/lib', 'blib/arch')" t/*.t
t/Abundant.t ..................... ok
t/All.t .......................... ok
t/AsciiSelf.t .................... ok
t/BalancedBinary.t ............... ok
# Math::BigInt version 1.999837
t/bigint-preload.t ............... ok
t/Catalan.t ...................... ok
# uv_bits is 64
t/CollatzSteps.t ................. ok
# cbrt(27) is 3
# int() is 3
# equal is ''
t/Cubes.t ........................ ok
t/DeletablePrimes.t .............. ok
t/DigitProduct.t ................. ok
t/DivisorCount.t ................. ok
t/Emirps.t ....................... ok
t/ErdosSelfridgeClass.t .......... ok
t/Even.t ......................... ok
t/Expression.t ................... ok
t/Factorials.t ................... ok
# big_calc 1968465517034375322200706745147694433505589739315889588670778928134523203878912
# big_conv 1968465517034375322200706745147694433505589739315889588670778928134523203878912
# nv is 1.96846551703438e+78
# ~0 is 18446744073709551615
# sprintf is 1968465517034375322200706745147694433505589739315889588670778928134523203878912
# _to_bigint(nv) is 1968465517034375322200706745147694433505589739315889588670778928134523203878912
# big & (big>>1) is 0
t/Fibbinary.t .................... ok
t/Fibonacci.t .................... ok
t/FibonacciRepresentations.t ..... ok
t/FibonacciWord.t ................ ok
t/File.t ......................... ok
t/FractionDigits-Catalogue.t ..... ok
# Math::BigInt version 1.999837
t/FractionDigits.t ............... ok
t/GolayRudinShapiroCumulative.t .. ok
t/GolombSequence.t ............... ok
t/HafermanCarpet.t ............... ok
# max_diff=530
t/HofstadterFigure.t ............. ok
t/LucasNumbers.t ................. ok
t/LuckyNumbers.t ................. ok
t/MephistoWaltz.t ................ ok
t/MobiusFunction.t ............... ok
t/Multiples.t .................... ok
t/NumSeq.t ....................... ok
t/Odd.t .......................... ok
t/OEIS-File.t .................... ok
t/OEIS.t ......................... ok
t/Pell.t ......................... ok
t/Perrin.t ....................... ok
t/PolignacObstinate.t ............ ok
t/PowerFlip.t .................... ok
t/Powerful.t ..................... ok
t/PrimeFactorsCount.t ............ ok
t/Primes.t ....................... ok
t/Pronic.t ....................... ok
t/ProthNumbers.t ................. ok
t/RepdigitAny.t .................. ok
t/RepdigitRadix.t ................ ok
t/Repdigits.t .................... ok
t/ReRound.t ...................... ok
# n type: Math::BigInt
# str   : 3377699871522813
# n str : 3377699871522813
# BigInt can(as_bin): CODE(0x55acf3ce5ff0)
# n as_bin(): 0b1100000000000000000000001000111111111111111111111101
# BigInt can(from_bin): CODE(0x55acf3a5a798)
t/ReverseAdd.t ................... ok
t/Runs.t ......................... ok
t/SophieGermainPrimes.t .......... ok
t/SqrtContinued.t ................ ok
# Math::BigInt version 1.999837
t/SqrtDigits.t ................... ok
t/SqrtEngel.t .................... ok
t/Squares.t ...................... ok
t/Tetraheral.t ................... ok
t/Totient.t ...................... ok
t/TotientCumulative.t ............ ok
t/Triangular.t ................... ok
t/Tribonacci.t ................... ok
t/TwinPrimes.t ................... ok
t/UndulatingNumbers.t ............ ok
t/WoodallNumbers.t ............... ok
All tests successful.
Files=64, Tests=12297, 10 wallclock secs ( 0.74 usr  0.15 sys +  9.25 cusr  0.42 csys = 10.56 CPU)
Result: PASS

------------------------------
PREREQUISITES
------------------------------

Prerequisite modules loaded:

requires:

    Module              Need  Have    
    ------------------- ----- --------
    constant            1.02  1.33    
    constant::defer     1     6       
    File::HomeDir       0     1.006   
    File::Spec          0     3.87    
    File::Temp          0     0.2311  
    List::Util          0     1.63    
    Math::Factor::XS    0.40  0.40    
    Math::Libm          0     1.00    
    Math::Prime::XS     0.23  0.27    
    Module::Load        0     0.36    
    Module::Pluggable   0     5.2     
    Module::Util        0     1.09    
    perl                5.004 5.037005

build_requires:

    Module              Need  Have    
    ------------------- ----- --------
    ExtUtils::MakeMaker 0     7.64    
    Test                0     1.31    

configure_requires:

    Module              Need  Have    
    ------------------- ----- --------
    ExtUtils::MakeMaker 0     7.64    


------------------------------
ENVIRONMENT AND OTHER CONTEXT
------------------------------

Environment variables:

    AUTOMATED_TESTING = 1
    LANG = en_US.UTF-8
    PATH = /home/sand/bin:/usr/local/bin:/usr/local/sbin:/usr/sbin:/usr/bin:/sbin:/bin:/usr/games:/usr/local/games:/snap/bin:/usr/local/perl/bin:/usr/X11/bin
    PERL5LIB = /tmp/loop_over_bdir-3856-pzNxzy/HTML-Menu-TreeView-1.22-0/blib/arch:/tmp/loop_over_bdir-3856-pzNxzy/HTML-Menu-TreeView-1.22-0/blib/lib
    PERL5OPT = 
    PERL5_CPANPLUS_IS_RUNNING = 3865
    PERL5_CPAN_IS_RUNNING = 3865
    PERL_CANARY_STABILITY_NOPROMPT = 1
    PERL_MM_USE_DEFAULT = 1
    PERL_USE_UNSAFE_INC = 1
    SHELL = /usr/bin/zsh
    TERM = screen

Perl special variables (and OS-specific diagnostics, for MSWin32):

    $^X = /tmp/basesmoker-reloperl-JkzD/bin/perl
    $UID/$EUID = 1005 / 1005
    $GID = 1005 1005
    $EGID = 1005 1005

Perl module toolchain versions installed:

    Module              Have    
    ------------------- --------
    CPAN                2.34    
    CPAN::Meta          2.150010
    Cwd                 3.86    
    ExtUtils::CBuilder  0.280237
    ExtUtils::Command   7.64    
    ExtUtils::Install   2.20    
    ExtUtils::MakeMaker 7.64    
    ExtUtils::Manifest  1.73    
    ExtUtils::ParseXS   3.46    
    File::Spec          3.87    
    JSON                4.10    
    JSON::PP            4.12    
    Module::Build       0.4231  
    Module::Signature   0.88    
    Parse::CPAN::Meta   2.150010
    Test::Harness       3.44    
    Test::More          1.302191
    YAML                1.30    
    YAML::Syck          1.34    
    version             0.9929  


--

Summary of my perl5 (revision 5 version 37 subversion 5) configuration:
  Commit id: 064941484781d9099db0bbe7d6ea22a826df1e15
  Platform:
    osname=linux
    osvers=5.4.0-125-generic
    archname=x86_64-linux-thread-multi
    uname='linux k93focal 5.4.0-125-generic #141-ubuntu smp wed aug 10 13:42:03 utc 2022 x86_64 x86_64 x86_64 gnulinux '
    config_args='-Dprefix=/home/sand/src/perl/repoperls/installed-perls/host/k93focal/v5.37.4-160-g0649414847/d119 -Dmyhostname=k93focal -Dinstallusrbinperl=n -Uversiononly -Dusedevel -des -Ui_db -Dlibswanted=cl pthread socket inet nsl gdbm dbm malloc dl ld sun m crypt sec util c cposix posix ucb BSD gdbm_compat -Duseithreads -Uuselongdouble -DEBUGGING=both'
    hint=recommended
    useposix=true
    d_sigaction=define
    useithreads=define
    usemultiplicity=define
    use64bitint=define
    use64bitall=define
    uselongdouble=undef
    usemymalloc=n
    default_inc_excludes_dot=define
  Compiler:
    cc='cc'
    ccflags ='-D_REENTRANT -D_GNU_SOURCE -fwrapv -DDEBUGGING -fno-strict-aliasing -pipe -fstack-protector-strong -I/usr/local/include -D_LARGEFILE_SOURCE -D_FILE_OFFSET_BITS=64'
    optimize='-O2 -g'
    cppflags='-D_REENTRANT -D_GNU_SOURCE -fwrapv -DDEBUGGING -fno-strict-aliasing -pipe -fstack-protector-strong -I/usr/local/include'
    ccversion=''
    gccversion='9.4.0'
    gccosandvers=''
    intsize=4
    longsize=8
    ptrsize=8
    doublesize=8
    byteorder=12345678
    doublekind=3
    d_longlong=define
    longlongsize=8
    d_longdbl=define
    longdblsize=16
    longdblkind=3
    ivtype='long'
    ivsize=8
    nvtype='double'
    nvsize=8
    Off_t='off_t'
    lseeksize=8
    alignbytes=8
    prototype=define
  Linker and Libraries:
    ld='cc'
    ldflags =' -fstack-protector-strong -L/usr/local/lib'
    libpth=/usr/local/lib /usr/lib/x86_64-linux-gnu /usr/lib /usr/lib64
    libs=-lpthread -lnsl -ldl -lm -lcrypt -lutil -lc
    perllibs=-lpthread -lnsl -ldl -lm -lcrypt -lutil -lc
    libc=libc-2.31.so
    so=so
    useshrplib=false
    libperl=libperl.a
    gnulibc_version='2.31'
  Dynamic Linking:
    dlsrc=dl_dlopen.xs
    dlext=so
    d_dlsymun=undef
    ccdlflags='-Wl,-E'
    cccdlflags='-fPIC'
    lddlflags='-shared -O2 -g -L/usr/local/lib -fstack-protector-strong'


Characteristics of this binary (from libperl): 
  Compile-time options:
    DEBUGGING
    HAS_TIMES
    MULTIPLICITY
    PERLIO_LAYERS
    PERL_COPY_ON_WRITE
    PERL_DONT_CREATE_GVSV
    PERL_HASH_FUNC_SIPHASH13
    PERL_HASH_USE_SBOX32
    PERL_MALLOC_WRAP
    PERL_OP_PARENT
    PERL_PRESERVE_IVUV
    PERL_TRACK_MEMPOOL
    PERL_USE_DEVEL
    PERL_USE_SAFE_PUTENV
    USE_64_BIT_ALL
    USE_64_BIT_INT
    USE_ITHREADS
    USE_LARGE_FILES
    USE_LOCALE
    USE_LOCALE_COLLATE
    USE_LOCALE_CTYPE
    USE_LOCALE_NUMERIC
    USE_LOCALE_TIME
    USE_PERLIO
    USE_PERL_ATOF
    USE_REENTRANT_API
    USE_THREAD_SAFE_LOCALE
  Built under linux
  Compiled at Oct 29 2022 16:55:13
  %ENV:
    PERL5LIB="/tmp/loop_over_bdir-3856-pzNxzy/HTML-Menu-TreeView-1.22-0/blib/arch:/tmp/loop_over_bdir-3856-pzNxzy/HTML-Menu-TreeView-1.22-0/blib/lib"
    PERL5OPT=""
    PERL5_CPANPLUS_IS_RUNNING="3865"
    PERL5_CPAN_IS_RUNNING="3865"
    PERL_CANARY_STABILITY_NOPROMPT="1"
    PERL_MM_USE_DEFAULT="1"
    PERL_USE_UNSAFE_INC="1"
  @INC:
    /tmp/loop_over_bdir-3856-pzNxzy/HTML-Menu-TreeView-1.22-0/blib/arch
    /tmp/loop_over_bdir-3856-pzNxzy/HTML-Menu-TreeView-1.22-0/blib/lib
    /home/sand/src/perl/repoperls/installed-perls/host/k93focal/v5.37.4-160-g0649414847/d119/lib/site_perl/5.37.5/x86_64-linux-thread-multi
    /home/sand/src/perl/repoperls/installed-perls/host/k93focal/v5.37.4-160-g0649414847/d119/lib/site_perl/5.37.5
    /home/sand/src/perl/repoperls/installed-perls/host/k93focal/v5.37.4-160-g0649414847/d119/lib/5.37.5/x86_64-linux-thread-multi
    /home/sand/src/perl/repoperls/installed-perls/host/k93focal/v5.37.4-160-g0649414847/d119/lib/5.37.5
    .