Test-TempDir v0.10 Perl 5 v5.8.5 x86_64-linux

Status
Pass
From
Andreas J. König (ANDK)
Dist
Test-TempDir v0.10
Platform
Perl 5 v5.8.5 x86_64-linux
Date
2019-06-11 07:10:26
ID
fcbf5564-8c17-11e9-b27c-0004fbbf6f61
This distribution has been tested as part of the CPAN Testers
project, supporting the Perl programming language.  See
http://wiki.cpantesters.org/ for more information or email
questions to cpan-testers-discuss@perl.org


--
Dear Karen Etheridge,

This is a computer-generated report for Test-TempDir-0.10
on perl 5.8.5, created by CPAN-Reporter-1.2018.

Thank you for uploading your work to CPAN.  Congratulations!
All tests were successful.

Sections of this report:

    * Tester comments
    * Program output
    * Prerequisites
    * Environment and other context

------------------------------
TESTER COMMENTS
------------------------------

Additional comments from tester:

this report is from an automated smoke testing program
and was not reviewed by a human for accuracy

------------------------------
PROGRAM OUTPUT
------------------------------

Output from './Build test':

# 
# Versions for all modules listed in MYMETA.json (including optional ones):
# 
# === Configure Requires ===
# 
#     Module               Want  Have
#     ------------------- ----- -----
#     Module::Build::Tiny 0.039 0.039
# 
# === Test Requires ===
# 
#     Module              Want     Have
#     ------------------- ---- --------
#     ExtUtils::MakeMaker  any     7.36
#     File::Path          2.04     2.16
#     File::Spec           any     3.75
#     Test::More          0.88 1.302164
#     Test::Requires       any     0.10
#     ok                   any 1.302164
# 
# === Test Recommends ===
# 
#     Module         Want     Have
#     ---------- -------- --------
#     CPAN::Meta 2.120900 2.150010
# 
# === Runtime Requires ===
# 
#     Module                       Want     Have
#     ---------------------------- ---- --------
#     Carp                          any     1.50
#     File::NFSLock                 any     1.29
#     File::Spec                    any     3.75
#     File::Temp                    any   0.2309
#     Moose                         any   2.2011
#     Moose::Util::TypeConstraints  any   2.2011
#     MooseX::Types::Path::Class    any     0.09
#     Path::Class                   any     0.37
#     Sub::Exporter                 any    0.987
#     Test::Builder                 any 1.302164
#     namespace::autoclean         0.08     0.28
#     strict                        any     1.03
#     warnings                      any     1.03
# 
# === Runtime Recommends ===
# 
#     Module             Want Have
#     ------------------ ---- ----
#     Directory::Scratch  any 0.18
# 
t/00-report-prereqs.t .. ok
t/00_load.t ............ ok
t/basic.t .............. ok
Warning: not cleaning up files in t/tmp/fYa44HXWg8 at t/directory_scratch.t line 0.
t/directory_scratch.t .. ok
t/factory.t ............ ok
t/handle.t ............. ok
All tests successful.
Files=6, Tests=73,  6 wallclock secs ( 0.05 usr  0.05 sys +  4.04 cusr  0.48 csys =  4.62 CPU)
Result: PASS

------------------------------
PREREQUISITES
------------------------------

Prerequisite modules loaded:

requires:

    Module                       Need  Have    
    ---------------------------- ----- --------
    Carp                         0     1.50    
    File::NFSLock                0     1.29    
    File::Spec                   0     3.75    
    File::Temp                   0     0.2309  
    Moose                        0     2.2011  
    Moose::Util::TypeConstraints 0     2.2011  
    MooseX::Types::Path::Class   0     0.09    
    namespace::autoclean         0.08  0.28    
    Path::Class                  0     0.37    
    perl                         5.006 5.008005
    strict                       0     1.03    
    Sub::Exporter                0     0.987   
    Test::Builder                0     1.302164
    warnings                     0     1.03    

build_requires:

    Module                       Need  Have    
    ---------------------------- ----- --------
    ExtUtils::MakeMaker          0     7.36    
    File::Path                   2.04  2.16    
    File::Spec                   0     3.75    
    ok                           0     1.302164
    perl                         5.006 5.008005
    Test::More                   0.88  1.302164
    Test::Requires               0     0.10    

configure_requires:

    Module                       Need  Have    
    ---------------------------- ----- --------
    Module::Build::Tiny          0.039 0.039   
    perl                         5.006 5.008005

opt_requires:

    Module                       Need  Have    
    ---------------------------- ----- --------
    Directory::Scratch           0     0.18    


------------------------------
ENVIRONMENT AND OTHER CONTEXT
------------------------------

Environment variables:

    AUTOMATED_TESTING = 1
    LANG = en_US.UTF-8
    PATH = /home/sand/bin:/usr/local/bin:/usr/local/sbin:/usr/sbin:/usr/bin:/sbin:/bin:/usr/games:/usr/local/games:/usr/local/perl/bin:/usr/X11/bin
    PERL = /home/sand/src/perl/repoperls/installed-perls/host/k93bionic/perl-5.8.5/2780/bin/perl
    PERL5LIB = /home/sand/.cpan/privbuild/k93bionic/shishi-0.0.1-0/blib/arch:/home/sand/.cpan/privbuild/k93bionic/shishi-0.0.1-0/blib/lib:/home/sand/.cpan/privbuild/k93bionic/Alien-Libevent-0.01004-0/blib/arch:/home/sand/.cpan/privbuild/k93bionic/Alien-Libevent-0.01004-0/blib/lib:/home/sand/.cpan/privbuild/k93bionic/Clownfish-CFC-0.6.3-0/blib/arch:/home/sand/.cpan/privbuild/k93bionic/Clownfish-CFC-0.6.3-0/blib/lib:/home/sand/.cpan/privbuild/k93bionic/makepp-1.19-0/blib/arch:/home/sand/.cpan/privbuild/k93bionic/makepp-1.19-0/blib/lib:/home/sand/.cpan/privbuild/k93bionic/Software-License-OrLaterPack-v0.10.2-0/blib/arch:/home/sand/.cpan/privbuild/k93bionic/Software-License-OrLaterPack-v0.10.2-0/blib/lib:/home/sand/.cpan/privbuild/k93bionic/Test-Mock-LWP-0.08-0/blib/arch:/home/sand/.cpan/privbuild/k93bionic/Test-Mock-LWP-0.08-0/blib/lib:/home/sand/.cpan/privbuild/k93bionic/Proc-ProcessTable-0.56-0/blib/arch:/home/sand/.cpan/privbuild/k93bionic/Proc-ProcessTable-0.56-0/blib/lib:/home/sand/.cpan/privbuild/k93bionic/ppt-0.14-0/blib/arch:/home/sand/.cpan/privbuild/k93bionic/ppt-0.14-0/blib/lib:/home/sand/.cpan/privbuild/k93bionic/Math-BigInt-1.999816-0/blib/arch:/home/sand/.cpan/privbuild/k93bionic/Math-BigInt-1.999816-0/blib/lib
    PERL5OPT = 
    PERL5_CPANPLUS_IS_RUNNING = 24500
    PERL5_CPAN_IS_RUNNING = 24500
    PERL_CANARY_STABILITY_NOPROMPT = 1
    PERL_MM_USE_DEFAULT = 1
    PERL_USE_UNSAFE_INC = 1
    SHELL = /usr/bin/zsh
    TERM = screen

Perl special variables (and OS-specific diagnostics, for MSWin32):

    $^X = /home/sand/src/perl/repoperls/installed-perls/host/k93bionic/perl-5.8.5/2780/bin/perl
    $UID/$EUID = 1005 / 1005
    $GID = 1005 1005
    $EGID = 1005 1005

Perl module toolchain versions installed:

    Module              Have    
    ------------------- --------
    CPAN                2.27    
    CPAN::Meta          2.150010
    Cwd                 3.75    
    ExtUtils::CBuilder  0.280231
    ExtUtils::Command   7.36    
    ExtUtils::Install   2.06    
    ExtUtils::MakeMaker 7.36    
    ExtUtils::Manifest  1.70    
    ExtUtils::ParseXS   3.35    
    File::Spec          3.75    
    JSON                4.02    
    JSON::PP            4.02    
    Module::Build       0.4229  
    Module::Signature   0.83    
    Parse::CPAN::Meta   2.150010
    Test::Harness       3.42    
    Test::More          1.302164
    YAML                n/a     
    YAML::Syck          1.31    
    version             0.9924  


--

Summary of my perl5 (revision 5 version 8 subversion 5) configuration:
  Platform:
    osname=linux, osvers=4.15.0-51-generic, archname=x86_64-linux
    uname='linux k93bionic 4.15.0-51-generic #55-ubuntu smp wed may 15 14:27:21 utc 2019 x86_64 x86_64 x86_64 gnulinux '
    config_args='-Dprefix=/home/sand/src/perl/repoperls/installed-perls/host/k93bionic/perl-5.8.5/2780 -Dmyhostname=k93bionic -Dinstallusrbinperl=n -Uversiononly -Dusedevel -des -Ui_db -Dlibswanted=cl pthread socket inet nsl gdbm dbm malloc dl ld sun m crypt sec util c cposix posix ucb BSD gdbm_compat -Uuseithreads -Uuselongdouble -Doptimize=-g'
    hint=recommended, useposix=true, d_sigaction=define
    usethreads=undef use5005threads=undef useithreads=undef usemultiplicity=undef
    useperlio=define d_sfio=undef uselargefiles=define usesocks=undef
    use64bitint=define use64bitall=define uselongdouble=undef
    usemymalloc=n, bincompat5005=undef
  Compiler:
    cc='cc', ccflags ='-DDEBUGGING -fno-strict-aliasing -pipe -I/usr/local/include -D_LARGEFILE_SOURCE -D_FILE_OFFSET_BITS=64',
    optimize='-g',
    cppflags='-DDEBUGGING -fno-strict-aliasing -pipe -I/usr/local/include'
    ccversion='', gccversion='7.4.0', gccosandvers=''
    intsize=4, longsize=8, ptrsize=8, doublesize=8, byteorder=12345678
    d_longlong=define, longlongsize=8, d_longdbl=define, longdblsize=16
    ivtype='long', ivsize=8, nvtype='double', nvsize=8, Off_t='off_t', lseeksize=8
    alignbytes=8, prototype=define
  Linker and Libraries:
    ld='cc', ldflags =' -L/usr/local/lib'
    libpth=/usr/local/lib /lib/x86_64-linux-gnu /lib/../lib /usr/lib/x86_64-linux-gnu /usr/lib/../lib /lib /usr/lib
    libs=-lpthread -lnsl -ldl -lm -lcrypt -lutil -lc
    perllibs=-lpthread -lnsl -ldl -lm -lcrypt -lutil -lc
    libc=libc-2.27.so, so=so, useshrplib=false, libperl=libperl.a
    gnulibc_version='2.27'
  Dynamic Linking:
    dlsrc=dl_dlopen.xs, dlext=so, d_dlsymun=undef, ccdlflags='-Wl,-E'
    cccdlflags='-fpic', lddlflags='-shared -L/usr/local/lib'


Characteristics of this binary (from libperl): 
  Compile-time options: DEBUGGING USE_64_BIT_INT USE_64_BIT_ALL USE_LARGE_FILES
  Locally applied patches:
	MAINT23136
  Built under linux
  Compiled at Jun 10 2019 06:46:17
  %ENV:
    PERL="/home/sand/src/perl/repoperls/installed-perls/host/k93bionic/perl-5.8.5/2780/bin/perl"
    PERL5LIB="/home/sand/.cpan/privbuild/k93bionic/shishi-0.0.1-0/blib/arch:/home/sand/.cpan/privbuild/k93bionic/shishi-0.0.1-0/blib/lib:/home/sand/.cpan/privbuild/k93bionic/Alien-Libevent-0.01004-0/blib/arch:/home/sand/.cpan/privbuild/k93bionic/Alien-Libevent-0.01004-0/blib/lib:/home/sand/.cpan/privbuild/k93bionic/Clownfish-CFC-0.6.3-0/blib/arch:/home/sand/.cpan/privbuild/k93bionic/Clownfish-CFC-0.6.3-0/blib/lib:/home/sand/.cpan/privbuild/k93bionic/makepp-1.19-0/blib/arch:/home/sand/.cpan/privbuild/k93bionic/makepp-1.19-0/blib/lib:/home/sand/.cpan/privbuild/k93bionic/Software-License-OrLaterPack-v0.10.2-0/blib/arch:/home/sand/.cpan/privbuild/k93bionic/Software-License-OrLaterPack-v0.10.2-0/blib/lib:/home/sand/.cpan/privbuild/k93bionic/Test-Mock-LWP-0.08-0/blib/arch:/home/sand/.cpan/privbuild/k93bionic/Test-Mock-LWP-0.08-0/blib/lib:/home/sand/.cpan/privbuild/k93bionic/Proc-ProcessTable-0.56-0/blib/arch:/home/sand/.cpan/privbuild/k93bionic/Proc-ProcessTable-0.56-0/blib/lib:/home/sand/.cpan/privbuild/k93bionic/ppt-0.14-0/blib/arch:/home/sand/.cpan/privbuild/k93bionic/ppt-0.14-0/blib/lib:/home/sand/.cpan/privbuild/k93bionic/Math-BigInt-1.999816-0/blib/arch:/home/sand/.cpan/privbuild/k93bionic/Math-BigInt-1.999816-0/blib/lib"
    PERL5OPT=""
    PERL5_CPANPLUS_IS_RUNNING="24500"
    PERL5_CPAN_IS_RUNNING="24500"
    PERL_CANARY_STABILITY_NOPROMPT="1"
    PERL_MM_USE_DEFAULT="1"
    PERL_USE_UNSAFE_INC="1"
  @INC:
    /home/sand/.cpan/privbuild/k93bionic/shishi-0.0.1-0/blib/arch
    /home/sand/.cpan/privbuild/k93bionic/shishi-0.0.1-0/blib/lib
    /home/sand/.cpan/privbuild/k93bionic/Alien-Libevent-0.01004-0/blib/arch
    /home/sand/.cpan/privbuild/k93bionic/Alien-Libevent-0.01004-0/blib/lib
    /home/sand/.cpan/privbuild/k93bionic/Clownfish-CFC-0.6.3-0/blib/arch
    /home/sand/.cpan/privbuild/k93bionic/Clownfish-CFC-0.6.3-0/blib/lib
    /home/sand/.cpan/privbuild/k93bionic/makepp-1.19-0/blib/arch
    /home/sand/.cpan/privbuild/k93bionic/makepp-1.19-0/blib/lib
    /home/sand/.cpan/privbuild/k93bionic/Software-License-OrLaterPack-v0.10.2-0/blib/arch
    /home/sand/.cpan/privbuild/k93bionic/Software-License-OrLaterPack-v0.10.2-0/blib/lib
    /home/sand/.cpan/privbuild/k93bionic/Test-Mock-LWP-0.08-0/blib/arch
    /home/sand/.cpan/privbuild/k93bionic/Test-Mock-LWP-0.08-0/blib/lib
    /home/sand/.cpan/privbuild/k93bionic/Proc-ProcessTable-0.56-0/blib/arch
    /home/sand/.cpan/privbuild/k93bionic/Proc-ProcessTable-0.56-0/blib/lib
    /home/sand/.cpan/privbuild/k93bionic/ppt-0.14-0/blib/arch
    /home/sand/.cpan/privbuild/k93bionic/ppt-0.14-0/blib/lib
    /home/sand/.cpan/privbuild/k93bionic/Math-BigInt-1.999816-0/blib/arch
    /home/sand/.cpan/privbuild/k93bionic/Math-BigInt-1.999816-0/blib/lib
    /home/sand/src/perl/repoperls/installed-perls/host/k93bionic/perl-5.8.5/2780/lib/5.8.5/x86_64-linux
    /home/sand/src/perl/repoperls/installed-perls/host/k93bionic/perl-5.8.5/2780/lib/5.8.5
    /home/sand/src/perl/repoperls/installed-perls/host/k93bionic/perl-5.8.5/2780/lib/site_perl/5.8.5/x86_64-linux
    /home/sand/src/perl/repoperls/installed-perls/host/k93bionic/perl-5.8.5/2780/lib/site_perl/5.8.5
    /home/sand/src/perl/repoperls/installed-perls/host/k93bionic/perl-5.8.5/2780/lib/site_perl
    .