Report for Dist-Zilla-Plugin-CheckExtraTests-0.021

Back
From: metabase:user:fb19509c-17e3-11e3-a14d-fdb79081a995
Subject: PASS Dist-Zilla-Plugin-CheckExtraTests-0.021 v5.19.3 Mac OS X
Date: 2014-05-05T19:32:25Z

This distribution has been tested as part of the CPAN Testers
project, supporting the Perl programming language.  See
http://wiki.cpantesters.org/ for more information or email
questions to cpan-testers-discuss@perl.org


--
Dear DAGOLDEN,

This is a computer-generated report for Dist-Zilla-Plugin-CheckExtraTests-0.021
on perl 5.19.3, created by App::cpanminus::reporter 0.10 (1.7001).

Thank you for uploading your work to CPAN.  Congratulations!
All tests were successful.

Sections of this report:

    * Tester comments
    * Program output
    * Prerequisites
    * Environment and other context

------------------------------
TESTER COMMENTS
------------------------------

Additional comments from tester:

none provided

------------------------------
PROGRAM OUTPUT
------------------------------

Output from '':

Building and testing Dist-Zilla-Plugin-CheckExtraTests-0.021
cp lib/Dist/Zilla/App/Command/xtest.pm blib/lib/Dist/Zilla/App/Command/xtest.pm
cp lib/Dist/Zilla/Plugin/CheckExtraTests.pm blib/lib/Dist/Zilla/Plugin/CheckExtraTests.pm
cp lib/Dist/Zilla/Plugin/RunExtraTests.pm blib/lib/Dist/Zilla/Plugin/RunExtraTests.pm
Manifying blib/man3/Dist::Zilla::App::Command::xtest.0
Manifying blib/man3/Dist::Zilla::Plugin::CheckExtraTests.0
Manifying blib/man3/Dist::Zilla::Plugin::RunExtraTests.0
PERL_DL_NONLAZY=1 /Users/ether/perl5/perlbrew/perls/19.3/bin/perl5.19.3 "-MExtUtils::Command::MM" "-MTest::Harness" "-e" "undef *Test::Harness::Switches; test_harness(0, 'blib/lib', 'blib/arch')" t/*.t
# 
# Versions for all modules listed in MYMETA.json (including optional ones):
#    Version Module                          
#   -------- --------------------------------
#       3.30 App::Prove                      
#       1.92 Archive::Tar                    
#   2.132140 CPAN::Meta                      
#      2.122 CPAN::Meta::Requirements        
#       0.22 Capture::Tiny                   
#      5.015 Dist::Zilla                     
#      5.015 Dist::Zilla::App                
#      5.015 Dist::Zilla::App::Tester        
#      5.015 Dist::Zilla::Role::BeforeRelease
#      5.015 Dist::Zilla::Role::TestRunner   
#      5.015 Dist::Zilla::Tester             
#       6.98 ExtUtils::MakeMaker             
#       3.44 File::Spec::Functions           
#      1.005 File::pushd                     
#       1.32 List::Util                      
#     2.1205 Moose                           
#       0.13 Moose::Autobox                  
#       1.07 Params::Util                    
#      1.005 Path::Iterator::Rule            
#      0.054 Path::Tiny                      
#      0.986 Sub::Exporter                   
#       0.98 Test::More                      
#       0.07 Test::Requires                  
#       0.18 Try::Tiny                       
#       0.63 lib                             
#       0.13 namespace::autoclean            
#       1.08 strict                          
#     0.9903 version                         
#       1.18 warnings                        
t/00-report-prereqs.t .. ok
Class::MOP::load_class is deprecated at /Users/ether/.perlbrew/libs/19.3@std/lib/perl5/darwin-2level/Class/MOP.pm line 73.
	Class::MOP::load_class("MooseX::Role::Parameterized::Meta::Role::Parameterized") called at /Users/ether/.perlbrew/libs/19.3@std/lib/perl5/MooseX/Role/Parameterized/Meta/Role/Parameterizable.pm line 60
	MooseX::Role::Parameterized::Meta::Role::Parameterizable::generate_role(MooseX::Role::Parameterized::Meta::Role::Parameterizable=HASH(0x7fc204193f68), "parameters", HASH(0x7fc20370a858)) called at /Users/ether/.perlbrew/libs/19.3@std/lib/perl5/MooseX/Role/Parameterized/Meta/Role/Parameterizable.pm line 94
	MooseX::Role::Parameterized::Meta::Role::Parameterizable::_role_for_combination(MooseX::Role::Parameterized::Meta::Role::Parameterizable=HASH(0x7fc204193f68), HASH(0x7fc20370a858)) called at /Users/ether/.perlbrew/libs/19.3@std/lib/perl5/darwin-2level/Moose/Meta/Role.pm line 492
	Moose::Meta::Role::combine("Moose::Meta::Role", ARRAY(0x7fc203719860), ARRAY(0x7fc203718698), ARRAY(0x7fc203719908), ARRAY(0x7fc203726898), ARRAY(0x7fc2040abe00)) called at /Users/ether/.perlbrew/libs/19.3@std/lib/perl5/darwin-2level/Moose/Util.pm line 178
	Moose::Util::_apply_all_roles(Moose::Meta::Class=HASH(0x7fc203704240), undef, "Throwable", "Role::Identifiable::HasIdent", "Role::HasMessage", "StackTrace::Auto", "MooseX::OneArgNew", HASH(0x7fc20370a858)) called at /Users/ether/.perlbrew/libs/19.3@std/lib/perl5/darwin-2level/Moose/Util.pm line 117
	Moose::Util::apply_all_roles(Moose::Meta::Class=HASH(0x7fc203704240), "Throwable", "Role::Identifiable::HasIdent", "Role::HasMessage", "StackTrace::Auto", "MooseX::OneArgNew", HASH(0x7fc20370a858)) called at /Users/ether/.perlbrew/libs/19.3@std/lib/perl5/darwin-2level/Moose.pm line 60
	Moose::with(Moose::Meta::Class=HASH(0x7fc203704240), "Throwable", "Role::Identifiable::HasIdent", "Role::HasMessage", "StackTrace::Auto", "MooseX::OneArgNew", HASH(0x7fc20370a858)) called at /Users/ether/.perlbrew/libs/19.3@std/lib/perl5/darwin-2level/Moose/Exporter.pm line 405
	Moose::with("Throwable", "Role::Identifiable::HasIdent", "Role::HasMessage", "StackTrace::Auto", "MooseX::OneArgNew", HASH(0x7fc20370a858)) called at /Users/ether/.perlbrew/libs/19.3@std/lib/perl5/Config/MVP/Error.pm line 23
	require Config/MVP/Error.pm called at /Users/ether/.perlbrew/libs/19.3@std/lib/perl5/Config/MVP/Assembler.pm line 8
	Config::MVP::Assembler::BEGIN() called at /Users/ether/.perlbrew/libs/19.3@std/lib/perl5/Config/MVP/Error.pm line 0
	eval {...} called at /Users/ether/.perlbrew/libs/19.3@std/lib/perl5/Config/MVP/Error.pm line 0
	require Config/MVP/Assembler.pm called at /Users/ether/.perlbrew/libs/19.3@std/lib/perl5/Config/MVP/Reader.pm line 8
	Config::MVP::Reader::BEGIN() called at /Users/ether/.perlbrew/libs/19.3@std/lib/perl5/Config/MVP/Error.pm line 0
	eval {...} called at /Users/ether/.perlbrew/libs/19.3@std/lib/perl5/Config/MVP/Error.pm line 0
	require Config/MVP/Reader.pm called at /Users/ether/.perlbrew/libs/19.3@std/lib/perl5/Dist/Zilla/MVP/Reader/Finder.pm line 5
	Dist::Zilla::MVP::Reader::Finder::BEGIN() called at /Users/ether/.perlbrew/libs/19.3@std/lib/perl5/Config/MVP/Error.pm line 0
	eval {...} called at /Users/ether/.perlbrew/libs/19.3@std/lib/perl5/Config/MVP/Error.pm line 0
	require Dist/Zilla/MVP/Reader/Finder.pm called at /Users/ether/.perlbrew/libs/19.3@std/lib/perl5/Dist/Zilla/App.pm line 9
	Dist::Zilla::App::BEGIN() called at /Users/ether/.perlbrew/libs/19.3@std/lib/perl5/Config/MVP/Error.pm line 0
	eval {...} called at /Users/ether/.perlbrew/libs/19.3@std/lib/perl5/Config/MVP/Error.pm line 0
	require Dist/Zilla/App.pm called at /Users/ether/.perlbrew/libs/19.3@std/lib/perl5/Dist/Zilla/App/Tester.pm line 8
	Dist::Zilla::App::Tester::BEGIN() called at /Users/ether/.perlbrew/libs/19.3@std/lib/perl5/Config/MVP/Error.pm line 0
	eval {...} called at /Users/ether/.perlbrew/libs/19.3@std/lib/perl5/Config/MVP/Error.pm line 0
	require Dist/Zilla/App/Tester.pm called at t/withblib.t line 8
	main::BEGIN() called at /Users/ether/.perlbrew/libs/19.3@std/lib/perl5/Config/MVP/Error.pm line 0
	eval {...} called at /Users/ether/.perlbrew/libs/19.3@std/lib/perl5/Config/MVP/Error.pm line 0
Class::MOP::load_class is deprecated at /Users/ether/.perlbrew/libs/19.3@std/lib/perl5/darwin-2level/Class/MOP.pm line 73, <GEN0> line 19.
	Class::MOP::load_class("Dist::Zilla::Plugin::GatherDir") called at /Users/ether/.perlbrew/libs/19.3@std/lib/perl5/Config/MVP/Assembler/WithBundles.pm line 51
	Config::MVP::Assembler::WithBundles::_add_bundle_contents(Dist::Zilla::MVP::Assembler::Zilla=HASH(0x7fc204fcab68), "bundle_config", HASH(0x7fc205070ee8)) called at /Users/ether/.perlbrew/libs/19.3@std/lib/perl5/Config/MVP/Assembler/WithBundles.pm line 36
	Config::MVP::Assembler::WithBundles::replace_bundle_with_contents(Dist::Zilla::MVP::Assembler::Zilla=HASH(0x7fc204fcab68), Dist::Zilla::MVP::Section=HASH(0x7fc205094d20), "bundle_config") called at /Users/ether/.perlbrew/libs/19.3@std/lib/perl5/Config/MVP/Assembler/WithBundles.pm line 26
	Class::MOP::Class:::after(Dist::Zilla::MVP::Assembler::Zilla=HASH(0x7fc204fcab68)) called at /Users/ether/.perlbrew/libs/19.3@std/lib/perl5/darwin-2level/Class/MOP/Method/Wrapped.pm line 61
	Class::MOP::Method::Wrapped::__ANON__(Dist::Zilla::MVP::Assembler::Zilla=HASH(0x7fc204fcab68)) called at /Users/ether/.perlbrew/libs/19.3@std/lib/perl5/darwin-2level/Class/MOP/Method/Wrapped.pm line 92
	Dist::Zilla::MVP::Assembler::end_section(Dist::Zilla::MVP::Assembler::Zilla=HASH(0x7fc204fcab68)) called at /Users/ether/.perlbrew/libs/19.3@std/lib/perl5/Config/MVP/Assembler.pm line 87
	Config::MVP::Assembler::change_section(Dist::Zilla::MVP::Assembler::Zilla=HASH(0x7fc204fcab68), "MakeMaker::Runner", "MakeMaker::Runner") called at /Users/ether/.perlbrew/libs/19.3@std/lib/perl5/Config/MVP/Reader/INI.pm line 49
	Config::MVP::Reader::INI::INIReader::change_section(Config::MVP::Reader::INI::INIReader=HASH(0x7fc20505a648), "MakeMaker::Runner") called at /Users/ether/.perlbrew/libs/19.3@std/lib/perl5/Config/INI/Reader.pm line 34
	Config::INI::Reader::read_handle(Config::MVP::Reader::INI::INIReader=HASH(0x7fc20505a648), IO::File=GLOB(0x7fc20505a6a8)) called at /Users/ether/.perlbrew/libs/19.3@std/lib/perl5/Mixin/Linewise/Readers.pm line 103
	Mixin::Linewise::Readers::__ANON__() called at /Users/ether/.perlbrew/libs/19.3@std/lib/perl5/Config/MVP/Reader/INI.pm line 21
	Config::MVP::Reader::INI::read_into_assembler(Config::MVP::Reader::INI=HASH(0x7fc20505a780), "/Users/ether/.cpanm/work/1399317444.46211/Dist-Zilla-Plugin-C"..., Dist::Zilla::MVP::Assembler::Zilla=HASH(0x7fc204fcab68)) called at /Users/ether/.perlbrew/libs/19.3@std/lib/perl5/Config/MVP/Reader.pm line 19
	Config::MVP::Reader::read_config(Config::MVP::Reader::INI=HASH(0x7fc20505a780), "/Users/ether/.cpanm/work/1399317444.46211/Dist-Zilla-Plugin-C"..., HASH(0x7fc205043bc0)) called at /Users/ether/.perlbrew/libs/19.3@std/lib/perl5/Config/MVP/Reader/Finder.pm line 87
	Config::MVP::Reader::Finder::read_config("Dist::Zilla::MVP::Reader::Finder", Path::Class::File=HASH(0x7fc20505a198), HASH(0x7fc205043bc0)) called at /Users/ether/.perlbrew/libs/19.3@std/lib/perl5/Dist/Zilla/Dist/Builder.pm line 260
	Dist::Zilla::Dist::Builder::try {...} () called at /Users/ether/.perlbrew/libs/19.3@std/lib/perl5/Try/Tiny.pm line 83
	eval {...} called at /Users/ether/.perlbrew/libs/19.3@std/lib/perl5/Try/Tiny.pm line 74
	Try::Tiny::try(CODE(0x7fc204fcab98), Try::Tiny::Catch=REF(0x7fc20505a4f8)) called at /Users/ether/.perlbrew/libs/19.3@std/lib/perl5/Dist/Zilla/Dist/Builder.pm line 285
	Dist::Zilla::Dist::Builder::_load_config("Dist::Zilla::Tester::_Builder", HASH(0x7fc204fd2bf8)) called at /Users/ether/.perlbrew/libs/19.3@std/lib/perl5/Dist/Zilla/Dist/Builder.pm line 41
	Dist::Zilla::Dist::Builder::from_config("Dist::Zilla::Tester::_Builder", HASH(0x7fc2028052b8)) called at /Users/ether/.perlbrew/libs/19.3@std/lib/perl5/Dist/Zilla/Tester.pm line 137
	Class::MOP::Class:::around(CODE(0x7fc2048a1b88), "Dist::Zilla::Tester::_Builder", HASH(0x7fc2028052b8), HASH(0x7fc20282a2d8)) called at /Users/ether/.perlbrew/libs/19.3@std/lib/perl5/darwin-2level/Class/MOP/Method/Wrapped.pm line 163
	Class::MOP::Method::Wrapped::__ANON__("Dist::Zilla::Tester::_Builder", HASH(0x7fc2028052b8), HASH(0x7fc20282a2d8)) called at /Users/ether/.perlbrew/libs/19.3@std/lib/perl5/darwin-2level/Class/MOP/Method/Wrapped.pm line 92
	Dist::Zilla::Tester::_Builder::from_config("Dist::Zilla::Tester::_Builder", HASH(0x7fc2028052b8), HASH(0x7fc20282a2d8)) called at /Users/ether/.perlbrew/libs/19.3@std/lib/perl5/Dist/Zilla/Tester.pm line 30
	Dist::Zilla::Tester::from_config("Dist::Zilla::Tester", HASH(0x7fc2028052b8), HASH(0x7fc20282a2d8)) called at t/withblib.t line 23
Class::MOP::load_class is deprecated at /Users/ether/.perlbrew/libs/19.3@std/lib/perl5/darwin-2level/Class/MOP.pm line 73.
	Class::MOP::load_class("MooseX::Role::Parameterized::Meta::Role::Parameterized") called at /Users/ether/.perlbrew/libs/19.3@std/lib/perl5/MooseX/Role/Parameterized/Meta/Role/Parameterizable.pm line 60
	MooseX::Role::Parameterized::Meta::Role::Parameterizable::generate_role(MooseX::Role::Parameterized::Meta::Role::Parameterizable=HASH(0x7f9aad192078), "parameters", HASH(0x7f9aac709980)) called at /Users/ether/.perlbrew/libs/19.3@std/lib/perl5/MooseX/Role/Parameterized/Meta/Role/Parameterizable.pm line 94
	MooseX::Role::Parameterized::Meta::Role::Parameterizable::_role_for_combination(MooseX::Role::Parameterized::Meta::Role::Parameterizable=HASH(0x7f9aad192078), HASH(0x7f9aac709980)) called at /Users/ether/.perlbrew/libs/19.3@std/lib/perl5/darwin-2level/Moose/Meta/Role.pm line 492
	Moose::Meta::Role::combine("Moose::Meta::Role", ARRAY(0x7f9aac725618), ARRAY(0x7f9aac71d0a8), ARRAY(0x7f9aac725630), ARRAY(0x7f9aad0a6288), ARRAY(0x7f9aad0aada8)) called at /Users/ether/.perlbrew/libs/19.3@std/lib/perl5/darwin-2level/Moose/Util.pm line 178
	Moose::Util::_apply_all_roles(Moose::Meta::Class=HASH(0x7f9aac709db8), undef, "Throwable", "Role::Identifiable::HasIdent", "Role::HasMessage", "StackTrace::Auto", "MooseX::OneArgNew", HASH(0x7f9aac709980)) called at /Users/ether/.perlbrew/libs/19.3@std/lib/perl5/darwin-2level/Moose/Util.pm line 117
	Moose::Util::apply_all_roles(Moose::Meta::Class=HASH(0x7f9aac709db8), "Throwable", "Role::Identifiable::HasIdent", "Role::HasMessage", "StackTrace::Auto", "MooseX::OneArgNew", HASH(0x7f9aac709980)) called at /Users/ether/.perlbrew/libs/19.3@std/lib/perl5/darwin-2level/Moose.pm line 60
	Moose::with(Moose::Meta::Class=HASH(0x7f9aac709db8), "Throwable", "Role::Identifiable::HasIdent", "Role::HasMessage", "StackTrace::Auto", "MooseX::OneArgNew", HASH(0x7f9aac709980)) called at /Users/ether/.perlbrew/libs/19.3@std/lib/perl5/darwin-2level/Moose/Exporter.pm line 405
	Moose::with("Throwable", "Role::Identifiable::HasIdent", "Role::HasMessage", "StackTrace::Auto", "MooseX::OneArgNew", HASH(0x7f9aac709980)) called at /Users/ether/.perlbrew/libs/19.3@std/lib/perl5/Config/MVP/Error.pm line 23
	require Config/MVP/Error.pm called at /Users/ether/.perlbrew/libs/19.3@std/lib/perl5/Config/MVP/Assembler.pm line 8
	Config::MVP::Assembler::BEGIN() called at /Users/ether/.perlbrew/libs/19.3@std/lib/perl5/Config/MVP/Error.pm line 0
	eval {...} called at /Users/ether/.perlbrew/libs/19.3@std/lib/perl5/Config/MVP/Error.pm line 0
	require Config/MVP/Assembler.pm called at /Users/ether/.perlbrew/libs/19.3@std/lib/perl5/Config/MVP/Reader.pm line 8
	Config::MVP::Reader::BEGIN() called at /Users/ether/.perlbrew/libs/19.3@std/lib/perl5/Config/MVP/Error.pm line 0
	eval {...} called at /Users/ether/.perlbrew/libs/19.3@std/lib/perl5/Config/MVP/Error.pm line 0
	require Config/MVP/Reader.pm called at /Users/ether/.perlbrew/libs/19.3@std/lib/perl5/Dist/Zilla/MVP/Reader/Finder.pm line 5
	Dist::Zilla::MVP::Reader::Finder::BEGIN() called at /Users/ether/.perlbrew/libs/19.3@std/lib/perl5/Config/MVP/Error.pm line 0
	eval {...} called at /Users/ether/.perlbrew/libs/19.3@std/lib/perl5/Config/MVP/Error.pm line 0
	require Dist/Zilla/MVP/Reader/Finder.pm called at /Users/ether/.perlbrew/libs/19.3@std/lib/perl5/Dist/Zilla/App.pm line 9
	Dist::Zilla::App::BEGIN() called at /Users/ether/.perlbrew/libs/19.3@std/lib/perl5/Config/MVP/Error.pm line 0
	eval {...} called at /Users/ether/.perlbrew/libs/19.3@std/lib/perl5/Config/MVP/Error.pm line 0
	require Dist/Zilla/App.pm called at /Users/ether/.perlbrew/libs/19.3@std/lib/perl5/Dist/Zilla/App/Tester.pm line 8
	Dist::Zilla::App::Tester::BEGIN() called at /Users/ether/.perlbrew/libs/19.3@std/lib/perl5/Config/MVP/Error.pm line 0
	eval {...} called at /Users/ether/.perlbrew/libs/19.3@std/lib/perl5/Config/MVP/Error.pm line 0
	require Dist/Zilla/App/Tester.pm called at t/checkxt.t line 8
	main::BEGIN() called at /Users/ether/.perlbrew/libs/19.3@std/lib/perl5/Config/MVP/Error.pm line 0
	eval {...} called at /Users/ether/.perlbrew/libs/19.3@std/lib/perl5/Config/MVP/Error.pm line 0
Class::MOP::load_class is deprecated at /Users/ether/.perlbrew/libs/19.3@std/lib/perl5/darwin-2level/Class/MOP.pm line 73, <GEN0> line 18.
	Class::MOP::load_class("Dist::Zilla::Plugin::GatherDir") called at /Users/ether/.perlbrew/libs/19.3@std/lib/perl5/Config/MVP/Assembler/WithBundles.pm line 51
	Config::MVP::Assembler::WithBundles::_add_bundle_contents(Dist::Zilla::MVP::Assembler::Zilla=HASH(0x7f9aadfc9430), "bundle_config", HASH(0x7f9aae0ec380)) called at /Users/ether/.perlbrew/libs/19.3@std/lib/perl5/Config/MVP/Assembler/WithBundles.pm line 36
	Config::MVP::Assembler::WithBundles::replace_bundle_with_contents(Dist::Zilla::MVP::Assembler::Zilla=HASH(0x7f9aadfc9430), Dist::Zilla::MVP::Section=HASH(0x7f9aae08be60), "bundle_config") called at /Users/ether/.perlbrew/libs/19.3@std/lib/perl5/Config/MVP/Assembler/WithBundles.pm line 26
	Class::MOP::Class:::after(Dist::Zilla::MVP::Assembler::Zilla=HASH(0x7f9aadfc9430)) called at /Users/ether/.perlbrew/libs/19.3@std/lib/perl5/darwin-2level/Class/MOP/Method/Wrapped.pm line 61
	Class::MOP::Method::Wrapped::__ANON__(Dist::Zilla::MVP::Assembler::Zilla=HASH(0x7f9aadfc9430)) called at /Users/ether/.perlbrew/libs/19.3@std/lib/perl5/darwin-2level/Class/MOP/Method/Wrapped.pm line 92
	Dist::Zilla::MVP::Assembler::end_section(Dist::Zilla::MVP::Assembler::Zilla=HASH(0x7f9aadfc9430)) called at /Users/ether/.perlbrew/libs/19.3@std/lib/perl5/Config/MVP/Assembler.pm line 87
	Config::MVP::Assembler::change_section(Dist::Zilla::MVP::Assembler::Zilla=HASH(0x7f9aadfc9430), "CheckExtraTests", "CheckExtraTests") called at /Users/ether/.perlbrew/libs/19.3@std/lib/perl5/Config/MVP/Reader/INI.pm line 49
	Config::MVP::Reader::INI::INIReader::change_section(Config::MVP::Reader::INI::INIReader=HASH(0x7f9aae05a310), "CheckExtraTests") called at /Users/ether/.perlbrew/libs/19.3@std/lib/perl5/Config/INI/Reader.pm line 34
	Config::INI::Reader::read_handle(Config::MVP::Reader::INI::INIReader=HASH(0x7f9aae05a310), IO::File=GLOB(0x7f9aae05a370)) called at /Users/ether/.perlbrew/libs/19.3@std/lib/perl5/Mixin/Linewise/Readers.pm line 103
	Mixin::Linewise::Readers::__ANON__() called at /Users/ether/.perlbrew/libs/19.3@std/lib/perl5/Config/MVP/Reader/INI.pm line 21
	Config::MVP::Reader::INI::read_into_assembler(Config::MVP::Reader::INI=HASH(0x7f9aae05a448), "/Users/ether/.cpanm/work/1399317444.46211/Dist-Zilla-Plugin-C"..., Dist::Zilla::MVP::Assembler::Zilla=HASH(0x7f9aadfc9430)) called at /Users/ether/.perlbrew/libs/19.3@std/lib/perl5/Config/MVP/Reader.pm line 19
	Config::MVP::Reader::read_config(Config::MVP::Reader::INI=HASH(0x7f9aae05a448), "/Users/ether/.cpanm/work/1399317444.46211/Dist-Zilla-Plugin-C"..., HASH(0x7f9aae028298)) called at /Users/ether/.perlbrew/libs/19.3@std/lib/perl5/Config/MVP/Reader/Finder.pm line 87
	Config::MVP::Reader::Finder::read_config("Dist::Zilla::MVP::Reader::Finder", Path::Class::File=HASH(0x7f9aae059c68), HASH(0x7f9aae028298)) called at /Users/ether/.perlbrew/libs/19.3@std/lib/perl5/Dist/Zilla/Dist/Builder.pm line 260
	Dist::Zilla::Dist::Builder::try {...} () called at /Users/ether/.perlbrew/libs/19.3@std/lib/perl5/Try/Tiny.pm line 83
	eval {...} called at /Users/ether/.perlbrew/libs/19.3@std/lib/perl5/Try/Tiny.pm line 74
	Try::Tiny::try(CODE(0x7f9aadfc9460), Try::Tiny::Catch=REF(0x7f9aae05a1c0)) called at /Users/ether/.perlbrew/libs/19.3@std/lib/perl5/Dist/Zilla/Dist/Builder.pm line 285
	Dist::Zilla::Dist::Builder::_load_config("Dist::Zilla::Tester::_Builder", HASH(0x7f9aadfc9100)) called at /Users/ether/.perlbrew/libs/19.3@std/lib/perl5/Dist/Zilla/Dist/Builder.pm line 41
	Dist::Zilla::Dist::Builder::from_config("Dist::Zilla::Tester::_Builder", HASH(0x7f9aab829b68)) called at /Users/ether/.perlbrew/libs/19.3@std/lib/perl5/Dist/Zilla/Tester.pm line 137
	Class::MOP::Class:::around(CODE(0x7f9aad4c2578), "Dist::Zilla::Tester::_Builder", HASH(0x7f9aab829b68), HASH(0x7f9aadf73980)) called at /Users/ether/.perlbrew/libs/19.3@std/lib/perl5/darwin-2level/Class/MOP/Method/Wrapped.pm line 163
	Class::MOP::Method::Wrapped::__ANON__("Dist::Zilla::Tester::_Builder", HASH(0x7f9aab829b68), HASH(0x7f9aadf73980)) called at /Users/ether/.perlbrew/libs/19.3@std/lib/perl5/darwin-2level/Class/MOP/Method/Wrapped.pm line 92
	Dist::Zilla::Tester::_Builder::from_config("Dist::Zilla::Tester::_Builder", HASH(0x7f9aab829b68), HASH(0x7f9aadf73980)) called at /Users/ether/.perlbrew/libs/19.3@std/lib/perl5/Dist/Zilla/Tester.pm line 30
	Dist::Zilla::Tester::from_config("Dist::Zilla::Tester", HASH(0x7f9aab829b68), HASH(0x7f9aadf73980)) called at t/checkxt.t line 29
	main::try {...} () called at /Users/ether/.perlbrew/libs/19.3@std/lib/perl5/Try/Tiny.pm line 83
	eval {...} called at /Users/ether/.perlbrew/libs/19.3@std/lib/perl5/Try/Tiny.pm line 74
	Try::Tiny::try(CODE(0x7f9aab8052b8), Try::Tiny::Catch=REF(0x7f9aade613e8)) called at t/checkxt.t line 45
Class::MOP::load_class is deprecated at /Users/ether/.perlbrew/libs/19.3@std/lib/perl5/darwin-2level/Class/MOP.pm line 73.
	Class::MOP::load_class("MooseX::Role::Parameterized::Meta::Role::Parameterized") called at /Users/ether/.perlbrew/libs/19.3@std/lib/perl5/MooseX/Role/Parameterized/Meta/Role/Parameterizable.pm line 60
	MooseX::Role::Parameterized::Meta::Role::Parameterizable::generate_role(MooseX::Role::Parameterized::Meta::Role::Parameterizable=HASH(0x7ff90d59ec10), "consumer", Moose::Meta::Role=HASH(0x7ff90d528fe0), "parameters", HASH(0x7ff90d564840)) called at /Users/ether/.perlbrew/libs/19.3@std/lib/perl5/MooseX/Role/Parameterized/Meta/Role/Parameterizable.pm line 104
	MooseX::Role::Parameterized::Meta::Role::Parameterizable::apply(MooseX::Role::Parameterized::Meta::Role::Parameterizable=HASH(0x7ff90d59ec10), Moose::Meta::Role=HASH(0x7ff90d528fe0)) called at /Users/ether/.perlbrew/libs/19.3@std/lib/perl5/darwin-2level/Moose/Util.pm line 175
	Moose::Util::_apply_all_roles(Moose::Meta::Role=HASH(0x7ff90d528fe0), undef, "MooseX::Getopt::GLD") called at /Users/ether/.perlbrew/libs/19.3@std/lib/perl5/darwin-2level/Moose/Util.pm line 117
	Moose::Util::apply_all_roles(Moose::Meta::Role=HASH(0x7ff90d528fe0), "MooseX::Getopt::GLD") called at /Users/ether/.perlbrew/libs/19.3@std/lib/perl5/darwin-2level/Moose/Role.pm line 27
	Moose::Role::with(Moose::Meta::Role=HASH(0x7ff90d528fe0), "MooseX::Getopt::GLD") called at /Users/ether/.perlbrew/libs/19.3@std/lib/perl5/darwin-2level/Moose/Exporter.pm line 405
	Moose::Role::with("MooseX::Getopt::GLD") called at /Users/ether/.perlbrew/libs/19.3@std/lib/perl5/MooseX/Getopt.pm line 14
	require MooseX/Getopt.pm called at /Users/ether/.perlbrew/libs/19.3@std/lib/perl5/MooseX/Types/Path/Class.pm line 35
	eval {...} called at /Users/ether/.perlbrew/libs/19.3@std/lib/perl5/MooseX/Types/Path/Class.pm line 35
	require MooseX/Types/Path/Class.pm called at /Users/ether/.perlbrew/libs/19.3@std/lib/perl5/Dist/Zilla/Dist/Builder.pm line 9
	Dist::Zilla::Dist::Builder::BEGIN() called at /Users/ether/.perlbrew/libs/19.3@std/lib/perl5/MooseX/Getopt.pm line 0
	eval {...} called at /Users/ether/.perlbrew/libs/19.3@std/lib/perl5/MooseX/Getopt.pm line 0
	require Dist/Zilla/Dist/Builder.pm called at /Users/ether/.perlbrew/libs/19.3@std/lib/perl5/Module/Runtime.pm line 317
	Module::Runtime::require_module("Dist::Zilla::Dist::Builder") called at /Users/ether/.perlbrew/libs/19.3@std/lib/perl5/Module/Runtime.pm line 381
	eval {...} called at /Users/ether/.perlbrew/libs/19.3@std/lib/perl5/Module/Runtime.pm line 381
	Module::Runtime::use_package_optimistically("Dist::Zilla::Dist::Builder") called at /Users/ether/.perlbrew/libs/19.3@std/lib/perl5/darwin-2level/Moose/Util.pm line 352
	Moose::Util::_load_user_class("Dist::Zilla::Dist::Builder", undef) called at /Users/ether/.perlbrew/libs/19.3@std/lib/perl5/darwin-2level/Moose/Meta/Class.pm line 561
	Moose::Meta::Class::superclasses(undef, "Dist::Zilla::Dist::Builder") called at /Users/ether/.perlbrew/libs/19.3@std/lib/perl5/darwin-2level/Moose.pm line 56
	Moose::extends(Moose::Meta::Class=HASH(0x7ff90c48aa40), "Dist::Zilla::Dist::Builder") called at /Users/ether/.perlbrew/libs/19.3@std/lib/perl5/darwin-2level/Moose/Exporter.pm line 405
	Moose::extends("Dist::Zilla::Dist::Builder") called at /Users/ether/.perlbrew/libs/19.3@std/lib/perl5/Dist/Zilla/Tester.pm line 5
	require Dist/Zilla/Tester.pm called at (eval 29) line 1
	main::BEGIN() called at /Users/ether/.perlbrew/libs/19.3@std/lib/perl5/MooseX/Getopt.pm line 0
	eval {...} called at /Users/ether/.perlbrew/libs/19.3@std/lib/perl5/MooseX/Getopt.pm line 0
	eval 'package main; use Dist::Zilla::Tester 4.300017' called at /Users/ether/.perlbrew/libs/19.3@std/lib/perl5/Test/Requires.pm line 38
	Test::Requires::test_requires("Dist::Zilla::Tester", 4.300017, "main") called at /Users/ether/.perlbrew/libs/19.3@std/lib/perl5/Test/Requires.pm line 19
	Test::Requires::import("Test::Requires", HASH(0x7ff90b82e8d0)) called at t/runxt.t line 11
	main::BEGIN() called at /Users/ether/.perlbrew/libs/19.3@std/lib/perl5/MooseX/Getopt.pm line 0
	eval {...} called at /Users/ether/.perlbrew/libs/19.3@std/lib/perl5/MooseX/Getopt.pm line 0
Class::MOP::load_class is deprecated at /Users/ether/.perlbrew/libs/19.3@std/lib/perl5/darwin-2level/Class/MOP.pm line 73, <GEN0> line 19.
	Class::MOP::load_class("Dist::Zilla::Plugin::GatherDir") called at /Users/ether/.perlbrew/libs/19.3@std/lib/perl5/Config/MVP/Assembler/WithBundles.pm line 51
	Config::MVP::Assembler::WithBundles::_add_bundle_contents(Dist::Zilla::MVP::Assembler::Zilla=HASH(0x7ff90db5b700), "bundle_config", HASH(0x7ff90e07f890)) called at /Users/ether/.perlbrew/libs/19.3@std/lib/perl5/Config/MVP/Assembler/WithBundles.pm line 36
	Config::MVP::Assembler::WithBundles::replace_bundle_with_contents(Dist::Zilla::MVP::Assembler::Zilla=HASH(0x7ff90db5b700), Dist::Zilla::MVP::Section=HASH(0x7ff90e009568), "bundle_config") called at /Users/ether/.perlbrew/libs/19.3@std/lib/perl5/Config/MVP/Assembler/WithBundles.pm line 26
	Class::MOP::Class:::after(Dist::Zilla::MVP::Assembler::Zilla=HASH(0x7ff90db5b700)) called at /Users/ether/.perlbrew/libs/19.3@std/lib/perl5/darwin-2level/Class/MOP/Method/Wrapped.pm line 61
	Class::MOP::Method::Wrapped::__ANON__(Dist::Zilla::MVP::Assembler::Zilla=HASH(0x7ff90db5b700)) called at /Users/ether/.perlbrew/libs/19.3@std/lib/perl5/darwin-2level/Class/MOP/Method/Wrapped.pm line 92
	Dist::Zilla::MVP::Assembler::end_section(Dist::Zilla::MVP::Assembler::Zilla=HASH(0x7ff90db5b700)) called at /Users/ether/.perlbrew/libs/19.3@std/lib/perl5/Config/MVP/Assembler.pm line 87
	Config::MVP::Assembler::change_section(Dist::Zilla::MVP::Assembler::Zilla=HASH(0x7ff90db5b700), "MakeMaker::Runner", "MakeMaker::Runner") called at /Users/ether/.perlbrew/libs/19.3@std/lib/perl5/Config/MVP/Reader/INI.pm line 49
	Config::MVP::Reader::INI::INIReader::change_section(Config::MVP::Reader::INI::INIReader=HASH(0x7ff90dfbeb78), "MakeMaker::Runner") called at /Users/ether/.perlbrew/libs/19.3@std/lib/perl5/Config/INI/Reader.pm line 34
	Config::INI::Reader::read_handle(Config::MVP::Reader::INI::INIReader=HASH(0x7ff90dfbeb78), IO::File=GLOB(0x7ff90dfbebd8)) called at /Users/ether/.perlbrew/libs/19.3@std/lib/perl5/Mixin/Linewise/Readers.pm line 103
	Mixin::Linewise::Readers::__ANON__() called at /Users/ether/.perlbrew/libs/19.3@std/lib/perl5/Config/MVP/Reader/INI.pm line 21
	Config::MVP::Reader::INI::read_into_assembler(Config::MVP::Reader::INI=HASH(0x7ff90dfbecb0), "/Users/ether/.cpanm/work/1399317444.46211/Dist-Zilla-Plugin-C"..., Dist::Zilla::MVP::Assembler::Zilla=HASH(0x7ff90db5b700)) called at /Users/ether/.perlbrew/libs/19.3@std/lib/perl5/Config/MVP/Reader.pm line 19
	Config::MVP::Reader::read_config(Config::MVP::Reader::INI=HASH(0x7ff90dfbecb0), "/Users/ether/.cpanm/work/1399317444.46211/Dist-Zilla-Plugin-C"..., HASH(0x7ff90dfc6ec0)) called at /Users/ether/.perlbrew/libs/19.3@std/lib/perl5/Config/MVP/Reader/Finder.pm line 87
	Config::MVP::Reader::Finder::read_config("Dist::Zilla::MVP::Reader::Finder", Path::Class::File=HASH(0x7ff90dfc16a0), HASH(0x7ff90dfc6ec0)) called at /Users/ether/.perlbrew/libs/19.3@std/lib/perl5/Dist/Zilla/Dist/Builder.pm line 260
	Dist::Zilla::Dist::Builder::try {...} () called at /Users/ether/.perlbrew/libs/19.3@std/lib/perl5/Try/Tiny.pm line 83
	eval {...} called at /Users/ether/.perlbrew/libs/19.3@std/lib/perl5/Try/Tiny.pm line 74
	Try::Tiny::try(CODE(0x7ff90bc77308), Try::Tiny::Catch=REF(0x7ff90dfbea28)) called at /Users/ether/.perlbrew/libs/19.3@std/lib/perl5/Dist/Zilla/Dist/Builder.pm line 285
	Dist::Zilla::Dist::Builder::_load_config("Dist::Zilla::Tester::_Builder", HASH(0x7ff90db88ba8)) called at /Users/ether/.perlbrew/libs/19.3@std/lib/perl5/Dist/Zilla/Dist/Builder.pm line 41
	Dist::Zilla::Dist::Builder::from_config("Dist::Zilla::Tester::_Builder", HASH(0x7ff90b829a60)) called at /Users/ether/.perlbrew/libs/19.3@std/lib/perl5/Dist/Zilla/Tester.pm line 137
	Class::MOP::Class:::around(CODE(0x7ff90d724008), "Dist::Zilla::Tester::_Builder", HASH(0x7ff90b829a60), HASH(0x7ff90b829ac0)) called at /Users/ether/.perlbrew/libs/19.3@std/lib/perl5/darwin-2level/Class/MOP/Method/Wrapped.pm line 163
	Class::MOP::Method::Wrapped::__ANON__("Dist::Zilla::Tester::_Builder", HASH(0x7ff90b829a60), HASH(0x7ff90b829ac0)) called at /Users/ether/.perlbrew/libs/19.3@std/lib/perl5/darwin-2level/Class/MOP/Method/Wrapped.pm line 92
	Dist::Zilla::Tester::_Builder::from_config("Dist::Zilla::Tester::_Builder", HASH(0x7ff90b829a60), HASH(0x7ff90b829ac0)) called at /Users/ether/.perlbrew/libs/19.3@std/lib/perl5/Dist/Zilla/Tester.pm line 30
	Dist::Zilla::Tester::from_config("Dist::Zilla::Tester", HASH(0x7ff90b829a60), HASH(0x7ff90b829ac0)) called at t/runxt.t line 24
t/withblib.t ........... ok
t/checkxt.t ............ ok
t/runxt.t .............. ok
All tests successful.
Files=4, Tests=16,  3 wallclock secs ( 0.03 usr  0.01 sys +  7.75 cusr  1.11 csys =  8.90 CPU)
Result: PASS

------------------------------
PREREQUISITES
------------------------------

Prerequisite modules loaded:

    No requirements found

------------------------------
ENVIRONMENT AND OTHER CONTEXT
------------------------------

Environment variables:

    LANG = en_CA.UTF-8
    PATH = /Users/ether/.perlbrew/libs/19.3@std/bin:/Users/ether/perl5/perlbrew/bin:/Users/ether/perl5/perlbrew/perls/19.3/bin:/Users/ether/bin:/Users/ether/git/misc/install/bourbon/bin:/Users/ether/git/misc/install/generic/bin:/opt/local/bin:/opt/local/sbin:/Users/ether/src/CE/devtools:/Users/ether/git/CE/devtools:/Users/ether/src/CE/bin:/Users/ether/git/CE/bin:/usr/bin:/bin:/usr/sbin:/sbin:/usr/local/bin:/opt/local/share/git-core/contrib/workdir
    PERL5LIB = /Users/ether/.perlbrew/libs/19.3@std/lib/perl5
    PERLBREW_BASHRC_VERSION = 0.67
    PERLBREW_HOME = /Users/ether/.perlbrew
    PERLBREW_LIB = std
    PERLBREW_MANPATH = /Users/ether/.perlbrew/libs/19.3@std/man:/Users/ether/perl5/perlbrew/perls/19.3/man
    PERLBREW_PATH = /Users/ether/.perlbrew/libs/19.3@std/bin:/Users/ether/perl5/perlbrew/bin:/Users/ether/perl5/perlbrew/perls/19.3/bin
    PERLBREW_PERL = 19.3
    PERLBREW_ROOT = /Users/ether/perl5/perlbrew
    PERLBREW_VERSION = 0.67
    PERLDOC_PAGER = less -sicMr
    PERL_AUTOINSTALL_PREFER_CPAN = 1
    PERL_LOCAL_LIB_ROOT = /Users/ether/.perlbrew/libs/19.3@std
    PERL_MB_OPT = --install_base /Users/ether/.perlbrew/libs/19.3@std
    PERL_MM_OPT = INSTALL_BASE=/Users/ether/.perlbrew/libs/19.3@std
    SHELL = /bin/bash
    TERM = xterm-color
    TMPDIR = /var/folders/kx/9dgyhhpn2yb7v2mggnr385fr0000gn/T/

Perl special variables (and OS-specific diagnostics, for MSWin32):

    EGID = 20 20 402 401 12 33 61 79 80 81 98 100 204
    EUID = 501
    EXECUTABLE_NAME = /Users/ether/perl5/perlbrew/perls/19.3/bin/perl5.19.3
    GID = 20 20 402 401 12 33 61 79 80 81 98 100 204
    UID = 501

Perl module toolchain versions installed:

    Module              Have    
    ------------------- --------
    CPAN                2.00    
    CPAN::Meta          2.132140
    Cwd                 3.44    
    ExtUtils::CBuilder  0.280210
    ExtUtils::Command   1.17    
    ExtUtils::Install   1.60    
    ExtUtils::MakeMaker 6.98    
    ExtUtils::Manifest  1.63    
    ExtUtils::ParseXS   3.21    
    File::Spec          3.44    
    JSON                2.59    
    JSON::PP            2.27203 
    Module::Build       0.4205  
    Module::Signature   n/a     
    Parse::CPAN::Meta   1.4405  
    Test::Harness       3.30    
    Test::More          0.98    
    YAML                0.84    
    YAML::Syck          1.27    
    version             0.9903  


--

Summary of my perl5 (revision 5 version 19 subversion 3) configuration:
   
  Platform:
    osname=darwin, osvers=12.4.0, archname=darwin-2level
    uname='darwin bourbon 12.4.0 darwin kernel version 12.4.0: wed may 1 17:57:12 pdt 2013; root:xnu-2050.24.15~1release_x86_64 x86_64 '
    config_args='-de -Dprefix=/Users/ether/perl5/perlbrew/perls/19.3 -Dman1dir=none -Dman3dir=none -Dusedevel -Aeval:scriptdir=/Users/ether/perl5/perlbrew/perls/19.3/bin'
    hint=recommended, useposix=true, d_sigaction=define
    useithreads=undef, usemultiplicity=undef
    useperlio=define, d_sfio=undef, uselargefiles=define, usesocks=undef
    use64bitint=define, use64bitall=define, uselongdouble=undef
    usemymalloc=n, bincompat5005=undef
  Compiler:
    cc='cc', ccflags ='-fno-common -DPERL_DARWIN -fno-strict-aliasing -pipe -fstack-protector -I/opt/local/include',
    optimize='-O3',
    cppflags='-fno-common -DPERL_DARWIN -fno-strict-aliasing -pipe -fstack-protector -I/opt/local/include'
    ccversion='', gccversion='4.2.1 Compatible Apple LLVM 4.2 (clang-425.0.28)', gccosandvers=''
    intsize=4, longsize=8, ptrsize=8, doublesize=8, byteorder=12345678
    d_longlong=define, longlongsize=8, d_longdbl=define, longdblsize=16
    ivtype='long', ivsize=8, nvtype='double', nvsize=8, Off_t='off_t', lseeksize=8
    alignbytes=8, prototype=define
  Linker and Libraries:
    ld='env MACOSX_DEPLOYMENT_TARGET=10.3 cc', ldflags =' -fstack-protector -L/opt/local/lib'
    libpth=/opt/local/lib /usr/lib
    libs=-lgdbm -ldbm -ldl -lm -lutil -lc
    perllibs=-ldl -lm -lutil -lc
    libc=, so=dylib, useshrplib=false, libperl=libperl.a
    gnulibc_version=''
  Dynamic Linking:
    dlsrc=dl_dlopen.xs, dlext=bundle, d_dlsymun=undef, ccdlflags=' '
    cccdlflags=' ', lddlflags=' -bundle -undefined dynamic_lookup -L/opt/local/lib -fstack-protector'


Characteristics of this binary (from libperl): 
  Compile-time options: HAS_TIMES PERLIO_LAYERS PERL_DONT_CREATE_GVSV
                        PERL_HASH_FUNC_ONE_AT_A_TIME_HARD PERL_MALLOC_WRAP
                        PERL_NEW_COPY_ON_WRITE PERL_PRESERVE_IVUV
                        PERL_USE_DEVEL USE_64_BIT_ALL USE_64_BIT_INT
                        USE_LARGE_FILES USE_LOCALE USE_LOCALE_COLLATE
                        USE_LOCALE_CTYPE USE_LOCALE_NUMERIC USE_PERLIO
                        USE_PERL_ATOF
  Built under darwin
  Compiled at Aug 20 2013 14:37:03
  %ENV:
    PERL5LIB="/Users/ether/.perlbrew/libs/19.3@std/lib/perl5"
    PERLBREW_BASHRC_VERSION="0.67"
    PERLBREW_HOME="/Users/ether/.perlbrew"
    PERLBREW_LIB="std"
    PERLBREW_MANPATH="/Users/ether/.perlbrew/libs/19.3@std/man:/Users/ether/perl5/perlbrew/perls/19.3/man"
    PERLBREW_PATH="/Users/ether/.perlbrew/libs/19.3@std/bin:/Users/ether/perl5/perlbrew/bin:/Users/ether/perl5/perlbrew/perls/19.3/bin"
    PERLBREW_PERL="19.3"
    PERLBREW_ROOT="/Users/ether/perl5/perlbrew"
    PERLBREW_VERSION="0.67"
    PERLDOC_PAGER="less -sicMr"
    PERL_AUTOINSTALL_PREFER_CPAN="1"
    PERL_LOCAL_LIB_ROOT="/Users/ether/.perlbrew/libs/19.3@std"
    PERL_MB_OPT="--install_base /Users/ether/.perlbrew/libs/19.3@std"
    PERL_MM_OPT="INSTALL_BASE=/Users/ether/.perlbrew/libs/19.3@std"
  @INC:
    /Users/ether/.perlbrew/libs/19.3@std/lib/perl5/darwin-2level
    /Users/ether/.perlbrew/libs/19.3@std/lib/perl5
    /Users/ether/perl5/perlbrew/perls/19.3/lib/site_perl/5.19.3/darwin-2level
    /Users/ether/perl5/perlbrew/perls/19.3/lib/site_perl/5.19.3
    /Users/ether/perl5/perlbrew/perls/19.3/lib/5.19.3/darwin-2level
    /Users/ether/perl5/perlbrew/perls/19.3/lib/5.19.3
    .