Net-Amazon-S3 v0.94 Perl 5 v5.16.3 MSWin32-x86-multi-thread

Status
Pass
From
Dist
Net-Amazon-S3 v0.94
Platform
Perl 5 v5.16.3 MSWin32-x86-multi-thread
Date
2020-10-02 16:40:46
ID
fc488c8a-6ca7-1014-a05a-8ca7d618ba9a
This distribution has been tested as part of the CPAN Testers
project, supporting the Perl programming language.  See
http://wiki.cpantesters.org/ for more information or email
questions to cpan-testers-discuss@perl.org


--
Dear Branislav Zahradnik,

This is a computer-generated report for Net-Amazon-S3-0.94
on perl 5.16.3, created by CPAN-Reporter-1.2018.

Thank you for uploading your work to CPAN.  Congratulations!
All tests were successful.

Sections of this report:

    * Tester comments
    * Program output
    * Prerequisites
    * Environment and other context

------------------------------
TESTER COMMENTS
------------------------------

Additional comments from tester:

none provided

------------------------------
PROGRAM OUTPUT
------------------------------

Output from 'C:\Strawberry\c\bin\dmake.exe test':

C:\"Strawberry\perl\bin\perl.exe" "-MExtUtils::Command::MM" "-MTest::Harness" "-e" "undef *Test::Harness::Switches; test_harness(0, 'blib\lib', 'blib\arch')" t/*.t
t/01api.t .............................. skipped: Testing this module for real costs money. Enable it by setting true value to env variable AMAZON_S3_EXPENSIVE_TESTS
t/02client.t ........................... skipped: Testing this module for real costs money.
t/03token.t ............................ skipped: Need these vars in ENV: AWS_ACCESS_KEY_ID, AWS_ACCESS_KEY_SECRET, AWS_ACCESS_TOKEN
t/acl-set.t ............................ ok
t/api-bucket-acl-get.t ................. ok
t/api-bucket-acl-set.t ................. ok
t/api-bucket-create.t .................. ok
t/api-bucket-delete.t .................. ok
t/api-bucket-objects-delete.t .......... ok
t/api-bucket-objects-list.t ............ ok
t/api-bucket-tags-add.t ................ ok
t/api-bucket-tags-delete.t ............. ok
t/api-build-bucket.t ................... ok
t/api-construct.t ...................... ok
t/api-object-acl-get.t ................. ok
t/api-object-acl-set.t ................. ok
t/api-object-create.t .................. ok
t/api-object-delete.t .................. ok
t/api-object-fetch.t ................... ok
t/api-object-head.t .................... ok
t/api-object-tags-add.t ................ ok
t/api-object-tags-delete.t ............. ok
t/api-service-buckets-list.t ........... ok
t/author-eol.t ......................... skipped: these tests are for testing by the author
t/client-bucket-acl-get.t .............. ok
t/client-bucket-acl-set.t .............. ok
t/client-bucket-create.t ............... ok
t/client-bucket-delete.t ............... ok
t/client-bucket-objects-delete.t ....... ok
t/client-bucket-objects-list.t ......... ok
t/client-bucket-tags-add.t ............. ok
t/client-bucket-tags-delete.t .......... ok
t/client-construct.t ................... ok
t/client-object-acl-set.t .............. ok
t/client-object-create.t ............... ok
t/client-object-delete.t ............... ok
t/client-object-fetch.t ................ ok
t/client-object-tags-add.t ............. ok
t/client-object-tags-delete.t .......... ok
t/client-service-buckets-list.t ........ ok
t/error-handler-x.t .................... ok
t/issue-39-content-length-0.t .......... ok
t/query-string-authentication-uri.t .... ok
t/request.t ............................ ok
t/response.t ........................... ok
t/s3-request-bucket-acl-fetch.t ........ ok
t/s3-request-bucket-acl-set.t .......... ok
t/s3-request-bucket-create.t ........... ok
t/s3-request-bucket-delete.t ........... ok
t/s3-request-bucket-location.t ......... ok
t/s3-request-bucket-objects-delete.t ... ok
t/s3-request-bucket-objects-list.t ..... ok
t/s3-request-bucket-tags-add.t ......... ok
t/s3-request-bucket-tags-delete.t ...... ok
t/s3-request-object-acl-fetch.t ........ ok
t/s3-request-object-acl-set.t .......... ok
t/s3-request-object-add.t .............. ok
t/s3-request-object-delete.t ........... ok
t/s3-request-object-fetch.t ............ ok
t/s3-request-object-restore.t .......... ok
t/s3-request-object-tags-add.t ......... ok
t/s3-request-object-tags-delete.t ...... ok
t/s3-request-object-upload-abort.t ..... ok
t/s3-request-object-upload-complete.t .. ok
t/s3-request-object-upload-create.t .... ok
t/s3-request-object-upload-part.t ...... ok
t/s3-request-object-upload-parts.t ..... ok
t/s3-request-service-buckets-list.t .... ok
t/s3-response-object-upload-create.t ... ok
t/s3-response-service-buckets-list.t ... ok
t/signature-v4-with-security-token.t ... ok
t/vendor-amazon.t ...................... ok
t/vendor-generic.t ..................... ok
t/vendor-info.t ........................ ok
All tests successful.
Files=74, Tests=370, 279 wallclock secs ( 0.97 usr +  0.34 sys =  1.31 CPU)
Result: PASS

------------------------------
PREREQUISITES
------------------------------

Prerequisite modules loaded:

requires:

    Module                                 Need     Have      
    -------------------------------------- -------- ----------
    Carp                                   0        1.26      
    constant                               0        1.33      
    Data::Stream::Bulk::Callback           0        0.11      
    DateTime::Format::HTTP                 0        0.42      
    Digest::HMAC_SHA1                      0        1.03      
    Digest::MD5                            0        2.55      
    Digest::MD5::File                      0        0.08      
    Digest::SHA                            0        6.02      
    Exporter::Tiny                         0        1.002001  
    File::Find::Rule                       0        0.33      
    File::stat                             0        1.05      
    Getopt::Long                           0        2.5       
    Hash::Util                             0        0.11      
    HTTP::Date                             0        6.02      
    HTTP::Response                         0        6.26      
    HTTP::Status                           0        6.26      
    IO::File                               1.14     1.16      
    LWP                                    6.03     6.49      
    LWP::UserAgent::Determined             0        1.07      
    MIME::Base64                           0        3.16      
    MIME::Types                            0        2.17      
    Moose                                  0.85     2.2013    
    Moose::Meta::Class                     0        2.2013    
    Moose::Object                          0        2.2013    
    Moose::Role                            0        2.2013    
    Moose::Util                            0        2.2013    
    Moose::Util::TypeConstraints           0        2.2013    
    MooseX::Role::Parameterized            0        1.11      
    MooseX::StrictConstructor              0.16     0.21      
    MooseX::Types::DateTime::MoreCoercions 0.07     0.15      
    namespace::clean                       0        0.24      
    parent                                 0        0.225     
    Path::Class                            0        0.37      
    Pod::Usage                             0        1.61      
    Ref::Util                              0        0.204     
    Regexp::Common                         0        2017060201
    Safe::Isa                              0        1.000010  
    Scalar::Util                           0        1.55      
    sort                                   0        2.01      
    strict                                 0        1.07      
    Sub::Override                          0        0.09      
    Term::Encoding                         0        0.03      
    Term::ProgressBar::Simple              0        0.03      
    Test::Deep                             v0.111.0 1.128     
    Test::LWP::UserAgent                   0        0.034     
    Test::More                             0        1.302181  
    Time::Piece                            0        1.20_01   
    URI                                    0        1.76      
    URI::Escape                            0        3.31      
    URI::QueryParam                        0        1.76      
    warnings                               0        1.13      
    XML::LibXML                            0        2.0200    
    XML::LibXML::XPathContext              0        2.0200    

build_requires:

    Module                                 Need     Have      
    -------------------------------------- -------- ----------
    ExtUtils::MakeMaker                    0        7.47_11   
    File::Temp                             0        0.2310    
    FindBin                                0        1.51      
    HTTP::Request                          0        6.26      
    lib                                    0        0.63      
    LWP::Simple                            0        6.49      
    Test::Deep                             v0.111.0 1.128     
    Test::Exception                        0        0.43      
    Test::MockTime                         0        0.17      
    Test::Warnings                         0        0.026     
    utf8                                   0        1.09      
    vars                                   0        1.02      

configure_requires:

    Module                                 Need     Have      
    -------------------------------------- -------- ----------
    ExtUtils::MakeMaker                    0        7.47_11   


------------------------------
ENVIRONMENT AND OTHER CONTEXT
------------------------------

Environment variables:

    COMSPEC = C:\windows\system32\cmd.exe
    NONINTERACTIVE_TESTING = 1
    NUMBER_OF_PROCESSORS = 4
    PATH = C:\home\picture\perl5\bin;C:\windows\system32;C:\windows;C:\windows\System32\Wbem;C:\windows\System32\WindowsPowerShell\v1.0\;C:\Strawberry\c\bin;C:\Strawberry\perl\site\bin;C:\Strawberry\perl\bin
    PERL5LIB = C:\home\picture\perl5\lib\perl5
    PERL5OPT = 
    PERL5_CPANPLUS_IS_RUNNING = 6548
    PERL5_CPAN_IS_RUNNING = 6548
    PERL_LOCAL_LIB_ROOT = C:\home\picture\perl5
    PERL_MB_OPT = --install_base "C:\\home\\picture\\perl5"
    PERL_MM_OPT = INSTALL_BASE=C:\\home\\picture\\perl5
    PERL_MM_USE_DEFAULT = 1
    PERL_USE_UNSAFE_INC = 1
    PROCESSOR_IDENTIFIER = x86 Family 6 Model 37 Stepping 5, GenuineIntel
    TEMP = C:\Users\user\AppData\Local\Temp
    TERM = dumb

Perl special variables (and OS-specific diagnostics, for MSWin32):

    $^X = C:\Strawberry\perl\bin\perl.exe
    $UID/$EUID = 0 / 0
    $GID = 0
    $EGID = 0
    Win32::GetOSName = Win7
    Win32::GetOSVersion = Service Pack 1, 6, 1, 7601, 2, 1, 0, 256, 1
    Win32::FsType = NTFS
    Win32::IsAdminUser = 0

Perl module toolchain versions installed:

    Module              Have    
    ------------------- --------
    CPAN                2.26    
    CPAN::Meta          2.150010
    Cwd                 3.75    
    ExtUtils::CBuilder  0.280231
    ExtUtils::Command   7.47_11 
    ExtUtils::Install   2.18    
    ExtUtils::MakeMaker 7.47_11 
    ExtUtils::Manifest  1.72    
    ExtUtils::ParseXS   3.35    
    File::Spec          3.75    
    JSON                4.02    
    JSON::PP            4.05    
    Module::Build       0.4224  
    Module::Signature   0.87    
    Parse::CPAN::Meta   2.150010
    Test::Harness       3.42    
    Test::More          1.302181
    YAML                1.27    
    YAML::Syck          1.31    
    version             0.9928  


--

Summary of my perl5 (revision 5 version 16 subversion 3) configuration:
   
  Platform:
    osname=MSWin32, osvers=4.0, archname=MSWin32-x86-multi-thread
    uname='Win32 strawberry-perl 5.16.3.1 #1 Tue Mar 12 13:55:20 2013 i386'
    config_args='undef'
    hint=recommended, useposix=true, d_sigaction=undef
    useithreads=define, usemultiplicity=define
    useperlio=define, d_sfio=undef, uselargefiles=define, usesocks=undef
    use64bitint=undef, use64bitall=undef, uselongdouble=undef
    usemymalloc=n, bincompat5005=undef
  Compiler:
    cc='gcc', ccflags =' -s -O2 -DWIN32  -DPERL_TEXTMODE_SCRIPTS -DPERL_IMPLICIT_CONTEXT -DPERL_IMPLICIT_SYS -fno-strict-aliasing -mms-bitfields',
    optimize='-s -O2',
    cppflags='-DWIN32'
    ccversion='', gccversion='4.6.3', gccosandvers=''
    intsize=4, longsize=4, ptrsize=4, doublesize=8, byteorder=1234
    d_longlong=undef, longlongsize=8, d_longdbl=define, longdblsize=12
    ivtype='long', ivsize=4, nvtype='double', nvsize=8, Off_t='long long', lseeksize=8
    alignbytes=8, prototype=define
  Linker and Libraries:
    ld='g++', ldflags ='-s -L"C:\Strawberry\perl\lib\CORE" -L"C:\Strawberry\c\lib"'
    libpth=C:\Strawberry\c\lib C:\Strawberry\c\i686-w64-mingw32\lib
    libs=-lmoldname -lkernel32 -luser32 -lgdi32 -lwinspool -lcomdlg32 -ladvapi32 -lshell32 -lole32 -loleaut32 -lnetapi32 -luuid -lws2_32 -lmpr -lwinmm -lversion -lodbc32 -lodbccp32 -lcomctl32
    perllibs=-lmoldname -lkernel32 -luser32 -lgdi32 -lwinspool -lcomdlg32 -ladvapi32 -lshell32 -lole32 -loleaut32 -lnetapi32 -luuid -lws2_32 -lmpr -lwinmm -lversion -lodbc32 -lodbccp32 -lcomctl32
    libc=, so=dll, useshrplib=true, libperl=libperl516.a
    gnulibc_version=''
  Dynamic Linking:
    dlsrc=dl_win32.xs, dlext=dll, d_dlsymun=undef, ccdlflags=' '
    cccdlflags=' ', lddlflags='-mdll -s -L"C:\Strawberry\perl\lib\CORE" -L"C:\Strawberry\c\lib"'


Characteristics of this binary (from libperl): 
  Compile-time options: HAS_TIMES HAVE_INTERP_INTERN MULTIPLICITY
                        PERLIO_LAYERS PERL_DONT_CREATE_GVSV
                        PERL_IMPLICIT_CONTEXT PERL_IMPLICIT_SYS
                        PERL_MALLOC_WRAP PERL_PRESERVE_IVUV PL_OP_SLAB_ALLOC
                        USE_ITHREADS USE_LARGE_FILES USE_LOCALE
                        USE_LOCALE_COLLATE USE_LOCALE_CTYPE
                        USE_LOCALE_NUMERIC USE_PERLIO USE_PERL_ATOF
  Built under MSWin32
  Compiled at Mar 12 2013 14:01:07
  %ENV:
    PERL5LIB="C:\home\picture\perl5\lib\perl5"
    PERL5_CPANPLUS_IS_RUNNING="6548"
    PERL5_CPAN_IS_RUNNING="6548"
    PERL_LOCAL_LIB_ROOT="C:\home\picture\perl5"
    PERL_MB_OPT="--install_base "C:\\home\\picture\\perl5""
    PERL_MM_OPT="INSTALL_BASE=C:\\home\\picture\\perl5"
    PERL_MM_USE_DEFAULT="1"
    PERL_USE_UNSAFE_INC="1"
  @INC:
    C:\home\picture\perl5\lib\perl5/MSWin32-x86-multi-thread
    C:\home\picture\perl5\lib\perl5
    C:/Strawberry/perl/site/lib
    C:/Strawberry/perl/vendor/lib
    C:/Strawberry/perl/lib
    .