PDF-API2 v2.043 Perl 5 v5.10.1 MSWin32-x86-multi-thread

Status
Pass
From
NONAME
Dist
PDF-API2 v2.043
Platform
Perl 5 v5.10.1 MSWin32-x86-multi-thread
Date
2021-12-11 01:38:23
ID
fc1b8bb8-6e5a-1014-9970-880e032c038b
This distribution has been tested as part of the CPAN Testers
project, supporting the Perl programming language.  See
http://wiki.cpantesters.org/ for more information or email
questions to cpan-testers-discuss@perl.org


--
Dear SSIMMS,

This is a computer-generated report for PDF-API2-2.043
on perl 5.10.1, created by App::cpanminus::reporter 0.17 (1.7042).

Thank you for uploading your work to CPAN.  Congratulations!
All tests were successful.

Sections of this report:

    * Tester comments
    * Program output
    * Prerequisites
    * Environment and other context

------------------------------
TESTER COMMENTS
------------------------------

Additional comments from tester:

none provided

------------------------------
PROGRAM OUTPUT
------------------------------

Output from '':

Building and testing PDF-API2-2.043
cp lib/PDF/API2/Basic/PDF/Null.pm blib\lib\PDF\API2\Basic\PDF\Null.pm
cp lib/PDF/API2.pm blib\lib\PDF\API2.pm
cp lib/PDF/API2/Basic/PDF/Bool.pm blib\lib\PDF\API2\Basic\PDF\Bool.pm
cp lib/PDF/API2/Basic/PDF/Filter/FlateDecode.pm blib\lib\PDF\API2\Basic\PDF\Filter\FlateDecode.pm
cp lib/PDF/API2/Basic/PDF/Array.pm blib\lib\PDF\API2\Basic\PDF\Array.pm
cp lib/PDF/API2/Annotation.pm blib\lib\PDF\API2\Annotation.pm
cp lib/PDF/API2/Basic/PDF/Filter/LZWDecode.pm blib\lib\PDF\API2\Basic\PDF\Filter\LZWDecode.pm
cp lib/PDF/API2/Basic/PDF/File.pm blib\lib\PDF\API2\Basic\PDF\File.pm
cp lib/PDF/API2/Basic/PDF/Filter/RunLengthDecode.pm blib\lib\PDF\API2\Basic\PDF\Filter\RunLengthDecode.pm
cp lib/PDF/API2/Basic/PDF/Literal.pm blib\lib\PDF\API2\Basic\PDF\Literal.pm
cp lib/PDF/API2/Basic/PDF/Filter.pm blib\lib\PDF\API2\Basic\PDF\Filter.pm
cp lib/PDF/API2/Basic/PDF/Filter/ASCII85Decode.pm blib\lib\PDF\API2\Basic\PDF\Filter\ASCII85Decode.pm
cp lib/PDF/API2/Basic/PDF/Dict.pm blib\lib\PDF\API2\Basic\PDF\Dict.pm
cp lib/PDF/API2/Basic/PDF/Filter/ASCIIHexDecode.pm blib\lib\PDF\API2\Basic\PDF\Filter\ASCIIHexDecode.pm
cp lib/PDF/API2/Basic/PDF/Name.pm blib\lib\PDF\API2\Basic\PDF\Name.pm
cp lib/PDF/API2/Basic/PDF/Number.pm blib\lib\PDF\API2\Basic\PDF\Number.pm
cp lib/PDF/API2/Resource/CIDFont/CJKFont/adobemingstdlightacro.data blib\lib\PDF\API2\Resource\CIDFont\CJKFont\adobemingstdlightacro.data
cp lib/PDF/API2/Content/Text.pm blib\lib\PDF\API2\Content\Text.pm
cp lib/PDF/API2/Basic/PDF/Pages.pm blib\lib\PDF\API2\Basic\PDF\Pages.pm
cp lib/PDF/API2/Page.pm blib\lib\PDF\API2\Page.pm
cp lib/PDF/API2/Lite.pm blib\lib\PDF\API2\Lite.pm
cp lib/PDF/API2/NamedDestination.pm blib\lib\PDF\API2\NamedDestination.pm
cp lib/PDF/API2/Content.pm blib\lib\PDF\API2\Content.pm
cp lib/PDF/API2/Matrix.pm blib\lib\PDF\API2\Matrix.pm
cp lib/PDF/API2/Outlines.pm blib\lib\PDF\API2\Outlines.pm
cp lib/PDF/API2/Resource/BaseFont.pm blib\lib\PDF\API2\Resource\BaseFont.pm
cp lib/PDF/API2/Resource/CIDFont.pm blib\lib\PDF\API2\Resource\CIDFont.pm
cp lib/PDF/API2/Resource/CIDFont/CJKFont.pm blib\lib\PDF\API2\Resource\CIDFont\CJKFont.pm
cp lib/PDF/API2/Resource.pm blib\lib\PDF\API2\Resource.pm
cp lib/PDF/API2/Basic/PDF/Page.pm blib\lib\PDF\API2\Basic\PDF\Page.pm
cp lib/PDF/API2/Outline.pm blib\lib\PDF\API2\Outline.pm
cp lib/PDF/API2/Basic/PDF/String.pm blib\lib\PDF\API2\Basic\PDF\String.pm
cp lib/PDF/API2/Basic/PDF/Objind.pm blib\lib\PDF\API2\Basic\PDF\Objind.pm
cp lib/PDF/API2/Basic/PDF/Utils.pm blib\lib\PDF\API2\Basic\PDF\Utils.pm
cp lib/PDF/API2/Resource/CIDFont/CJKFont/kozgopromediumacro.data blib\lib\PDF\API2\Resource\CIDFont\CJKFont\kozgopromediumacro.data
cp lib/PDF/API2/Resource/CIDFont/CJKFont/adobesongstdlightacro.data blib\lib\PDF\API2\Resource\CIDFont\CJKFont\adobesongstdlightacro.data
cp lib/PDF/API2/Resource/ColorSpace.pm blib\lib\PDF\API2\Resource\ColorSpace.pm
cp lib/PDF/API2/Resource/CIDFont/TrueType.pm blib\lib\PDF\API2\Resource\CIDFont\TrueType.pm
cp lib/PDF/API2/Resource/CIDFont/CJKFont/kozminproregularacro.data blib\lib\PDF\API2\Resource\CIDFont\CJKFont\kozminproregularacro.data
cp lib/PDF/API2/Resource/CIDFont/TrueType/FontFile.pm blib\lib\PDF\API2\Resource\CIDFont\TrueType\FontFile.pm
cp lib/PDF/API2/Resource/CIDFont/CJKFont/adobemyungjostdmediumacro.data blib\lib\PDF\API2\Resource\CIDFont\CJKFont\adobemyungjostdmediumacro.data
cp lib/PDF/API2/Resource/CIDFont/CMap/japanese.cmap blib\lib\PDF\API2\Resource\CIDFont\CMap\japanese.cmap
cp lib/PDF/API2/Resource/CIDFont/CMap/simplified.cmap blib\lib\PDF\API2\Resource\CIDFont\CMap\simplified.cmap
cp lib/PDF/API2/Resource/CIDFont/CMap/korean.cmap blib\lib\PDF\API2\Resource\CIDFont\CMap\korean.cmap
cp lib/PDF/API2/Resource/CIDFont/CMap/traditional.cmap blib\lib\PDF\API2\Resource\CIDFont\CMap\traditional.cmap
cp lib/PDF/API2/Resource/ExtGState.pm blib\lib\PDF\API2\Resource\ExtGState.pm
cp lib/PDF/API2/Resource/ColorSpace/Indexed/WebColor.pm blib\lib\PDF\API2\Resource\ColorSpace\Indexed\WebColor.pm
cp lib/PDF/API2/Resource/Font/CoreFont/courier.pm blib\lib\PDF\API2\Resource\Font\CoreFont\courier.pm
cp lib/PDF/API2/Resource/Font.pm blib\lib\PDF\API2\Resource\Font.pm
cp lib/PDF/API2/Resource/Font/BdFont.pm blib\lib\PDF\API2\Resource\Font\BdFont.pm
cp lib/PDF/API2/Resource/ColorSpace/DeviceN.pm blib\lib\PDF\API2\Resource\ColorSpace\DeviceN.pm
cp lib/PDF/API2/Resource/Font/CoreFont/bankgothic.pm blib\lib\PDF\API2\Resource\Font\CoreFont\bankgothic.pm
cp lib/PDF/API2/Resource/ColorSpace/Indexed/Hue.pm blib\lib\PDF\API2\Resource\ColorSpace\Indexed\Hue.pm
cp lib/PDF/API2/Resource/ColorSpace/Separation.pm blib\lib\PDF\API2\Resource\ColorSpace\Separation.pm
cp lib/PDF/API2/Resource/Font/CoreFont.pm blib\lib\PDF\API2\Resource\Font\CoreFont.pm
cp lib/PDF/API2/Resource/ColorSpace/Indexed.pm blib\lib\PDF\API2\Resource\ColorSpace\Indexed.pm
cp lib/PDF/API2/Resource/ColorSpace/Indexed/ACTFile.pm blib\lib\PDF\API2\Resource\ColorSpace\Indexed\ACTFile.pm
cp lib/PDF/API2/Resource/Colors.pm blib\lib\PDF\API2\Resource\Colors.pm
cp lib/PDF/API2/Resource/Font/CoreFont/helvetica.pm blib\lib\PDF\API2\Resource\Font\CoreFont\helvetica.pm
cp lib/PDF/API2/Resource/Font/CoreFont/courierboldoblique.pm blib\lib\PDF\API2\Resource\Font\CoreFont\courierboldoblique.pm
cp lib/PDF/API2/Resource/Font/CoreFont/helveticaoblique.pm blib\lib\PDF\API2\Resource\Font\CoreFont\helveticaoblique.pm
cp lib/PDF/API2/Resource/Font/CoreFont/helveticabold.pm blib\lib\PDF\API2\Resource\Font\CoreFont\helveticabold.pm
cp lib/PDF/API2/Resource/Font/CoreFont/georgiabold.pm blib\lib\PDF\API2\Resource\Font\CoreFont\georgiabold.pm
cp lib/PDF/API2/Resource/Font/CoreFont/courieroblique.pm blib\lib\PDF\API2\Resource\Font\CoreFont\courieroblique.pm
cp lib/PDF/API2/Resource/Font/CoreFont/georgiaitalic.pm blib\lib\PDF\API2\Resource\Font\CoreFont\georgiaitalic.pm
cp lib/PDF/API2/Resource/Font/CoreFont/georgiabolditalic.pm blib\lib\PDF\API2\Resource\Font\CoreFont\georgiabolditalic.pm
cp lib/PDF/API2/Resource/Font/CoreFont/helveticaboldoblique.pm blib\lib\PDF\API2\Resource\Font\CoreFont\helveticaboldoblique.pm
cp lib/PDF/API2/Resource/Font/CoreFont/courierbold.pm blib\lib\PDF\API2\Resource\Font\CoreFont\courierbold.pm
cp lib/PDF/API2/Resource/Font/CoreFont/georgia.pm blib\lib\PDF\API2\Resource\Font\CoreFont\georgia.pm
cp lib/PDF/API2/Resource/Font/CoreFont/timesbolditalic.pm blib\lib\PDF\API2\Resource\Font\CoreFont\timesbolditalic.pm
cp lib/PDF/API2/Resource/Font/CoreFont/trebuchetbolditalic.pm blib\lib\PDF\API2\Resource\Font\CoreFont\trebuchetbolditalic.pm
cp lib/PDF/API2/Resource/Font/CoreFont/verdanabold.pm blib\lib\PDF\API2\Resource\Font\CoreFont\verdanabold.pm
cp lib/PDF/API2/Resource/Font/CoreFont/trebuchetbold.pm blib\lib\PDF\API2\Resource\Font\CoreFont\trebuchetbold.pm
cp lib/PDF/API2/Resource/Font/CoreFont/symbol.pm blib\lib\PDF\API2\Resource\Font\CoreFont\symbol.pm
cp lib/PDF/API2/Resource/Font/CoreFont/timesitalic.pm blib\lib\PDF\API2\Resource\Font\CoreFont\timesitalic.pm
cp lib/PDF/API2/Resource/Font/CoreFont/verdana.pm blib\lib\PDF\API2\Resource\Font\CoreFont\verdana.pm
cp lib/PDF/API2/Resource/Font/CoreFont/timesbold.pm blib\lib\PDF\API2\Resource\Font\CoreFont\timesbold.pm
cp lib/PDF/API2/Resource/Font/CoreFont/trebuchet.pm blib\lib\PDF\API2\Resource\Font\CoreFont\trebuchet.pm
cp lib/PDF/API2/Resource/Font/CoreFont/trebuchetitalic.pm blib\lib\PDF\API2\Resource\Font\CoreFont\trebuchetitalic.pm
cp lib/PDF/API2/Resource/Font/CoreFont/timesroman.pm blib\lib\PDF\API2\Resource\Font\CoreFont\timesroman.pm
cp lib/PDF/API2/Resource/Font/CoreFont/wingdings.pm blib\lib\PDF\API2\Resource\Font\CoreFont\wingdings.pm
cp lib/PDF/API2/Resource/XObject/Form.pm blib\lib\PDF\API2\Resource\XObject\Form.pm
cp lib/PDF/API2/Resource/UniFont.pm blib\lib\PDF\API2\Resource\UniFont.pm
cp lib/PDF/API2/Resource/Glyphs.pm blib\lib\PDF\API2\Resource\Glyphs.pm
cp lib/PDF/API2/Resource/Font/Postscript.pm blib\lib\PDF\API2\Resource\Font\Postscript.pm
cp lib/PDF/API2/Resource/Shading.pm blib\lib\PDF\API2\Resource\Shading.pm
cp lib/PDF/API2/Resource/PaperSizes.pm blib\lib\PDF\API2\Resource\PaperSizes.pm
cp lib/PDF/API2/Resource/Font/CoreFont/verdanaitalic.pm blib\lib\PDF\API2\Resource\Font\CoreFont\verdanaitalic.pm
cp lib/PDF/API2/Resource/XObject.pm blib\lib\PDF\API2\Resource\XObject.pm
cp lib/PDF/API2/Resource/Pattern.pm blib\lib\PDF\API2\Resource\Pattern.pm
cp lib/PDF/API2/Resource/Font/CoreFont/zapfdingbats.pm blib\lib\PDF\API2\Resource\Font\CoreFont\zapfdingbats.pm
cp lib/PDF/API2/Resource/Font/CoreFont/verdanabolditalic.pm blib\lib\PDF\API2\Resource\Font\CoreFont\verdanabolditalic.pm
cp lib/PDF/API2/Resource/Font/CoreFont/webdings.pm blib\lib\PDF\API2\Resource\Font\CoreFont\webdings.pm
cp lib/PDF/API2/Resource/Font/SynFont.pm blib\lib\PDF\API2\Resource\Font\SynFont.pm
cp lib/PDF/API2/Resource/XObject/Form/BarCode/int2of5.pm blib\lib\PDF\API2\Resource\XObject\Form\BarCode\int2of5.pm
cp lib/PDF/API2/Resource/XObject/Image/GD.pm blib\lib\PDF\API2\Resource\XObject\Image\GD.pm
cp lib/PDF/API2/Resource/XObject/Form/Hybrid.pm blib\lib\PDF\API2\Resource\XObject\Form\Hybrid.pm
cp lib/PDF/API2/Resource/XObject/Image/JPEG.pm blib\lib\PDF\API2\Resource\XObject\Image\JPEG.pm
cp lib/PDF/API2/Resource/XObject/Image.pm blib\lib\PDF\API2\Resource\XObject\Image.pm
cp lib/PDF/API2/Resource/XObject/Image/GIF.pm blib\lib\PDF\API2\Resource\XObject\Image\GIF.pm
cp lib/PDF/API2/Resource/XObject/Form/BarCode/codabar.pm blib\lib\PDF\API2\Resource\XObject\Form\BarCode\codabar.pm
cp lib/PDF/API2/Resource/XObject/Form/BarCode.pm blib\lib\PDF\API2\Resource\XObject\Form\BarCode.pm
cp lib/PDF/API2/Resource/XObject/Image/PNG.pm blib\lib\PDF\API2\Resource\XObject\Image\PNG.pm
cp lib/PDF/API2/Resource/XObject/Form/BarCode/code3of9.pm blib\lib\PDF\API2\Resource\XObject\Form\BarCode\code3of9.pm
cp lib/PDF/API2/Resource/XObject/Form/BarCode/ean13.pm blib\lib\PDF\API2\Resource\XObject\Form\BarCode\ean13.pm
cp lib/PDF/API2/Resource/XObject/Form/BarCode/code128.pm blib\lib\PDF\API2\Resource\XObject\Form\BarCode\code128.pm
cp lib/PDF/API2/Resource/uniglyph.txt blib\lib\PDF\API2\Resource\uniglyph.txt
cp lib/PDF/API2/Util.pm blib\lib\PDF\API2\Util.pm
cp lib/PDF/API2/Resource/XObject/Image/PNM.pm blib\lib\PDF\API2\Resource\XObject\Image\PNM.pm
cp lib/PDF/API2/UniWrap.pm blib\lib\PDF\API2\UniWrap.pm
cp lib/PDF/API2/ViewerPreferences.pm blib\lib\PDF\API2\ViewerPreferences.pm
cp lib/PDF/API2/Resource/XObject/Image/TIFF.pm blib\lib\PDF\API2\Resource\XObject\Image\TIFF.pm
cp lib/PDF/API2/Resource/XObject/Image/TIFF/File.pm blib\lib\PDF\API2\Resource\XObject\Image\TIFF\File.pm
cp lib/PDF/API2/Win32.pm blib\lib\PDF\API2\Win32.pm
C:\"Strawberry\perl\bin\perl.exe" "-MExtUtils::Command::MM" "-MTest::Harness" "-e" "undef *Test::Harness::Switches; test_harness(0, 'blib\lib', 'blib\arch')" t/*.t
Use of implicit split to @_ is deprecated at C:\home\tennis\.cpanm\work\1639186627.8296\PDF-API2-2.043\blib\lib/PDF/API2/Content.pm line 2156.
Use of implicit split to @_ is deprecated at C:\home\tennis\.cpanm\work\1639186627.8296\PDF-API2-2.043\blib\lib/PDF/API2/Content.pm line 2207.
t/00-all-usable.t ........... ok
Use of implicit split to @_ is deprecated at C:\home\tennis\.cpanm\work\1639186627.8296\PDF-API2-2.043\blib\lib/PDF/API2/Content.pm line 2156.
Use of implicit split to @_ is deprecated at C:\home\tennis\.cpanm\work\1639186627.8296\PDF-API2-2.043\blib\lib/PDF/API2/Content.pm line 2207.
t/01-basic.t ................ ok
Use of implicit split to @_ is deprecated at C:\home\tennis\.cpanm\work\1639186627.8296\PDF-API2-2.043\blib\lib/PDF/API2/Content.pm line 2156.
Use of implicit split to @_ is deprecated at C:\home\tennis\.cpanm\work\1639186627.8296\PDF-API2-2.043\blib\lib/PDF/API2/Content.pm line 2207.
t/02-xrefstm.t .............. ok
Use of implicit split to @_ is deprecated at C:\home\tennis\.cpanm\work\1639186627.8296\PDF-API2-2.043\blib\lib/PDF/API2/Content.pm line 2156.
Use of implicit split to @_ is deprecated at C:\home\tennis\.cpanm\work\1639186627.8296\PDF-API2-2.043\blib\lib/PDF/API2/Content.pm line 2207.
t/03-xrefstm-index.t ........ ok
Use of implicit split to @_ is deprecated at C:\home\tennis\.cpanm\work\1639186627.8296\PDF-API2-2.043\blib\lib/PDF/API2/Content.pm line 2156.
Use of implicit split to @_ is deprecated at C:\home\tennis\.cpanm\work\1639186627.8296\PDF-API2-2.043\blib\lib/PDF/API2/Content.pm line 2207.
t/annotate.t ................ ok
t/author-critic.t ........... skipped: these tests are for testing by the author
t/author-pod-syntax.t ....... skipped: these tests are for testing by the author
Use of implicit split to @_ is deprecated at C:\home\tennis\.cpanm\work\1639186627.8296\PDF-API2-2.043\blib\lib/PDF/API2/Content.pm line 2156.
Use of implicit split to @_ is deprecated at C:\home\tennis\.cpanm\work\1639186627.8296\PDF-API2-2.043\blib\lib/PDF/API2/Content.pm line 2207.
t/barcode.t ................. ok
Use of implicit split to @_ is deprecated at C:\home\tennis\.cpanm\work\1639186627.8296\PDF-API2-2.043\blib\lib/PDF/API2/Content.pm line 2156.
Use of implicit split to @_ is deprecated at C:\home\tennis\.cpanm\work\1639186627.8296\PDF-API2-2.043\blib\lib/PDF/API2/Content.pm line 2207.
t/bbox.t .................... ok
Use of implicit split to @_ is deprecated at C:\home\tennis\.cpanm\work\1639186627.8296\PDF-API2-2.043\blib\lib/PDF/API2/Content.pm line 2156.
Use of implicit split to @_ is deprecated at C:\home\tennis\.cpanm\work\1639186627.8296\PDF-API2-2.043\blib\lib/PDF/API2/Content.pm line 2207.
t/circular-references.t ..... ok
Use of implicit split to @_ is deprecated at C:\home\tennis\.cpanm\work\1639186627.8296\PDF-API2-2.043\blib\lib/PDF/API2/Content.pm line 2156.
Use of implicit split to @_ is deprecated at C:\home\tennis\.cpanm\work\1639186627.8296\PDF-API2-2.043\blib\lib/PDF/API2/Content.pm line 2207.
t/cmap.t .................... ok
Use of implicit split to @_ is deprecated at C:\home\tennis\.cpanm\work\1639186627.8296\PDF-API2-2.043\blib\lib/PDF/API2/Content.pm line 2156.
Use of implicit split to @_ is deprecated at C:\home\tennis\.cpanm\work\1639186627.8296\PDF-API2-2.043\blib\lib/PDF/API2/Content.pm line 2207.
t/content-deprecated.t ...... ok
Use of implicit split to @_ is deprecated at C:\home\tennis\.cpanm\work\1639186627.8296\PDF-API2-2.043\blib\lib/PDF/API2/Content.pm line 2156.
Use of implicit split to @_ is deprecated at C:\home\tennis\.cpanm\work\1639186627.8296\PDF-API2-2.043\blib\lib/PDF/API2/Content.pm line 2207.
t/content.t ................. ok
Use of implicit split to @_ is deprecated at C:\home\tennis\.cpanm\work\1639186627.8296\PDF-API2-2.043\blib\lib/PDF/API2/Content.pm line 2156.
Use of implicit split to @_ is deprecated at C:\home\tennis\.cpanm\work\1639186627.8296\PDF-API2-2.043\blib\lib/PDF/API2/Content.pm line 2207.
t/cs-webcolor.t ............. ok
Use of implicit split to @_ is deprecated at C:\home\tennis\.cpanm\work\1639186627.8296\PDF-API2-2.043\blib\lib/PDF/API2/Content.pm line 2156.
Use of implicit split to @_ is deprecated at C:\home\tennis\.cpanm\work\1639186627.8296\PDF-API2-2.043\blib\lib/PDF/API2/Content.pm line 2207.
t/deprecations.t ............ ok
Use of implicit split to @_ is deprecated at C:\home\tennis\.cpanm\work\1639186627.8296\PDF-API2-2.043\blib\lib/PDF/API2/Content.pm line 2156.
Use of implicit split to @_ is deprecated at C:\home\tennis\.cpanm\work\1639186627.8296\PDF-API2-2.043\blib\lib/PDF/API2/Content.pm line 2207.
t/extgstate.t ............... ok
t/filter-ascii85decode.t .... ok
t/filter-asciihexdecode.t ... ok
t/filter-runlengthdecode.t .. ok
Use of implicit split to @_ is deprecated at C:\home\tennis\.cpanm\work\1639186627.8296\PDF-API2-2.043\blib\lib/PDF/API2/Content.pm line 2156.
Use of implicit split to @_ is deprecated at C:\home\tennis\.cpanm\work\1639186627.8296\PDF-API2-2.043\blib\lib/PDF/API2/Content.pm line 2207.
t/font-corefont.t ........... ok
Use of implicit split to @_ is deprecated at C:\home\tennis\.cpanm\work\1639186627.8296\PDF-API2-2.043\blib\lib/PDF/API2/Content.pm line 2156.
Use of implicit split to @_ is deprecated at C:\home\tennis\.cpanm\work\1639186627.8296\PDF-API2-2.043\blib\lib/PDF/API2/Content.pm line 2207.
t/font-synfont.t ............ ok
Use of implicit split to @_ is deprecated at C:\home\tennis\.cpanm\work\1639186627.8296\PDF-API2-2.043\blib\lib/PDF/API2/Content.pm line 2156.
Use of implicit split to @_ is deprecated at C:\home\tennis\.cpanm\work\1639186627.8296\PDF-API2-2.043\blib\lib/PDF/API2/Content.pm line 2207.
t/font-ttf.t ................ ok
Use of implicit split to @_ is deprecated at C:\home\tennis\.cpanm\work\1639186627.8296\PDF-API2-2.043\blib\lib/PDF/API2/Content.pm line 2156.
Use of implicit split to @_ is deprecated at C:\home\tennis\.cpanm\work\1639186627.8296\PDF-API2-2.043\blib\lib/PDF/API2/Content.pm line 2207.
t/font-type1.t .............. ok
Use of implicit split to @_ is deprecated at C:\home\tennis\.cpanm\work\1639186627.8296\PDF-API2-2.043\blib\lib/PDF/API2/Content.pm line 2156.
Use of implicit split to @_ is deprecated at C:\home\tennis\.cpanm\work\1639186627.8296\PDF-API2-2.043\blib\lib/PDF/API2/Content.pm line 2207.
t/gd.t ...................... ok
Use of implicit split to @_ is deprecated at C:\home\tennis\.cpanm\work\1639186627.8296\PDF-API2-2.043\blib\lib/PDF/API2/Content.pm line 2156.
Use of implicit split to @_ is deprecated at C:\home\tennis\.cpanm\work\1639186627.8296\PDF-API2-2.043\blib\lib/PDF/API2/Content.pm line 2207.
t/gif.t ..................... ok
Use of implicit split to @_ is deprecated at C:\home\tennis\.cpanm\work\1639186627.8296\PDF-API2-2.043\blib\lib/PDF/API2/Content.pm line 2156.
Use of implicit split to @_ is deprecated at C:\home\tennis\.cpanm\work\1639186627.8296\PDF-API2-2.043\blib\lib/PDF/API2/Content.pm line 2207.
t/info.t .................... ok
Use of implicit split to @_ is deprecated at C:\home\tennis\.cpanm\work\1639186627.8296\PDF-API2-2.043\blib\lib/PDF/API2/Content.pm line 2156.
Use of implicit split to @_ is deprecated at C:\home\tennis\.cpanm\work\1639186627.8296\PDF-API2-2.043\blib\lib/PDF/API2/Content.pm line 2207.
t/jpg.t ..................... ok
Use of implicit split to @_ is deprecated at C:\home\tennis\.cpanm\work\1639186627.8296\PDF-API2-2.043\blib\lib/PDF/API2/Content.pm line 2156.
Use of implicit split to @_ is deprecated at C:\home\tennis\.cpanm\work\1639186627.8296\PDF-API2-2.043\blib\lib/PDF/API2/Content.pm line 2207.
t/lite.t .................... ok
Use of implicit split to @_ is deprecated at C:\home\tennis\.cpanm\work\1639186627.8296\PDF-API2-2.043\blib\lib/PDF/API2/Content.pm line 2156.
Use of implicit split to @_ is deprecated at C:\home\tennis\.cpanm\work\1639186627.8296\PDF-API2-2.043\blib\lib/PDF/API2/Content.pm line 2207.
t/named-destinations.t ...... ok
Use of implicit split to @_ is deprecated at C:\home\tennis\.cpanm\work\1639186627.8296\PDF-API2-2.043\blib\lib/PDF/API2/Content.pm line 2156.
Use of implicit split to @_ is deprecated at C:\home\tennis\.cpanm\work\1639186627.8296\PDF-API2-2.043\blib\lib/PDF/API2/Content.pm line 2207.
t/outline.t ................. ok
Use of implicit split to @_ is deprecated at C:\home\tennis\.cpanm\work\1639186627.8296\PDF-API2-2.043\blib\lib/PDF/API2/Content.pm line 2156.
Use of implicit split to @_ is deprecated at C:\home\tennis\.cpanm\work\1639186627.8296\PDF-API2-2.043\blib\lib/PDF/API2/Content.pm line 2207.
t/page.t .................... ok
Use of implicit split to @_ is deprecated at C:\home\tennis\.cpanm\work\1639186627.8296\PDF-API2-2.043\blib\lib/PDF/API2/Content.pm line 2156.
Use of implicit split to @_ is deprecated at C:\home\tennis\.cpanm\work\1639186627.8296\PDF-API2-2.043\blib\lib/PDF/API2/Content.pm line 2207.
t/papersizes.t .............. ok
Use of implicit split to @_ is deprecated at C:\home\tennis\.cpanm\work\1639186627.8296\PDF-API2-2.043\blib\lib/PDF/API2/Content.pm line 2156.
Use of implicit split to @_ is deprecated at C:\home\tennis\.cpanm\work\1639186627.8296\PDF-API2-2.043\blib\lib/PDF/API2/Content.pm line 2207.
t/pdf.t ..................... ok
Use of implicit split to @_ is deprecated at C:\home\tennis\.cpanm\work\1639186627.8296\PDF-API2-2.043\blib\lib/PDF/API2/Content.pm line 2156.
Use of implicit split to @_ is deprecated at C:\home\tennis\.cpanm\work\1639186627.8296\PDF-API2-2.043\blib\lib/PDF/API2/Content.pm line 2207.
Use of uninitialized value in vec at C:\home\tennis\.cpanm\work\1639186627.8296\PDF-API2-2.043\blib\lib/PDF/API2/Resource/XObject/Image/PNG.pm line 269.
Use of uninitialized value in scalar assignment at C:\home\tennis\.cpanm\work\1639186627.8296\PDF-API2-2.043\blib\lib/PDF/API2/Resource/XObject/Image/PNG.pm line 269.
Use of uninitialized value in vec at C:\home\tennis\.cpanm\work\1639186627.8296\PDF-API2-2.043\blib\lib/PDF/API2/Resource/XObject/Image/PNG.pm line 272.
Use of uninitialized value in scalar assignment at C:\home\tennis\.cpanm\work\1639186627.8296\PDF-API2-2.043\blib\lib/PDF/API2/Resource/XObject/Image/PNG.pm line 272.
Use of uninitialized value in vec at C:\home\tennis\.cpanm\work\1639186627.8296\PDF-API2-2.043\blib\lib/PDF/API2/Resource/XObject/Image/PNG.pm line 269.
Use of uninitialized value in scalar assignment at C:\home\tennis\.cpanm\work\1639186627.8296\PDF-API2-2.043\blib\lib/PDF/API2/Resource/XObject/Image/PNG.pm line 269.
Use of uninitialized value in vec at C:\home\tennis\.cpanm\work\1639186627.8296\PDF-API2-2.043\blib\lib/PDF/API2/Resource/XObject/Image/PNG.pm line 272.
Use of uninitialized value in scalar assignment at C:\home\tennis\.cpanm\work\1639186627.8296\PDF-API2-2.043\blib\lib/PDF/API2/Resource/XObject/Image/PNG.pm line 272.
t/png.t ..................... ok
Use of implicit split to @_ is deprecated at C:\home\tennis\.cpanm\work\1639186627.8296\PDF-API2-2.043\blib\lib/PDF/API2/Content.pm line 2156.
Use of implicit split to @_ is deprecated at C:\home\tennis\.cpanm\work\1639186627.8296\PDF-API2-2.043\blib\lib/PDF/API2/Content.pm line 2207.
t/pnm.t ..................... ok
t/rt120397.t ................ ok
Use of implicit split to @_ is deprecated at C:\home\tennis\.cpanm\work\1639186627.8296\PDF-API2-2.043\blib\lib/PDF/API2/Content.pm line 2156.
Use of implicit split to @_ is deprecated at C:\home\tennis\.cpanm\work\1639186627.8296\PDF-API2-2.043\blib\lib/PDF/API2/Content.pm line 2207.
t/rt120450.t ................ ok
Use of implicit split to @_ is deprecated at C:\home\tennis\.cpanm\work\1639186627.8296\PDF-API2-2.043\blib\lib/PDF/API2/Content.pm line 2156.
Use of implicit split to @_ is deprecated at C:\home\tennis\.cpanm\work\1639186627.8296\PDF-API2-2.043\blib\lib/PDF/API2/Content.pm line 2207.
t/rt126274.t ................ ok
Use of implicit split to @_ is deprecated at C:\home\tennis\.cpanm\work\1639186627.8296\PDF-API2-2.043\blib\lib/PDF/API2/Content.pm line 2156.
Use of implicit split to @_ is deprecated at C:\home\tennis\.cpanm\work\1639186627.8296\PDF-API2-2.043\blib\lib/PDF/API2/Content.pm line 2207.
t/rt67767.t ................. ok
Use of implicit split to @_ is deprecated at C:\home\tennis\.cpanm\work\1639186627.8296\PDF-API2-2.043\blib\lib/PDF/API2/Content.pm line 2156.
Use of implicit split to @_ is deprecated at C:\home\tennis\.cpanm\work\1639186627.8296\PDF-API2-2.043\blib\lib/PDF/API2/Content.pm line 2207.
t/rt69503.t ................. ok
t/string.t .................. ok
Use of implicit split to @_ is deprecated at C:\home\tennis\.cpanm\work\1639186627.8296\PDF-API2-2.043\blib\lib/PDF/API2/Content.pm line 2156.
Use of implicit split to @_ is deprecated at C:\home\tennis\.cpanm\work\1639186627.8296\PDF-API2-2.043\blib\lib/PDF/API2/Content.pm line 2207.
t/text.t .................... ok
Use of implicit split to @_ is deprecated at C:\home\tennis\.cpanm\work\1639186627.8296\PDF-API2-2.043\blib\lib/PDF/API2/Content.pm line 2156.
Use of implicit split to @_ is deprecated at C:\home\tennis\.cpanm\work\1639186627.8296\PDF-API2-2.043\blib\lib/PDF/API2/Content.pm line 2207.
t/tiff.t .................... ok
Use of implicit split to @_ is deprecated at C:\home\tennis\.cpanm\work\1639186627.8296\PDF-API2-2.043\blib\lib/PDF/API2/Content.pm line 2156.
Use of implicit split to @_ is deprecated at C:\home\tennis\.cpanm\work\1639186627.8296\PDF-API2-2.043\blib\lib/PDF/API2/Content.pm line 2207.
t/version.t ................. ok
Use of implicit split to @_ is deprecated at C:\home\tennis\.cpanm\work\1639186627.8296\PDF-API2-2.043\blib\lib/PDF/API2/Content.pm line 2156.
Use of implicit split to @_ is deprecated at C:\home\tennis\.cpanm\work\1639186627.8296\PDF-API2-2.043\blib\lib/PDF/API2/Content.pm line 2207.
t/viewer-preferences.t ...... ok
All tests successful.

Test Summary Report
-------------------
t/00-all-usable.t         (Wstat: 0 Tests: 104 Failed: 0)
  TODO passed:   104
Files=45, Tests=710, 33 wallclock secs ( 0.58 usr +  0.17 sys =  0.75 CPU)
Result: PASS

------------------------------
PREREQUISITES
------------------------------

Prerequisite modules loaded:

    No requirements found

------------------------------
ENVIRONMENT AND OTHER CONTEXT
------------------------------

Environment variables:

    COMSPEC = C:\windows\system32\cmd.exe
    NUMBER_OF_PROCESSORS = 4
    PATH = C:\home\tennis\perl5\bin;C:\windows\system32;C:\windows;C:\windows\System32\Wbem;C:\windows\System32\WindowsPowerShell\v1.0\;C:\Strawberry\c\bin;C:\Strawberry\perl\site\bin;C:\Strawberry\perl\bin
    PERL5LIB = C:\home\tennis\perl5\lib\perl5
    PERL_LOCAL_LIB_ROOT = C:\home\tennis\perl5
    PERL_MB_OPT = --install_base "C:\\home\\tennis\\perl5"
    PERL_MM_OPT = INSTALL_BASE=C:\\home\\tennis\\perl5
    PROCESSOR_IDENTIFIER = x86 Family 6 Model 37 Stepping 5, GenuineIntel
    TEMP = C:\Users\user\AppData\Local\Temp
    TERM = dumb

Perl special variables (and OS-specific diagnostics, for MSWin32):

    EGID = 0
    EUID = 0
    EXECUTABLE_NAME = C:\Strawberry\perl\bin\perl.exe
    GID = 0
    UID = 0
    Win32::FsType = NTFS
    Win32::GetOSName = Win7
    Win32::GetOSVersion = Service Pack 1, 6, 1, 7601, 2, 1, 0, 256, 1
    Win32::IsAdminUser = 0

Perl module toolchain versions installed:

    Module              Have    
    ------------------- --------
    CPAN                1.9600  
    CPAN::Meta          2.150010
    Cwd                 3.62    
    ExtUtils::CBuilder  0.280224
    ExtUtils::Command   7.63_08 
    ExtUtils::Install   2.14    
    ExtUtils::MakeMaker 7.63_08 
    ExtUtils::Manifest  1.70    
    ExtUtils::ParseXS   3.30    
    File::Spec          3.62    
    JSON                2.94    
    JSON::PP            4.06    
    Module::Build       0.42_28 
    Module::Signature   0.66    
    Parse::CPAN::Meta   2.150010
    Test::Harness       3.42    
    Test::More          1.302188
    YAML                1.26    
    YAML::Syck          n/a     
    version             0.9924  


--

Summary of my perl5 (revision 5 version 10 subversion 1) configuration:
   
  Platform:
    osname=MSWin32, osvers=5.1, archname=MSWin32-x86-multi-thread
    uname='Win32 strawberryperl 5.10.1.5 #1 Sun May 15 09:44:53 2011 i386'
    config_args='undef'
    hint=recommended, useposix=true, d_sigaction=undef
    useithreads=define, usemultiplicity=define
    useperlio=define, d_sfio=undef, uselargefiles=define, usesocks=undef
    use64bitint=undef, use64bitall=undef, uselongdouble=undef
    usemymalloc=n, bincompat5005=undef
  Compiler:
    cc='gcc', ccflags =' -s -O2 -DWIN32 -DHAVE_DES_FCRYPT  -DUSE_SITECUSTOMIZE -DPERL_IMPLICIT_CONTEXT -DPERL_IMPLICIT_SYS -fno-strict-aliasing -DPERL_MSVCRT_READFIX',
    optimize='-s -O2',
    cppflags='-DWIN32'
    ccversion='', gccversion='3.4.5', gccosandvers=''
    intsize=4, longsize=4, ptrsize=4, doublesize=8, byteorder=1234
    d_longlong=undef, longlongsize=8, d_longdbl=define, longdblsize=12
    ivtype='long', ivsize=4, nvtype='double', nvsize=8, Off_t='long long', lseeksize=8
    alignbytes=8, prototype=define
  Linker and Libraries:
    ld='g++', ldflags ='-s -L"C:\strawberry\perl\lib\CORE" -L"C:\strawberry\c\lib"'
    libpth=C:\strawberry\c\lib
    libs= -lmoldname -lkernel32 -luser32 -lgdi32 -lwinspool -lcomdlg32 -ladvapi32 -lshell32 -lole32 -loleaut32 -lnetapi32 -luuid -lws2_32 -lmpr -lwinmm -lversion -lodbc32 -lodbccp32
    perllibs= -lmoldname -lkernel32 -luser32 -lgdi32 -lwinspool -lcomdlg32 -ladvapi32 -lshell32 -lole32 -loleaut32 -lnetapi32 -luuid -lws2_32 -lmpr -lwinmm -lversion -lodbc32 -lodbccp32
    libc=, so=dll, useshrplib=true, libperl=libperl510.a
    gnulibc_version=''
  Dynamic Linking:
    dlsrc=dl_win32.xs, dlext=dll, d_dlsymun=undef, ccdlflags=' '
    cccdlflags=' ', lddlflags='-mdll -s -L"C:\strawberry\perl\lib\CORE" -L"C:\strawberry\c\lib"'


Characteristics of this binary (from libperl): 
  Compile-time options: MULTIPLICITY PERL_DONT_CREATE_GVSV
                        PERL_IMPLICIT_CONTEXT PERL_IMPLICIT_SYS
                        PERL_MALLOC_WRAP PL_OP_SLAB_ALLOC USE_ITHREADS
                        USE_LARGE_FILES USE_PERLIO USE_SITECUSTOMIZE
  Built under MSWin32
  Compiled at May 15 2011 09:50:23
  %ENV:
    PERL5LIB="C:\home\tennis\perl5\lib\perl5"
    PERL_LOCAL_LIB_ROOT="C:\home\tennis\perl5"
    PERL_MB_OPT="--install_base "C:\\home\\tennis\\perl5""
    PERL_MM_OPT="INSTALL_BASE=C:\\home\\tennis\\perl5"
  @INC:
    C:\home\tennis\perl5\lib\perl5/MSWin32-x86-multi-thread
    C:\home\tennis\perl5\lib\perl5
    C:/Strawberry/perl/lib
    C:/Strawberry/perl/site/lib
    C:\strawberry\perl\vendor\lib
    .