Try-Tiny v0.32 Perl 5 v5.41.2 x86_64-cygwin
- Status
- Pass
- From
- Peter John Acklam (PJACKLAM)
- Dist
-
Try-Tiny v0.32
- Platform
- Perl 5 v5.41.2 x86_64-cygwin
- Date
- 2024-08-21 06:15:43
- ID
- fc0e2f06-70b3-1014-bca4-991fa16386a5
This distribution has been tested as part of the CPAN Testers
project, supporting the Perl programming language. See
http://wiki.cpantesters.org/ for more information or email
questions to cpan-testers-discuss@perl.org
--
Dear Karen Etheridge,
This is a computer-generated report for Try-Tiny-0.32
on perl 5.41.2, created by CPAN-Reporter-1.2020.
Thank you for uploading your work to CPAN. Congratulations!
All tests were successful.
Sections of this report:
* Tester comments
* Program output
* Prerequisites
* Environment and other context
------------------------------
TESTER COMMENTS
------------------------------
Additional comments from tester:
this report is from an automated smoke testing program
and was not reviewed by a human for accuracy
------------------------------
PROGRAM OUTPUT
------------------------------
Output from '/usr/bin/make test':
PERL_DL_NONLAZY=1 "/cygdrive/h/opt/perl5/cygwin_nt-10.0/3.5.3/x86_64/perl/5.41.2/x86_64-cygwin/bin/perl5.41.2.exe" "-MExtUtils::Command::MM" "-MTest::Harness" "-e" "undef *Test::Harness::Switches; test_harness(0, 'blib/lib', 'blib/arch')" t/*.t
#
# Versions for all modules listed in MYMETA.json (including optional ones):
#
# === Configure Requires ===
#
# Module Want Have
# ------------------- ----- --------
# ExtUtils::MakeMaker any 7.70
# perl 5.006 5.041002
#
# === Configure Suggests ===
#
# Module Want Have
# -------- ------- ----
# JSON::PP 2.27300 4.16
#
# === Build Requires ===
#
# Module Want Have
# ------------------- ---- ----
# ExtUtils::MakeMaker any 7.70
#
# === Test Requires ===
#
# Module Want Have
# ------------------- ----- --------
# ExtUtils::MakeMaker any 7.70
# File::Spec any 3.92
# Test::More any 1.302199
# if any 0.0610
# perl 5.006 5.041002
#
# === Test Recommends ===
#
# Module Want Have
# ---------- -------- --------
# CPAN::Meta 2.120900 2.150010
#
# === Test Suggests ===
#
# Module Want Have
# ------------------------ ----- -------
# CPAN::Meta::Check 0.011 missing
# CPAN::Meta::Requirements any 2.143
# Capture::Tiny 0.12 0.48
#
# === Runtime Requires ===
#
# Module Want Have
# -------- ----- --------
# Carp any 1.54
# Exporter 5.57 5.78
# constant any 1.33
# perl 5.006 5.041002
# strict any 1.13
# warnings any 1.70
#
# === Runtime Suggests ===
#
# Module Want Have
# --------- ---- -------
# Sub::Name 0.08 missing
# Sub::Util any 1.63
#
# === Other Modules ===
#
# Module Have
# --------------- -------
# Encode 3.21
# File::Temp 0.2311
# JSON::PP 4.16
# Module::Runtime 0.016
# Pod::Coverage missing
# Sub::Name missing
# YAML 1.31
# autodie 2.37
#
t/00-report-prereqs.t .......... ok
t/basic.t ...................... ok
t/context.t .................... ok
t/erroneous_usage.t ............ ok
t/finally.t .................... ok
given is deprecated at t/given_when.t line 20.
when is deprecated at t/given_when.t line 21.
t/given_when.t ................. ok
t/global_destruction_forked.t .. ok
t/global_destruction_load.t .... ok
t/named.t ...................... ok
when is deprecated at t/when.t line 28.
when is deprecated at t/when.t line 29.
t/when.t ....................... ok
t/zzz-check-breaks.t ........... ok
All tests successful.
Files=11, Tests=107, 44 wallclock secs ( 0.20 usr 0.64 sys + 5.77 cusr 29.58 csys = 36.19 CPU)
Result: PASS
------------------------------
PREREQUISITES
------------------------------
Prerequisite modules loaded:
requires:
Module Need Have
------------------------ -------- --------
Carp 0 1.54
constant 0 1.33
Exporter 5.57 5.78
perl 5.006 5.041002
strict 0 1.13
warnings 0 1.70
build_requires:
Module Need Have
------------------------ -------- --------
ExtUtils::MakeMaker 0 7.70
File::Spec 0 3.92
if 0 0.0610
Test::More 0 1.302199
configure_requires:
Module Need Have
------------------------ -------- --------
ExtUtils::MakeMaker 0 7.70
perl 5.006 5.041002
opt_requires:
Module Need Have
------------------------ -------- --------
! Sub::Name 0.08 n/a
Sub::Util 0 1.63
opt_build_requires:
Module Need Have
------------------------ -------- --------
Capture::Tiny 0.12 0.48
CPAN::Meta 2.120900 2.150010
! CPAN::Meta::Check 0.011 n/a
CPAN::Meta::Requirements 0 2.143
------------------------------
ENVIRONMENT AND OTHER CONTEXT
------------------------------
Environment variables:
AUTOMATED_TESTING = 1
COMSPEC = C:\WINDOWS\system32\cmd.exe
NUMBER_OF_PROCESSORS = 8
PATH = /opt/perl5/cygwin_nt-10.0/3.5.3/x86_64/perl/5.41.2/x86_64-cygwin/bin:/opt/perl5/cygwin_nt-10.0/3.5.3/x86_64/perl/5.41.2/x86_64-cygwin/local/bin:/usr/lib/lapack:/usr/local/bin:/usr/bin:/bin
PERL5LIB = /opt/perl5/cygwin_nt-10.0/3.5.3/x86_64/perl/5.41.2/x86_64-cygwin/local/lib/perl5:/opt/perl5/cygwin_nt-10.0/3.5.3/x86_64/perl/5.41.2/x86_64-cygwin/local/lib/site_perl:/opt/perl5/cygwin_nt-10.0/3.5.3/x86_64/perl/5.41.2/x86_64-cygwin/local/lib
PERL5OPT =
PERL5_CPANPLUS_IS_RUNNING = 55534
PERL5_CPAN_IS_RUNNING = 55534
PERL_CANARY_STABILITY_NOPROMPT = 1
PERL_CPAN_REPORTER_CONFIG = /cygdrive/d/home/peter/.cpanreporter/config-cygwin-rigel.ini
PERL_EXTUTILS_AUTOINSTALL = 1
PERL_MB_OPT = --install_base /opt/perl5/cygwin_nt-10.0/3.5.3/x86_64/perl/5.41.2/x86_64-cygwin/local
PERL_MM_OPT = INSTALL_BASE=/opt/perl5/cygwin_nt-10.0/3.5.3/x86_64/perl/5.41.2/x86_64-cygwin/local
PERL_MM_USE_DEFAULT = 1
PERL_TEST_CRITIC = 1
PERL_TEST_CRITIC = 1
PERL_TEST_POD = 1
PERL_TEST_POD = 1
PERL_USE_UNSAFE_INC = 1
POD_TESTING = 1
POD_TESTS = 1
PROCESSOR_IDENTIFIER = Intel64 Family 6 Model 42 Stepping 7, GenuineIntel
SHELL = /bin/bash
TEMP = /tmp
TERM = xterm
Perl special variables (and OS-specific diagnostics, for MSWin32):
$^X = /cygdrive/h/opt/perl5/cygwin_nt-10.0/3.5.3/x86_64/perl/5.41.2/x86_64-cygwin/bin/perl5.41.2
$UID/$EUID = 197609 / 197609
$GID = 197609 401408 545 4 66049 11 15 68380 113 4095 66048 262180
$EGID = 197609 401408 545 4 66049 11 15 68380 113 4095 66048 262180
Perl module toolchain versions installed:
Module Have
------------------- --------
CPAN 2.36
CPAN::Meta 2.150010
Cwd 3.92
ExtUtils::CBuilder 0.280240
ExtUtils::Command 7.70
ExtUtils::Install 2.22
ExtUtils::MakeMaker 7.70
ExtUtils::Manifest 1.75
ExtUtils::ParseXS 3.52
File::Spec 3.92
JSON n/a
JSON::PP 4.16
Module::Build 0.4234
Module::Signature n/a
Parse::CPAN::Meta 2.150010
Test2 1.302199
Test::Harness 3.48
Test::More 1.302199
YAML 1.31
YAML::Syck n/a
version 0.9930
--
Summary of my perl5 (revision 5 version 41 subversion 2) configuration:
Platform:
osname=cygwin
osvers=3.5.3-1.x86_64
archname=x86_64-cygwin
uname='cygwin_nt-10.0-19045 rigel 3.5.3-1.x86_64 2024-04-03 17:25 utc x86_64 cygwin '
config_args='-de -Dmksymlinks -Dusedevel -Uinc_version_list -Uinstallusrbinperl -Uusethreads -Uusemultiplicity -Dprefix=/opt/perl5/cygwin_nt-10.0/3.5.3/x86_64/perl/5.41.2/x86_64-cygwin -Darchname=x86_64-cygwin'
hint=recommended
useposix=true
d_sigaction=define
useithreads=undef
usemultiplicity=undef
use64bitint=define
use64bitall=define
uselongdouble=undef
usemymalloc=n
default_inc_excludes_dot=define
Compiler:
cc='gcc'
ccflags ='-U__STRICT_ANSI__ -D_GNU_SOURCE -fwrapv -fno-strict-aliasing -pipe -fstack-protector-strong -D_FORTIFY_SOURCE=2'
optimize='-O3'
cppflags='-U__STRICT_ANSI__ -D_GNU_SOURCE -fwrapv -fno-strict-aliasing -pipe -fstack-protector-strong'
ccversion=''
gccversion='12.4.0'
gccosandvers=''
intsize=4
longsize=8
ptrsize=8
doublesize=8
byteorder=12345678
doublekind=3
d_longlong=define
longlongsize=8
d_longdbl=define
longdblsize=16
longdblkind=3
ivtype='long'
ivsize=8
nvtype='double'
nvsize=8
Off_t='off_t'
lseeksize=8
alignbytes=8
prototype=define
Linker and Libraries:
ld='g++'
ldflags =' -Wl,--enable-auto-import -Wl,--export-all-symbols -Wl,--enable-auto-image-base -fstack-protector-strong -L/usr/local/lib'
libpth=/usr/lib /usr/lib/w32api /usr/local/lib /lib
libs=-lpthread -ldl -lcrypt
perllibs=-lpthread -ldl -lcrypt
libc=/usr/lib/libcygwin.a
so=dll
useshrplib=true
libperl=cygperl5_41_2.dll
gnulibc_version=''
Dynamic Linking:
dlsrc=dl_dlopen.xs
dlext=dll
d_dlsymun=undef
ccdlflags=' '
cccdlflags=' '
lddlflags=' --shared -Wl,--enable-auto-import -Wl,--export-all-symbols -Wl,--enable-auto-image-base -L/usr/local/lib -fstack-protector-strong'
Characteristics of this binary (from libperl):
Compile-time options:
HAS_LONG_DOUBLE
HAS_STRTOLD
HAS_TIMES
PERLIO_LAYERS
PERL_COPY_ON_WRITE
PERL_DONT_CREATE_GVSV
PERL_HASH_FUNC_SIPHASH13
PERL_HASH_USE_SBOX32
PERL_MALLOC_WRAP
PERL_OP_PARENT
PERL_PRESERVE_IVUV
PERL_USE_DEVEL
PERL_USE_SAFE_PUTENV
USE_64_BIT_ALL
USE_64_BIT_INT
USE_LARGE_FILES
USE_LOCALE
USE_LOCALE_COLLATE
USE_LOCALE_CTYPE
USE_LOCALE_NUMERIC
USE_LOCALE_TIME
USE_PERLIO
USE_PERL_ATOF
Built under cygwin
Compiled at Aug 19 2024 13:00:42
%ENV:
PERL5LIB="/opt/perl5/cygwin_nt-10.0/3.5.3/x86_64/perl/5.41.2/x86_64-cygwin/local/lib/perl5:/opt/perl5/cygwin_nt-10.0/3.5.3/x86_64/perl/5.41.2/x86_64-cygwin/local/lib/site_perl:/opt/perl5/cygwin_nt-10.0/3.5.3/x86_64/perl/5.41.2/x86_64-cygwin/local/lib"
PERL5OPT=""
PERL5_CPANPLUS_IS_RUNNING="55534"
PERL5_CPAN_IS_RUNNING="55534"
PERL_CANARY_STABILITY_NOPROMPT="1"
PERL_CPAN_REPORTER_CONFIG="/cygdrive/d/home/peter/.cpanreporter/config-cygwin-rigel.ini"
PERL_EXTUTILS_AUTOINSTALL="1"
PERL_MB_OPT="--install_base /opt/perl5/cygwin_nt-10.0/3.5.3/x86_64/perl/5.41.2/x86_64-cygwin/local"
PERL_MM_OPT="INSTALL_BASE=/opt/perl5/cygwin_nt-10.0/3.5.3/x86_64/perl/5.41.2/x86_64-cygwin/local"
PERL_MM_USE_DEFAULT="1"
PERL_TEST_CRITIC="1"
PERL_TEST_POD="1"
PERL_USE_UNSAFE_INC="1"
@INC:
/opt/perl5/cygwin_nt-10.0/3.5.3/x86_64/perl/5.41.2/x86_64-cygwin/local/lib/perl5/x86_64-cygwin
/opt/perl5/cygwin_nt-10.0/3.5.3/x86_64/perl/5.41.2/x86_64-cygwin/local/lib/perl5
/opt/perl5/cygwin_nt-10.0/3.5.3/x86_64/perl/5.41.2/x86_64-cygwin/local/lib/site_perl
/opt/perl5/cygwin_nt-10.0/3.5.3/x86_64/perl/5.41.2/x86_64-cygwin/local/lib
/opt/perl5/cygwin_nt-10.0/3.5.3/x86_64/perl/5.41.2/x86_64-cygwin/lib/site_perl/5.41.2/x86_64-cygwin
/opt/perl5/cygwin_nt-10.0/3.5.3/x86_64/perl/5.41.2/x86_64-cygwin/lib/site_perl/5.41.2
/opt/perl5/cygwin_nt-10.0/3.5.3/x86_64/perl/5.41.2/x86_64-cygwin/lib/5.41.2/x86_64-cygwin
/opt/perl5/cygwin_nt-10.0/3.5.3/x86_64/perl/5.41.2/x86_64-cygwin/lib/5.41.2
.