PathTools v3.75 Perl 5 v5.10.1 darwin-2level

Status
Pass
From
Stanislaw Pusep
Dist
PathTools v3.75
Platform
Perl 5 v5.10.1 darwin-2level
Date
2022-02-11 06:36:46
ID
fbb0f04e-8b04-11ec-9d3c-a1ce02776541
This distribution has been tested as part of the CPAN Testers
project, supporting the Perl programming language.  See
http://wiki.cpantesters.org/ for more information or email
questions to cpan-testers-discuss@perl.org


--
Dear XSAWYERX,

This is a computer-generated report for PathTools-3.75
on perl 5.10.1, created by App::cpanminus::reporter 0.17 (1.7044).

Thank you for uploading your work to CPAN.  Congratulations!
All tests were successful.

Sections of this report:

    * Tester comments
    * Program output
    * Prerequisites
    * Environment and other context

------------------------------
TESTER COMMENTS
------------------------------

Additional comments from tester:

none provided

------------------------------
PROGRAM OUTPUT
------------------------------

Output from '':

Building and testing PathTools-3.75
cp lib/File/Spec/OS2.pm blib/lib/File/Spec/OS2.pm
cp lib/File/Spec/Mac.pm blib/lib/File/Spec/Mac.pm
cp lib/File/Spec/VMS.pm blib/lib/File/Spec/VMS.pm
cp lib/File/Spec/Functions.pm blib/lib/File/Spec/Functions.pm
cp lib/File/Spec/Epoc.pm blib/lib/File/Spec/Epoc.pm
cp lib/File/Spec/Cygwin.pm blib/lib/File/Spec/Cygwin.pm
cp lib/File/Spec.pm blib/lib/File/Spec.pm
cp Cwd.pm blib/lib/Cwd.pm
cp lib/File/Spec/Unix.pm blib/lib/File/Spec/Unix.pm
cp lib/File/Spec/Win32.pm blib/lib/File/Spec/Win32.pm
cp lib/File/Spec/AmigaOS.pm blib/lib/File/Spec/AmigaOS.pm
Running Mkbootstrap for Cwd ()
chmod 644 "Cwd.bs"
"/Users/stan/perl5/perlbrew/perls/perl-5.10.1/bin/perl" -MExtUtils::Command::MM -e 'cp_nonempty' -- Cwd.bs blib/arch/auto/Cwd/Cwd.bs 644
"/Users/stan/perl5/perlbrew/perls/perl-5.10.1/bin/perl" "/Users/stan/perl5/perlbrew/perls/perl-5.10.1/lib/5.10.1/ExtUtils/xsubpp"  -typemap '/Users/stan/perl5/perlbrew/perls/perl-5.10.1/lib/5.10.1/ExtUtils/typemap'  Cwd.xs > Cwd.xsc
mv Cwd.xsc Cwd.c
cc -c   -fno-common -DPERL_DARWIN -mmacosx-version-min=12.2 -fno-strict-aliasing -pipe -fstack-protector -I/usr/local/include -DPERL_USE_SAFE_PUTENV -Wno-error=implicit-function-declaration -O3   -DVERSION=\"3.75\" -DXS_VERSION=\"3.75\"  "-I/Users/stan/perl5/perlbrew/perls/perl-5.10.1/lib/5.10.1/darwin-2level/CORE"  -DDOUBLE_SLASHES_SPECIAL=0 Cwd.c
Cwd.xs:474:5: warning: '(' and '{' tokens introducing statement expression appear in different macro expansion contexts [-Wcompound-token-split-by-macro]
    SvGETMAGIC(path);
    ^~~~~~~~~~~~~~~~
/Users/stan/perl5/perlbrew/perls/perl-5.10.1/lib/5.10.1/darwin-2level/CORE/sv.h:2050:23: note: expanded from macro 'SvGETMAGIC'
#define SvGETMAGIC(x) STMT_START { if (SvGMAGICAL(x)) mg_get(x); } STMT_END
                      ^~~~~~~~~~
./ppport.h:4305:31: note: expanded from macro 'STMT_START'
#  define STMT_START    (void)( /* gcc supports ``({ STATEMENTS; })'' */
                              ^
Cwd.xs:474:5: note: '{' token is here
    SvGETMAGIC(path);
    ^~~~~~~~~~~~~~~~
/Users/stan/perl5/perlbrew/perls/perl-5.10.1/lib/5.10.1/darwin-2level/CORE/sv.h:2050:34: note: expanded from macro 'SvGETMAGIC'
#define SvGETMAGIC(x) STMT_START { if (SvGMAGICAL(x)) mg_get(x); } STMT_END
                                 ^
Cwd.xs:474:5: warning: '}' and ')' tokens terminating statement expression appear in different macro expansion contexts [-Wcompound-token-split-by-macro]
    SvGETMAGIC(path);
    ^~~~~~~~~~~~~~~~
/Users/stan/perl5/perlbrew/perls/perl-5.10.1/lib/5.10.1/darwin-2level/CORE/sv.h:2050:66: note: expanded from macro 'SvGETMAGIC'
#define SvGETMAGIC(x) STMT_START { if (SvGMAGICAL(x)) mg_get(x); } STMT_END
                                                                 ^
Cwd.xs:474:5: note: ')' token is here
    SvGETMAGIC(path);
    ^~~~~~~~~~~~~~~~
/Users/stan/perl5/perlbrew/perls/perl-5.10.1/lib/5.10.1/darwin-2level/CORE/sv.h:2050:68: note: expanded from macro 'SvGETMAGIC'
#define SvGETMAGIC(x) STMT_START { if (SvGMAGICAL(x)) mg_get(x); } STMT_END
                                                                   ^~~~~~~~
./ppport.h:4306:25: note: expanded from macro 'STMT_END'
#  define STMT_END      )
                        ^
Cwd.xs:541:5: warning: '(' and '{' tokens introducing statement expression appear in different macro expansion contexts [-Wcompound-token-split-by-macro]
    SvCUR_set(retval, o - SvPVX(retval));
    ^~~~~~~~~~~~~~~~~~~~~~~~~~~~~~~~~~~~
/Users/stan/perl5/perlbrew/perls/perl-5.10.1/lib/5.10.1/darwin-2level/CORE/sv.h:1415:2: note: expanded from macro 'SvCUR_set'
        STMT_START { assert(SvTYPE(sv) >= SVt_PV); \
        ^~~~~~~~~~
./ppport.h:4305:31: note: expanded from macro 'STMT_START'
#  define STMT_START    (void)( /* gcc supports ``({ STATEMENTS; })'' */
                              ^
Cwd.xs:541:5: note: '{' token is here
    SvCUR_set(retval, o - SvPVX(retval));
    ^~~~~~~~~~~~~~~~~~~~~~~~~~~~~~~~~~~~
/Users/stan/perl5/perlbrew/perls/perl-5.10.1/lib/5.10.1/darwin-2level/CORE/sv.h:1415:13: note: expanded from macro 'SvCUR_set'
        STMT_START { assert(SvTYPE(sv) >= SVt_PV); \
                   ^
Cwd.xs:541:5: warning: '}' and ')' tokens terminating statement expression appear in different macro expansion contexts [-Wcompound-token-split-by-macro]
    SvCUR_set(retval, o - SvPVX(retval));
    ^~~~~~~~~~~~~~~~~~~~~~~~~~~~~~~~~~~~
/Users/stan/perl5/perlbrew/perls/perl-5.10.1/lib/5.10.1/darwin-2level/CORE/sv.h:1419:43: note: expanded from macro 'SvCUR_set'
                (((XPV*)  SvANY(sv))->xpv_cur = (val)); } STMT_END
                                                        ^
Cwd.xs:541:5: note: ')' token is here
    SvCUR_set(retval, o - SvPVX(retval));
    ^~~~~~~~~~~~~~~~~~~~~~~~~~~~~~~~~~~~
/Users/stan/perl5/perlbrew/perls/perl-5.10.1/lib/5.10.1/darwin-2level/CORE/sv.h:1419:45: note: expanded from macro 'SvCUR_set'
                (((XPV*)  SvANY(sv))->xpv_cur = (val)); } STMT_END
                                                          ^~~~~~~~
./ppport.h:4306:25: note: expanded from macro 'STMT_END'
#  define STMT_END      )
                        ^
Cwd.xs:542:5: warning: '(' and '{' tokens introducing statement expression appear in different macro expansion contexts [-Wcompound-token-split-by-macro]
    SvTAINT(retval);
    ^~~~~~~~~~~~~~~
/Users/stan/perl5/perlbrew/perls/perl-5.10.1/lib/5.10.1/darwin-2level/CORE/sv.h:1574:5: note: expanded from macro 'SvTAINT'
    STMT_START {                        \
    ^~~~~~~~~~
./ppport.h:4305:31: note: expanded from macro 'STMT_START'
#  define STMT_START    (void)( /* gcc supports ``({ STATEMENTS; })'' */
                              ^
Cwd.xs:542:5: note: '{' token is here
    SvTAINT(retval);
    ^~~~~~~~~~~~~~~
/Users/stan/perl5/perlbrew/perls/perl-5.10.1/lib/5.10.1/darwin-2level/CORE/sv.h:1574:16: note: expanded from macro 'SvTAINT'
    STMT_START {                        \
               ^
Cwd.xs:542:5: warning: '(' and '{' tokens introducing statement expression appear in different macro expansion contexts [-Wcompound-token-split-by-macro]
    SvTAINT(retval);
    ^~~~~~~~~~~~~~~
/Users/stan/perl5/perlbrew/perls/perl-5.10.1/lib/5.10.1/darwin-2level/CORE/sv.h:1577:3: note: expanded from macro 'SvTAINT'
                SvTAINTED_on(sv);       \
                ^~~~~~~~~~~~~~~~
/Users/stan/perl5/perlbrew/perls/perl-5.10.1/lib/5.10.1/darwin-2level/CORE/sv.h:1570:27: note: expanded from macro 'SvTAINTED_on'
#define SvTAINTED_on(sv)  STMT_START{ if(PL_tainting){sv_taint(sv);}   }STMT_END
                          ^~~~~~~~~~
./ppport.h:4305:31: note: expanded from macro 'STMT_START'
#  define STMT_START    (void)( /* gcc supports ``({ STATEMENTS; })'' */
                              ^
Cwd.xs:542:5: note: '{' token is here
    SvTAINT(retval);
    ^~~~~~~~~~~~~~~
/Users/stan/perl5/perlbrew/perls/perl-5.10.1/lib/5.10.1/darwin-2level/CORE/sv.h:1577:3: note: expanded from macro 'SvTAINT'
                SvTAINTED_on(sv);       \
                ^~~~~~~~~~~~~~~~
/Users/stan/perl5/perlbrew/perls/perl-5.10.1/lib/5.10.1/darwin-2level/CORE/sv.h:1570:37: note: expanded from macro 'SvTAINTED_on'
#define SvTAINTED_on(sv)  STMT_START{ if(PL_tainting){sv_taint(sv);}   }STMT_END
                                    ^
Cwd.xs:542:5: warning: '}' and ')' tokens terminating statement expression appear in different macro expansion contexts [-Wcompound-token-split-by-macro]
    SvTAINT(retval);
    ^~~~~~~~~~~~~~~
/Users/stan/perl5/perlbrew/perls/perl-5.10.1/lib/5.10.1/darwin-2level/CORE/sv.h:1577:3: note: expanded from macro 'SvTAINT'
                SvTAINTED_on(sv);       \
                ^~~~~~~~~~~~~~~~
/Users/stan/perl5/perlbrew/perls/perl-5.10.1/lib/5.10.1/darwin-2level/CORE/sv.h:1570:72: note: expanded from macro 'SvTAINTED_on'
#define SvTAINTED_on(sv)  STMT_START{ if(PL_tainting){sv_taint(sv);}   }STMT_END
                                                                       ^
Cwd.xs:542:5: note: ')' token is here
    SvTAINT(retval);
    ^~~~~~~~~~~~~~~
/Users/stan/perl5/perlbrew/perls/perl-5.10.1/lib/5.10.1/darwin-2level/CORE/sv.h:1577:3: note: expanded from macro 'SvTAINT'
                SvTAINTED_on(sv);       \
                ^~~~~~~~~~~~~~~~
/Users/stan/perl5/perlbrew/perls/perl-5.10.1/lib/5.10.1/darwin-2level/CORE/sv.h:1570:73: note: expanded from macro 'SvTAINTED_on'
#define SvTAINTED_on(sv)  STMT_START{ if(PL_tainting){sv_taint(sv);}   }STMT_END
                                                                        ^~~~~~~~
./ppport.h:4306:25: note: expanded from macro 'STMT_END'
#  define STMT_END      )
                        ^
Cwd.xs:542:5: warning: '}' and ')' tokens terminating statement expression appear in different macro expansion contexts [-Wcompound-token-split-by-macro]
    SvTAINT(retval);
    ^~~~~~~~~~~~~~~
/Users/stan/perl5/perlbrew/perls/perl-5.10.1/lib/5.10.1/darwin-2level/CORE/sv.h:1579:5: note: expanded from macro 'SvTAINT'
    } STMT_END
    ^
Cwd.xs:542:5: note: ')' token is here
    SvTAINT(retval);
    ^~~~~~~~~~~~~~~
/Users/stan/perl5/perlbrew/perls/perl-5.10.1/lib/5.10.1/darwin-2level/CORE/sv.h:1579:7: note: expanded from macro 'SvTAINT'
    } STMT_END
      ^~~~~~~~
./ppport.h:4306:25: note: expanded from macro 'STMT_END'
#  define STMT_END      )
                        ^
Cwd.c:618:5: warning: '(' and '{' tokens introducing statement expression appear in different macro expansion contexts [-Wcompound-token-split-by-macro]
    XSRETURN_EMPTY;
    ^~~~~~~~~~~~~~
/Users/stan/perl5/perlbrew/perls/perl-5.10.1/lib/5.10.1/darwin-2level/CORE/XSUB.h:292:24: note: expanded from macro 'XSRETURN_EMPTY'
#define XSRETURN_EMPTY STMT_START {                XSRETURN(0); } STMT_END
                       ^~~~~~~~~~
./ppport.h:4305:31: note: expanded from macro 'STMT_START'
#  define STMT_START    (void)( /* gcc supports ``({ STATEMENTS; })'' */
                              ^
Cwd.c:618:5: note: '{' token is here
    XSRETURN_EMPTY;
    ^~~~~~~~~~~~~~
/Users/stan/perl5/perlbrew/perls/perl-5.10.1/lib/5.10.1/darwin-2level/CORE/XSUB.h:292:35: note: expanded from macro 'XSRETURN_EMPTY'
#define XSRETURN_EMPTY STMT_START {                XSRETURN(0); } STMT_END
                                  ^
Cwd.c:618:5: warning: '(' and '{' tokens introducing statement expression appear in different macro expansion contexts [-Wcompound-token-split-by-macro]
    XSRETURN_EMPTY;
    ^~~~~~~~~~~~~~
/Users/stan/perl5/perlbrew/perls/perl-5.10.1/lib/5.10.1/darwin-2level/CORE/XSUB.h:292:52: note: expanded from macro 'XSRETURN_EMPTY'
#define XSRETURN_EMPTY STMT_START {                XSRETURN(0); } STMT_END
                                                   ^~~~~~~~~~~
/Users/stan/perl5/perlbrew/perls/perl-5.10.1/lib/5.10.1/darwin-2level/CORE/XSUB.h:278:5: note: expanded from macro 'XSRETURN'
    STMT_START {                                        \
    ^~~~~~~~~~
./ppport.h:4305:31: note: expanded from macro 'STMT_START'
#  define STMT_START    (void)( /* gcc supports ``({ STATEMENTS; })'' */
                              ^
Cwd.c:618:5: note: '{' token is here
    XSRETURN_EMPTY;
    ^~~~~~~~~~~~~~
/Users/stan/perl5/perlbrew/perls/perl-5.10.1/lib/5.10.1/darwin-2level/CORE/XSUB.h:292:52: note: expanded from macro 'XSRETURN_EMPTY'
#define XSRETURN_EMPTY STMT_START {                XSRETURN(0); } STMT_END
                                                   ^~~~~~~~~~~
/Users/stan/perl5/perlbrew/perls/perl-5.10.1/lib/5.10.1/darwin-2level/CORE/XSUB.h:278:16: note: expanded from macro 'XSRETURN'
    STMT_START {                                        \
               ^
Cwd.c:618:5: warning: '}' and ')' tokens terminating statement expression appear in different macro expansion contexts [-Wcompound-token-split-by-macro]
    XSRETURN_EMPTY;
    ^~~~~~~~~~~~~~
/Users/stan/perl5/perlbrew/perls/perl-5.10.1/lib/5.10.1/darwin-2level/CORE/XSUB.h:292:52: note: expanded from macro 'XSRETURN_EMPTY'
#define XSRETURN_EMPTY STMT_START {                XSRETURN(0); } STMT_END
                                                   ^~~~~~~~~~~
/Users/stan/perl5/perlbrew/perls/perl-5.10.1/lib/5.10.1/darwin-2level/CORE/XSUB.h:282:5: note: expanded from macro 'XSRETURN'
    } STMT_END
    ^
Cwd.c:618:5: note: ')' token is here
    XSRETURN_EMPTY;
    ^~~~~~~~~~~~~~
/Users/stan/perl5/perlbrew/perls/perl-5.10.1/lib/5.10.1/darwin-2level/CORE/XSUB.h:292:52: note: expanded from macro 'XSRETURN_EMPTY'
#define XSRETURN_EMPTY STMT_START {                XSRETURN(0); } STMT_END
                                                   ^~~~~~~~~~~
/Users/stan/perl5/perlbrew/perls/perl-5.10.1/lib/5.10.1/darwin-2level/CORE/XSUB.h:282:7: note: expanded from macro 'XSRETURN'
    } STMT_END
      ^~~~~~~~
./ppport.h:4306:25: note: expanded from macro 'STMT_END'
#  define STMT_END      )
                        ^
Cwd.c:618:5: warning: '}' and ')' tokens terminating statement expression appear in different macro expansion contexts [-Wcompound-token-split-by-macro]
    XSRETURN_EMPTY;
    ^~~~~~~~~~~~~~
/Users/stan/perl5/perlbrew/perls/perl-5.10.1/lib/5.10.1/darwin-2level/CORE/XSUB.h:292:65: note: expanded from macro 'XSRETURN_EMPTY'
#define XSRETURN_EMPTY STMT_START {                XSRETURN(0); } STMT_END
                                                                ^
Cwd.c:618:5: note: ')' token is here
    XSRETURN_EMPTY;
    ^~~~~~~~~~~~~~
/Users/stan/perl5/perlbrew/perls/perl-5.10.1/lib/5.10.1/darwin-2level/CORE/XSUB.h:292:67: note: expanded from macro 'XSRETURN_EMPTY'
#define XSRETURN_EMPTY STMT_START {                XSRETURN(0); } STMT_END
                                                                  ^~~~~~~~
./ppport.h:4306:25: note: expanded from macro 'STMT_END'
#  define STMT_END      )
                        ^
Cwd.xs:579:16: warning: '(' and '{' tokens introducing statement expression appear in different macro expansion contexts [-Wcompound-token-split-by-macro]
    XSprePUSH; PUSHTARG;
               ^~~~~~~~
/Users/stan/perl5/perlbrew/perls/perl-5.10.1/lib/5.10.1/darwin-2level/CORE/pp.h:292:18: note: expanded from macro 'PUSHTARG'
#define PUSHTARG        STMT_START { SvSETMAGIC(TARG); PUSHs(TARG); } STMT_END
                        ^~~~~~~~~~
./ppport.h:4305:31: note: expanded from macro 'STMT_START'
#  define STMT_START    (void)( /* gcc supports ``({ STATEMENTS; })'' */
                              ^
Cwd.xs:579:16: note: '{' token is here
    XSprePUSH; PUSHTARG;
               ^~~~~~~~
/Users/stan/perl5/perlbrew/perls/perl-5.10.1/lib/5.10.1/darwin-2level/CORE/pp.h:292:29: note: expanded from macro 'PUSHTARG'
#define PUSHTARG        STMT_START { SvSETMAGIC(TARG); PUSHs(TARG); } STMT_END
                                   ^
Cwd.xs:579:16: warning: '(' and '{' tokens introducing statement expression appear in different macro expansion contexts [-Wcompound-token-split-by-macro]
    XSprePUSH; PUSHTARG;
               ^~~~~~~~
/Users/stan/perl5/perlbrew/perls/perl-5.10.1/lib/5.10.1/darwin-2level/CORE/pp.h:292:31: note: expanded from macro 'PUSHTARG'
#define PUSHTARG        STMT_START { SvSETMAGIC(TARG); PUSHs(TARG); } STMT_END
                                     ^~~~~~~~~~~~~~~~
/Users/stan/perl5/perlbrew/perls/perl-5.10.1/lib/5.10.1/darwin-2level/CORE/sv.h:2051:23: note: expanded from macro 'SvSETMAGIC'
#define SvSETMAGIC(x) STMT_START { if (SvSMAGICAL(x)) mg_set(x); } STMT_END
                      ^~~~~~~~~~
./ppport.h:4305:31: note: expanded from macro 'STMT_START'
#  define STMT_START    (void)( /* gcc supports ``({ STATEMENTS; })'' */
                              ^
Cwd.xs:579:16: note: '{' token is here
    XSprePUSH; PUSHTARG;
               ^~~~~~~~
/Users/stan/perl5/perlbrew/perls/perl-5.10.1/lib/5.10.1/darwin-2level/CORE/pp.h:292:31: note: expanded from macro 'PUSHTARG'
#define PUSHTARG        STMT_START { SvSETMAGIC(TARG); PUSHs(TARG); } STMT_END
                                     ^~~~~~~~~~~~~~~~
/Users/stan/perl5/perlbrew/perls/perl-5.10.1/lib/5.10.1/darwin-2level/CORE/sv.h:2051:34: note: expanded from macro 'SvSETMAGIC'
#define SvSETMAGIC(x) STMT_START { if (SvSMAGICAL(x)) mg_set(x); } STMT_END
                                 ^
Cwd.xs:579:16: warning: '}' and ')' tokens terminating statement expression appear in different macro expansion contexts [-Wcompound-token-split-by-macro]
    XSprePUSH; PUSHTARG;
               ^~~~~~~~
/Users/stan/perl5/perlbrew/perls/perl-5.10.1/lib/5.10.1/darwin-2level/CORE/pp.h:292:31: note: expanded from macro 'PUSHTARG'
#define PUSHTARG        STMT_START { SvSETMAGIC(TARG); PUSHs(TARG); } STMT_END
                                     ^~~~~~~~~~~~~~~~
/Users/stan/perl5/perlbrew/perls/perl-5.10.1/lib/5.10.1/darwin-2level/CORE/sv.h:2051:66: note: expanded from macro 'SvSETMAGIC'
#define SvSETMAGIC(x) STMT_START { if (SvSMAGICAL(x)) mg_set(x); } STMT_END
                                                                 ^
Cwd.xs:579:16: note: ')' token is here
    XSprePUSH; PUSHTARG;
               ^~~~~~~~
/Users/stan/perl5/perlbrew/perls/perl-5.10.1/lib/5.10.1/darwin-2level/CORE/pp.h:292:31: note: expanded from macro 'PUSHTARG'
#define PUSHTARG        STMT_START { SvSETMAGIC(TARG); PUSHs(TARG); } STMT_END
                                     ^~~~~~~~~~~~~~~~
/Users/stan/perl5/perlbrew/perls/perl-5.10.1/lib/5.10.1/darwin-2level/CORE/sv.h:2051:68: note: expanded from macro 'SvSETMAGIC'
#define SvSETMAGIC(x) STMT_START { if (SvSMAGICAL(x)) mg_set(x); } STMT_END
                                                                   ^~~~~~~~
./ppport.h:4306:25: note: expanded from macro 'STMT_END'
#  define STMT_END      )
                        ^
Cwd.xs:579:16: warning: '}' and ')' tokens terminating statement expression appear in different macro expansion contexts [-Wcompound-token-split-by-macro]
    XSprePUSH; PUSHTARG;
               ^~~~~~~~
/Users/stan/perl5/perlbrew/perls/perl-5.10.1/lib/5.10.1/darwin-2level/CORE/pp.h:292:62: note: expanded from macro 'PUSHTARG'
#define PUSHTARG        STMT_START { SvSETMAGIC(TARG); PUSHs(TARG); } STMT_END
                                                                    ^
Cwd.xs:579:16: note: ')' token is here
    XSprePUSH; PUSHTARG;
               ^~~~~~~~
/Users/stan/perl5/perlbrew/perls/perl-5.10.1/lib/5.10.1/darwin-2level/CORE/pp.h:292:64: note: expanded from macro 'PUSHTARG'
#define PUSHTARG        STMT_START { SvSETMAGIC(TARG); PUSHs(TARG); } STMT_END
                                                                      ^~~~~~~~
./ppport.h:4306:25: note: expanded from macro 'STMT_END'
#  define STMT_END      )
                        ^
Cwd.xs:580:5: warning: '(' and '{' tokens introducing statement expression appear in different macro expansion contexts [-Wcompound-token-split-by-macro]
    SvTAINTED_on(TARG);
    ^~~~~~~~~~~~~~~~~~
/Users/stan/perl5/perlbrew/perls/perl-5.10.1/lib/5.10.1/darwin-2level/CORE/sv.h:1570:27: note: expanded from macro 'SvTAINTED_on'
#define SvTAINTED_on(sv)  STMT_START{ if(PL_tainting){sv_taint(sv);}   }STMT_END
                          ^~~~~~~~~~
./ppport.h:4305:31: note: expanded from macro 'STMT_START'
#  define STMT_START    (void)( /* gcc supports ``({ STATEMENTS; })'' */
                              ^
Cwd.xs:580:5: note: '{' token is here
    SvTAINTED_on(TARG);
    ^~~~~~~~~~~~~~~~~~
/Users/stan/perl5/perlbrew/perls/perl-5.10.1/lib/5.10.1/darwin-2level/CORE/sv.h:1570:37: note: expanded from macro 'SvTAINTED_on'
#define SvTAINTED_on(sv)  STMT_START{ if(PL_tainting){sv_taint(sv);}   }STMT_END
                                    ^
Cwd.xs:580:5: warning: '}' and ')' tokens terminating statement expression appear in different macro expansion contexts [-Wcompound-token-split-by-macro]
    SvTAINTED_on(TARG);
    ^~~~~~~~~~~~~~~~~~
/Users/stan/perl5/perlbrew/perls/perl-5.10.1/lib/5.10.1/darwin-2level/CORE/sv.h:1570:72: note: expanded from macro 'SvTAINTED_on'
#define SvTAINTED_on(sv)  STMT_START{ if(PL_tainting){sv_taint(sv);}   }STMT_END
                                                                       ^
Cwd.xs:580:5: note: ')' token is here
    SvTAINTED_on(TARG);
    ^~~~~~~~~~~~~~~~~~
/Users/stan/perl5/perlbrew/perls/perl-5.10.1/lib/5.10.1/darwin-2level/CORE/sv.h:1570:73: note: expanded from macro 'SvTAINTED_on'
#define SvTAINTED_on(sv)  STMT_START{ if(PL_tainting){sv_taint(sv);}   }STMT_END
                                                                        ^~~~~~~~
./ppport.h:4306:25: note: expanded from macro 'STMT_END'
#  define STMT_END      )
                        ^
Cwd.xs:601:2: warning: '(' and '{' tokens introducing statement expression appear in different macro expansion contexts [-Wcompound-token-split-by-macro]
        SvTAINTED_on(TARG);
        ^~~~~~~~~~~~~~~~~~
/Users/stan/perl5/perlbrew/perls/perl-5.10.1/lib/5.10.1/darwin-2level/CORE/sv.h:1570:27: note: expanded from macro 'SvTAINTED_on'
#define SvTAINTED_on(sv)  STMT_START{ if(PL_tainting){sv_taint(sv);}   }STMT_END
                          ^~~~~~~~~~
./ppport.h:4305:31: note: expanded from macro 'STMT_START'
#  define STMT_START    (void)( /* gcc supports ``({ STATEMENTS; })'' */
                              ^
Cwd.xs:601:2: note: '{' token is here
        SvTAINTED_on(TARG);
        ^~~~~~~~~~~~~~~~~~
/Users/stan/perl5/perlbrew/perls/perl-5.10.1/lib/5.10.1/darwin-2level/CORE/sv.h:1570:37: note: expanded from macro 'SvTAINTED_on'
#define SvTAINTED_on(sv)  STMT_START{ if(PL_tainting){sv_taint(sv);}   }STMT_END
                                    ^
Cwd.xs:601:2: warning: '}' and ')' tokens terminating statement expression appear in different macro expansion contexts [-Wcompound-token-split-by-macro]
        SvTAINTED_on(TARG);
        ^~~~~~~~~~~~~~~~~~
/Users/stan/perl5/perlbrew/perls/perl-5.10.1/lib/5.10.1/darwin-2level/CORE/sv.h:1570:72: note: expanded from macro 'SvTAINTED_on'
#define SvTAINTED_on(sv)  STMT_START{ if(PL_tainting){sv_taint(sv);}   }STMT_END
                                                                       ^
Cwd.xs:601:2: note: ')' token is here
        SvTAINTED_on(TARG);
        ^~~~~~~~~~~~~~~~~~
/Users/stan/perl5/perlbrew/perls/perl-5.10.1/lib/5.10.1/darwin-2level/CORE/sv.h:1570:73: note: expanded from macro 'SvTAINTED_on'
#define SvTAINTED_on(sv)  STMT_START{ if(PL_tainting){sv_taint(sv);}   }STMT_END
                                                                        ^~~~~~~~
./ppport.h:4306:25: note: expanded from macro 'STMT_END'
#  define STMT_END      )
                        ^
Cwd.xs:607:5: warning: '(' and '{' tokens introducing statement expression appear in different macro expansion contexts [-Wcompound-token-split-by-macro]
    SvTAINTED_on(TARG);
    ^~~~~~~~~~~~~~~~~~
/Users/stan/perl5/perlbrew/perls/perl-5.10.1/lib/5.10.1/darwin-2level/CORE/sv.h:1570:27: note: expanded from macro 'SvTAINTED_on'
#define SvTAINTED_on(sv)  STMT_START{ if(PL_tainting){sv_taint(sv);}   }STMT_END
                          ^~~~~~~~~~
./ppport.h:4305:31: note: expanded from macro 'STMT_START'
#  define STMT_START    (void)( /* gcc supports ``({ STATEMENTS; })'' */
                              ^
Cwd.xs:607:5: note: '{' token is here
    SvTAINTED_on(TARG);
    ^~~~~~~~~~~~~~~~~~
/Users/stan/perl5/perlbrew/perls/perl-5.10.1/lib/5.10.1/darwin-2level/CORE/sv.h:1570:37: note: expanded from macro 'SvTAINTED_on'
#define SvTAINTED_on(sv)  STMT_START{ if(PL_tainting){sv_taint(sv);}   }STMT_END
                                    ^
Cwd.xs:607:5: warning: '}' and ')' tokens terminating statement expression appear in different macro expansion contexts [-Wcompound-token-split-by-macro]
    SvTAINTED_on(TARG);
    ^~~~~~~~~~~~~~~~~~
/Users/stan/perl5/perlbrew/perls/perl-5.10.1/lib/5.10.1/darwin-2level/CORE/sv.h:1570:72: note: expanded from macro 'SvTAINTED_on'
#define SvTAINTED_on(sv)  STMT_START{ if(PL_tainting){sv_taint(sv);}   }STMT_END
                                                                       ^
Cwd.xs:607:5: note: ')' token is here
    SvTAINTED_on(TARG);
    ^~~~~~~~~~~~~~~~~~
/Users/stan/perl5/perlbrew/perls/perl-5.10.1/lib/5.10.1/darwin-2level/CORE/sv.h:1570:73: note: expanded from macro 'SvTAINTED_on'
#define SvTAINTED_on(sv)  STMT_START{ if(PL_tainting){sv_taint(sv);}   }STMT_END
                                                                        ^~~~~~~~
./ppport.h:4306:25: note: expanded from macro 'STMT_END'
#  define STMT_END      )
                        ^
Cwd.c:782:5: warning: '(' and '{' tokens introducing statement expression appear in different macro expansion contexts [-Wcompound-token-split-by-macro]
    XSRETURN(1);
    ^~~~~~~~~~~
/Users/stan/perl5/perlbrew/perls/perl-5.10.1/lib/5.10.1/darwin-2level/CORE/XSUB.h:278:5: note: expanded from macro 'XSRETURN'
    STMT_START {                                        \
    ^~~~~~~~~~
./ppport.h:4305:31: note: expanded from macro 'STMT_START'
#  define STMT_START    (void)( /* gcc supports ``({ STATEMENTS; })'' */
                              ^
Cwd.c:782:5: note: '{' token is here
    XSRETURN(1);
    ^~~~~~~~~~~
/Users/stan/perl5/perlbrew/perls/perl-5.10.1/lib/5.10.1/darwin-2level/CORE/XSUB.h:278:16: note: expanded from macro 'XSRETURN'
    STMT_START {                                        \
               ^
Cwd.c:782:5: warning: '}' and ')' tokens terminating statement expression appear in different macro expansion contexts [-Wcompound-token-split-by-macro]
    XSRETURN(1);
    ^~~~~~~~~~~
/Users/stan/perl5/perlbrew/perls/perl-5.10.1/lib/5.10.1/darwin-2level/CORE/XSUB.h:282:5: note: expanded from macro 'XSRETURN'
    } STMT_END
    ^
Cwd.c:782:5: note: ')' token is here
    XSRETURN(1);
    ^~~~~~~~~~~
/Users/stan/perl5/perlbrew/perls/perl-5.10.1/lib/5.10.1/darwin-2level/CORE/XSUB.h:282:7: note: expanded from macro 'XSRETURN'
    } STMT_END
      ^~~~~~~~
./ppport.h:4306:25: note: expanded from macro 'STMT_END'
#  define STMT_END      )
                        ^
Cwd.c:810:5: warning: '(' and '{' tokens introducing statement expression appear in different macro expansion contexts [-Wcompound-token-split-by-macro]
    XSRETURN(1);
    ^~~~~~~~~~~
/Users/stan/perl5/perlbrew/perls/perl-5.10.1/lib/5.10.1/darwin-2level/CORE/XSUB.h:278:5: note: expanded from macro 'XSRETURN'
    STMT_START {                                        \
    ^~~~~~~~~~
./ppport.h:4305:31: note: expanded from macro 'STMT_START'
#  define STMT_START    (void)( /* gcc supports ``({ STATEMENTS; })'' */
                              ^
Cwd.c:810:5: note: '{' token is here
    XSRETURN(1);
    ^~~~~~~~~~~
/Users/stan/perl5/perlbrew/perls/perl-5.10.1/lib/5.10.1/darwin-2level/CORE/XSUB.h:278:16: note: expanded from macro 'XSRETURN'
    STMT_START {                                        \
               ^
Cwd.c:810:5: warning: '}' and ')' tokens terminating statement expression appear in different macro expansion contexts [-Wcompound-token-split-by-macro]
    XSRETURN(1);
    ^~~~~~~~~~~
/Users/stan/perl5/perlbrew/perls/perl-5.10.1/lib/5.10.1/darwin-2level/CORE/XSUB.h:282:5: note: expanded from macro 'XSRETURN'
    } STMT_END
    ^
Cwd.c:810:5: note: ')' token is here
    XSRETURN(1);
    ^~~~~~~~~~~
/Users/stan/perl5/perlbrew/perls/perl-5.10.1/lib/5.10.1/darwin-2level/CORE/XSUB.h:282:7: note: expanded from macro 'XSRETURN'
    } STMT_END
      ^~~~~~~~
./ppport.h:4306:25: note: expanded from macro 'STMT_END'
#  define STMT_END      )
                        ^
Cwd.xs:670:5: warning: '(' and '{' tokens introducing statement expression appear in different macro expansion contexts [-Wcompound-token-split-by-macro]
    EXTEND(SP, items+1);
    ^~~~~~~~~~~~~~~~~~~
/Users/stan/perl5/perlbrew/perls/perl-5.10.1/lib/5.10.1/darwin-2level/CORE/pp.h:280:21: note: expanded from macro 'EXTEND'
#define EXTEND(p,n)     STMT_START { if (PL_stack_max - p < (int)(n)) {         \
                        ^~~~~~~~~~
./ppport.h:4305:31: note: expanded from macro 'STMT_START'
#  define STMT_START    (void)( /* gcc supports ``({ STATEMENTS; })'' */
                              ^
Cwd.xs:670:5: note: '{' token is here
    EXTEND(SP, items+1);
    ^~~~~~~~~~~~~~~~~~~
/Users/stan/perl5/perlbrew/perls/perl-5.10.1/lib/5.10.1/darwin-2level/CORE/pp.h:280:32: note: expanded from macro 'EXTEND'
#define EXTEND(p,n)     STMT_START { if (PL_stack_max - p < (int)(n)) {         \
                                   ^
Cwd.xs:670:5: warning: '}' and ')' tokens terminating statement expression appear in different macro expansion contexts [-Wcompound-token-split-by-macro]
    EXTEND(SP, items+1);
    ^~~~~~~~~~~~~~~~~~~
/Users/stan/perl5/perlbrew/perls/perl-5.10.1/lib/5.10.1/darwin-2level/CORE/pp.h:282:6: note: expanded from macro 'EXTEND'
                        } } STMT_END
                          ^
Cwd.xs:670:5: note: ')' token is here
    EXTEND(SP, items+1);
    ^~~~~~~~~~~~~~~~~~~
/Users/stan/perl5/perlbrew/perls/perl-5.10.1/lib/5.10.1/darwin-2level/CORE/pp.h:282:8: note: expanded from macro 'EXTEND'
                        } } STMT_END
                            ^~~~~~~~
./ppport.h:4306:25: note: expanded from macro 'STMT_END'
#  define STMT_END      )
                        ^
Cwd.xs:678:2: warning: '(' and '{' tokens introducing statement expression appear in different macro expansion contexts [-Wcompound-token-split-by-macro]
        PUSHMARK(SP);
        ^~~~~~~~~~~~
/Users/stan/perl5/perlbrew/perls/perl-5.10.1/lib/5.10.1/darwin-2level/CORE/pp.h:59:2: note: expanded from macro 'PUSHMARK'
        STMT_START {                                    \
        ^~~~~~~~~~
./ppport.h:4305:31: note: expanded from macro 'STMT_START'
#  define STMT_START    (void)( /* gcc supports ``({ STATEMENTS; })'' */
                              ^
Cwd.xs:678:2: note: '{' token is here
        PUSHMARK(SP);
        ^~~~~~~~~~~~
/Users/stan/perl5/perlbrew/perls/perl-5.10.1/lib/5.10.1/darwin-2level/CORE/pp.h:59:13: note: expanded from macro 'PUSHMARK'
        STMT_START {                                    \
                   ^
Cwd.xs:678:2: warning: '}' and ')' tokens terminating statement expression appear in different macro expansion contexts [-Wcompound-token-split-by-macro]
        PUSHMARK(SP);
        ^~~~~~~~~~~~
/Users/stan/perl5/perlbrew/perls/perl-5.10.1/lib/5.10.1/darwin-2level/CORE/pp.h:63:2: note: expanded from macro 'PUSHMARK'
        } STMT_END
        ^
Cwd.xs:678:2: note: ')' token is here
        PUSHMARK(SP);
        ^~~~~~~~~~~~
/Users/stan/perl5/perlbrew/perls/perl-5.10.1/lib/5.10.1/darwin-2level/CORE/pp.h:63:4: note: expanded from macro 'PUSHMARK'
        } STMT_END
          ^~~~~~~~
./ppport.h:4306:25: note: expanded from macro 'STMT_END'
#  define STMT_END      )
                        ^
Cwd.xs:679:2: warning: '(' and '{' tokens introducing statement expression appear in different macro expansion contexts [-Wcompound-token-split-by-macro]
        EXTEND(SP, 2);
        ^~~~~~~~~~~~~
/Users/stan/perl5/perlbrew/perls/perl-5.10.1/lib/5.10.1/darwin-2level/CORE/pp.h:280:21: note: expanded from macro 'EXTEND'
#define EXTEND(p,n)     STMT_START { if (PL_stack_max - p < (int)(n)) {         \
                        ^~~~~~~~~~
./ppport.h:4305:31: note: expanded from macro 'STMT_START'
#  define STMT_START    (void)( /* gcc supports ``({ STATEMENTS; })'' */
                              ^
Cwd.xs:679:2: note: '{' token is here
        EXTEND(SP, 2);
        ^~~~~~~~~~~~~
/Users/stan/perl5/perlbrew/perls/perl-5.10.1/lib/5.10.1/darwin-2level/CORE/pp.h:280:32: note: expanded from macro 'EXTEND'
#define EXTEND(p,n)     STMT_START { if (PL_stack_max - p < (int)(n)) {         \
                                   ^
Cwd.xs:679:2: warning: '}' and ')' tokens terminating statement expression appear in different macro expansion contexts [-Wcompound-token-split-by-macro]
        EXTEND(SP, 2);
        ^~~~~~~~~~~~~
/Users/stan/perl5/perlbrew/perls/perl-5.10.1/lib/5.10.1/darwin-2level/CORE/pp.h:282:6: note: expanded from macro 'EXTEND'
                        } } STMT_END
                          ^
Cwd.xs:679:2: note: ')' token is here
        EXTEND(SP, 2);
        ^~~~~~~~~~~~~
/Users/stan/perl5/perlbrew/perls/perl-5.10.1/lib/5.10.1/darwin-2level/CORE/pp.h:282:8: note: expanded from macro 'EXTEND'
                        } } STMT_END
                            ^~~~~~~~
./ppport.h:4306:25: note: expanded from macro 'STMT_END'
#  define STMT_END      )
                        ^
Cwd.c:855:5: warning: '(' and '{' tokens introducing statement expression appear in different macro expansion contexts [-Wcompound-token-split-by-macro]
    XSRETURN(1);
    ^~~~~~~~~~~
/Users/stan/perl5/perlbrew/perls/perl-5.10.1/lib/5.10.1/darwin-2level/CORE/XSUB.h:278:5: note: expanded from macro 'XSRETURN'
    STMT_START {                                        \
    ^~~~~~~~~~
./ppport.h:4305:31: note: expanded from macro 'STMT_START'
#  define STMT_START    (void)( /* gcc supports ``({ STATEMENTS; })'' */
                              ^
Cwd.c:855:5: note: '{' token is here
    XSRETURN(1);
    ^~~~~~~~~~~
/Users/stan/perl5/perlbrew/perls/perl-5.10.1/lib/5.10.1/darwin-2level/CORE/XSUB.h:278:16: note: expanded from macro 'XSRETURN'
    STMT_START {                                        \
               ^
Cwd.c:855:5: warning: '}' and ')' tokens terminating statement expression appear in different macro expansion contexts [-Wcompound-token-split-by-macro]
    XSRETURN(1);
    ^~~~~~~~~~~
/Users/stan/perl5/perlbrew/perls/perl-5.10.1/lib/5.10.1/darwin-2level/CORE/XSUB.h:282:5: note: expanded from macro 'XSRETURN'
    } STMT_END
    ^
Cwd.c:855:5: note: ')' token is here
    XSRETURN(1);
    ^~~~~~~~~~~
/Users/stan/perl5/perlbrew/perls/perl-5.10.1/lib/5.10.1/darwin-2level/CORE/XSUB.h:282:7: note: expanded from macro 'XSRETURN'
    } STMT_END
      ^~~~~~~~
./ppport.h:4306:25: note: expanded from macro 'STMT_END'
#  define STMT_END      )
                        ^
Cwd.xs:698:5: warning: '(' and '{' tokens introducing statement expression appear in different macro expansion contexts [-Wcompound-token-split-by-macro]
    EXTEND(SP, items+1);
    ^~~~~~~~~~~~~~~~~~~
/Users/stan/perl5/perlbrew/perls/perl-5.10.1/lib/5.10.1/darwin-2level/CORE/pp.h:280:21: note: expanded from macro 'EXTEND'
#define EXTEND(p,n)     STMT_START { if (PL_stack_max - p < (int)(n)) {         \
                        ^~~~~~~~~~
./ppport.h:4305:31: note: expanded from macro 'STMT_START'
#  define STMT_START    (void)( /* gcc supports ``({ STATEMENTS; })'' */
                              ^
Cwd.xs:698:5: note: '{' token is here
    EXTEND(SP, items+1);
    ^~~~~~~~~~~~~~~~~~~
/Users/stan/perl5/perlbrew/perls/perl-5.10.1/lib/5.10.1/darwin-2level/CORE/pp.h:280:32: note: expanded from macro 'EXTEND'
#define EXTEND(p,n)     STMT_START { if (PL_stack_max - p < (int)(n)) {         \
                                   ^
Cwd.xs:698:5: warning: '}' and ')' tokens terminating statement expression appear in different macro expansion contexts [-Wcompound-token-split-by-macro]
    EXTEND(SP, items+1);
    ^~~~~~~~~~~~~~~~~~~
/Users/stan/perl5/perlbrew/perls/perl-5.10.1/lib/5.10.1/darwin-2level/CORE/pp.h:282:6: note: expanded from macro 'EXTEND'
                        } } STMT_END
                          ^
Cwd.xs:698:5: note: ')' token is here
    EXTEND(SP, items+1);
    ^~~~~~~~~~~~~~~~~~~
/Users/stan/perl5/perlbrew/perls/perl-5.10.1/lib/5.10.1/darwin-2level/CORE/pp.h:282:8: note: expanded from macro 'EXTEND'
                        } } STMT_END
                            ^~~~~~~~
./ppport.h:4306:25: note: expanded from macro 'STMT_END'
#  define STMT_END      )
                        ^
Cwd.c:884:5: warning: '(' and '{' tokens introducing statement expression appear in different macro expansion contexts [-Wcompound-token-split-by-macro]
    XSRETURN(1);
    ^~~~~~~~~~~
/Users/stan/perl5/perlbrew/perls/perl-5.10.1/lib/5.10.1/darwin-2level/CORE/XSUB.h:278:5: note: expanded from macro 'XSRETURN'
    STMT_START {                                        \
    ^~~~~~~~~~
./ppport.h:4305:31: note: expanded from macro 'STMT_START'
#  define STMT_START    (void)( /* gcc supports ``({ STATEMENTS; })'' */
                              ^
Cwd.c:884:5: note: '{' token is here
    XSRETURN(1);
    ^~~~~~~~~~~
/Users/stan/perl5/perlbrew/perls/perl-5.10.1/lib/5.10.1/darwin-2level/CORE/XSUB.h:278:16: note: expanded from macro 'XSRETURN'
    STMT_START {                                        \
               ^
Cwd.c:884:5: warning: '}' and ')' tokens terminating statement expression appear in different macro expansion contexts [-Wcompound-token-split-by-macro]
    XSRETURN(1);
    ^~~~~~~~~~~
/Users/stan/perl5/perlbrew/perls/perl-5.10.1/lib/5.10.1/darwin-2level/CORE/XSUB.h:282:5: note: expanded from macro 'XSRETURN'
    } STMT_END
    ^
Cwd.c:884:5: note: ')' token is here
    XSRETURN(1);
    ^~~~~~~~~~~
/Users/stan/perl5/perlbrew/perls/perl-5.10.1/lib/5.10.1/darwin-2level/CORE/XSUB.h:282:7: note: expanded from macro 'XSRETURN'
    } STMT_END
      ^~~~~~~~
./ppport.h:4306:25: note: expanded from macro 'STMT_END'
#  define STMT_END      )
                        ^
Cwd.xs:732:2: warning: '(' and '{' tokens introducing statement expression appear in different macro expansion contexts [-Wcompound-token-split-by-macro]
        PUSHMARK(SP);
        ^~~~~~~~~~~~
/Users/stan/perl5/perlbrew/perls/perl-5.10.1/lib/5.10.1/darwin-2level/CORE/pp.h:59:2: note: expanded from macro 'PUSHMARK'
        STMT_START {                                    \
        ^~~~~~~~~~
./ppport.h:4305:31: note: expanded from macro 'STMT_START'
#  define STMT_START    (void)( /* gcc supports ``({ STATEMENTS; })'' */
                              ^
Cwd.xs:732:2: note: '{' token is here
        PUSHMARK(SP);
        ^~~~~~~~~~~~
/Users/stan/perl5/perlbrew/perls/perl-5.10.1/lib/5.10.1/darwin-2level/CORE/pp.h:59:13: note: expanded from macro 'PUSHMARK'
        STMT_START {                                    \
                   ^
Cwd.xs:732:2: warning: '}' and ')' tokens terminating statement expression appear in different macro expansion contexts [-Wcompound-token-split-by-macro]
        PUSHMARK(SP);
        ^~~~~~~~~~~~
/Users/stan/perl5/perlbrew/perls/perl-5.10.1/lib/5.10.1/darwin-2level/CORE/pp.h:63:2: note: expanded from macro 'PUSHMARK'
        } STMT_END
        ^
Cwd.xs:732:2: note: ')' token is here
        PUSHMARK(SP);
        ^~~~~~~~~~~~
/Users/stan/perl5/perlbrew/perls/perl-5.10.1/lib/5.10.1/darwin-2level/CORE/pp.h:63:4: note: expanded from macro 'PUSHMARK'
        } STMT_END
          ^~~~~~~~
./ppport.h:4306:25: note: expanded from macro 'STMT_END'
#  define STMT_END      )
                        ^
Cwd.xs:733:2: warning: '(' and '{' tokens introducing statement expression appear in different macro expansion contexts [-Wcompound-token-split-by-macro]
        EXTEND(SP, 2);
        ^~~~~~~~~~~~~
/Users/stan/perl5/perlbrew/perls/perl-5.10.1/lib/5.10.1/darwin-2level/CORE/pp.h:280:21: note: expanded from macro 'EXTEND'
#define EXTEND(p,n)     STMT_START { if (PL_stack_max - p < (int)(n)) {         \
                        ^~~~~~~~~~
./ppport.h:4305:31: note: expanded from macro 'STMT_START'
#  define STMT_START    (void)( /* gcc supports ``({ STATEMENTS; })'' */
                              ^
Cwd.xs:733:2: note: '{' token is here
        EXTEND(SP, 2);
        ^~~~~~~~~~~~~
/Users/stan/perl5/perlbrew/perls/perl-5.10.1/lib/5.10.1/darwin-2level/CORE/pp.h:280:32: note: expanded from macro 'EXTEND'
#define EXTEND(p,n)     STMT_START { if (PL_stack_max - p < (int)(n)) {         \
                                   ^
Cwd.xs:733:2: warning: '}' and ')' tokens terminating statement expression appear in different macro expansion contexts [-Wcompound-token-split-by-macro]
        EXTEND(SP, 2);
        ^~~~~~~~~~~~~
/Users/stan/perl5/perlbrew/perls/perl-5.10.1/lib/5.10.1/darwin-2level/CORE/pp.h:282:6: note: expanded from macro 'EXTEND'
                        } } STMT_END
                          ^
Cwd.xs:733:2: note: ')' token is here
        EXTEND(SP, 2);
        ^~~~~~~~~~~~~
/Users/stan/perl5/perlbrew/perls/perl-5.10.1/lib/5.10.1/darwin-2level/CORE/pp.h:282:8: note: expanded from macro 'EXTEND'
                        } } STMT_END
                            ^~~~~~~~
./ppport.h:4306:25: note: expanded from macro 'STMT_END'
#  define STMT_END      )
                        ^
Cwd.xs:749:6: warning: '(' and '{' tokens introducing statement expression appear in different macro expansion contexts [-Wcompound-token-split-by-macro]
            PUSHMARK(&ST(-1));
            ^~~~~~~~~~~~~~~~~
/Users/stan/perl5/perlbrew/perls/perl-5.10.1/lib/5.10.1/darwin-2level/CORE/pp.h:59:2: note: expanded from macro 'PUSHMARK'
        STMT_START {                                    \
        ^~~~~~~~~~
./ppport.h:4305:31: note: expanded from macro 'STMT_START'
#  define STMT_START    (void)( /* gcc supports ``({ STATEMENTS; })'' */
                              ^
Cwd.xs:749:6: note: '{' token is here
            PUSHMARK(&ST(-1));
            ^~~~~~~~~~~~~~~~~
/Users/stan/perl5/perlbrew/perls/perl-5.10.1/lib/5.10.1/darwin-2level/CORE/pp.h:59:13: note: expanded from macro 'PUSHMARK'
        STMT_START {                                    \
                   ^
Cwd.xs:749:6: warning: '}' and ')' tokens terminating statement expression appear in different macro expansion contexts [-Wcompound-token-split-by-macro]
            PUSHMARK(&ST(-1));
            ^~~~~~~~~~~~~~~~~
/Users/stan/perl5/perlbrew/perls/perl-5.10.1/lib/5.10.1/darwin-2level/CORE/pp.h:63:2: note: expanded from macro 'PUSHMARK'
        } STMT_END
        ^
Cwd.xs:749:6: note: ')' token is here
            PUSHMARK(&ST(-1));
            ^~~~~~~~~~~~~~~~~
/Users/stan/perl5/perlbrew/perls/perl-5.10.1/lib/5.10.1/darwin-2level/CORE/pp.h:63:4: note: expanded from macro 'PUSHMARK'
        } STMT_END
          ^~~~~~~~
./ppport.h:4306:25: note: expanded from macro 'STMT_END'
#  define STMT_END      )
                        ^
Cwd.c:960:5: warning: '(' and '{' tokens introducing statement expression appear in different macro expansion contexts [-Wcompound-token-split-by-macro]
    XSRETURN(1);
    ^~~~~~~~~~~
/Users/stan/perl5/perlbrew/perls/perl-5.10.1/lib/5.10.1/darwin-2level/CORE/XSUB.h:278:5: note: expanded from macro 'XSRETURN'
    STMT_START {                                        \
    ^~~~~~~~~~
./ppport.h:4305:31: note: expanded from macro 'STMT_START'
#  define STMT_START    (void)( /* gcc supports ``({ STATEMENTS; })'' */
                              ^
Cwd.c:960:5: note: '{' token is here
    XSRETURN(1);
    ^~~~~~~~~~~
/Users/stan/perl5/perlbrew/perls/perl-5.10.1/lib/5.10.1/darwin-2level/CORE/XSUB.h:278:16: note: expanded from macro 'XSRETURN'
    STMT_START {                                        \
               ^
Cwd.c:960:5: warning: '}' and ')' tokens terminating statement expression appear in different macro expansion contexts [-Wcompound-token-split-by-macro]
    XSRETURN(1);
    ^~~~~~~~~~~
/Users/stan/perl5/perlbrew/perls/perl-5.10.1/lib/5.10.1/darwin-2level/CORE/XSUB.h:282:5: note: expanded from macro 'XSRETURN'
    } STMT_END
    ^
Cwd.c:960:5: note: ')' token is here
    XSRETURN(1);
    ^~~~~~~~~~~
/Users/stan/perl5/perlbrew/perls/perl-5.10.1/lib/5.10.1/darwin-2level/CORE/XSUB.h:282:7: note: expanded from macro 'XSRETURN'
    } STMT_END
      ^~~~~~~~
./ppport.h:4306:25: note: expanded from macro 'STMT_END'
#  define STMT_END      )
                        ^
Cwd.c:1000:5: warning: '(' and '{' tokens introducing statement expression appear in different macro expansion contexts [-Wcompound-token-split-by-macro]
    XSRETURN(1);
    ^~~~~~~~~~~
/Users/stan/perl5/perlbrew/perls/perl-5.10.1/lib/5.10.1/darwin-2level/CORE/XSUB.h:278:5: note: expanded from macro 'XSRETURN'
    STMT_START {                                        \
    ^~~~~~~~~~
./ppport.h:4305:31: note: expanded from macro 'STMT_START'
#  define STMT_START    (void)( /* gcc supports ``({ STATEMENTS; })'' */
                              ^
Cwd.c:1000:5: note: '{' token is here
    XSRETURN(1);
    ^~~~~~~~~~~
/Users/stan/perl5/perlbrew/perls/perl-5.10.1/lib/5.10.1/darwin-2level/CORE/XSUB.h:278:16: note: expanded from macro 'XSRETURN'
    STMT_START {                                        \
               ^
Cwd.c:1000:5: warning: '}' and ')' tokens terminating statement expression appear in different macro expansion contexts [-Wcompound-token-split-by-macro]
    XSRETURN(1);
    ^~~~~~~~~~~
/Users/stan/perl5/perlbrew/perls/perl-5.10.1/lib/5.10.1/darwin-2level/CORE/XSUB.h:282:5: note: expanded from macro 'XSRETURN'
    } STMT_END
    ^
Cwd.c:1000:5: note: ')' token is here
    XSRETURN(1);
    ^~~~~~~~~~~
/Users/stan/perl5/perlbrew/perls/perl-5.10.1/lib/5.10.1/darwin-2level/CORE/XSUB.h:282:7: note: expanded from macro 'XSRETURN'
    } STMT_END
      ^~~~~~~~
./ppport.h:4306:25: note: expanded from macro 'STMT_END'
#  define STMT_END      )
                        ^
Cwd.c:1018:5: warning: '(' and '{' tokens introducing statement expression appear in different macro expansion contexts [-Wcompound-token-split-by-macro]
    XS_VERSION_BOOTCHECK ;
    ^~~~~~~~~~~~~~~~~~~~
/Users/stan/perl5/perlbrew/perls/perl-5.10.1/lib/5.10.1/darwin-2level/CORE/XSUB.h:298:5: note: expanded from macro 'XS_VERSION_BOOTCHECK'
    STMT_START {                                                        \
    ^~~~~~~~~~
./ppport.h:4305:31: note: expanded from macro 'STMT_START'
#  define STMT_START    (void)( /* gcc supports ``({ STATEMENTS; })'' */
                              ^
Cwd.c:1018:5: note: '{' token is here
    XS_VERSION_BOOTCHECK ;
    ^~~~~~~~~~~~~~~~~~~~
/Users/stan/perl5/perlbrew/perls/perl-5.10.1/lib/5.10.1/darwin-2level/CORE/XSUB.h:298:16: note: expanded from macro 'XS_VERSION_BOOTCHECK'
    STMT_START {                                                        \
               ^
Cwd.c:1018:5: warning: '}' and ')' tokens terminating statement expression appear in different macro expansion contexts [-Wcompound-token-split-by-macro]
    XS_VERSION_BOOTCHECK ;
    ^~~~~~~~~~~~~~~~~~~~
/Users/stan/perl5/perlbrew/perls/perl-5.10.1/lib/5.10.1/darwin-2level/CORE/XSUB.h:322:5: note: expanded from macro 'XS_VERSION_BOOTCHECK'
    } STMT_END
    ^
Cwd.c:1018:5: note: ')' token is here
    XS_VERSION_BOOTCHECK ;
    ^~~~~~~~~~~~~~~~~~~~
/Users/stan/perl5/perlbrew/perls/perl-5.10.1/lib/5.10.1/darwin-2level/CORE/XSUB.h:322:7: note: expanded from macro 'XS_VERSION_BOOTCHECK'
    } STMT_END
      ^~~~~~~~
./ppport.h:4306:25: note: expanded from macro 'STMT_END'
#  define STMT_END      )
                        ^
Cwd.c:1062:5: warning: '(' and '{' tokens introducing statement expression appear in different macro expansion contexts [-Wcompound-token-split-by-macro]
    XSRETURN_YES;
    ^~~~~~~~~~~~
/Users/stan/perl5/perlbrew/perls/perl-5.10.1/lib/5.10.1/darwin-2level/CORE/XSUB.h:290:24: note: expanded from macro 'XSRETURN_YES'
#define XSRETURN_YES   STMT_START { XST_mYES(0);   XSRETURN(1); } STMT_END
                       ^~~~~~~~~~
./ppport.h:4305:31: note: expanded from macro 'STMT_START'
#  define STMT_START    (void)( /* gcc supports ``({ STATEMENTS; })'' */
                              ^
Cwd.c:1062:5: note: '{' token is here
    XSRETURN_YES;
    ^~~~~~~~~~~~
/Users/stan/perl5/perlbrew/perls/perl-5.10.1/lib/5.10.1/darwin-2level/CORE/XSUB.h:290:35: note: expanded from macro 'XSRETURN_YES'
#define XSRETURN_YES   STMT_START { XST_mYES(0);   XSRETURN(1); } STMT_END
                                  ^
Cwd.c:1062:5: warning: '(' and '{' tokens introducing statement expression appear in different macro expansion contexts [-Wcompound-token-split-by-macro]
    XSRETURN_YES;
    ^~~~~~~~~~~~
/Users/stan/perl5/perlbrew/perls/perl-5.10.1/lib/5.10.1/darwin-2level/CORE/XSUB.h:290:52: note: expanded from macro 'XSRETURN_YES'
#define XSRETURN_YES   STMT_START { XST_mYES(0);   XSRETURN(1); } STMT_END
                                                   ^~~~~~~~~~~
/Users/stan/perl5/perlbrew/perls/perl-5.10.1/lib/5.10.1/darwin-2level/CORE/XSUB.h:278:5: note: expanded from macro 'XSRETURN'
    STMT_START {                                        \
    ^~~~~~~~~~
./ppport.h:4305:31: note: expanded from macro 'STMT_START'
#  define STMT_START    (void)( /* gcc supports ``({ STATEMENTS; })'' */
                              ^
Cwd.c:1062:5: note: '{' token is here
    XSRETURN_YES;
    ^~~~~~~~~~~~
/Users/stan/perl5/perlbrew/perls/perl-5.10.1/lib/5.10.1/darwin-2level/CORE/XSUB.h:290:52: note: expanded from macro 'XSRETURN_YES'
#define XSRETURN_YES   STMT_START { XST_mYES(0);   XSRETURN(1); } STMT_END
                                                   ^~~~~~~~~~~
/Users/stan/perl5/perlbrew/perls/perl-5.10.1/lib/5.10.1/darwin-2level/CORE/XSUB.h:278:16: note: expanded from macro 'XSRETURN'
    STMT_START {                                        \
               ^
Cwd.c:1062:5: warning: '}' and ')' tokens terminating statement expression appear in different macro expansion contexts [-Wcompound-token-split-by-macro]
    XSRETURN_YES;
    ^~~~~~~~~~~~
/Users/stan/perl5/perlbrew/perls/perl-5.10.1/lib/5.10.1/darwin-2level/CORE/XSUB.h:290:52: note: expanded from macro 'XSRETURN_YES'
#define XSRETURN_YES   STMT_START { XST_mYES(0);   XSRETURN(1); } STMT_END
                                                   ^~~~~~~~~~~
/Users/stan/perl5/perlbrew/perls/perl-5.10.1/lib/5.10.1/darwin-2level/CORE/XSUB.h:282:5: note: expanded from macro 'XSRETURN'
    } STMT_END
    ^
Cwd.c:1062:5: note: ')' token is here
    XSRETURN_YES;
    ^~~~~~~~~~~~
/Users/stan/perl5/perlbrew/perls/perl-5.10.1/lib/5.10.1/darwin-2level/CORE/XSUB.h:290:52: note: expanded from macro 'XSRETURN_YES'
#define XSRETURN_YES   STMT_START { XST_mYES(0);   XSRETURN(1); } STMT_END
                                                   ^~~~~~~~~~~
/Users/stan/perl5/perlbrew/perls/perl-5.10.1/lib/5.10.1/darwin-2level/CORE/XSUB.h:282:7: note: expanded from macro 'XSRETURN'
    } STMT_END
      ^~~~~~~~
./ppport.h:4306:25: note: expanded from macro 'STMT_END'
#  define STMT_END      )
                        ^
Cwd.c:1062:5: warning: '}' and ')' tokens terminating statement expression appear in different macro expansion contexts [-Wcompound-token-split-by-macro]
    XSRETURN_YES;
    ^~~~~~~~~~~~
/Users/stan/perl5/perlbrew/perls/perl-5.10.1/lib/5.10.1/darwin-2level/CORE/XSUB.h:290:65: note: expanded from macro 'XSRETURN_YES'
#define XSRETURN_YES   STMT_START { XST_mYES(0);   XSRETURN(1); } STMT_END
                                                                ^
Cwd.c:1062:5: note: ')' token is here
    XSRETURN_YES;
    ^~~~~~~~~~~~
/Users/stan/perl5/perlbrew/perls/perl-5.10.1/lib/5.10.1/darwin-2level/CORE/XSUB.h:290:67: note: expanded from macro 'XSRETURN_YES'
#define XSRETURN_YES   STMT_START { XST_mYES(0);   XSRETURN(1); } STMT_END
                                                                  ^~~~~~~~
./ppport.h:4306:25: note: expanded from macro 'STMT_END'
#  define STMT_END      )
                        ^
54 warnings generated.
rm -f blib/arch/auto/Cwd/Cwd.bundle
cc  -mmacosx-version-min=12.2 -bundle -undefined dynamic_lookup -L/usr/local/lib -fstack-protector  Cwd.o  -o blib/arch/auto/Cwd/Cwd.bundle  \
	      \
	  
chmod 755 blib/arch/auto/Cwd/Cwd.bundle
Manifying 11 pod documents
"/Users/stan/perl5/perlbrew/perls/perl-5.10.1/bin/perl" -MExtUtils::Command::MM -e 'cp_nonempty' -- Cwd.bs blib/arch/auto/Cwd/Cwd.bs 644
PERL_DL_NONLAZY=1 "/Users/stan/perl5/perlbrew/perls/perl-5.10.1/bin/perl" "-MExtUtils::Command::MM" "-MTest::Harness" "-e" "undef *Test::Harness::Switches; test_harness(0, 'blib/lib', 'blib/arch')" t/*.t
t/abs2rel.t ........ ok
t/crossplatform.t .. ok
t/cwd.t ............ ok
t/cwd_enoent.t ..... ok
t/Functions.t ...... ok
t/rel2abs2rel.t .... ok
t/Spec-taint.t ..... ok
t/Spec.t ........... ok
t/taint.t .......... ok
t/tmpdir.t ......... ok
t/win32.t .......... skipped: this is not win32
All tests successful.
Files=11, Tests=847,  1 wallclock secs ( 0.06 usr  0.03 sys +  0.59 cusr  0.13 csys =  0.81 CPU)
Result: PASS

------------------------------
PREREQUISITES
------------------------------

Prerequisite modules loaded:

    No requirements found

------------------------------
ENVIRONMENT AND OTHER CONTEXT
------------------------------

Environment variables:

    LANG = en_US.UTF-8
    LC_ALL = en_US.UTF-8
    LC_CTYPE = UTF-8
    LC_TERMINAL = iTerm2
    LC_TERMINAL_VERSION = 3.4.14
    LDFLAGS = -L/usr/local/opt/curl/lib
    PATH = /Users/stan/perl5/perlbrew/bin:/Users/stan/perl5/perlbrew/perls/perl-5.10.1/bin:/usr/local/opt/mysql-client/bin:/usr/local/Caskroom/google-cloud-sdk/latest/google-cloud-sdk/bin:/usr/local/opt/curl/bin:/Users/stan/perl5/perlbrew/bin:/Users/stan/perl5/perlbrew/perls/perl-5.34.0/bin:/usr/local/bin:/usr/bin:/bin:/usr/sbin:/sbin:/opt/X11/bin:/Users/stan/.vim/bin:/Users/stan/bin:/Users/stan/node_modules/.bin:/usr/local/sbin:/usr/local/opt/mysql-client/bin:/usr/local/Caskroom/google-cloud-sdk/latest/google-cloud-sdk/bin:/usr/local/opt/curl/bin
    PERL5LIB = 
    PERLBREW_HOME = /Users/stan/.perlbrew
    PERLBREW_LIB = 
    PERLBREW_MANPATH = /Users/stan/perl5/perlbrew/perls/perl-5.10.1/man
    PERLBREW_PATH = /Users/stan/perl5/perlbrew/bin:/Users/stan/perl5/perlbrew/perls/perl-5.10.1/bin
    PERLBREW_PERL = perl-5.10.1
    PERLBREW_ROOT = /Users/stan/perl5/perlbrew
    PERLBREW_SHELLRC_VERSION = 0.92
    PERLBREW_VERSION = 0.92
    PERL_LOCAL_LIB_ROOT = 
    PERL_MM_USE_DEFAULT = 1
    SHELL = /usr/local/bin/zsh
    TERM = screen
    TMPDIR = /var/folders/tk/hx6fvpsj3yzbyd1k1br945mc0000gn/T/

Perl special variables (and OS-specific diagnostics, for MSWin32):

    EGID = 20 20 12 61 79 80 81 98 701 33 100 204 250 395 398 101 400
    EUID = 501
    EXECUTABLE_NAME = /Users/stan/perl5/perlbrew/perls/perl-5.10.1/bin/perl
    GID = 20 20 12 61 79 80 81 98 701 33 100 204 250 395 398 101 400
    UID = 501

Perl module toolchain versions installed:

    Module              Have    
    ------------------- --------
    CPAN                1.9402  
    CPAN::Meta          2.150010
    Cwd                 3.75    
    ExtUtils::CBuilder  0.280236
    ExtUtils::Command   7.64    
    ExtUtils::Install   2.20    
    ExtUtils::MakeMaker 7.64    
    ExtUtils::Manifest  1.73    
    ExtUtils::ParseXS   3.44    
    File::Spec          3.75    
    JSON                4.05    
    JSON::PP            4.07    
    Module::Build       0.4231  
    Module::Signature   n/a     
    Parse::CPAN::Meta   2.150010
    Test::Harness       3.28    
    Test::More          1.302188
    YAML                1.30    
    YAML::Syck          n/a     
    version             0.9929  


--

Summary of my perl5 (revision 5 version 10 subversion 1) configuration:
   
  Platform:
    osname=darwin, osvers=21.3.0, archname=darwin-2level
    uname='darwin imac.fritz.box 21.3.0 darwin kernel version 21.3.0: wed jan 5 21:37:58 pst 2022; root:xnu-8019.80.24~20release_x86_64 x86_64 '
    config_args='-de -Dprefix=/Users/stan/perl5/perlbrew/perls/perl-5.10.1 -Aeval:scriptdir=/Users/stan/perl5/perlbrew/perls/perl-5.10.1/bin'
    hint=recommended, useposix=true, d_sigaction=define
    useithreads=undef, usemultiplicity=undef
    useperlio=define, d_sfio=undef, uselargefiles=define, usesocks=undef
    use64bitint=define, use64bitall=define, uselongdouble=undef
    usemymalloc=n, bincompat5005=undef
  Compiler:
    cc='cc', ccflags ='-fno-common -DPERL_DARWIN -mmacosx-version-min=12.2 -fno-strict-aliasing -pipe -fstack-protector -I/usr/local/include -DPERL_USE_SAFE_PUTENV',
    optimize='-O3',
    cppflags='-fno-common -DPERL_DARWIN -mmacosx-version-min=12.2 -fno-strict-aliasing -pipe -fstack-protector -I/usr/local/include'
    ccversion='', gccversion='Apple LLVM 13.0.0 (clang-1300.0.29.30)', gccosandvers=''
    intsize=4, longsize=8, ptrsize=8, doublesize=8, byteorder=12345678
    d_longlong=define, longlongsize=8, d_longdbl=define, longdblsize=16
    ivtype='long', ivsize=8, nvtype='double', nvsize=8, Off_t='off_t', lseeksize=8
    alignbytes=8, prototype=define
  Linker and Libraries:
    ld='cc', ldflags =' -mmacosx-version-min=12.2 -fstack-protector -L/usr/local/lib'
    libpth=/usr/local/lib /usr/lib
    libs=-lgdbm -ldb
    perllibs=
    libc=, so=dylib, useshrplib=false, libperl=libperl.a
    gnulibc_version=''
  Dynamic Linking:
    dlsrc=dl_dlopen.xs, dlext=bundle, d_dlsymun=undef, ccdlflags=' '
    cccdlflags=' ', lddlflags=' -mmacosx-version-min=12.2 -bundle -undefined dynamic_lookup -L/usr/local/lib -fstack-protector'


Characteristics of this binary (from libperl): 
  Compile-time options: PERL_DONT_CREATE_GVSV PERL_MALLOC_WRAP
                        PERL_USE_SAFE_PUTENV USE_64_BIT_ALL USE_64_BIT_INT
                        USE_LARGE_FILES USE_PERLIO
  Locally applied patches:
	Devel::PatchPerl 2.08
  Built under darwin
  Compiled at Feb 10 2022 23:01:57
  %ENV:
    PERL5LIB=""
    PERLBREW_HOME="/Users/stan/.perlbrew"
    PERLBREW_LIB=""
    PERLBREW_MANPATH="/Users/stan/perl5/perlbrew/perls/perl-5.10.1/man"
    PERLBREW_PATH="/Users/stan/perl5/perlbrew/bin:/Users/stan/perl5/perlbrew/perls/perl-5.10.1/bin"
    PERLBREW_PERL="perl-5.10.1"
    PERLBREW_ROOT="/Users/stan/perl5/perlbrew"
    PERLBREW_SHELLRC_VERSION="0.92"
    PERLBREW_VERSION="0.92"
    PERL_LOCAL_LIB_ROOT=""
    PERL_MM_USE_DEFAULT="1"
  @INC:
    /Users/stan/perl5/perlbrew/perls/perl-5.10.1/lib/5.10.1/darwin-2level
    /Users/stan/perl5/perlbrew/perls/perl-5.10.1/lib/5.10.1
    /Users/stan/perl5/perlbrew/perls/perl-5.10.1/lib/site_perl/5.10.1/darwin-2level
    /Users/stan/perl5/perlbrew/perls/perl-5.10.1/lib/site_perl/5.10.1
    .