Markdown-Perl v1.11 Perl 5 v5.40.1 riscv64-linux-ld

Status
Pass
From
David Cantrell (DCANTRELL)
Dist
Markdown-Perl v1.11
Platform
Perl 5 v5.40.1 riscv64-linux-ld
Date
2025-04-23 02:59:32
ID
fb3444d6-1fee-11f0-ab3e-bce14ec9cdbb
This distribution has been tested as part of the CPAN Testers
project, supporting the Perl programming language.  See
http://wiki.cpantesters.org/ for more information or email
questions to cpan-testers-discuss@perl.org


--
Dear Mathias Kende,

This is a computer-generated report for Markdown-Perl-1.11
on perl 5.40.1, created by CPAN-Reporter-1.2020.

Thank you for uploading your work to CPAN.  Congratulations!
All tests were successful.

Sections of this report:

    * Tester comments
    * Program output
    * Prerequisites
    * Environment and other context

------------------------------
TESTER COMMENTS
------------------------------

Additional comments from tester:

this report is from an automated smoke testing program
and was not reviewed by a human for accuracy

------------------------------
PROGRAM OUTPUT
------------------------------

Output from '/usr/bin/make test':

PERL_DL_NONLAZY=1 "/home/cpantesting/cpantesting/perl-5.40.1-longdouble/bin/perl" "-MExtUtils::Command::MM" "-MTest::Harness" "-e" "undef *Test::Harness::Switches; test_harness(0, 'blib/lib', 'blib/arch')" t/*.t
t/102-html.t ................................... ok
t/101-inline-tree.t ............................ ok
t/100-util.t ................................... ok
t/001-podsyntax.t .............................. skipped: Extended test. Run manually or set $ENV{EXTENDED_TESTING} to a true value to run.
t/001-cpanfile.t ............................... skipped: Extended test. Run manually or set $ENV{EXTENDED_TESTING} to a true value to run.
t/000-load.t ................................... ok
t/201-basic-container-blocks.t ................. ok
t/200-basic-leaf-blocks.t ...................... ok
t/203-options.t ................................ ok
t/301-inlines.t ................................ ok
t/300-containers.t ............................. ok
t/202-basic-inline-rendering.t ................. ok
t/303-lists.t .................................. ok
t/302-reference-links.t ........................ ok
YAML Metadata (Markdown frontmatter) is invalid at /home/cpantesting/cpantesting/perl-5.40.1-longdouble/.cpan/build/Markdown-Perl-1.11-0/blib/lib/Markdown/Perl.pm line 116.
t/304-file_metadata.t .......................... ok
t/305-block-directives.t ....................... ok
t/400-opt-allow_task_list_markers.t ............ ok
t/400-opt-allow_spaces_in_links.t .............. ok
t/400-opt-disallowed_html_tags.t ............... ok
t/400-opt-inline_delimiters.t .................. ok
t/400-opt-inline_delimiters_max_run_length.t ... ok
t/400-opt-fenced_code_blocks_must_be_closed.t .. ok
t/400-opt-lists_can_interrupt_paragraph.t ...... ok
t/400-opt-render_naked_paragraphs.t ............ ok
t/400-opt-multi_lines_setext_headings.t ........ ok
t/400-opt-two_spaces_hard_line_breaks.t ........ ok
t/500-hooks-resolve_link_ref.t ................. ok
t/800-bugs.t ................................... ok
t/400-opt-use_fenced_code_blocks.t ............. ok
t/500-hooks-yaml_metadata.t .................... ok
t/902-markdown-test-suite.t .................... skipped: MMD-Test-Suite must be checked out.
t/903-mmd-test-suite.t ......................... skipped: MMD-Test-Suite must be checked out.
t/904-pmarkdown.t .............................. skipped: The Syntax.md file is not part of this distribution
t/900-cmark-test-suite.t ....................... ok
t/901-github-test-suite.t ...................... ok
t/801-fuzzing.t ................................ ok
All tests successful.
Files=36, Tests=2167, 32 wallclock secs ( 1.89 usr  0.25 sys + 53.68 cusr  4.04 csys = 59.86 CPU)
Result: PASS

------------------------------
PREREQUISITES
------------------------------

Prerequisite modules loaded:

requires:

    Module                            Need    Have    
    --------------------------------- ------- --------
    Encode::Locale                    0       1.05    
    List::MoreUtils                   0       0.430   
    List::Util                        1.45    1.63    
    perl                              5.026   5.040001
    Readonly                          0       2.05    
    Unicode::CaseFold                 0       1.01    
    YAML::Tiny                        0       1.76    

build_requires:

    Module                            Need    Have    
    --------------------------------- ------- --------
    ExtUtils::MakeMaker               0       7.70    
    JSON                              0       4.10    
    Readonly                          0       2.05    
    Test2::V0                         0       0.000162
    Test::CPANfile                    0       0.08    
    Test::More                        0       1.302199
    Text::Diff                        0       1.45    
    YAML::PP                          0       v0.39.0 

configure_requires:

    Module                            Need    Have    
    --------------------------------- ------- --------
    ExtUtils::MakeMaker::CPANfile     0.09    0.09    
    perl                              v5.26.0 5.040001

opt_build_requires:

    Module                            Need    Have    
    --------------------------------- ------- --------
    CPAN::Common::Index::Mux::Ordered 0       0.010   
    Test::Pod                         1.22    1.52    


------------------------------
ENVIRONMENT AND OTHER CONTEXT
------------------------------

Environment variables:

    AUTOMATED_TESTING = 1
    LANG = en_US.UTF-8
    LC_TERMINAL = iTerm2
    LC_TERMINAL_VERSION = 3.5.13
    NONINTERACTIVE_TESTING = 1
    PATH = /home/cpantesting/.cargo/bin:/usr/local/bin:/usr/bin:/bin:/usr/local/games:/usr/games:/snap/bin
    PERL = 5.40.1-longdouble
    PERL5LIB = 
    PERL5OPT = 
    PERL5_CPANPLUS_IS_RUNNING = 1221721
    PERL5_CPAN_IS_RUNNING = 1221721
    PERLVER = 5.40.1-longdouble
    PERL_INLINE_DIRECTORY = /home/cpantesting/.Inline-5.40.1-longdouble
    PERL_MM_USE_DEFAULT = 1
    PERL_USE_UNSAFE_INC = 0
    SHELL = /bin/bash
    TERM = screen

Perl special variables (and OS-specific diagnostics, for MSWin32):

    $^X = /home/cpantesting/cpantesting/perl-5.40.1-longdouble/bin/perl
    $UID/$EUID = 1002 / 1002
    $GID = 1002 100 1002
    $EGID = 1002 100 1002

Perl module toolchain versions installed:

    Module              Have    
    ------------------- --------
    CPAN                2.38    
    CPAN::Meta          2.150010
    Cwd                 3.91    
    ExtUtils::CBuilder  0.280240
    ExtUtils::Command   7.70    
    ExtUtils::Install   2.22    
    ExtUtils::MakeMaker 7.70    
    ExtUtils::Manifest  1.75    
    ExtUtils::ParseXS   3.51    
    File::Spec          3.91    
    JSON                4.10    
    JSON::PP            4.16    
    Module::Build       0.4234  
    Module::Signature   0.89    
    Parse::CPAN::Meta   2.150010
    Test2               1.302199
    Test::Harness       3.48    
    Test::More          1.302199
    YAML                1.31    
    YAML::Syck          n/a     
    version             0.9930  


--

Summary of my perl5 (revision 5 version 40 subversion 1) configuration:
   
  Platform:
    osname=linux
    osvers=5.10.113-scw1
    archname=riscv64-linux-ld
    uname='linux plough 5.10.113-scw1 #1 smp preempt fri jul 12 15:31:22 utc 2024 riscv64 gnulinux '
    config_args='-de -Duselongdouble -Dprefix=/home/cpantesting/cpantesting/perl-5.40.1-longdouble'
    hint=recommended
    useposix=true
    d_sigaction=define
    useithreads=undef
    usemultiplicity=undef
    use64bitint=define
    use64bitall=define
    uselongdouble=define
    usemymalloc=n
    default_inc_excludes_dot=define
  Compiler:
    cc='cc'
    ccflags ='-fwrapv -fno-strict-aliasing -pipe -fstack-protector-strong -I/usr/local/include -D_LARGEFILE_SOURCE -D_FILE_OFFSET_BITS=64 -D_FORTIFY_SOURCE=2'
    optimize='-O2'
    cppflags='-fwrapv -fno-strict-aliasing -pipe -fstack-protector-strong -I/usr/local/include'
    ccversion=''
    gccversion='14.2.0'
    gccosandvers=''
    intsize=4
    longsize=8
    ptrsize=8
    doublesize=8
    byteorder=12345678
    doublekind=3
    d_longlong=define
    longlongsize=8
    d_longdbl=define
    longdblsize=16
    longdblkind=1
    ivtype='long'
    ivsize=8
    nvtype='long double'
    nvsize=16
    Off_t='off_t'
    lseeksize=8
    alignbytes=16
    prototype=define
  Linker and Libraries:
    ld='cc'
    ldflags =' -fstack-protector-strong -L/usr/local/lib'
    libpth=/usr/local/lib /usr/lib/riscv64-linux-gnu /usr/lib
    libs=-lpthread -ldl -lm -lcrypt -lutil -lc
    perllibs=-lpthread -ldl -lm -lcrypt -lutil -lc
    libc=/lib/riscv64-linux-gnu/libc.so.6
    so=so
    useshrplib=false
    libperl=libperl.a
    gnulibc_version='2.41'
  Dynamic Linking:
    dlsrc=dl_dlopen.xs
    dlext=so
    d_dlsymun=undef
    ccdlflags='-Wl,-E'
    cccdlflags='-fPIC'
    lddlflags='-shared -O2 -L/usr/local/lib -fstack-protector-strong'


Characteristics of this binary (from libperl): 
  Compile-time options:
    HAS_LONG_DOUBLE
    HAS_STRTOLD
    HAS_TIMES
    PERLIO_LAYERS
    PERL_COPY_ON_WRITE
    PERL_DONT_CREATE_GVSV
    PERL_HASH_FUNC_SIPHASH13
    PERL_HASH_USE_SBOX32
    PERL_MALLOC_WRAP
    PERL_OP_PARENT
    PERL_PRESERVE_IVUV
    PERL_USE_SAFE_PUTENV
    USE_64_BIT_ALL
    USE_64_BIT_INT
    USE_LARGE_FILES
    USE_LOCALE
    USE_LOCALE_COLLATE
    USE_LOCALE_CTYPE
    USE_LOCALE_NUMERIC
    USE_LOCALE_TIME
    USE_LONG_DOUBLE
    USE_PERLIO
    USE_PERL_ATOF
  Built under linux
  Compiled at Mar 18 2025 17:53:37
  %ENV:
    PERL="5.40.1-longdouble"
    PERL5LIB=""
    PERL5OPT=""
    PERL5_CPANPLUS_IS_RUNNING="1221721"
    PERL5_CPAN_IS_RUNNING="1221721"
    PERLVER="5.40.1-longdouble"
    PERL_INLINE_DIRECTORY="/home/cpantesting/.Inline-5.40.1-longdouble"
    PERL_MM_USE_DEFAULT="1"
    PERL_USE_UNSAFE_INC="0"
  @INC:
    /home/cpantesting/cpantesting/perl-5.40.1-longdouble/lib/site_perl/5.40.1/riscv64-linux-ld
    /home/cpantesting/cpantesting/perl-5.40.1-longdouble/lib/site_perl/5.40.1
    /home/cpantesting/cpantesting/perl-5.40.1-longdouble/lib/5.40.1/riscv64-linux-ld
    /home/cpantesting/cpantesting/perl-5.40.1-longdouble/lib/5.40.1