PDF-API2 v2.045 Perl 5 v5.38.1 MSWin32-x86-multi-thread-64int

Status
Pass
From
gregor herrmann
Dist
PDF-API2 v2.045
Platform
Perl 5 v5.38.1 MSWin32-x86-multi-thread-64int
Date
2023-11-29 11:00:25
ID
faf47287-714c-1014-8a4f-f51f19f6c4c5
This distribution has been tested as part of the CPAN Testers
project, supporting the Perl programming language.  See
http://wiki.cpantesters.org/ for more information or email
questions to cpan-testers-discuss@perl.org


--
Dear SSIMMS,

This is a computer-generated report for PDF-API2-2.045
on perl 5.38.1, created by App::cpanminus::reporter 0.21 (1.7047).

Thank you for uploading your work to CPAN.  Congratulations!
All tests were successful.

Sections of this report:

    * Tester comments
    * Program output
    * Prerequisites
    * Environment and other context

------------------------------
TESTER COMMENTS
------------------------------

Additional comments from tester:

none provided

------------------------------
PROGRAM OUTPUT
------------------------------

Output from '':

Building and testing PDF-API2-2.045
cp lib/PDF/API2/Basic/PDF/Filter/LZWDecode.pm blib\lib\PDF\API2\Basic\PDF\Filter\LZWDecode.pm
cp lib/PDF/API2/Basic/PDF/Number.pm blib\lib\PDF\API2\Basic\PDF\Number.pm
cp lib/PDF/API2/Basic/PDF/File.pm blib\lib\PDF\API2\Basic\PDF\File.pm
cp lib/PDF/API2/Basic/PDF/Filter/ASCIIHexDecode.pm blib\lib\PDF\API2\Basic\PDF\Filter\ASCIIHexDecode.pm
cp lib/PDF/API2/Basic/PDF/Dict.pm blib\lib\PDF\API2\Basic\PDF\Dict.pm
cp lib/PDF/API2.pm blib\lib\PDF\API2.pm
cp lib/PDF/API2/Basic/PDF/Bool.pm blib\lib\PDF\API2\Basic\PDF\Bool.pm
cp lib/PDF/API2/Annotation.pm blib\lib\PDF\API2\Annotation.pm
cp lib/PDF/API2/Basic/PDF/Filter/RunLengthDecode.pm blib\lib\PDF\API2\Basic\PDF\Filter\RunLengthDecode.pm
cp lib/PDF/API2/Basic/PDF/Filter/FlateDecode.pm blib\lib\PDF\API2\Basic\PDF\Filter\FlateDecode.pm
cp lib/PDF/API2/Basic/PDF/Literal.pm blib\lib\PDF\API2\Basic\PDF\Literal.pm
cp lib/PDF/API2/Basic/PDF/Array.pm blib\lib\PDF\API2\Basic\PDF\Array.pm
cp lib/PDF/API2/Basic/PDF/Null.pm blib\lib\PDF\API2\Basic\PDF\Null.pm
cp lib/PDF/API2/Basic/PDF/Name.pm blib\lib\PDF\API2\Basic\PDF\Name.pm
cp lib/PDF/API2/Basic/PDF/Filter/ASCII85Decode.pm blib\lib\PDF\API2\Basic\PDF\Filter\ASCII85Decode.pm
cp lib/PDF/API2/Basic/PDF/Filter.pm blib\lib\PDF\API2\Basic\PDF\Filter.pm
cp lib/PDF/API2/NamedDestination.pm blib\lib\PDF\API2\NamedDestination.pm
cp lib/PDF/API2/Matrix.pm blib\lib\PDF\API2\Matrix.pm
cp lib/PDF/API2/Resource/CIDFont.pm blib\lib\PDF\API2\Resource\CIDFont.pm
cp lib/PDF/API2/Outline.pm blib\lib\PDF\API2\Outline.pm
cp lib/PDF/API2/Content.pm blib\lib\PDF\API2\Content.pm
cp lib/PDF/API2/Outlines.pm blib\lib\PDF\API2\Outlines.pm
cp lib/PDF/API2/Basic/PDF/Page.pm blib\lib\PDF\API2\Basic\PDF\Page.pm
cp lib/PDF/API2/Resource/CIDFont/CJKFont/adobemingstdlightacro.data blib\lib\PDF\API2\Resource\CIDFont\CJKFont\adobemingstdlightacro.data
cp lib/PDF/API2/Resource/BaseFont.pm blib\lib\PDF\API2\Resource\BaseFont.pm
cp lib/PDF/API2/Content/Text.pm blib\lib\PDF\API2\Content\Text.pm
cp lib/PDF/API2/Basic/PDF/String.pm blib\lib\PDF\API2\Basic\PDF\String.pm
cp lib/PDF/API2/Page.pm blib\lib\PDF\API2\Page.pm
cp lib/PDF/API2/Basic/PDF/Utils.pm blib\lib\PDF\API2\Basic\PDF\Utils.pm
cp lib/PDF/API2/Resource.pm blib\lib\PDF\API2\Resource.pm
cp lib/PDF/API2/Lite.pm blib\lib\PDF\API2\Lite.pm
cp lib/PDF/API2/Resource/CIDFont/CJKFont.pm blib\lib\PDF\API2\Resource\CIDFont\CJKFont.pm
cp lib/PDF/API2/Basic/PDF/Pages.pm blib\lib\PDF\API2\Basic\PDF\Pages.pm
cp lib/PDF/API2/Basic/PDF/Objind.pm blib\lib\PDF\API2\Basic\PDF\Objind.pm
cp lib/PDF/API2/Resource/CIDFont/CMap/simplified.cmap blib\lib\PDF\API2\Resource\CIDFont\CMap\simplified.cmap
cp lib/PDF/API2/Resource/ColorSpace.pm blib\lib\PDF\API2\Resource\ColorSpace.pm
cp lib/PDF/API2/Resource/CIDFont/CMap/traditional.cmap blib\lib\PDF\API2\Resource\CIDFont\CMap\traditional.cmap
cp lib/PDF/API2/Resource/CIDFont/CJKFont/kozgopromediumacro.data blib\lib\PDF\API2\Resource\CIDFont\CJKFont\kozgopromediumacro.data
cp lib/PDF/API2/Resource/CIDFont/TrueType/FontFile.pm blib\lib\PDF\API2\Resource\CIDFont\TrueType\FontFile.pm
cp lib/PDF/API2/Resource/CIDFont/TrueType.pm blib\lib\PDF\API2\Resource\CIDFont\TrueType.pm
cp lib/PDF/API2/Resource/CIDFont/CJKFont/kozminproregularacro.data blib\lib\PDF\API2\Resource\CIDFont\CJKFont\kozminproregularacro.data
cp lib/PDF/API2/Resource/CIDFont/CJKFont/adobemyungjostdmediumacro.data blib\lib\PDF\API2\Resource\CIDFont\CJKFont\adobemyungjostdmediumacro.data
cp lib/PDF/API2/Resource/CIDFont/CJKFont/adobesongstdlightacro.data blib\lib\PDF\API2\Resource\CIDFont\CJKFont\adobesongstdlightacro.data
cp lib/PDF/API2/Resource/CIDFont/CMap/korean.cmap blib\lib\PDF\API2\Resource\CIDFont\CMap\korean.cmap
cp lib/PDF/API2/Resource/CIDFont/CMap/japanese.cmap blib\lib\PDF\API2\Resource\CIDFont\CMap\japanese.cmap
cp lib/PDF/API2/Resource/Font/CoreFont/courier.pm blib\lib\PDF\API2\Resource\Font\CoreFont\courier.pm
cp lib/PDF/API2/Resource/ColorSpace/Separation.pm blib\lib\PDF\API2\Resource\ColorSpace\Separation.pm
cp lib/PDF/API2/Resource/Colors.pm blib\lib\PDF\API2\Resource\Colors.pm
cp lib/PDF/API2/Resource/ColorSpace/Indexed/Hue.pm blib\lib\PDF\API2\Resource\ColorSpace\Indexed\Hue.pm
cp lib/PDF/API2/Resource/ExtGState.pm blib\lib\PDF\API2\Resource\ExtGState.pm
cp lib/PDF/API2/Resource/ColorSpace/Indexed/ACTFile.pm blib\lib\PDF\API2\Resource\ColorSpace\Indexed\ACTFile.pm
cp lib/PDF/API2/Resource/Font.pm blib\lib\PDF\API2\Resource\Font.pm
cp lib/PDF/API2/Resource/Font/BdFont.pm blib\lib\PDF\API2\Resource\Font\BdFont.pm
cp lib/PDF/API2/Resource/Font/CoreFont/bankgothic.pm blib\lib\PDF\API2\Resource\Font\CoreFont\bankgothic.pm
cp lib/PDF/API2/Resource/Font/CoreFont.pm blib\lib\PDF\API2\Resource\Font\CoreFont.pm
cp lib/PDF/API2/Resource/ColorSpace/DeviceN.pm blib\lib\PDF\API2\Resource\ColorSpace\DeviceN.pm
cp lib/PDF/API2/Resource/ColorSpace/Indexed/WebColor.pm blib\lib\PDF\API2\Resource\ColorSpace\Indexed\WebColor.pm
cp lib/PDF/API2/Resource/ColorSpace/Indexed.pm blib\lib\PDF\API2\Resource\ColorSpace\Indexed.pm
cp lib/PDF/API2/Resource/Font/CoreFont/helveticaboldoblique.pm blib\lib\PDF\API2\Resource\Font\CoreFont\helveticaboldoblique.pm
cp lib/PDF/API2/Resource/Font/CoreFont/georgiaitalic.pm blib\lib\PDF\API2\Resource\Font\CoreFont\georgiaitalic.pm
cp lib/PDF/API2/Resource/Font/CoreFont/georgiabold.pm blib\lib\PDF\API2\Resource\Font\CoreFont\georgiabold.pm
cp lib/PDF/API2/Resource/Font/CoreFont/courieroblique.pm blib\lib\PDF\API2\Resource\Font\CoreFont\courieroblique.pm
cp lib/PDF/API2/Resource/Font/CoreFont/helvetica.pm blib\lib\PDF\API2\Resource\Font\CoreFont\helvetica.pm
cp lib/PDF/API2/Resource/Font/CoreFont/helveticabold.pm blib\lib\PDF\API2\Resource\Font\CoreFont\helveticabold.pm
cp lib/PDF/API2/Resource/Font/CoreFont/courierbold.pm blib\lib\PDF\API2\Resource\Font\CoreFont\courierbold.pm
cp lib/PDF/API2/Resource/Font/CoreFont/courierboldoblique.pm blib\lib\PDF\API2\Resource\Font\CoreFont\courierboldoblique.pm
cp lib/PDF/API2/Resource/Font/CoreFont/georgiabolditalic.pm blib\lib\PDF\API2\Resource\Font\CoreFont\georgiabolditalic.pm
cp lib/PDF/API2/Resource/Font/CoreFont/helveticaoblique.pm blib\lib\PDF\API2\Resource\Font\CoreFont\helveticaoblique.pm
cp lib/PDF/API2/Resource/Font/CoreFont/georgia.pm blib\lib\PDF\API2\Resource\Font\CoreFont\georgia.pm
cp lib/PDF/API2/Resource/Font/CoreFont/timesbolditalic.pm blib\lib\PDF\API2\Resource\Font\CoreFont\timesbolditalic.pm
cp lib/PDF/API2/Resource/Font/CoreFont/trebuchet.pm blib\lib\PDF\API2\Resource\Font\CoreFont\trebuchet.pm
cp lib/PDF/API2/Resource/Font/CoreFont/symbol.pm blib\lib\PDF\API2\Resource\Font\CoreFont\symbol.pm
cp lib/PDF/API2/Resource/Font/CoreFont/verdanabold.pm blib\lib\PDF\API2\Resource\Font\CoreFont\verdanabold.pm
cp lib/PDF/API2/Resource/Font/CoreFont/timesbold.pm blib\lib\PDF\API2\Resource\Font\CoreFont\timesbold.pm
cp lib/PDF/API2/Resource/Font/CoreFont/timesitalic.pm blib\lib\PDF\API2\Resource\Font\CoreFont\timesitalic.pm
cp lib/PDF/API2/Resource/Font/CoreFont/timesroman.pm blib\lib\PDF\API2\Resource\Font\CoreFont\timesroman.pm
cp lib/PDF/API2/Resource/Font/CoreFont/trebuchetitalic.pm blib\lib\PDF\API2\Resource\Font\CoreFont\trebuchetitalic.pm
cp lib/PDF/API2/Resource/Font/CoreFont/verdana.pm blib\lib\PDF\API2\Resource\Font\CoreFont\verdana.pm
cp lib/PDF/API2/Resource/Font/CoreFont/trebuchetbold.pm blib\lib\PDF\API2\Resource\Font\CoreFont\trebuchetbold.pm
cp lib/PDF/API2/Resource/Font/CoreFont/trebuchetbolditalic.pm blib\lib\PDF\API2\Resource\Font\CoreFont\trebuchetbolditalic.pm
cp lib/PDF/API2/Resource/UniFont.pm blib\lib\PDF\API2\Resource\UniFont.pm
cp lib/PDF/API2/Resource/Glyphs.pm blib\lib\PDF\API2\Resource\Glyphs.pm
cp lib/PDF/API2/Resource/PaperSizes.pm blib\lib\PDF\API2\Resource\PaperSizes.pm
cp lib/PDF/API2/Resource/Shading.pm blib\lib\PDF\API2\Resource\Shading.pm
cp lib/PDF/API2/Resource/Font/CoreFont/zapfdingbats.pm blib\lib\PDF\API2\Resource\Font\CoreFont\zapfdingbats.pm
cp lib/PDF/API2/Resource/Font/CoreFont/verdanaitalic.pm blib\lib\PDF\API2\Resource\Font\CoreFont\verdanaitalic.pm
cp lib/PDF/API2/Resource/Pattern.pm blib\lib\PDF\API2\Resource\Pattern.pm
cp lib/PDF/API2/Resource/Font/Postscript.pm blib\lib\PDF\API2\Resource\Font\Postscript.pm
cp lib/PDF/API2/Resource/XObject.pm blib\lib\PDF\API2\Resource\XObject.pm
cp lib/PDF/API2/Resource/Font/CoreFont/wingdings.pm blib\lib\PDF\API2\Resource\Font\CoreFont\wingdings.pm
cp lib/PDF/API2/Resource/Font/SynFont.pm blib\lib\PDF\API2\Resource\Font\SynFont.pm
cp lib/PDF/API2/Resource/Font/CoreFont/verdanabolditalic.pm blib\lib\PDF\API2\Resource\Font\CoreFont\verdanabolditalic.pm
cp lib/PDF/API2/Resource/Font/CoreFont/webdings.pm blib\lib\PDF\API2\Resource\Font\CoreFont\webdings.pm
cp lib/PDF/API2/Resource/XObject/Form.pm blib\lib\PDF\API2\Resource\XObject\Form.pm
cp lib/PDF/API2/Resource/XObject/Image/GD.pm blib\lib\PDF\API2\Resource\XObject\Image\GD.pm
cp lib/PDF/API2/Resource/XObject/Form/Hybrid.pm blib\lib\PDF\API2\Resource\XObject\Form\Hybrid.pm
cp lib/PDF/API2/Resource/XObject/Form/BarCode/code3of9.pm blib\lib\PDF\API2\Resource\XObject\Form\BarCode\code3of9.pm
cp lib/PDF/API2/Resource/XObject/Form/BarCode/codabar.pm blib\lib\PDF\API2\Resource\XObject\Form\BarCode\codabar.pm
cp lib/PDF/API2/Resource/XObject/Image.pm blib\lib\PDF\API2\Resource\XObject\Image.pm
cp lib/PDF/API2/Resource/XObject/Image/JPEG.pm blib\lib\PDF\API2\Resource\XObject\Image\JPEG.pm
cp lib/PDF/API2/Resource/XObject/Form/BarCode/int2of5.pm blib\lib\PDF\API2\Resource\XObject\Form\BarCode\int2of5.pm
cp lib/PDF/API2/Resource/XObject/Form/BarCode/code128.pm blib\lib\PDF\API2\Resource\XObject\Form\BarCode\code128.pm
cp lib/PDF/API2/Resource/XObject/Form/BarCode.pm blib\lib\PDF\API2\Resource\XObject\Form\BarCode.pm
cp lib/PDF/API2/Resource/XObject/Form/BarCode/ean13.pm blib\lib\PDF\API2\Resource\XObject\Form\BarCode\ean13.pm
cp lib/PDF/API2/Resource/XObject/Form/BarCode/qrcode.pm blib\lib\PDF\API2\Resource\XObject\Form\BarCode\qrcode.pm
cp lib/PDF/API2/Resource/XObject/Image/GIF.pm blib\lib\PDF\API2\Resource\XObject\Image\GIF.pm
cp lib/PDF/API2/Resource/XObject/Image/TIFF.pm blib\lib\PDF\API2\Resource\XObject\Image\TIFF.pm
cp lib/PDF/API2/Win32.pm blib\lib\PDF\API2\Win32.pm
cp lib/PDF/API2/Util.pm blib\lib\PDF\API2\Util.pm
cp lib/PDF/API2/ViewerPreferences.pm blib\lib\PDF\API2\ViewerPreferences.pm
cp lib/PDF/API2/Resource/XObject/Image/TIFF/File.pm blib\lib\PDF\API2\Resource\XObject\Image\TIFF\File.pm
cp lib/PDF/API2/Resource/XObject/Image/PNM.pm blib\lib\PDF\API2\Resource\XObject\Image\PNM.pm
cp lib/PDF/API2/UniWrap.pm blib\lib\PDF\API2\UniWrap.pm
cp lib/PDF/API2/Resource/uniglyph.txt blib\lib\PDF\API2\Resource\uniglyph.txt
cp lib/PDF/API2/Resource/XObject/Image/PNG.pm blib\lib\PDF\API2\Resource\XObject\Image\PNG.pm
"C:\Strawberry\perl\bin\perl.exe" "-MExtUtils::Command::MM" "-MTest::Harness" "-e" "undef *Test::Harness::Switches; test_harness(0, 'blib\lib', 'blib\arch')" t/*.t
t/00-all-usable.t ........... ok
t/01-basic.t ................ ok
t/02-xrefstm.t .............. ok
t/03-xrefstm-index.t ........ ok
t/annotate.t ................ ok
t/author-critic.t ........... skipped: these tests are for testing by the author
t/author-pod-syntax.t ....... skipped: these tests are for testing by the author
t/barcode.t ................. ok
t/bbox.t .................... ok
t/circular-references.t ..... ok
t/cmap.t .................... ok
t/content-deprecated.t ...... ok
t/content.t ................. ok
t/cs-webcolor.t ............. ok
t/date.t .................... ok
t/deprecations.t ............ ok
t/extgstate.t ............... ok
t/filter-ascii85decode.t .... ok
t/filter-asciihexdecode.t ... ok
t/filter-runlengthdecode.t .. ok
t/font-corefont.t ........... ok
t/font-synfont.t ............ ok
t/font-ttf.t ................ ok
t/font-type1.t .............. ok
t/gd.t ...................... ok
t/gif.t ..................... ok
t/info.t .................... ok
t/jpg.t ..................... ok
t/lite.t .................... ok
t/named-destinations.t ...... ok
t/outline.t ................. ok
t/page.t .................... ok
t/papersizes.t .............. ok
t/pdf.t ..................... ok
t/png.t ..................... ok
t/pnm.t ..................... ok
t/rt120397.t ................ ok
t/rt120450.t ................ ok
t/rt126274.t ................ ok
t/rt67767.t ................. ok
t/rt69503.t ................. ok
t/string.t .................. ok
t/text.t .................... ok
t/tiff.t .................... ok
t/version.t ................. ok
t/viewer-preferences.t ...... ok
All tests successful.

Test Summary Report
-------------------
t/00-all-usable.t         (Wstat: 0 Tests: 105 Failed: 0)
  TODO passed:   105
Files=46, Tests=742, 70 wallclock secs ( 0.50 usr +  0.36 sys =  0.86 CPU)
Result: PASS

------------------------------
PREREQUISITES
------------------------------

Prerequisite modules loaded:

    No requirements found

------------------------------
ENVIRONMENT AND OTHER CONTEXT
------------------------------

Environment variables:

    COMSPEC = C:\WINDOWS\system32\cmd.exe
    NUMBER_OF_PROCESSORS = 2
    PATH = C:\WINDOWS\system32;C:\WINDOWS;C:\WINDOWS\System32\Wbem;C:\Program Files\Common Files\Lenovo;C:\Program Files\ThinkPad\ConnectUtilities;C:\Program Files\ThinkPad\ConnectUtilities\;C:\WINDOWS\System32\WindowsPowerShell\v1.0\;C:\Program Files\Intel\WiFi\bin\;C:\Program Files\Common Files\Intel\WirelessCommon\;C:\WINDOWS\System32\OpenSSH\;C:\Program Files\Git\cmd;C:\Strawberry\c\bin;C:\Strawberry\perl\site\bin;C:\Strawberry\perl\bin;C:\Users\smoker\AppData\Local\Microsoft\WindowsApps;
    PROCESSOR_IDENTIFIER = x86 Family 6 Model 15 Stepping 11, GenuineIntel
    TEMP = C:\Users\smoker\AppData\Local\Temp

Perl special variables (and OS-specific diagnostics, for MSWin32):

    EGID = 0
    EUID = 0
    EXECUTABLE_NAME = C:\Strawberry\perl\bin\perl.exe
    GID = 0
    UID = 0
    Win32::FsType = NTFS
    Win32::GetOSName = Win10
    Win32::GetOSVersion = , 10, 0, 19045, 2, 0, 0, 256, 1
    Win32::IsAdminUser = 0

Perl module toolchain versions installed:

    Module              Have    
    ------------------- --------
    CPAN                2.36    
    CPAN::Meta          2.150010
    Cwd                 3.89    
    ExtUtils::CBuilder  0.280238
    ExtUtils::Command   7.70    
    ExtUtils::Install   2.22    
    ExtUtils::MakeMaker 7.70    
    ExtUtils::Manifest  1.75    
    ExtUtils::ParseXS   3.51    
    File::Spec          3.88    
    JSON                4.10    
    JSON::PP            4.16    
    Module::Build       0.4234  
    Module::Signature   n/a     
    Parse::CPAN::Meta   2.150010
    Test::Harness       3.48    
    Test::More          1.302197
    YAML                1.30    
    YAML::Syck          n/a     
    version             0.9930  


--

Summary of my perl5 (revision 5 version 38 subversion 1) configuration:
   
  Platform:
    osname=MSWin32
    osvers=10.0.19045.3693
    archname=MSWin32-x86-multi-thread-64int
    uname='Win32 strawberry-perl 5.38.1.1 # 09:02:12 Mon November 27 2023 x32'
    config_args='undef'
    hint=recommended
    useposix=true
    d_sigaction=undef
    useithreads=define
    usemultiplicity=define
    use64bitint=define
    use64bitall=undef
    uselongdouble=undef
    usemymalloc=n
    default_inc_excludes_dot=define
  Compiler:
    cc='gcc'
    ccflags =' -DWIN32  -DPERL_TEXTMODE_SCRIPTS -DMULTIPLICITY -DPERL_IMPLICIT_SYS -DUSE_PERLIO -D__USE_MINGW_ANSI_STDIO -fwrapv -fno-strict-aliasing -mms-bitfields'
    optimize='-Os'
    cppflags='-DWIN32'
    ccversion=''
    gccversion='8.3.0'
    gccosandvers=''
    intsize=4
    longsize=4
    ptrsize=4
    doublesize=8
    byteorder=12345678
    doublekind=3
    d_longlong=define
    longlongsize=8
    d_longdbl=define
    longdblsize=12
    longdblkind=3
    ivtype='long long'
    ivsize=8
    nvtype='double'
    nvsize=8
    Off_t='long long'
    lseeksize=8
    alignbytes=8
    prototype=define
  Linker and Libraries:
    ld='g++'
    ldflags ='-s -L"C:\STRAWB~1\perl\lib\CORE" -L"C:\STRAWB~1\c\lib" -L"C:\STRAWB~1\c\i686-w64-mingw32\lib" -L"C:\STRAWB~1\c\lib\gcc\i686-w64-mingw32\8.3.0"'
    libpth=C:\STRAWB~1\c\lib C:\STRAWB~1\c\i686-w64-mingw32\lib C:\STRAWB~1\c\lib\gcc\i686-w64-mingw32\8.3.0 C:\STRAWB~1\c\i686-w64-mingw32\lib C:\STRAWB~1\c\lib\gcc\i686-w64-mingw32\8.3.0
    libs= -lmoldname -lkernel32 -luser32 -lgdi32 -lwinspool -lcomdlg32 -ladvapi32 -lshell32 -lole32 -loleaut32 -lnetapi32 -luuid -lws2_32 -lmpr -lwinmm -lversion -lodbc32 -lodbccp32 -lcomctl32
    perllibs= -lmoldname -lkernel32 -luser32 -lgdi32 -lwinspool -lcomdlg32 -ladvapi32 -lshell32 -lole32 -loleaut32 -lnetapi32 -luuid -lws2_32 -lmpr -lwinmm -lversion -lodbc32 -lodbccp32 -lcomctl32
    libc=
    so=dll
    useshrplib=true
    libperl=libperl538.a
    gnulibc_version=''
  Dynamic Linking:
    dlsrc=dl_win32.xs
    dlext=xs.dll
    d_dlsymun=undef
    ccdlflags=' '
    cccdlflags=' '
    lddlflags='-shared -s -L"C:\STRAWB~1\perl\lib\CORE" -L"C:\STRAWB~1\c\lib" -L"C:\STRAWB~1\c\i686-w64-mingw32\lib" -L"C:\STRAWB~1\c\lib\gcc\i686-w64-mingw32\8.3.0"'


Characteristics of this binary (from libperl): 
  Compile-time options:
    HAS_LONG_DOUBLE
    HAS_TIMES
    HAVE_INTERP_INTERN
    MULTIPLICITY
    PERLIO_LAYERS
    PERL_COPY_ON_WRITE
    PERL_DONT_CREATE_GVSV
    PERL_HASH_FUNC_SIPHASH13
    PERL_HASH_USE_SBOX32
    PERL_IMPLICIT_SYS
    PERL_MALLOC_WRAP
    PERL_OP_PARENT
    PERL_PRESERVE_IVUV
    PERL_USE_SAFE_PUTENV
    USE_64_BIT_INT
    USE_ITHREADS
    USE_LARGE_FILES
    USE_LOCALE
    USE_LOCALE_COLLATE
    USE_LOCALE_CTYPE
    USE_LOCALE_NUMERIC
    USE_LOCALE_TIME
    USE_PERLIO
    USE_PERL_ATOF
  Built under MSWin32
  Compiled at Nov 27 2023 20:07:50
  @INC:
    C:/Strawberry/perl/site/lib/MSWin32-x86-multi-thread-64int
    C:/Strawberry/perl/site/lib
    C:/Strawberry/perl/vendor/lib
    C:/Strawberry/perl/lib