Bio_AssemblyImprovement v1.160490 Perl 5 v5.12.5 x86_64-linux

Status
Pass
From
Slaven Rezić (SREZIC)
Dist
Bio_AssemblyImprovement v1.160490
Platform
Perl 5 v5.12.5 x86_64-linux
Date
2019-04-29 23:03:18
ID
fa6b2e0c-6ad2-11e9-bb76-8d5b1f24ea8f
This distribution has been tested as part of the CPAN Testers
project, supporting the Perl programming language.  See
http://wiki.cpantesters.org/ for more information or email
questions to cpan-testers-discuss@perl.org


--
Dear Andrew Page,

This is a computer-generated report for Bio_AssemblyImprovement-1.160490
on perl 5.12.5, created by CPAN-Reporter-1.2018.

Thank you for uploading your work to CPAN.  Congratulations!
All tests were successful.

Sections of this report:

    * Tester comments
    * Program output
    * Prerequisites
    * Environment and other context

------------------------------
TESTER COMMENTS
------------------------------

Additional comments from tester:

none provided

------------------------------
PROGRAM OUTPUT
------------------------------

Output from '/usr/bin/make test':

PERL_DL_NONLAZY=1 "/opt/perl-5.12.5/bin/perl" "-MExtUtils::Command::MM" "-MTest::Harness" "-e" "undef *Test::Harness::Switches; test_harness(0, 'blib/lib', 'blib/arch')" t/*.t t/Abacas/*.t t/AdapterRemoval/Trimmomatic/*.t t/Assemble/SGA/*.t t/Circlator/*.t t/DigitalNormalisation/Khmer/*.t t/FillGaps/*.t t/IvaQC/*.t t/Overall/*.t t/PrepareForSubmission/*.t t/PrimerRemoval/*.t t/Quiver/*.t t/Scaffold/*.t t/Util/*.t t/Validate/*.t
t/Abacas/Iterative.t .................... ok
t/Abacas/Main.t ......................... ok
t/AdapterRemoval/Trimmomatic/Main.t ..... ok
t/Assemble/SGA/IndexAndCorrectReads.t ... ok
t/Assemble/SGA/Main.t ................... ok
t/Assemble/SGA/PreprocessReads.t ........ ok
t/Circlator/Main.t ...................... ok
t/DigitalNormalisation/Khmer/Main.t ..... ok
t/FillGaps/GapFillerConfig.t ............ ok
t/FillGaps/Iterative.t .................. ok
Traceback (most recent call last):
  File "/home/cpansand/.cpan/build/2019042921/Bio_AssemblyImprovement-1.160490-1pcBrb/t/dummy_iva_qc_script_raise_error.py", line 7, in <module>
    raise Error ('Could not run iva_qc check - ignore error message')
__main__.Error: Could not run iva_qc check - ignore error message
Error running iva_qc with: /home/cpansand/.cpan/build/2019042921/Bio_AssemblyImprovement-1.160490-1pcBrb/t/dummy_iva_qc_script_raise_error.py -f /home/cpansand/.cpan/build/2019042921/Bio_AssemblyImprovement-1.160490-1pcBrb/t/data/forward.fastq -r /home/cpansand/.cpan/build/2019042921/Bio_AssemblyImprovement-1.160490-1pcBrb/t/data/reverse.fastq --ref_db /home/cpansand/.cpan/build/2019042921/Bio_AssemblyImprovement-1.160490-1pcBrb/t/data/database /home/cpansand/.cpan/build/2019042921/Bio_AssemblyImprovement-1.160490-1pcBrb/t/data/contigs.fa test_iva_qc 
t/IvaQC/Main.t .......................... ok
t/Overall/CheckAllModulesCompile.t ...... ok
t/PrepareForSubmission/RenameContigs.t .. ok
t/PrimerRemoval/Main.t .................. ok
t/Quiver/Main.t ......................... ok
t/requires_external.t ................... ok
t/Scaffold/Descaffold.t ................. ok
t/Scaffold/Iterative.t .................. ok
t/Scaffold/PreprocessInputFiles.t ....... ok
t/Scaffold/SSpaceConfig.t ............... ok
t/Util/FastaTools.t ..................... ok
t/Util/FastqTools.t ..................... ok
t/Util/OrderContigsByLength.t ........... ok
/home/cpansand/.cpan/build/2019042921/Bio_AssemblyImprovement-1.160490-1pcBrb/t/does_not_exist.pl does not exist. Using default: /home/cpansand/.cpan/build/2019042921/Bio_AssemblyImprovement-1.160490-1pcBrb/t/dummy_gap_filler_script.pl at lib/Bio/AssemblyImprovement/Validate/Executable.pm line 29.
t/Validate/Executable.t ................. ok
All tests successful.
Files=24, Tests=246,  9 wallclock secs ( 0.09 usr  0.18 sys +  5.90 cusr  2.91 csys =  9.08 CPU)
Result: PASS

------------------------------
PREREQUISITES
------------------------------

Prerequisite modules loaded:

requires:

    Module                 Need Have   
    ---------------------- ---- -------
    Bio::SeqIO             0    1.7.4  
    Cwd                    0    3.75   
    File::Basename         0    2.78   
    File::Copy             0    2.18   
    File::Path             2.07 2.16   
    File::Spec             0    3.75   
    File::Temp             0    0.2309 
    File::Which            0    1.23   
    Getopt::Long           0    2.5    
    Getopt::Std            0    1.06   
    IO::Compress::Gzip     0    2.084  
    IO::Uncompress::Gunzip 0    2.084  
    lib                    0    0.62   
    Moose                  0    2.2011 
    Moose::Role            0    2.2011 
    POSIX                  0    1.19   
    Statistics::Lite       0    3.62   
    strict                 0    1.04   
    Switch                 0    2.17   
    warnings               0    1.09   

build_requires:

    Module                 Need Have   
    ---------------------- ---- -------
    Env::Path              0    0.19   
    ExtUtils::MakeMaker    0    7.34   
    File::Slurp            0    9999.26
    Test::File::Contents   0    0.23   
    Test::Most             0    0.35   

configure_requires:

    Module                 Need Have   
    ---------------------- ---- -------
    ExtUtils::MakeMaker    0    7.34   


------------------------------
ENVIRONMENT AND OTHER CONTEXT
------------------------------

Environment variables:

    LANG = C
    LC_ALL = de_DE.UTF-8
    PATH = /usr/local/bin:/usr/bin:/bin:/usr/local/sbin:/usr/sbin:/sbin:/home/cpansand/bin/linux-gnu:/home/cpansand/bin/sh:/home/cpansand/bin:/usr/games:/home/cpansand/devel:/home/eserte/src/srezic-misc/scripts
    PERL5LIB = /home/cpansand/.cpan/build/2019042921/Switch-2.17-btui5T/blib/arch:/home/cpansand/.cpan/build/2019042921/Switch-2.17-btui5T/blib/lib
    PERL5OPT = 
    PERL5_CPANPLUS_IS_RUNNING = 7711
    PERL5_CPAN_IS_RUNNING = 7711
    PERL5_CPAN_IS_RUNNING_IN_RECURSION = 6807,7711
    PERLDOC = -MPod::Perldoc::ToTextOverstrike
    PERL_BATCH = yes
    PERL_CANARY_STABILITY_NOPROMPT = 1
    PERL_CPAN_REPORTER_CONFIG = /var/tmp/cpansmoker-1023/2019042921/cpanreporter_001_config.ini
    PERL_EXTUTILS_AUTOINSTALL = --defaultdeps
    SHELL = /usr/bin/zsh
    TERM = screen
    TMPDIR = /var/tmp/cpansmoker-1023/2019042921

Perl special variables (and OS-specific diagnostics, for MSWin32):

    $^X = /opt/perl-5.12.5/bin/perl
    $UID/$EUID = 1023 / 1023
    $GID = 1023 1023
    $EGID = 1023 1023

Perl module toolchain versions installed:

    Module              Have    
    ------------------- --------
    CPAN                1.94_56 
    CPAN::Meta          2.150010
    Cwd                 3.75    
    ExtUtils::CBuilder  0.280231
    ExtUtils::Command   7.34    
    ExtUtils::Install   2.06    
    ExtUtils::MakeMaker 7.34    
    ExtUtils::Manifest  1.70    
    ExtUtils::ParseXS   3.35    
    File::Spec          3.75    
    JSON                4.01    
    JSON::PP            4.01    
    Module::Build       0.4224  
    Module::Signature   n/a     
    Parse::CPAN::Meta   2.150010
    Test::Harness       3.42    
    Test::More          1.302162
    YAML                1.27    
    YAML::Syck          1.31    
    version             0.9924  


--

Summary of my perl5 (revision 5 version 12 subversion 5) configuration:
   
  Platform:
    osname=linux, osvers=4.9.0-8-amd64, archname=x86_64-linux
    uname='linux eserte 4.9.0-8-amd64 #1 smp debian 4.9.130-2 (2018-10-27) x86_64 gnulinux '
    config_args='-ds -e -Dprefix=/opt/perl-5.12.5 -Dcf_email=srezic@cpan.org'
    hint=recommended, useposix=true, d_sigaction=define
    useithreads=undef, usemultiplicity=undef
    useperlio=define, d_sfio=undef, uselargefiles=define, usesocks=undef
    use64bitint=define, use64bitall=define, uselongdouble=undef
    usemymalloc=n, bincompat5005=undef
  Compiler:
    cc='cc', ccflags ='-fno-strict-aliasing -pipe -fstack-protector -I/usr/local/include -D_LARGEFILE_SOURCE -D_FILE_OFFSET_BITS=64',
    optimize='-O2',
    cppflags='-fno-strict-aliasing -pipe -fstack-protector -I/usr/local/include'
    ccversion='', gccversion='6.3.0 20170516', gccosandvers=''
    intsize=4, longsize=8, ptrsize=8, doublesize=8, byteorder=12345678
    d_longlong=define, longlongsize=8, d_longdbl=define, longdblsize=16
    ivtype='long', ivsize=8, nvtype='double', nvsize=8, Off_t='off_t', lseeksize=8
    alignbytes=8, prototype=define
  Linker and Libraries:
    ld='cc', ldflags =' -fstack-protector -L/usr/local/lib'
    libpth=/usr/local/lib /lib/x86_64-linux-gnu /lib/../lib /usr/lib/x86_64-linux-gnu /usr/lib/../lib /lib /usr/lib
    libs=-lnsl -ldb -ldl -lm -lcrypt -lutil -lc
    perllibs=-lnsl -ldl -lm -lcrypt -lutil -lc
    libc=libc-2.24.so, so=so, useshrplib=false, libperl=libperl.a
    gnulibc_version='2.24'
  Dynamic Linking:
    dlsrc=dl_dlopen.xs, dlext=so, d_dlsymun=undef, ccdlflags='-Wl,-E'
    cccdlflags='-fPIC', lddlflags='-shared -O2 -L/usr/local/lib -fstack-protector'


Characteristics of this binary (from libperl): 
  Compile-time options: PERL_DONT_CREATE_GVSV PERL_MALLOC_WRAP USE_64_BIT_ALL
                        USE_64_BIT_INT USE_LARGE_FILES USE_PERLIO
                        USE_PERL_ATOF
  Locally applied patches:
	Devel::PatchPerl 1.46
  Built under linux
  Compiled at Jan  4 2019 20:48:51
  %ENV:
    PERL5LIB="/home/cpansand/.cpan/build/2019042921/Switch-2.17-btui5T/blib/arch:/home/cpansand/.cpan/build/2019042921/Switch-2.17-btui5T/blib/lib"
    PERL5OPT=""
    PERL5_CPANPLUS_IS_RUNNING="7711"
    PERL5_CPAN_IS_RUNNING="7711"
    PERL5_CPAN_IS_RUNNING_IN_RECURSION="6807,7711"
    PERLDOC="-MPod::Perldoc::ToTextOverstrike"
    PERL_BATCH="yes"
    PERL_CANARY_STABILITY_NOPROMPT="1"
    PERL_CPAN_REPORTER_CONFIG="/var/tmp/cpansmoker-1023/2019042921/cpanreporter_001_config.ini"
    PERL_EXTUTILS_AUTOINSTALL="--defaultdeps"
  @INC:
    /home/cpansand/.cpan/build/2019042921/Switch-2.17-btui5T/blib/arch
    /home/cpansand/.cpan/build/2019042921/Switch-2.17-btui5T/blib/lib
    /opt/perl-5.12.5/lib/site_perl/5.12.5/x86_64-linux
    /opt/perl-5.12.5/lib/site_perl/5.12.5
    /opt/perl-5.12.5/lib/5.12.5/x86_64-linux
    /opt/perl-5.12.5/lib/5.12.5
    .