Net-Amazon-S3 v0.97 Perl 5 v5.12.2 MSWin32-x86-multi-thread

Status
Pass
From
Alexandr Ciornii (CHORNY)
Dist
Net-Amazon-S3 v0.97
Platform
Perl 5 v5.12.2 MSWin32-x86-multi-thread
Date
2020-10-20 16:13:44
ID
f9f18a5c-6bf9-1014-8957-724cbff1f510
This distribution has been tested as part of the CPAN Testers
project, supporting the Perl programming language.  See
http://wiki.cpantesters.org/ for more information or email
questions to cpan-testers-discuss@perl.org


--
Dear Branislav Zahradnik,

This is a computer-generated report for Net-Amazon-S3-0.97
on perl 5.12.2, created by CPAN-Reporter-1.2018.

Thank you for uploading your work to CPAN.  Congratulations!
All tests were successful.

Sections of this report:

    * Tester comments
    * Program output
    * Prerequisites
    * Environment and other context

------------------------------
TESTER COMMENTS
------------------------------

Additional comments from tester:

this report is from an automated smoke testing program
and was not reviewed by a human for accuracy

------------------------------
PROGRAM OUTPUT
------------------------------

Output from 'C:\strawberry\c\bin\dmake.EXE test':

C:\strawberry\perl\bin\perl.exe "-MExtUtils::Command::MM" "-MTest::Harness" "-e" "undef *Test::Harness::Switches; test_harness(0, 'blib\lib', 'blib\arch')" t/*.t
t/01api.t ................................ skipped: Testing this module for real costs money. Enable it by setting true value to env variable AMAZON_S3_EXPENSIVE_TESTS
t/02client.t ............................. skipped: Testing this module for real costs money.
t/03token.t .............................. skipped: Need these vars in ENV: AWS_ACCESS_KEY_ID, AWS_ACCESS_KEY_SECRET, AWS_ACCESS_TOKEN
t/acl-set.t .............................. ok
t/api-bucket-acl-get.t ................... ok
t/api-bucket-acl-set.t ................... ok
t/api-bucket-create.t .................... ok
t/api-bucket-delete.t .................... ok
t/api-bucket-objects-delete.t ............ ok
t/api-bucket-objects-list.t .............. ok
t/api-bucket-tags-add.t .................. ok
t/api-bucket-tags-delete.t ............... ok
t/api-build-bucket.t ..................... ok
t/api-construct.t ........................ ok
t/api-object-acl-get.t ................... ok
t/api-object-acl-set.t ................... ok
t/api-object-create.t .................... ok
t/api-object-delete.t .................... ok
t/api-object-fetch.t ..................... ok
t/api-object-head.t ...................... ok
t/api-object-tags-add.t .................. ok
t/api-object-tags-delete.t ............... ok
t/api-service-buckets-list.t ............. ok
t/author-eol.t ........................... skipped: these tests are for testing by the author
t/client-bucket-acl-get.t ................ ok
t/client-bucket-acl-set.t ................ ok
t/client-bucket-create.t ................. ok
t/client-bucket-delete.t ................. ok
t/client-bucket-objects-delete.t ......... ok
t/client-bucket-objects-list.t ........... ok
t/client-bucket-tags-add.t ............... ok
t/client-bucket-tags-delete.t ............ ok
t/client-construct.t ..................... ok
t/client-object-acl-set.t ................ ok
t/client-object-create.t ................. ok
t/client-object-delete.t ................. ok
t/client-object-fetch.t .................. ok
t/client-object-tags-add.t ............... ok
t/client-object-tags-delete.t ............ ok
t/client-service-buckets-list.t .......... ok
t/error-handler-x.t ...................... ok
t/issue-39-content-length-0.t ............ ok
t/issue-88-non-standard-service-port.t ... ok
t/query-string-authentication-uri.t ...... ok
t/request.t .............................. ok
t/response.t ............................. ok
t/s3-operation-bucket-acl-fetch.t ........ ok
t/s3-operation-bucket-acl-set.t .......... ok
t/s3-operation-bucket-create.t ........... ok
t/s3-operation-bucket-delete.t ........... ok
t/s3-operation-bucket-location.t ......... ok
t/s3-operation-bucket-tags-add.t ......... ok
t/s3-operation-bucket-tags-delete.t ...... ok
t/s3-operation-buckets-list.t ............ ok
t/s3-operation-object-acl-fetch.t ........ ok
t/s3-operation-object-acl-set.t .......... ok
t/s3-operation-object-add.t .............. ok
t/s3-operation-object-copy.t ............. ok
t/s3-operation-object-delete.t ........... ok
t/s3-operation-object-fetch.t ............ ok
t/s3-operation-object-head.t ............. ok
t/s3-operation-object-restore.t .......... ok
t/s3-operation-object-tags-add.t ......... ok
t/s3-operation-object-tags-delete.t ...... ok
t/s3-operation-object-upload-abort.t ..... ok
t/s3-operation-object-upload-complete.t .. ok
t/s3-operation-object-upload-create.t .... ok
t/s3-operation-object-upload-part.t ...... ok
t/s3-operation-objects-delete.t .......... ok
t/s3-operation-objects-list.t ............ ok
t/s3-request-bucket-acl-fetch.t .......... ok
t/s3-request-bucket-acl-set.t ............ ok
t/s3-request-bucket-create.t ............. ok
t/s3-request-bucket-delete.t ............. ok
t/s3-request-bucket-location.t ........... ok
t/s3-request-bucket-objects-delete.t ..... ok
t/s3-request-bucket-objects-list.t ....... ok
t/s3-request-bucket-tags-add.t ........... ok
t/s3-request-bucket-tags-delete.t ........ ok
t/s3-request-object-acl-fetch.t .......... ok
t/s3-request-object-acl-set.t ............ ok
t/s3-request-object-add.t ................ ok
t/s3-request-object-delete.t ............. ok
t/s3-request-object-fetch.t .............. ok
t/s3-request-object-restore.t ............ ok
t/s3-request-object-tags-add.t ........... ok
t/s3-request-object-tags-delete.t ........ ok
t/s3-request-object-upload-abort.t ....... ok
t/s3-request-object-upload-complete.t .... ok
t/s3-request-object-upload-create.t ...... ok
t/s3-request-object-upload-part.t ........ ok
t/s3-request-object-upload-parts.t ....... ok
t/s3-request-service-buckets-list.t ...... ok
t/s3-response-object-upload-create.t ..... ok
t/s3-response-service-buckets-list.t ..... ok
t/signature-v4-with-security-token.t ..... ok
t/utils-parse-arguments.t ................ ok
t/vendor-amazon.t ........................ ok
t/vendor-generic.t ....................... ok
t/vendor-info.t .......................... ok
All tests successful.
Files=100, Tests=523, 263 wallclock secs ( 0.58 usr +  0.26 sys =  0.84 CPU)
Result: PASS

------------------------------
PREREQUISITES
------------------------------

Prerequisite modules loaded:

requires:

    Module                                 Need     Have      
    -------------------------------------- -------- ----------
    Carp                                   0        1.3301    
    constant                               0        1.27      
    Data::Stream::Bulk::Callback           0        0.11      
    DateTime::Format::HTTP                 0        0.42      
    Digest::HMAC_SHA1                      0        1.03      
    Digest::MD5                            0        2.53      
    Digest::MD5::File                      0        0.08      
    Digest::SHA                            0        5.92      
    Exporter::Tiny                         0        0.038     
    File::Find::Rule                       0        0.32      
    File::stat                             0        1.02      
    Getopt::Long                           0        2.42      
    Hash::Util                             0        0.07      
    HTTP::Date                             0        6.02      
    HTTP::Response                         0        6.04      
    HTTP::Status                           0        6.03      
    IO::File                               1.14     1.14      
    LWP                                    6.03     6.08      
    LWP::UserAgent::Determined             0        1.07      
    MIME::Base64                           0        3.14      
    MIME::Types                            0        2.04      
    Moose                                  0.85     2.1210    
    Moose::Meta::Class                     0        2.1210    
    Moose::Object                          0        2.1210    
    Moose::Role                            0        2.1210    
    Moose::Util                            0        2.1210    
    Moose::Util::TypeConstraints           0        2.1210    
    MooseX::Role::Parameterized            0        1.02      
    MooseX::StrictConstructor              0.16     0.19      
    MooseX::Types::DateTime::MoreCoercions 0.07     0.15      
    namespace::clean                       0        0.25      
    parent                                 0        0.228     
    Path::Class                            0        0.33      
    Pod::Usage                             0        1.64      
    Ref::Util                              0        0.204     
    Regexp::Common                         0        2013031301
    Safe::Isa                              0        1.000004  
    Scalar::Util                           0        1.39      
    sort                                   0        2.01      
    strict                                 0        1.04      
    Sub::Override                          0        0.09      
    Term::Encoding                         0        0.02      
    Term::ProgressBar::Simple              0        0.03      
    Test::Deep                             v0.111.0 0.112     
    Test::LWP::UserAgent                   0        0.025     
    Test::More                             0        1.001003  
    Time::Piece                            0        1.20      
    URI                                    0        1.64      
    URI::Escape                            0        3.31      
    URI::QueryParam                        0        0         
    warnings                               0        1.09      
    XML::LibXML                            0        2.0116    
    XML::LibXML::XPathContext              0        2.0116    

build_requires:

    Module                                 Need     Have      
    -------------------------------------- -------- ----------
    ExtUtils::MakeMaker                    0        6.98      
    File::Temp                             0        0.2304    
    FindBin                                0        1.50      
    HTTP::Request                          0        6.00      
    lib                                    0        0.62      
    LWP::Simple                            0        6.00      
    Test::Deep                             v0.111.0 0.112     
    Test::Exception                        0        0.32      
    Test::MockTime                         0        0.12      
    Test::Warnings                         0        0.016     
    utf8                                   0        1.08      
    vars                                   0        1.01      

configure_requires:

    Module                                 Need     Have      
    -------------------------------------- -------- ----------
    ExtUtils::MakeMaker                    0        6.98      


------------------------------
ENVIRONMENT AND OTHER CONTEXT
------------------------------

Environment variables:

    AUTOMATED_TESTING = 1
    COMSPEC = C:\WINDOWS\system32\cmd.exe
    NUMBER_OF_PROCESSORS = 1
    PATH = c:\Windows\system32;c:\Windows\System32\Wbem;C:\Git\cmd;C:\strawberry\c\bin;C:\strawberry\perl\site\bin;C:\strawberry\perl\bin
    PERL5LIB = C:\strawberry\cpan\build\Term-ProgressBar-Simple-0.03-0/blib/arch;C:\strawberry\cpan\build\Term-ProgressBar-Simple-0.03-0/blib/lib;C:\strawberry\cpan\build\Term-ProgressBar-Quiet-0.31-0/blib/arch;C:\strawberry\cpan\build\Term-ProgressBar-Quiet-0.31-0/blib/lib;C:\strawberry\cpan\build\Term-ProgressBar-2.22-0/blib/arch;C:\strawberry\cpan\build\Term-ProgressBar-2.22-0/blib/lib;C:\strawberry\cpan\build\TermReadKey-2.38-0/blib/arch;C:\strawberry\cpan\build\TermReadKey-2.38-0/blib/lib;C:\strawberry\cpan\build\Class-MethodMaker-2.24-0/blib/arch;C:\strawberry\cpan\build\Class-MethodMaker-2.24-0/blib/lib;C:\strawberry\cpan\build\Ref-Util-0.204-1/blib/arch;C:\strawberry\cpan\build\Ref-Util-0.204-1/blib/lib;C:\strawberry\cpan\build\Ref-Util-XS-0.117-1/blib/arch;C:\strawberry\cpan\build\Ref-Util-XS-0.117-1/blib/lib;C:\strawberry\cpan\build\MooseX-Types-DateTime-MoreCoercions-0.15-0/blib/arch;C:\strawberry\cpan\build\MooseX-Types-DateTime-MoreCoercions-0.15-0/blib/lib;C:\strawberry\cpan\build\LWP-UserAgent-Determined-1.07-0/blib/arch;C:\strawberry\cpan\build\LWP-UserAgent-Determined-1.07-0/blib/lib
    PERL5OPT = 
    PERL5_CPANPLUS_IS_RUNNING = 1516
    PERL5_CPAN_IS_RUNNING = 1516
    PERL5_CPAN_IS_RUNNING_IN_RECURSION = 864,1516
    PERL_CR_SMOKER_CURRENT = Net-Amazon-S3-0.97
    PERL_CR_SMOKER_RUNONCE = 1
    PERL_EXTUTILS_AUTOINSTALL = --defaultdeps
    PERL_MM_USE_DEFAULT = 1
    PROCESSOR_IDENTIFIER = x86 Family 18 Model 1 Stepping 0, AuthenticAMD
    TEMP = C:\DOCUME~1\c\LOCALS~1\Temp
    TERM = dumb

Perl special variables (and OS-specific diagnostics, for MSWin32):

    $^X = C:\strawberry\perl\bin\perl.exe
    $UID/$EUID = 0 / 0
    $GID = 0
    $EGID = 0
    Win32::GetOSName = WinXP/.Net
    Win32::GetOSVersion = Service Pack 3, 5, 1, 2600, 2, 3, 0, 256, 1
    Win32::FsType = NTFS
    Win32::IsAdminUser = 1

Perl module toolchain versions installed:

    Module              Have    
    ------------------- --------
    CPAN                2.16    
    CPAN::Meta          2.141520
    Cwd                 3.47    
    ExtUtils::CBuilder  0.280216
    ExtUtils::Command   1.16    
    ExtUtils::Install   1.55    
    ExtUtils::MakeMaker 6.98    
    ExtUtils::Manifest  1.60    
    ExtUtils::ParseXS   3.24    
    File::Spec          3.47    
    JSON                2.90    
    JSON::PP            2.27203 
    Module::Build       0.4206  
    Module::Signature   0.66    
    Parse::CPAN::Meta   1.4414  
    Test::Harness       3.32    
    Test::More          1.001003
    YAML                0.98    
    YAML::Syck          1.27    
    version             0.9908  


--

Summary of my perl5 (revision 5 version 12 subversion 2) configuration:
   
  Platform:
    osname=MSWin32, osvers=5.1, archname=MSWin32-x86-multi-thread
    uname='Win32 strawberryperl 5.12.2.0 #1 Fri Nov  5 05:17:27 2010 i386'
    config_args='undef'
    hint=recommended, useposix=true, d_sigaction=undef
    useithreads=define, usemultiplicity=define
    useperlio=define, d_sfio=undef, uselargefiles=define, usesocks=undef
    use64bitint=undef, use64bitall=undef, uselongdouble=undef
    usemymalloc=n, bincompat5005=undef
  Compiler:
    cc='gcc', ccflags =' -s -O2 -DWIN32 -DHAVE_DES_FCRYPT  -DUSE_SITECUSTOMIZE -DPERL_IMPLICIT_CONTEXT -DPERL_IMPLICIT_SYS -fno-strict-aliasing -mms-bitfields -DPERL_MSVCRT_READFIX',
    optimize='-s -O2',
    cppflags='-DWIN32'
    ccversion='', gccversion='4.4.3', gccosandvers=''
    intsize=4, longsize=4, ptrsize=4, doublesize=8, byteorder=1234
    d_longlong=undef, longlongsize=8, d_longdbl=define, longdblsize=12
    ivtype='long', ivsize=4, nvtype='double', nvsize=8, Off_t='long long', lseeksize=8
    alignbytes=8, prototype=define
  Linker and Libraries:
    ld='g++', ldflags ='-s -L"C:\strawberry\perl\lib\CORE" -L"C:\strawberry\c\lib"'
    libpth=C:\strawberry\c\lib C:\strawberry\c\i686-w64-mingw32\lib
    libs=-lmoldname -lkernel32 -luser32 -lgdi32 -lwinspool -lcomdlg32 -ladvapi32 -lshell32 -lole32 -loleaut32 -lnetapi32 -luuid -lws2_32 -lmpr -lwinmm -lversion -lodbc32 -lodbccp32 -lcomctl32
    perllibs=-lmoldname -lkernel32 -luser32 -lgdi32 -lwinspool -lcomdlg32 -ladvapi32 -lshell32 -lole32 -loleaut32 -lnetapi32 -luuid -lws2_32 -lmpr -lwinmm -lversion -lodbc32 -lodbccp32 -lcomctl32
    libc=, so=dll, useshrplib=true, libperl=libperl512.a
    gnulibc_version=''
  Dynamic Linking:
    dlsrc=dl_win32.xs, dlext=dll, d_dlsymun=undef, ccdlflags=' '
    cccdlflags=' ', lddlflags='-mdll -s -L"C:\strawberry\perl\lib\CORE" -L"C:\strawberry\c\lib"'


Characteristics of this binary (from libperl): 
  Compile-time options: MULTIPLICITY PERL_DONT_CREATE_GVSV
                        PERL_IMPLICIT_CONTEXT PERL_IMPLICIT_SYS
                        PERL_MALLOC_WRAP PL_OP_SLAB_ALLOC USE_ITHREADS
                        USE_LARGE_FILES USE_PERLIO USE_PERL_ATOF
                        USE_SITECUSTOMIZE
  Built under MSWin32
  Compiled at Nov  5 2010 08:39:08
  %ENV:
    PERL5LIB="C:\strawberry\cpan\build\Term-ProgressBar-Simple-0.03-0/blib/arch;C:\strawberry\cpan\build\Term-ProgressBar-Simple-0.03-0/blib/lib;C:\strawberry\cpan\build\Term-ProgressBar-Quiet-0.31-0/blib/arch;C:\strawberry\cpan\build\Term-ProgressBar-Quiet-0.31-0/blib/lib;C:\strawberry\cpan\build\Term-ProgressBar-2.22-0/blib/arch;C:\strawberry\cpan\build\Term-ProgressBar-2.22-0/blib/lib;C:\strawberry\cpan\build\TermReadKey-2.38-0/blib/arch;C:\strawberry\cpan\build\TermReadKey-2.38-0/blib/lib;C:\strawberry\cpan\build\Class-MethodMaker-2.24-0/blib/arch;C:\strawberry\cpan\build\Class-MethodMaker-2.24-0/blib/lib;C:\strawberry\cpan\build\Ref-Util-0.204-1/blib/arch;C:\strawberry\cpan\build\Ref-Util-0.204-1/blib/lib;C:\strawberry\cpan\build\Ref-Util-XS-0.117-1/blib/arch;C:\strawberry\cpan\build\Ref-Util-XS-0.117-1/blib/lib;C:\strawberry\cpan\build\MooseX-Types-DateTime-MoreCoercions-0.15-0/blib/arch;C:\strawberry\cpan\build\MooseX-Types-DateTime-MoreCoercions-0.15-0/blib/lib;C:\strawberry\cpan\build\LWP-UserAgent-Determined-1.07-0/blib/arch;C:\strawberry\cpan\build\LWP-UserAgent-Determined-1.07-0/blib/lib"
    PERL5_CPANPLUS_IS_RUNNING="1516"
    PERL5_CPAN_IS_RUNNING="1516"
    PERL5_CPAN_IS_RUNNING_IN_RECURSION="864,1516"
    PERL_CR_SMOKER_CURRENT="Net-Amazon-S3-0.97"
    PERL_CR_SMOKER_RUNONCE="1"
    PERL_EXTUTILS_AUTOINSTALL="--defaultdeps"
    PERL_MM_USE_DEFAULT="1"
  @INC:
    C:\strawberry\cpan\build\Term-ProgressBar-Simple-0.03-0/blib/arch
    C:\strawberry\cpan\build\Term-ProgressBar-Simple-0.03-0/blib/lib
    C:\strawberry\cpan\build\Term-ProgressBar-Quiet-0.31-0/blib/arch
    C:\strawberry\cpan\build\Term-ProgressBar-Quiet-0.31-0/blib/lib
    C:\strawberry\cpan\build\Term-ProgressBar-2.22-0/blib/arch
    C:\strawberry\cpan\build\Term-ProgressBar-2.22-0/blib/lib
    C:\strawberry\cpan\build\TermReadKey-2.38-0/blib/arch
    C:\strawberry\cpan\build\TermReadKey-2.38-0/blib/lib
    C:\strawberry\cpan\build\Class-MethodMaker-2.24-0/blib/arch
    C:\strawberry\cpan\build\Class-MethodMaker-2.24-0/blib/lib
    C:\strawberry\cpan\build\Ref-Util-0.204-1/blib/arch
    C:\strawberry\cpan\build\Ref-Util-0.204-1/blib/lib
    C:\strawberry\cpan\build\Ref-Util-XS-0.117-1/blib/arch
    C:\strawberry\cpan\build\Ref-Util-XS-0.117-1/blib/lib
    C:\strawberry\cpan\build\MooseX-Types-DateTime-MoreCoercions-0.15-0/blib/arch
    C:\strawberry\cpan\build\MooseX-Types-DateTime-MoreCoercions-0.15-0/blib/lib
    C:\strawberry\cpan\build\LWP-UserAgent-Determined-1.07-0/blib/arch
    C:\strawberry\cpan\build\LWP-UserAgent-Determined-1.07-0/blib/lib
    C:/strawberry/perl/site/lib
    C:/strawberry/perl/vendor/lib
    C:/strawberry/perl/lib
    .