Test-Moose-More v0.050 Perl 5 v5.8.8 darwin-2level
- Status
- Pass
- From
- NONAME
- Dist
-
Test-Moose-More v0.050
- Platform
- Perl 5 v5.8.8 darwin-2level
- Date
- 2017-11-21 22:04:41
- ID
- f98c17de-cf07-11e7-8736-af65768d51f9
This distribution has been tested as part of the CPAN Testers
project, supporting the Perl programming language. See
http://wiki.cpantesters.org/ for more information or email
questions to cpan-testers-discuss@perl.org
--
Dear RSRCHBOY,
This is a computer-generated report for Test-Moose-More-0.050
on perl 5.8.8, created by App::cpanminus::reporter 0.12 (1.7043).
Thank you for uploading your work to CPAN. Congratulations!
All tests were successful.
Sections of this report:
* Tester comments
* Program output
* Prerequisites
* Environment and other context
------------------------------
TESTER COMMENTS
------------------------------
Additional comments from tester:
none provided
------------------------------
PROGRAM OUTPUT
------------------------------
Output from '':
Building and testing Test-Moose-More-0.050
Manifying 2 pod documents
PERL_DL_NONLAZY=1 "/Users/ether/perl5/perlbrew/perls/8.9/bin/perl" "-MExtUtils::Command::MM" "-MTest::Harness" "-e" "undef *Test::Harness::Switches; test_harness(0, 'blib/lib', 'blib/arch')" t/*.t t/attribute_options_ok/*.t t/is_class_ok/*.t t/validate_attribute/*.t t/validate_class/*.t t/validate_role/*.t t/validate_thing/*.t t/wrapped/*.t
#
# Versions for all modules listed in MYMETA.json (including optional ones):
#
# === Configure Requires ===
#
# Module Want Have
# ------------------- ---- -------
# ExtUtils::MakeMaker any 7.31_04
#
# === Build Requires ===
#
# Module Want Have
# ------------------- ---- -------
# ExtUtils::MakeMaker any 7.31_04
#
# === Test Requires ===
#
# Module Want Have
# ---------------------- ----- --------
# ExtUtils::MakeMaker any 7.31_04
# File::Spec any 3.62
# IO::Handle any 1.28
# IPC::Open3 any 1.03
# List::Util 1.45 1.48
# Moose any 2.2008
# Moose::Meta::Attribute any 2.2008
# Moose::Role any 2.2008
# Moose::Util::MetaRole any 2.2008
# TAP::SimpleOutput 0.009 0.009
# Test::Builder::Tester any 1.302056
# Test::CheckDeps 0.010 0.010
# Test::More 0.94 1.302056
# namespace::autoclean any 0.28
#
# === Test Recommends ===
#
# Module Want Have
# ---------- -------- --------
# CPAN::Meta 2.120900 2.150010
#
# === Runtime Requires ===
#
# Module Want Have
# ---------------------------- ---- --------
# Carp any 1.38
# Data::OptList any 0.110
# List::MoreUtils any 0.410
# List::Util 1.45 1.48
# Moose::Util any 2.2008
# Moose::Util::TypeConstraints any 2.2008
# Scalar::Util any 1.48
# Sub::Exporter::Progressive any 0.001012
# Syntax::Keyword::Junction any 0.003008
# Test::Builder any 1.302056
# Test::Moose any 2.2008
# Test::More 0.94 1.302056
# strict any 1.03
# warnings any 1.05_01
#
t/00-report-prereqs.t .................................. ok
t/00-check-deps.t ...................................... ok
Warning: Use of "shift" without parentheses is ambiguous at /Users/ether/.cpanm/work/1511301162.54519/Test-Moose-More-0.050/blib/lib/Test/Moose/More.pm line 110.
Warning: Use of "shift" without parentheses is ambiguous at /Users/ether/.cpanm/work/1511301162.54519/Test-Moose-More-0.050/blib/lib/Test/Moose/More.pm line 111.
Warning: Use of "shift" without parentheses is ambiguous at /Users/ether/.cpanm/work/1511301162.54519/Test-Moose-More-0.050/blib/lib/Test/Moose/More.pm line 110.
Warning: Use of "shift" without parentheses is ambiguous at /Users/ether/.cpanm/work/1511301162.54519/Test-Moose-More-0.050/blib/lib/Test/Moose/More.pm line 111.
t/00-compile.t ......................................... ok
Warning: Use of "shift" without parentheses is ambiguous at /Users/ether/.cpanm/work/1511301162.54519/Test-Moose-More-0.050/blib/lib/Test/Moose/More.pm line 110.
Warning: Use of "shift" without parentheses is ambiguous at /Users/ether/.cpanm/work/1511301162.54519/Test-Moose-More-0.050/blib/lib/Test/Moose/More.pm line 111.
t/attribute_options_ok/subtest-wrapper.t ............... ok
t/attribute_options_ok/basic.t ......................... ok
Warning: Use of "shift" without parentheses is ambiguous at /Users/ether/.cpanm/work/1511301162.54519/Test-Moose-More-0.050/blib/lib/Test/Moose/More.pm line 110.
Warning: Use of "shift" without parentheses is ambiguous at /Users/ether/.cpanm/work/1511301162.54519/Test-Moose-More-0.050/blib/lib/Test/Moose/More.pm line 111.
Warning: Use of "shift" without parentheses is ambiguous at /Users/ether/.cpanm/work/1511301162.54519/Test-Moose-More-0.050/blib/lib/Test/Moose/More.pm line 110.
Warning: Use of "shift" without parentheses is ambiguous at /Users/ether/.cpanm/work/1511301162.54519/Test-Moose-More-0.050/blib/lib/Test/Moose/More.pm line 111.
t/check_sugar.t ........................................ ok
t/definition_context.t ................................. ok
Warning: Use of "shift" without parentheses is ambiguous at /Users/ether/.cpanm/work/1511301162.54519/Test-Moose-More-0.050/blib/lib/Test/Moose/More.pm line 110.
Warning: Use of "shift" without parentheses is ambiguous at /Users/ether/.cpanm/work/1511301162.54519/Test-Moose-More-0.050/blib/lib/Test/Moose/More.pm line 111.
Warning: Use of "shift" without parentheses is ambiguous at /Users/ether/.cpanm/work/1511301162.54519/Test-Moose-More-0.050/blib/lib/Test/Moose/More.pm line 110.
Warning: Use of "shift" without parentheses is ambiguous at /Users/ether/.cpanm/work/1511301162.54519/Test-Moose-More-0.050/blib/lib/Test/Moose/More.pm line 111.
Warning: Use of "shift" without parentheses is ambiguous at /Users/ether/.cpanm/work/1511301162.54519/Test-Moose-More-0.050/blib/lib/Test/Moose/More.pm line 110.
Warning: Use of "shift" without parentheses is ambiguous at /Users/ether/.cpanm/work/1511301162.54519/Test-Moose-More-0.050/blib/lib/Test/Moose/More.pm line 111.
t/does_not_ok.t ........................................ ok
t/does_metaroles_ok.t .................................. ok
t/does_not_metaroles_ok.t .............................. ok
Warning: Use of "shift" without parentheses is ambiguous at /Users/ether/.cpanm/work/1511301162.54519/Test-Moose-More-0.050/blib/lib/Test/Moose/More.pm line 110.
Warning: Use of "shift" without parentheses is ambiguous at /Users/ether/.cpanm/work/1511301162.54519/Test-Moose-More-0.050/blib/lib/Test/Moose/More.pm line 111.
Warning: Use of "shift" without parentheses is ambiguous at /Users/ether/.cpanm/work/1511301162.54519/Test-Moose-More-0.050/blib/lib/Test/Moose/More.pm line 110.
Warning: Use of "shift" without parentheses is ambiguous at /Users/ether/.cpanm/work/1511301162.54519/Test-Moose-More-0.050/blib/lib/Test/Moose/More.pm line 111.
t/has_attribute_ok.t ................................... ok
t/does_ok.t ............................................ ok
Warning: Use of "shift" without parentheses is ambiguous at /Users/ether/.cpanm/work/1511301162.54519/Test-Moose-More-0.050/blib/lib/Test/Moose/More.pm line 110.
Warning: Use of "shift" without parentheses is ambiguous at /Users/ether/.cpanm/work/1511301162.54519/Test-Moose-More-0.050/blib/lib/Test/Moose/More.pm line 111.
Warning: Use of "shift" without parentheses is ambiguous at /Users/ether/.cpanm/work/1511301162.54519/Test-Moose-More-0.050/blib/lib/Test/Moose/More.pm line 110.
Warning: Use of "shift" without parentheses is ambiguous at /Users/ether/.cpanm/work/1511301162.54519/Test-Moose-More-0.050/blib/lib/Test/Moose/More.pm line 111.
t/is_class_ok/basic.t .................................. ok
Warning: Use of "shift" without parentheses is ambiguous at /Users/ether/.cpanm/work/1511301162.54519/Test-Moose-More-0.050/blib/lib/Test/Moose/More.pm line 110.
Warning: Use of "shift" without parentheses is ambiguous at /Users/ether/.cpanm/work/1511301162.54519/Test-Moose-More-0.050/blib/lib/Test/Moose/More.pm line 111.
t/is_class_ok/moose-meta-attribute-should-be-moosey.t .. ok
t/is_anon_ok.t ......................................... ok
Warning: Use of "shift" without parentheses is ambiguous at /Users/ether/.cpanm/work/1511301162.54519/Test-Moose-More-0.050/blib/lib/Test/Moose/More.pm line 110.
Warning: Use of "shift" without parentheses is ambiguous at /Users/ether/.cpanm/work/1511301162.54519/Test-Moose-More-0.050/blib/lib/Test/Moose/More.pm line 111.
Warning: Use of "shift" without parentheses is ambiguous at /Users/ether/.cpanm/work/1511301162.54519/Test-Moose-More-0.050/blib/lib/Test/Moose/More.pm line 110.
Warning: Use of "shift" without parentheses is ambiguous at /Users/ether/.cpanm/work/1511301162.54519/Test-Moose-More-0.050/blib/lib/Test/Moose/More.pm line 111.
t/is_not_anon_ok.t ..................................... ok
t/is_immutable_ok.t .................................... ok
Warning: Use of "shift" without parentheses is ambiguous at /Users/ether/.cpanm/work/1511301162.54519/Test-Moose-More-0.050/blib/lib/Test/Moose/More.pm line 110.
Warning: Use of "shift" without parentheses is ambiguous at /Users/ether/.cpanm/work/1511301162.54519/Test-Moose-More-0.050/blib/lib/Test/Moose/More.pm line 111.
Warning: Use of "shift" without parentheses is ambiguous at /Users/ether/.cpanm/work/1511301162.54519/Test-Moose-More-0.050/blib/lib/Test/Moose/More.pm line 110.
Warning: Use of "shift" without parentheses is ambiguous at /Users/ether/.cpanm/work/1511301162.54519/Test-Moose-More-0.050/blib/lib/Test/Moose/More.pm line 111.
Warning: Use of "shift" without parentheses is ambiguous at /Users/ether/.cpanm/work/1511301162.54519/Test-Moose-More-0.050/blib/lib/Test/Moose/More.pm line 110.
Warning: Use of "shift" without parentheses is ambiguous at /Users/ether/.cpanm/work/1511301162.54519/Test-Moose-More-0.050/blib/lib/Test/Moose/More.pm line 111.
t/meta_ok.t ............................................ ok
t/method_from_pkg_ok.t ................................. ok
t/is_role_ok.t ......................................... ok
Warning: Use of "shift" without parentheses is ambiguous at /Users/ether/.cpanm/work/1511301162.54519/Test-Moose-More-0.050/blib/lib/Test/Moose/More.pm line 110.
Warning: Use of "shift" without parentheses is ambiguous at /Users/ether/.cpanm/work/1511301162.54519/Test-Moose-More-0.050/blib/lib/Test/Moose/More.pm line 111.
Warning: Use of "shift" without parentheses is ambiguous at /Users/ether/.cpanm/work/1511301162.54519/Test-Moose-More-0.050/blib/lib/Test/Moose/More.pm line 110.
Warning: Use of "shift" without parentheses is ambiguous at /Users/ether/.cpanm/work/1511301162.54519/Test-Moose-More-0.050/blib/lib/Test/Moose/More.pm line 111.
t/method_is_accessor_ok.t .............................. ok
t/method_is_not_accessor_ok.t .......................... ok
Warning: Use of "shift" without parentheses is ambiguous at /Users/ether/.cpanm/work/1511301162.54519/Test-Moose-More-0.050/blib/lib/Test/Moose/More.pm line 110.
Warning: Use of "shift" without parentheses is ambiguous at /Users/ether/.cpanm/work/1511301162.54519/Test-Moose-More-0.050/blib/lib/Test/Moose/More.pm line 111.
Warning: Use of "shift" without parentheses is ambiguous at /Users/ether/.cpanm/work/1511301162.54519/Test-Moose-More-0.050/blib/lib/Test/Moose/More.pm line 110.
Warning: Use of "shift" without parentheses is ambiguous at /Users/ether/.cpanm/work/1511301162.54519/Test-Moose-More-0.050/blib/lib/Test/Moose/More.pm line 111.
t/no_meta_ok.t ......................................... ok
Warning: Use of "shift" without parentheses is ambiguous at /Users/ether/.cpanm/work/1511301162.54519/Test-Moose-More-0.050/blib/lib/Test/Moose/More.pm line 110.
Warning: Use of "shift" without parentheses is ambiguous at /Users/ether/.cpanm/work/1511301162.54519/Test-Moose-More-0.050/blib/lib/Test/Moose/More.pm line 111.
t/method_not_from_pkg_ok.t ............................. ok
t/method_ok.t .......................................... ok
Warning: Use of "shift" without parentheses is ambiguous at /Users/ether/.cpanm/work/1511301162.54519/Test-Moose-More-0.050/blib/lib/Test/Moose/More.pm line 110.
Warning: Use of "shift" without parentheses is ambiguous at /Users/ether/.cpanm/work/1511301162.54519/Test-Moose-More-0.050/blib/lib/Test/Moose/More.pm line 111.
Warning: Use of "shift" without parentheses is ambiguous at /Users/ether/.cpanm/work/1511301162.54519/Test-Moose-More-0.050/blib/lib/Test/Moose/More.pm line 110.
Warning: Use of "shift" without parentheses is ambiguous at /Users/ether/.cpanm/work/1511301162.54519/Test-Moose-More-0.050/blib/lib/Test/Moose/More.pm line 111.
t/pristine_ok.t ........................................ ok
t/requires_method_ok.t ................................. ok
Warning: Use of "shift" without parentheses is ambiguous at /Users/ether/.cpanm/work/1511301162.54519/Test-Moose-More-0.050/blib/lib/Test/Moose/More.pm line 110.
Warning: Use of "shift" without parentheses is ambiguous at /Users/ether/.cpanm/work/1511301162.54519/Test-Moose-More-0.050/blib/lib/Test/Moose/More.pm line 111.
Warning: Use of "shift" without parentheses is ambiguous at /Users/ether/.cpanm/work/1511301162.54519/Test-Moose-More-0.050/blib/lib/Test/Moose/More.pm line 110.
Warning: Use of "shift" without parentheses is ambiguous at /Users/ether/.cpanm/work/1511301162.54519/Test-Moose-More-0.050/blib/lib/Test/Moose/More.pm line 111.
Warning: Use of "shift" without parentheses is ambiguous at /Users/ether/.cpanm/work/1511301162.54519/Test-Moose-More-0.050/blib/lib/Test/Moose/More.pm line 110.
Warning: Use of "shift" without parentheses is ambiguous at /Users/ether/.cpanm/work/1511301162.54519/Test-Moose-More-0.050/blib/lib/Test/Moose/More.pm line 111.
t/validate_attribute/coerce.t .......................... ok
t/subtest-1.t .......................................... ok
t/validate_attribute/basic.t ........................... ok
Warning: Use of "shift" without parentheses is ambiguous at /Users/ether/.cpanm/work/1511301162.54519/Test-Moose-More-0.050/blib/lib/Test/Moose/More.pm line 110.
Warning: Use of "shift" without parentheses is ambiguous at /Users/ether/.cpanm/work/1511301162.54519/Test-Moose-More-0.050/blib/lib/Test/Moose/More.pm line 111.
Warning: Use of "shift" without parentheses is ambiguous at /Users/ether/.cpanm/work/1511301162.54519/Test-Moose-More-0.050/blib/lib/Test/Moose/More.pm line 110.
Warning: Use of "shift" without parentheses is ambiguous at /Users/ether/.cpanm/work/1511301162.54519/Test-Moose-More-0.050/blib/lib/Test/Moose/More.pm line 111.
t/validate_attribute/in_roles.t ........................ ok
t/validate_attribute/lazy.t ............................ ok
Warning: Use of "shift" without parentheses is ambiguous at /Users/ether/.cpanm/work/1511301162.54519/Test-Moose-More-0.050/blib/lib/Test/Moose/More.pm line 110.
Warning: Use of "shift" without parentheses is ambiguous at /Users/ether/.cpanm/work/1511301162.54519/Test-Moose-More-0.050/blib/lib/Test/Moose/More.pm line 111.
Warning: Use of "shift" without parentheses is ambiguous at /Users/ether/.cpanm/work/1511301162.54519/Test-Moose-More-0.050/blib/lib/Test/Moose/More.pm line 110.
Warning: Use of "shift" without parentheses is ambiguous at /Users/ether/.cpanm/work/1511301162.54519/Test-Moose-More-0.050/blib/lib/Test/Moose/More.pm line 111.
t/validate_attribute/required.t ........................ ok
Warning: Use of "shift" without parentheses is ambiguous at /Users/ether/.cpanm/work/1511301162.54519/Test-Moose-More-0.050/blib/lib/Test/Moose/More.pm line 110.
Warning: Use of "shift" without parentheses is ambiguous at /Users/ether/.cpanm/work/1511301162.54519/Test-Moose-More-0.050/blib/lib/Test/Moose/More.pm line 111.
t/validate_class/metaclasses.t ......................... ok
t/validate_class/basic.t ............................... ok
Warning: Use of "shift" without parentheses is ambiguous at /Users/ether/.cpanm/work/1511301162.54519/Test-Moose-More-0.050/blib/lib/Test/Moose/More.pm line 110.
Warning: Use of "shift" without parentheses is ambiguous at /Users/ether/.cpanm/work/1511301162.54519/Test-Moose-More-0.050/blib/lib/Test/Moose/More.pm line 111.
Warning: Use of "shift" without parentheses is ambiguous at /Users/ether/.cpanm/work/1511301162.54519/Test-Moose-More-0.050/blib/lib/Test/Moose/More.pm line 110.
Warning: Use of "shift" without parentheses is ambiguous at /Users/ether/.cpanm/work/1511301162.54519/Test-Moose-More-0.050/blib/lib/Test/Moose/More.pm line 111.
t/validate_class/metaroles.t ........................... ok
t/validate_class/methods.t ............................. ok
Warning: Use of "shift" without parentheses is ambiguous at /Users/ether/.cpanm/work/1511301162.54519/Test-Moose-More-0.050/blib/lib/Test/Moose/More.pm line 110.
Warning: Use of "shift" without parentheses is ambiguous at /Users/ether/.cpanm/work/1511301162.54519/Test-Moose-More-0.050/blib/lib/Test/Moose/More.pm line 111.
Warning: Use of "shift" without parentheses is ambiguous at /Users/ether/.cpanm/work/1511301162.54519/Test-Moose-More-0.050/blib/lib/Test/Moose/More.pm line 110.
Warning: Use of "shift" without parentheses is ambiguous at /Users/ether/.cpanm/work/1511301162.54519/Test-Moose-More-0.050/blib/lib/Test/Moose/More.pm line 111.
t/validate_role/basic.t ................................ ok
Warning: Use of "shift" without parentheses is ambiguous at /Users/ether/.cpanm/work/1511301162.54519/Test-Moose-More-0.050/blib/lib/Test/Moose/More.pm line 110.
Warning: Use of "shift" without parentheses is ambiguous at /Users/ether/.cpanm/work/1511301162.54519/Test-Moose-More-0.050/blib/lib/Test/Moose/More.pm line 111.
t/validate_role/metaclasses.t .......................... ok
t/validate_role/compose.t .............................. ok
Warning: Use of "shift" without parentheses is ambiguous at /Users/ether/.cpanm/work/1511301162.54519/Test-Moose-More-0.050/blib/lib/Test/Moose/More.pm line 110.
Warning: Use of "shift" without parentheses is ambiguous at /Users/ether/.cpanm/work/1511301162.54519/Test-Moose-More-0.050/blib/lib/Test/Moose/More.pm line 111.
Warning: Use of "shift" without parentheses is ambiguous at /Users/ether/.cpanm/work/1511301162.54519/Test-Moose-More-0.050/blib/lib/Test/Moose/More.pm line 110.
Warning: Use of "shift" without parentheses is ambiguous at /Users/ether/.cpanm/work/1511301162.54519/Test-Moose-More-0.050/blib/lib/Test/Moose/More.pm line 111.
t/validate_role/metaroles.t ............................ ok
t/validate_thing/metaclasses.t ......................... ok
Warning: Use of "shift" without parentheses is ambiguous at /Users/ether/.cpanm/work/1511301162.54519/Test-Moose-More-0.050/blib/lib/Test/Moose/More.pm line 110.
Warning: Use of "shift" without parentheses is ambiguous at /Users/ether/.cpanm/work/1511301162.54519/Test-Moose-More-0.050/blib/lib/Test/Moose/More.pm line 111.
Warning: Use of "shift" without parentheses is ambiguous at /Users/ether/.cpanm/work/1511301162.54519/Test-Moose-More-0.050/blib/lib/Test/Moose/More.pm line 110.
Warning: Use of "shift" without parentheses is ambiguous at /Users/ether/.cpanm/work/1511301162.54519/Test-Moose-More-0.050/blib/lib/Test/Moose/More.pm line 111.
t/validate_thing/methods.t ............................. ok
Warning: Use of "shift" without parentheses is ambiguous at /Users/ether/.cpanm/work/1511301162.54519/Test-Moose-More-0.050/blib/lib/Test/Moose/More.pm line 110.
Warning: Use of "shift" without parentheses is ambiguous at /Users/ether/.cpanm/work/1511301162.54519/Test-Moose-More-0.050/blib/lib/Test/Moose/More.pm line 111.
t/wrapped/in_roles.t ................................... ok
t/validate_thing/sugar.t ............................... ok
All tests successful.
Test Summary Report
-------------------
t/00-check-deps.t (Wstat: 0 Tests: 32 Failed: 0)
TODO passed: 32
Files=45, Tests=235, 6 wallclock secs ( 0.29 usr 0.19 sys + 27.61 cusr 1.85 csys = 29.94 CPU)
Result: PASS
------------------------------
PREREQUISITES
------------------------------
Prerequisite modules loaded:
No requirements found
------------------------------
ENVIRONMENT AND OTHER CONTEXT
------------------------------
Environment variables:
LANG = en_CA.UTF-8
PATH = /Users/ether/.perlbrew/libs/8.8@std/bin:/Users/ether/perl5/perlbrew/bin:/Users/ether/perl5/perlbrew/perls/8.8/bin:/Users/ether/bin:/Users/ether/git/misc/install/bourbon/bin:/Users/ether/git/misc/install/generic/bin:/opt/local/bin:/opt/local/sbin:/Users/ether/git/git-hub/lib:/Users/ether/src/CE/devtools:/Users/ether/git/CE/devtools:/Users/ether/src/CE/bin:/Users/ether/git/CE/bin:/usr/local/bin:/usr/bin:/bin:/usr/sbin:/sbin:/opt/local/share/git-core/contrib/workdir:/opt/local/share/git-core/contrib/workdir
PERL5LIB = /Users/ether/.perlbrew/libs/8.8@std/lib/perl5
PERLBREW_BASHRC_VERSION = 0.80
PERLBREW_HOME = /Users/ether/.perlbrew
PERLBREW_LIB = std
PERLBREW_MANPATH = /Users/ether/.perlbrew/libs/8.8@std/man:/Users/ether/perl5/perlbrew/perls/8.8/man
PERLBREW_PATH = /Users/ether/.perlbrew/libs/8.8@std/bin:/Users/ether/perl5/perlbrew/bin:/Users/ether/perl5/perlbrew/perls/8.8/bin
PERLBREW_PERL = 8.8
PERLBREW_ROOT = /Users/ether/perl5/perlbrew
PERLBREW_VERSION = 0.80
PERLDOC = -oman
PERLDOC_PAGER = less -sicMr
PERL_AUTOINSTALL_PREFER_CPAN = 1
PERL_INSTALL_QUIET = 1
PERL_LOCAL_LIB_ROOT = /Users/ether/.perlbrew/libs/8.8@std
PERL_MB_OPT = --install_base /Users/ether/.perlbrew/libs/8.8@std
PERL_MM_OPT = INSTALL_BASE=/Users/ether/.perlbrew/libs/8.8@std
PERL_USE_UNSAFE_INC = 0
SHELL = /bin/bash
TERM = xterm-color
TMPDIR = /var/folders/8r/y_1q6y1n56b3dpj2_vqxk83r0000gn/T/
Perl special variables (and OS-specific diagnostics, for MSWin32):
EGID = 20 398 395 204 100 33 399 98 81 80 79 61 12 701 20
EUID = 501
EXECUTABLE_NAME = /Users/ether/perl5/perlbrew/perls/8.8/bin/perl
GID = 20 398 395 204 100 33 399 98 81 80 79 61 12 701 20
UID = 501
Perl module toolchain versions installed:
Module Have
------------------- --------
CPAN 2.10
CPAN::Meta 2.150010
Cwd 3.62
ExtUtils::CBuilder 0.280224
ExtUtils::Command 7.31_04
ExtUtils::Install 2.06
ExtUtils::MakeMaker 7.31_04
ExtUtils::Manifest 1.70
ExtUtils::ParseXS 3.24
File::Spec 3.62
JSON 2.90
JSON::PP 2.27400
Module::Build 0.4222
Module::Signature n/a
Parse::CPAN::Meta 2.150010
Test::Harness 3.39
Test::More 1.302056
YAML 1.15
YAML::Syck 1.29
version 0.9917
--
Summary of my perl5 (revision 5 version 8 subversion 8) configuration:
Platform:
osname=darwin, osvers=12.6.0, archname=darwin-2level
uname='darwin bourbon 12.6.0 darwin kernel version 12.6.0: wed mar 18 16:23:48 pdt 2015; root:xnu-2050.48.19~1release_x86_64 x86_64 '
config_args='-de -Dprefix=/Users/ether/perl5/perlbrew/perls/8.8 -Dman1dir=none -Dman3dir=none -Aeval:scriptdir=/Users/ether/perl5/perlbrew/perls/8.8/bin'
hint=recommended, useposix=true, d_sigaction=define
usethreads=undef use5005threads=undef useithreads=undef usemultiplicity=undef
useperlio=define d_sfio=undef uselargefiles=define usesocks=undef
use64bitint=define use64bitall=define uselongdouble=undef
usemymalloc=n, bincompat5005=undef
Compiler:
cc='cc', ccflags ='-fno-common -DPERL_DARWIN -fno-strict-aliasing -pipe -Wdeclaration-after-statement -I/opt/local/include',
optimize='-O3',
cppflags='-fno-common -DPERL_DARWIN -fno-strict-aliasing -pipe -Wdeclaration-after-statement -I/opt/local/include'
ccversion='', gccversion='4.2.1 Compatible Apple LLVM 4.2 (clang-425.0.28)', gccosandvers=''
intsize=4, longsize=8, ptrsize=8, doublesize=8, byteorder=12345678
d_longlong=define, longlongsize=8, d_longdbl=define, longdblsize=16
ivtype='long', ivsize=8, nvtype='double', nvsize=8, Off_t='off_t', lseeksize=8
alignbytes=8, prototype=define
Linker and Libraries:
ld='env MACOSX_DEPLOYMENT_TARGET=10.3 cc', ldflags =' -L/opt/local/lib'
libpth=/opt/local/lib /usr/lib
libs=-lgdbm -ldbm -ldl -lm -lutil -lc
perllibs=-ldl -lm -lutil -lc
libc=, so=dylib, useshrplib=false, libperl=libperl.a
gnulibc_version=''
Dynamic Linking:
dlsrc=dl_dlopen.xs, dlext=bundle, d_dlsymun=undef, ccdlflags=' '
cccdlflags=' ', lddlflags=' -bundle -undefined dynamic_lookup -L/opt/local/lib'
Characteristics of this binary (from libperl):
Compile-time options: PERL_MALLOC_WRAP USE_64_BIT_ALL USE_64_BIT_INT
USE_LARGE_FILES USE_PERLIO
Locally applied patches:
Devel::PatchPerl 1.34
Built under darwin
Compiled at Jun 16 2015 13:37:54
%ENV:
PERL5LIB="/Users/ether/.perlbrew/libs/8.8@std/lib/perl5"
PERLBREW_BASHRC_VERSION="0.80"
PERLBREW_HOME="/Users/ether/.perlbrew"
PERLBREW_LIB="std"
PERLBREW_MANPATH="/Users/ether/.perlbrew/libs/8.8@std/man:/Users/ether/perl5/perlbrew/perls/8.8/man"
PERLBREW_PATH="/Users/ether/.perlbrew/libs/8.8@std/bin:/Users/ether/perl5/perlbrew/bin:/Users/ether/perl5/perlbrew/perls/8.8/bin"
PERLBREW_PERL="8.8"
PERLBREW_ROOT="/Users/ether/perl5/perlbrew"
PERLBREW_VERSION="0.80"
PERLDOC="-oman"
PERLDOC_PAGER="less -sicMr"
PERL_AUTOINSTALL_PREFER_CPAN="1"
PERL_INSTALL_QUIET="1"
PERL_LOCAL_LIB_ROOT="/Users/ether/.perlbrew/libs/8.8@std"
PERL_MB_OPT="--install_base /Users/ether/.perlbrew/libs/8.8@std"
PERL_MM_OPT="INSTALL_BASE=/Users/ether/.perlbrew/libs/8.8@std"
PERL_USE_UNSAFE_INC="0"
@INC:
/Users/ether/.perlbrew/libs/8.8@std/lib/perl5/darwin-2level
/Users/ether/.perlbrew/libs/8.8@std/lib/perl5
/Users/ether/perl5/perlbrew/perls/8.8/lib/5.8.8/darwin-2level
/Users/ether/perl5/perlbrew/perls/8.8/lib/5.8.8
/Users/ether/perl5/perlbrew/perls/8.8/lib/site_perl/5.8.8/darwin-2level
/Users/ether/perl5/perlbrew/perls/8.8/lib/site_perl/5.8.8
/Users/ether/perl5/perlbrew/perls/8.8/lib/site_perl
.