Report for Win32-Mock-0.05

Back
From: metabase:user:3198cbe2-2aae-11df-837a-5e0a49663a4f
Subject: PASS Win32-Mock-0.05 v5.12.3 GNU/Linux
Date: 2011-03-09T22:45:46Z

This distribution has been tested as part of the CPAN Testers
project, supporting the Perl programming language.  See
http://wiki.cpantesters.org/ for more information or email
questions to cpan-testers-discuss@perl.org


--
Dear Sebastien Aperghis-Tramoni,

This is a computer-generated report for Win32-Mock-0.05
on perl 5.12.3, created by CPAN-Reporter-1.1902.

Thank you for uploading your work to CPAN.  Congratulations!
All tests were successful.

Sections of this report:

    * Tester comments
    * Program output
    * Prerequisites
    * Environment and other context

------------------------------
TESTER COMMENTS
------------------------------

Additional comments from tester:

this report is from an automated smoke testing program
and was not reviewed by a human for accuracy

------------------------------
PROGRAM OUTPUT
------------------------------

Output from './Build test':

Undefined value assigned to typeglob at /home/graham/perltest/perl5123th/perl/lib/site_perl/5.12.3/Devel/FakeOSName.pm line 21.
# Testing Win32::Mock 0.05, Perl 5.012003, /home/graham/perltest/perl5123th/perl/bin/perl
t/00-load.t .............................. ok
t/pod-coverage.t ......................... skipped: *** disabled for now ***
t/pod.t .................................. skipped: *** disabled for now ***
Undefined value assigned to typeglob at /home/graham/perltest/perl5123th/perl/lib/site_perl/5.12.3/Devel/FakeOSName.pm line 21.
t/core/Win32/CopyFile.t .................. ok
Undefined value assigned to typeglob at /home/graham/perltest/perl5123th/perl/lib/site_perl/5.12.3/Devel/FakeOSName.pm line 21.
Subroutine STORE redefined at /home/graham/perltest/perl5123th/perl/lib/5.12.3/i686-linux-thread-multi/Config_heavy.pl line 1267.
t/core/Win32/CreateFile.t ................ ok
Undefined value assigned to typeglob at /home/graham/perltest/perl5123th/perl/lib/site_perl/5.12.3/Devel/FakeOSName.pm line 21.
Subroutine STORE redefined at /home/graham/perltest/perl5123th/perl/lib/5.12.3/i686-linux-thread-multi/Config_heavy.pl line 1267.
t/core/Win32/ExpandEnvironmentStrings.t .. ok
Undefined value assigned to typeglob at /home/graham/perltest/perl5123th/perl/lib/site_perl/5.12.3/Devel/FakeOSName.pm line 21.
Subroutine STORE redefined at /home/graham/perltest/perl5123th/perl/lib/5.12.3/i686-linux-thread-multi/Config_heavy.pl line 1267.
t/core/Win32/GetCurrentThreadId.t ........ skipped: Test requires fork emulation
Undefined value assigned to typeglob at /home/graham/perltest/perl5123th/perl/lib/site_perl/5.12.3/Devel/FakeOSName.pm line 21.
Subroutine STORE redefined at /home/graham/perltest/perl5123th/perl/lib/5.12.3/i686-linux-thread-multi/Config_heavy.pl line 1267.
t/core/Win32/GetFileVersion.t ............ ok
Undefined value assigned to typeglob at /home/graham/perltest/perl5123th/perl/lib/site_perl/5.12.3/Devel/FakeOSName.pm line 21.
Subroutine STORE redefined at /home/graham/perltest/perl5123th/perl/lib/5.12.3/i686-linux-thread-multi/Config_heavy.pl line 1267.
t/core/Win32/GetFolderPath.t ............. ok
t/core/Win32/GetFullPathName.t ........... skipped: because these tests are too hard to mock
t/core/Win32/GetLongPathName.t ........... skipped: because these tests are too hard to mock
Undefined value assigned to typeglob at /home/graham/perltest/perl5123th/perl/lib/site_perl/5.12.3/Devel/FakeOSName.pm line 21.
Subroutine STORE redefined at /home/graham/perltest/perl5123th/perl/lib/5.12.3/i686-linux-thread-multi/Config_heavy.pl line 1267.
t/core/Win32/GetOSVersion.t .............. ok
t/core/Win32/GetShortPathName.t .......... skipped: because these tests are too hard to mock
Undefined value assigned to typeglob at /home/graham/perltest/perl5123th/perl/lib/site_perl/5.12.3/Devel/FakeOSName.pm line 21.
Subroutine STORE redefined at /home/graham/perltest/perl5123th/perl/lib/5.12.3/i686-linux-thread-multi/Config_heavy.pl line 1267.
t/core/Win32/GuidGen.t ................... ok
Undefined value assigned to typeglob at /home/graham/perltest/perl5123th/perl/lib/site_perl/5.12.3/Devel/FakeOSName.pm line 21.
t/core/Win32/Names.t ..................... ok
Undefined value assigned to typeglob at /home/graham/perltest/perl5123th/perl/lib/site_perl/5.12.3/Devel/FakeOSName.pm line 21.
Subroutine STORE redefined at /home/graham/perltest/perl5123th/perl/lib/5.12.3/i686-linux-thread-multi/Config_heavy.pl line 1267.
t/core/Win32/Unicode.t ................... skipped: Filesystem doesn't support Unicode
Undefined value assigned to typeglob at /home/graham/perltest/perl5123th/perl/lib/site_perl/5.12.3/Devel/FakeOSName.pm line 21.
t/core/Win32CORE/win32core.t ............. ok
t/libwin32/APINet/test.t ................. skipped: *** NOT IMPLEMENTED
t/libwin32/Clipboard/test.t .............. skipped: *** NOT IMPLEMENTED
t/libwin32/EventLog/eventlog.t ........... skipped: *** NOT IMPLEMENTED
Undefined value assigned to typeglob at /home/graham/perltest/perl5123th/perl/lib/site_perl/5.12.3/Devel/FakeOSName.pm line 21.
t/libwin32/File/file.t ................... ok
t/libwin32/NetAdmin/netadmin.t ........... skipped: *** NOT IMPLEMENTED
t/libwin32/NetResource/netresource.t ..... skipped: *** NOT IMPLEMENTED
t/libwin32/OLE/1_nls.t ................... skipped: *** NOT IMPLEMENTED
t/libwin32/OLE/2_variant.t ............... skipped: *** NOT IMPLEMENTED
t/libwin32/OLE/3_ole.t ................... skipped: *** NOT IMPLEMENTED
t/libwin32/OLE/4_compat.t ................ skipped: *** NOT IMPLEMENTED
t/libwin32/OLE/5_unicode.t ............... skipped: *** NOT IMPLEMENTED
t/libwin32/OLE/6_event.t ................. skipped: *** NOT IMPLEMENTED
t/libwin32/OLE/7_overload.t .............. skipped: *** NOT IMPLEMENTED
t/libwin32/Registry/registry.t ........... skipped: *** NOT IMPLEMENTED
Undefined value assigned to typeglob at /home/graham/perltest/perl5123th/perl/lib/site_perl/5.12.3/Devel/FakeOSName.pm line 21.
dummy|dummy
	ServiceSpecificExitCode		0
	ServiceType		16
	CurrentState		7
	CheckPoint		0
	ControlsAccepted		2
	Win32ExitCode		0
	WaitHint		0
t/libwin32/Service/service.t ............. ok
All tests successful.
Files=32, Tests=59,  2 wallclock secs ( 0.26 usr  0.14 sys +  1.78 cusr  0.35 csys =  2.53 CPU)
Result: PASS

------------------------------
PREREQUISITES
------------------------------

Prerequisite modules loaded:

requires:

    Module            Need Have
    ----------------- ---- ----
    constant          1.12 1.19
    Devel::FakeOSName 0    0.01
    ExtUtils::Command 0    1.17
    File::Basename    0    2.78
    File::Spec        0.7  3.33

build_requires:

    Module            Need Have
    ----------------- ---- ----
    Test::More        0    0.98


------------------------------
ENVIRONMENT AND OTHER CONTEXT
------------------------------

Environment variables:

    AUTOMATED_TESTING = 1
    LANG = C
    PATH = /home/graham/perltest/perl5123th/perl/bin:/usr/local/bin:/usr/bin:/bin:/usr/local/sbin:/usr/sbin:/sbin:/opt/java/bin:/opt/java/db/bin:/opt/java/jre/bin:/opt/kde/bin:/usr/bin/perlbin/site:/usr/bin/perlbin/vendor:/usr/lib/perl5/core_perl/bin:/opt/qt/bin
    PERL5LIB = 
    PERL5OPT = 
    PERL5_CPANPLUS_IS_RUNNING = 13382
    PERL5_CPAN_IS_RUNNING = 13382
    PERL5_CPAN_IS_RUNNING_IN_RECURSION = 30382,13382
    PERL_CR_SMOKER_CURRENT = Win32-Mock-0.05
    PERL_EXTUTILS_AUTOINSTALL = --defaultdeps
    PERL_MM_USE_DEFAULT = 1
    SHELL = /bin/bash
    TERM = xterm

Perl special variables (and OS-specific diagnostics, for MSWin32):

    $^X = /home/graham/perltest/perl5123th/perl/bin/perl
    $UID/$EUID = 1000 / 1000
    $GID = 1000 7 10 91 92 93 95 98 100 108 1000 1001
    $EGID = 1000 7 10 91 92 93 95 98 100 108 1000 1001

Perl module toolchain versions installed:

    Module              Have    
    ------------------- --------
    CPAN                1.9304  
    Cwd                 3.33    
    ExtUtils::CBuilder  0.280202
    ExtUtils::Command   1.17    
    ExtUtils::Install   1.52    
    ExtUtils::MakeMaker 6.56    
    ExtUtils::Manifest  1.58    
    ExtUtils::ParseXS   2.2206  
    File::Spec          3.33    
    Module::Build       0.3800  
    Module::Signature   0.66    
    Test::Harness       3.23    
    Test::More          0.98    
    YAML                0.72    
    YAML::Syck          1.17    
    version             0.88    


--

Summary of my perl5 (revision 5 version 12 subversion 3) configuration:
   
  Platform:
    osname=linux, osvers=2.6.36-arch, archname=i686-linux-thread-multi
    uname='linux lorant 2.6.36-arch #1 smp preempt fri dec 10 20:01:53 utc 2010 i686 intel(r) pentium(r) 4 cpu 2.80ghz genuineintel gnulinux '
    config_args=''
    hint=recommended, useposix=true, d_sigaction=define
    useithreads=define, usemultiplicity=define
    useperlio=define, d_sfio=undef, uselargefiles=define, usesocks=undef
    use64bitint=undef, use64bitall=undef, uselongdouble=undef
    usemymalloc=n, bincompat5005=undef
  Compiler:
    cc='cc', ccflags ='-D_REENTRANT -D_GNU_SOURCE -fno-strict-aliasing -pipe -fstack-protector -I/usr/local/include -D_LARGEFILE_SOURCE -D_FILE_OFFSET_BITS=64',
    optimize='-O2',
    cppflags='-D_REENTRANT -D_GNU_SOURCE -fno-strict-aliasing -pipe -fstack-protector -I/usr/local/include'
    ccversion='', gccversion='4.5.2', gccosandvers=''
    intsize=4, longsize=4, ptrsize=4, doublesize=8, byteorder=1234
    d_longlong=define, longlongsize=8, d_longdbl=define, longdblsize=12
    ivtype='long', ivsize=4, nvtype='double', nvsize=8, Off_t='off_t', lseeksize=8
    alignbytes=4, prototype=define
  Linker and Libraries:
    ld='cc', ldflags =' -fstack-protector -L/usr/local/lib'
    libpth=/usr/local/lib /lib /usr/lib
    libs=-lnsl -lgdbm -ldb -ldl -lm -lcrypt -lutil -lpthread -lc -lgdbm_compat
    perllibs=-lnsl -ldl -lm -lcrypt -lutil -lpthread -lc
    libc=/lib/libc-2.12.2.so, so=so, useshrplib=true, libperl=libperl.so
    gnulibc_version='2.12.2'
  Dynamic Linking:
    dlsrc=dl_dlopen.xs, dlext=so, d_dlsymun=undef, ccdlflags='-Wl,-E -Wl,-rpath,/home/graham/perltest/perl5123th/perl/lib/5.12.3/i686-linux-thread-multi/CORE'
    cccdlflags='-fPIC', lddlflags='-shared -O2 -L/usr/local/lib -fstack-protector'


Characteristics of this binary (from libperl): 
  Compile-time options: MULTIPLICITY PERL_DONT_CREATE_GVSV
                        PERL_IMPLICIT_CONTEXT PERL_MALLOC_WRAP USE_ITHREADS
                        USE_LARGE_FILES USE_PERLIO USE_PERL_ATOF
                        USE_REENTRANT_API
  Built under linux
  Compiled at Mar  4 2011 20:00:04
  %ENV:
    PERL5LIB=""
    PERL5OPT=""
    PERL5_CPANPLUS_IS_RUNNING="13382"
    PERL5_CPAN_IS_RUNNING="13382"
    PERL5_CPAN_IS_RUNNING_IN_RECURSION="30382,13382"
    PERL_CR_SMOKER_CURRENT="Win32-Mock-0.05"
    PERL_EXTUTILS_AUTOINSTALL="--defaultdeps"
    PERL_MM_USE_DEFAULT="1"
  @INC:
    /home/graham/perltest/perl5123th/perl/lib/site_perl/5.12.3/i686-linux-thread-multi
    /home/graham/perltest/perl5123th/perl/lib/site_perl/5.12.3
    /home/graham/perltest/perl5123th/perl/lib/5.12.3/i686-linux-thread-multi
    /home/graham/perltest/perl5123th/perl/lib/5.12.3
    .