XML-Schema v0.07 Perl 5 v5.12.5 x86_64-linux
- Status
- Pass
- From
- Andreas J. König (ANDK)
- Dist
-
XML-Schema v0.07
- Platform
- Perl 5 v5.12.5 x86_64-linux
- Date
- 2017-09-13 12:49:25
- ID
- f8df6906-9881-11e7-97db-cbabffe0d2dc
This distribution has been tested as part of the CPAN Testers
project, supporting the Perl programming language. See
http://wiki.cpantesters.org/ for more information or email
questions to cpan-testers-discuss@perl.org
--
Dear Andy Wardley,
This is a computer-generated report for XML-Schema-0.07
on perl 5.12.5, created by CPAN-Reporter-1.2018.
Thank you for uploading your work to CPAN. Congratulations!
All tests were successful.
Sections of this report:
* Tester comments
* Program output
* Prerequisites
* Environment and other context
------------------------------
TESTER COMMENTS
------------------------------
Additional comments from tester:
this report is from an automated smoke testing program
and was not reviewed by a human for accuracy
------------------------------
PROGRAM OUTPUT
------------------------------
Output from '/usr/bin/make test':
PERL_DL_NONLAZY=1 "/home/sand/src/perl/repoperls/installed-perls/host/k93msid/v5.12.5/89ad/bin/perl" "-MExtUtils::Command::MM" "-MTest::Harness" "-e" "undef *Test::Harness::Switches; test_harness(0, 'blib/lib', 'blib/arch')" t/*.t
Use of uninitialized value in addition (+) at lib/XML/Schema/Type/Builtin.pm line 198.
Use of uninitialized value in numeric le (<=) at lib/XML/Schema/Facet/Builtin.pm line 319.
Use of uninitialized value in addition (+) at lib/XML/Schema/Type/Builtin.pm line 198.
Use of uninitialized value in numeric le (<=) at lib/XML/Schema/Facet/Builtin.pm line 319.
Use of uninitialized value in addition (+) at lib/XML/Schema/Type/Builtin.pm line 198.
Use of uninitialized value in numeric le (<=) at lib/XML/Schema/Facet/Builtin.pm line 319.
Use of uninitialized value in addition (+) at lib/XML/Schema/Type/Builtin.pm line 198.
Use of uninitialized value in numeric le (<=) at lib/XML/Schema/Facet/Builtin.pm line 319.
Use of uninitialized value in addition (+) at lib/XML/Schema/Type/Builtin.pm line 198.
Use of uninitialized value in numeric le (<=) at lib/XML/Schema/Facet/Builtin.pm line 319.
Use of uninitialized value in addition (+) at lib/XML/Schema/Type/Builtin.pm line 198.
Use of uninitialized value in numeric le (<=) at lib/XML/Schema/Facet/Builtin.pm line 319.
Use of uninitialized value in addition (+) at lib/XML/Schema/Type/Builtin.pm line 198.
Use of uninitialized value in numeric le (<=) at lib/XML/Schema/Facet/Builtin.pm line 319.
Use of uninitialized value in addition (+) at lib/XML/Schema/Type/Builtin.pm line 198.
Use of uninitialized value in numeric le (<=) at lib/XML/Schema/Facet/Builtin.pm line 319.
Use of uninitialized value in addition (+) at lib/XML/Schema/Type/Builtin.pm line 198.
Use of uninitialized value in numeric le (<=) at lib/XML/Schema/Facet/Builtin.pm line 319.
Use of uninitialized value in addition (+) at lib/XML/Schema/Type/Builtin.pm line 198.
Use of uninitialized value in numeric le (<=) at lib/XML/Schema/Facet/Builtin.pm line 319.
Use of uninitialized value in addition (+) at lib/XML/Schema/Type/Builtin.pm line 198.
Use of uninitialized value in numeric le (<=) at lib/XML/Schema/Facet/Builtin.pm line 319.
Use of uninitialized value in addition (+) at lib/XML/Schema/Type/Builtin.pm line 198.
Use of uninitialized value in numeric le (<=) at lib/XML/Schema/Facet/Builtin.pm line 319.
Use of uninitialized value in addition (+) at lib/XML/Schema/Type/Builtin.pm line 198.
Use of uninitialized value in numeric le (<=) at lib/XML/Schema/Facet/Builtin.pm line 319.
Use of uninitialized value in addition (+) at lib/XML/Schema/Type/Builtin.pm line 198.
Use of uninitialized value in numeric le (<=) at lib/XML/Schema/Facet/Builtin.pm line 319.
Use of uninitialized value in addition (+) at lib/XML/Schema/Type/Builtin.pm line 198.
Use of uninitialized value in numeric le (<=) at lib/XML/Schema/Facet/Builtin.pm line 319.
Use of uninitialized value in addition (+) at lib/XML/Schema/Type/Builtin.pm line 198.
Use of uninitialized value in numeric le (<=) at lib/XML/Schema/Facet/Builtin.pm line 319.
Use of uninitialized value in addition (+) at lib/XML/Schema/Type/Builtin.pm line 198.
Use of uninitialized value in numeric le (<=) at lib/XML/Schema/Facet/Builtin.pm line 319.
Use of uninitialized value in addition (+) at lib/XML/Schema/Type/Builtin.pm line 198.
Use of uninitialized value in numeric le (<=) at lib/XML/Schema/Facet/Builtin.pm line 319.
Use of uninitialized value in addition (+) at lib/XML/Schema/Type/Builtin.pm line 198.
Use of uninitialized value in numeric le (<=) at lib/XML/Schema/Facet/Builtin.pm line 319.
Use of uninitialized value in addition (+) at lib/XML/Schema/Type/Builtin.pm line 198.
Use of uninitialized value in numeric le (<=) at lib/XML/Schema/Facet/Builtin.pm line 319.
Use of uninitialized value in addition (+) at lib/XML/Schema/Type/Builtin.pm line 198.
Use of uninitialized value in numeric le (<=) at lib/XML/Schema/Facet/Builtin.pm line 319.
Use of uninitialized value in addition (+) at lib/XML/Schema/Type/Builtin.pm line 198.
Use of uninitialized value in numeric le (<=) at lib/XML/Schema/Facet/Builtin.pm line 319.
Use of uninitialized value in addition (+) at lib/XML/Schema/Type/Builtin.pm line 198.
Use of uninitialized value in numeric le (<=) at lib/XML/Schema/Facet/Builtin.pm line 319.
Use of uninitialized value in addition (+) at lib/XML/Schema/Type/Builtin.pm line 198.
Use of uninitialized value in numeric le (<=) at lib/XML/Schema/Facet/Builtin.pm line 319.
Use of uninitialized value in addition (+) at lib/XML/Schema/Type/Builtin.pm line 198.
Use of uninitialized value in numeric le (<=) at lib/XML/Schema/Facet/Builtin.pm line 319.
Use of uninitialized value in addition (+) at lib/XML/Schema/Type/Builtin.pm line 198.
Use of uninitialized value in numeric le (<=) at lib/XML/Schema/Facet/Builtin.pm line 319.
Use of uninitialized value in addition (+) at lib/XML/Schema/Type/Builtin.pm line 198.
Use of uninitialized value in numeric le (<=) at lib/XML/Schema/Facet/Builtin.pm line 319.
Use of uninitialized value in addition (+) at lib/XML/Schema/Type/Builtin.pm line 198.
Use of uninitialized value in numeric le (<=) at lib/XML/Schema/Facet/Builtin.pm line 319.
Use of uninitialized value in addition (+) at lib/XML/Schema/Type/Builtin.pm line 198.
Use of uninitialized value in numeric le (<=) at lib/XML/Schema/Facet/Builtin.pm line 319.
Use of uninitialized value in addition (+) at lib/XML/Schema/Type/Builtin.pm line 198.
Use of uninitialized value in numeric le (<=) at lib/XML/Schema/Facet/Builtin.pm line 319.
Use of uninitialized value in addition (+) at lib/XML/Schema/Type/Builtin.pm line 198.
Use of uninitialized value in numeric le (<=) at lib/XML/Schema/Facet/Builtin.pm line 319.
Use of uninitialized value in addition (+) at lib/XML/Schema/Type/Builtin.pm line 198.
Use of uninitialized value in numeric le (<=) at lib/XML/Schema/Facet/Builtin.pm line 319.
Use of uninitialized value in addition (+) at lib/XML/Schema/Type/Builtin.pm line 198.
Use of uninitialized value in numeric le (<=) at lib/XML/Schema/Facet/Builtin.pm line 319.
Use of uninitialized value in addition (+) at lib/XML/Schema/Type/Builtin.pm line 198.
Use of uninitialized value in numeric le (<=) at lib/XML/Schema/Facet/Builtin.pm line 319.
Use of uninitialized value in addition (+) at lib/XML/Schema/Type/Builtin.pm line 198.
Use of uninitialized value in numeric le (<=) at lib/XML/Schema/Facet/Builtin.pm line 319.
t/attrgroup.t .. ok
t/attribute.t .. ok
t/base.t ....... ok
Use of uninitialized value in addition (+) at lib/XML/Schema/Type/Builtin.pm line 198.
Use of uninitialized value in addition (+) at lib/XML/Schema/Type/Builtin.pm line 198.
Use of uninitialized value in addition (+) at lib/XML/Schema/Type/Builtin.pm line 198.
Use of uninitialized value in addition (+) at lib/XML/Schema/Type/Builtin.pm line 198.
Use of uninitialized value in numeric le (<=) at lib/XML/Schema/Facet/Builtin.pm line 319.
Use of uninitialized value in addition (+) at lib/XML/Schema/Type/Builtin.pm line 198.
Use of uninitialized value in numeric le (<=) at lib/XML/Schema/Facet/Builtin.pm line 319.
Use of uninitialized value in addition (+) at lib/XML/Schema/Type/Builtin.pm line 198.
Use of uninitialized value in numeric le (<=) at lib/XML/Schema/Facet/Builtin.pm line 319.
Use of uninitialized value in addition (+) at lib/XML/Schema/Type/Builtin.pm line 198.
Use of uninitialized value in numeric le (<=) at lib/XML/Schema/Facet/Builtin.pm line 319.
Use of uninitialized value in addition (+) at lib/XML/Schema/Type/Builtin.pm line 198.
Use of uninitialized value in numeric le (<=) at lib/XML/Schema/Facet/Builtin.pm line 319.
Use of uninitialized value in addition (+) at lib/XML/Schema/Type/Builtin.pm line 198.
Use of uninitialized value in numeric le (<=) at lib/XML/Schema/Facet/Builtin.pm line 319.
Use of uninitialized value in addition (+) at lib/XML/Schema/Type/Builtin.pm line 198.
Use of uninitialized value in numeric le (<=) at lib/XML/Schema/Facet/Builtin.pm line 319.
Use of uninitialized value in addition (+) at lib/XML/Schema/Type/Builtin.pm line 198.
Use of uninitialized value in numeric le (<=) at lib/XML/Schema/Facet/Builtin.pm line 319.
Use of uninitialized value in addition (+) at lib/XML/Schema/Type/Builtin.pm line 198.
Use of uninitialized value in numeric le (<=) at lib/XML/Schema/Facet/Builtin.pm line 319.
Use of uninitialized value in addition (+) at lib/XML/Schema/Type/Builtin.pm line 198.
Use of uninitialized value in numeric le (<=) at lib/XML/Schema/Facet/Builtin.pm line 319.
Use of uninitialized value in addition (+) at lib/XML/Schema/Type/Builtin.pm line 198.
Use of uninitialized value in numeric le (<=) at lib/XML/Schema/Facet/Builtin.pm line 319.
Use of uninitialized value in addition (+) at lib/XML/Schema/Type/Builtin.pm line 198.
Use of uninitialized value in numeric le (<=) at lib/XML/Schema/Facet/Builtin.pm line 319.
Use of uninitialized value in addition (+) at lib/XML/Schema/Type/Builtin.pm line 198.
Use of uninitialized value in numeric le (<=) at lib/XML/Schema/Facet/Builtin.pm line 319.
Use of uninitialized value in addition (+) at lib/XML/Schema/Type/Builtin.pm line 198.
Use of uninitialized value in numeric le (<=) at lib/XML/Schema/Facet/Builtin.pm line 319.
Use of uninitialized value in addition (+) at lib/XML/Schema/Type/Builtin.pm line 198.
Use of uninitialized value in numeric le (<=) at lib/XML/Schema/Facet/Builtin.pm line 319.
Use of uninitialized value in addition (+) at lib/XML/Schema/Type/Builtin.pm line 198.
Use of uninitialized value in numeric le (<=) at lib/XML/Schema/Facet/Builtin.pm line 319.
Use of uninitialized value in addition (+) at lib/XML/Schema/Type/Builtin.pm line 198.
Use of uninitialized value in numeric le (<=) at lib/XML/Schema/Facet/Builtin.pm line 319.
Use of uninitialized value in addition (+) at lib/XML/Schema/Type/Builtin.pm line 198.
Use of uninitialized value in numeric le (<=) at lib/XML/Schema/Facet/Builtin.pm line 319.
Use of uninitialized value in addition (+) at lib/XML/Schema/Type/Builtin.pm line 198.
Use of uninitialized value in numeric le (<=) at lib/XML/Schema/Facet/Builtin.pm line 319.
Use of uninitialized value in addition (+) at lib/XML/Schema/Type/Builtin.pm line 198.
Use of uninitialized value in numeric le (<=) at lib/XML/Schema/Facet/Builtin.pm line 319.
Use of uninitialized value in addition (+) at lib/XML/Schema/Type/Builtin.pm line 198.
Use of uninitialized value in numeric le (<=) at lib/XML/Schema/Facet/Builtin.pm line 319.
Use of uninitialized value in addition (+) at lib/XML/Schema/Type/Builtin.pm line 198.
Use of uninitialized value in numeric le (<=) at lib/XML/Schema/Facet/Builtin.pm line 319.
Use of uninitialized value in addition (+) at lib/XML/Schema/Type/Builtin.pm line 198.
Use of uninitialized value in numeric le (<=) at lib/XML/Schema/Facet/Builtin.pm line 319.
Use of uninitialized value in addition (+) at lib/XML/Schema/Type/Builtin.pm line 198.
Use of uninitialized value in numeric le (<=) at lib/XML/Schema/Facet/Builtin.pm line 319.
Use of uninitialized value in addition (+) at lib/XML/Schema/Type/Builtin.pm line 198.
Use of uninitialized value in numeric le (<=) at lib/XML/Schema/Facet/Builtin.pm line 319.
Use of uninitialized value in addition (+) at lib/XML/Schema/Type/Builtin.pm line 198.
Use of uninitialized value in numeric le (<=) at lib/XML/Schema/Facet/Builtin.pm line 319.
Use of uninitialized value in addition (+) at lib/XML/Schema/Type/Builtin.pm line 198.
Use of uninitialized value in numeric le (<=) at lib/XML/Schema/Facet/Builtin.pm line 319.
Use of uninitialized value in addition (+) at lib/XML/Schema/Type/Builtin.pm line 198.
Use of uninitialized value in numeric le (<=) at lib/XML/Schema/Facet/Builtin.pm line 319.
Use of uninitialized value in addition (+) at lib/XML/Schema/Type/Builtin.pm line 198.
Use of uninitialized value in numeric le (<=) at lib/XML/Schema/Facet/Builtin.pm line 319.
Use of uninitialized value in addition (+) at lib/XML/Schema/Type/Builtin.pm line 198.
Use of uninitialized value in numeric le (<=) at lib/XML/Schema/Facet/Builtin.pm line 319.
Use of uninitialized value in addition (+) at lib/XML/Schema/Type/Builtin.pm line 198.
Use of uninitialized value in numeric le (<=) at lib/XML/Schema/Facet/Builtin.pm line 319.
Use of uninitialized value in addition (+) at lib/XML/Schema/Type/Builtin.pm line 198.
Use of uninitialized value in numeric le (<=) at lib/XML/Schema/Facet/Builtin.pm line 319.
Use of uninitialized value in addition (+) at lib/XML/Schema/Type/Builtin.pm line 198.
Use of uninitialized value in numeric le (<=) at lib/XML/Schema/Facet/Builtin.pm line 319.
Use of uninitialized value in addition (+) at lib/XML/Schema/Type/Builtin.pm line 198.
Use of uninitialized value in numeric le (<=) at lib/XML/Schema/Facet/Builtin.pm line 319.
Use of uninitialized value in addition (+) at lib/XML/Schema/Type/Builtin.pm line 198.
Use of uninitialized value in numeric le (<=) at lib/XML/Schema/Facet/Builtin.pm line 319.
Use of uninitialized value in addition (+) at lib/XML/Schema/Type/Builtin.pm line 198.
Use of uninitialized value in numeric le (<=) at lib/XML/Schema/Facet/Builtin.pm line 319.
Use of uninitialized value in addition (+) at lib/XML/Schema/Type/Builtin.pm line 198.
Use of uninitialized value in numeric le (<=) at lib/XML/Schema/Facet/Builtin.pm line 319.
Use of uninitialized value in addition (+) at lib/XML/Schema/Type/Builtin.pm line 198.
Use of uninitialized value in numeric le (<=) at lib/XML/Schema/Facet/Builtin.pm line 319.
Use of uninitialized value in addition (+) at lib/XML/Schema/Type/Builtin.pm line 198.
Use of uninitialized value in numeric le (<=) at lib/XML/Schema/Facet/Builtin.pm line 319.
Use of uninitialized value in addition (+) at lib/XML/Schema/Type/Builtin.pm line 198.
Use of uninitialized value in numeric le (<=) at lib/XML/Schema/Facet/Builtin.pm line 319.
Use of uninitialized value in addition (+) at lib/XML/Schema/Type/Builtin.pm line 198.
Use of uninitialized value in numeric le (<=) at lib/XML/Schema/Facet/Builtin.pm line 319.
Use of uninitialized value in addition (+) at lib/XML/Schema/Type/Builtin.pm line 198.
Use of uninitialized value in numeric le (<=) at lib/XML/Schema/Facet/Builtin.pm line 319.
Use of uninitialized value in addition (+) at lib/XML/Schema/Type/Builtin.pm line 198.
Use of uninitialized value in numeric le (<=) at lib/XML/Schema/Facet/Builtin.pm line 319.
Use of uninitialized value in addition (+) at lib/XML/Schema/Type/Builtin.pm line 198.
Use of uninitialized value in numeric le (<=) at lib/XML/Schema/Facet/Builtin.pm line 319.
Use of uninitialized value in addition (+) at lib/XML/Schema/Type/Builtin.pm line 198.
Use of uninitialized value in numeric le (<=) at lib/XML/Schema/Facet/Builtin.pm line 319.
Use of uninitialized value in addition (+) at lib/XML/Schema/Type/Builtin.pm line 198.
Use of uninitialized value in numeric le (<=) at lib/XML/Schema/Facet/Builtin.pm line 319.
Use of uninitialized value in addition (+) at lib/XML/Schema/Type/Builtin.pm line 198.
Use of uninitialized value in numeric le (<=) at lib/XML/Schema/Facet/Builtin.pm line 319.
Use of uninitialized value in addition (+) at lib/XML/Schema/Type/Builtin.pm line 198.
Use of uninitialized value in numeric le (<=) at lib/XML/Schema/Facet/Builtin.pm line 319.
Use of uninitialized value in addition (+) at lib/XML/Schema/Type/Builtin.pm line 198.
Use of uninitialized value in numeric le (<=) at lib/XML/Schema/Facet/Builtin.pm line 319.
Use of uninitialized value in addition (+) at lib/XML/Schema/Type/Builtin.pm line 198.
Use of uninitialized value in numeric le (<=) at lib/XML/Schema/Facet/Builtin.pm line 319.
Use of uninitialized value in addition (+) at lib/XML/Schema/Type/Builtin.pm line 198.
Use of uninitialized value in numeric le (<=) at lib/XML/Schema/Facet/Builtin.pm line 319.
Use of uninitialized value in addition (+) at lib/XML/Schema/Type/Builtin.pm line 198.
Use of uninitialized value in numeric le (<=) at lib/XML/Schema/Facet/Builtin.pm line 319.
Use of uninitialized value in addition (+) at lib/XML/Schema/Type/Builtin.pm line 198.
Use of uninitialized value in numeric le (<=) at lib/XML/Schema/Facet/Builtin.pm line 319.
t/builtin.t .... ok
t/choice.t ..... ok
t/complex.t .... ok
t/constants.t .. ok
t/content.t .... ok
t/element.t .... ok
t/enum.t ....... ok
t/exception.t .. ok
t/facet.t ...... ok
t/handler.t .... ok
t/id.t ......... ok
t/instance.t ... ok
Use of uninitialized value in addition (+) at lib/XML/Schema/Type/Builtin.pm line 198.
Use of uninitialized value in numeric le (<=) at lib/XML/Schema/Facet/Builtin.pm line 319.
Use of uninitialized value in addition (+) at lib/XML/Schema/Type/Builtin.pm line 198.
Use of uninitialized value in numeric le (<=) at lib/XML/Schema/Facet/Builtin.pm line 319.
Use of uninitialized value in addition (+) at lib/XML/Schema/Type/Builtin.pm line 198.
Use of uninitialized value in numeric le (<=) at lib/XML/Schema/Facet/Builtin.pm line 319.
Use of uninitialized value in addition (+) at lib/XML/Schema/Type/Builtin.pm line 198.
Use of uninitialized value in numeric le (<=) at lib/XML/Schema/Facet/Builtin.pm line 319.
Use of uninitialized value in addition (+) at lib/XML/Schema/Type/Builtin.pm line 198.
Use of uninitialized value in numeric le (<=) at lib/XML/Schema/Facet/Builtin.pm line 319.
Use of uninitialized value in addition (+) at lib/XML/Schema/Type/Builtin.pm line 198.
Use of uninitialized value in numeric le (<=) at lib/XML/Schema/Facet/Builtin.pm line 319.
Use of uninitialized value in addition (+) at lib/XML/Schema/Type/Builtin.pm line 198.
Use of uninitialized value in numeric le (<=) at lib/XML/Schema/Facet/Builtin.pm line 319.
Use of uninitialized value in addition (+) at lib/XML/Schema/Type/Builtin.pm line 198.
Use of uninitialized value in numeric le (<=) at lib/XML/Schema/Facet/Builtin.pm line 319.
Use of uninitialized value in addition (+) at lib/XML/Schema/Type/Builtin.pm line 198.
Use of uninitialized value in numeric le (<=) at lib/XML/Schema/Facet/Builtin.pm line 319.
Use of uninitialized value in addition (+) at lib/XML/Schema/Type/Builtin.pm line 198.
Use of uninitialized value in numeric le (<=) at lib/XML/Schema/Facet/Builtin.pm line 319.
Use of uninitialized value in addition (+) at lib/XML/Schema/Type/Builtin.pm line 198.
Use of uninitialized value in numeric le (<=) at lib/XML/Schema/Facet/Builtin.pm line 319.
Use of uninitialized value in addition (+) at lib/XML/Schema/Type/Builtin.pm line 198.
Use of uninitialized value in numeric le (<=) at lib/XML/Schema/Facet/Builtin.pm line 319.
Use of uninitialized value in addition (+) at lib/XML/Schema/Type/Builtin.pm line 198.
Use of uninitialized value in numeric le (<=) at lib/XML/Schema/Facet/Builtin.pm line 319.
Use of uninitialized value in addition (+) at lib/XML/Schema/Type/Builtin.pm line 198.
Use of uninitialized value in numeric le (<=) at lib/XML/Schema/Facet/Builtin.pm line 319.
Use of uninitialized value in addition (+) at lib/XML/Schema/Type/Builtin.pm line 198.
Use of uninitialized value in numeric le (<=) at lib/XML/Schema/Facet/Builtin.pm line 319.
Use of uninitialized value in addition (+) at lib/XML/Schema/Type/Builtin.pm line 198.
Use of uninitialized value in numeric le (<=) at lib/XML/Schema/Facet/Builtin.pm line 319.
Use of uninitialized value in addition (+) at lib/XML/Schema/Type/Builtin.pm line 198.
Use of uninitialized value in numeric le (<=) at lib/XML/Schema/Facet/Builtin.pm line 319.
Use of uninitialized value in addition (+) at lib/XML/Schema/Type/Builtin.pm line 198.
Use of uninitialized value in numeric le (<=) at lib/XML/Schema/Facet/Builtin.pm line 319.
Use of uninitialized value in addition (+) at lib/XML/Schema/Type/Builtin.pm line 198.
Use of uninitialized value in numeric le (<=) at lib/XML/Schema/Facet/Builtin.pm line 319.
Use of uninitialized value in addition (+) at lib/XML/Schema/Type/Builtin.pm line 198.
Use of uninitialized value in numeric le (<=) at lib/XML/Schema/Facet/Builtin.pm line 319.
Use of uninitialized value in addition (+) at lib/XML/Schema/Type/Builtin.pm line 198.
Use of uninitialized value in numeric le (<=) at lib/XML/Schema/Facet/Builtin.pm line 319.
t/list.t ....... ok
t/name.t ....... ok
t/names.t ...... ok
t/parser.t ..... ok
t/particle.t ... ok
t/person.t ..... ok
t/scheduler.t .. ok
Use of uninitialized value in addition (+) at lib/XML/Schema/Type/Builtin.pm line 198.
Use of uninitialized value in numeric le (<=) at lib/XML/Schema/Facet/Builtin.pm line 319.
t/scope.t ...... ok
t/sequence.t ... ok
t/simple.t ..... ok
t/type.t ....... ok
Use of uninitialized value in addition (+) at lib/XML/Schema/Type/Builtin.pm line 198.
Use of uninitialized value in numeric le (<=) at lib/XML/Schema/Facet/Builtin.pm line 319.
t/union.t ...... ok
t/wildcard.t ... ok
All tests successful.
Files=28, Tests=1466, 2 wallclock secs ( 0.11 usr 0.15 sys + 0.84 cusr 0.32 csys = 1.42 CPU)
Result: PASS
------------------------------
PREREQUISITES
------------------------------
Prerequisite modules loaded:
build_requires:
Module Need Have
------------------- ---- ----
ExtUtils::MakeMaker 0 7.30
------------------------------
ENVIRONMENT AND OTHER CONTEXT
------------------------------
Environment variables:
AUTOMATED_TESTING = 1
LANG = en_US.UTF-8
PATH = /home/sand/bin:/usr/local/bin:/usr/bin:/bin:/usr/games:/usr/local/perl/bin:/usr/X11/bin:/sbin:/usr/sbin
PERL5LIB = /tmp/loop_over_bdir-23858-hEPe6S/X500-DN-0.29-0/blib/arch:/tmp/loop_over_bdir-23858-hEPe6S/X500-DN-0.29-0/blib/lib:/tmp/loop_over_bdir-23858-hEPe6S/Tie-ListKeyedHash-1.02-0/blib/arch:/tmp/loop_over_bdir-23858-hEPe6S/Tie-ListKeyedHash-1.02-0/blib/lib:/tmp/loop_over_bdir-23858-hEPe6S/Text-TabularDisplay-1.38-0/blib/arch:/tmp/loop_over_bdir-23858-hEPe6S/Text-TabularDisplay-1.38-0/blib/lib:/tmp/loop_over_bdir-23858-hEPe6S/String-ExpandEscapes-0.01-0/blib/arch:/tmp/loop_over_bdir-23858-hEPe6S/String-ExpandEscapes-0.01-0/blib/lib:/tmp/loop_over_bdir-23858-hEPe6S/Regexp-Box-0.02-0/blib/arch:/tmp/loop_over_bdir-23858-hEPe6S/Regexp-Box-0.02-0/blib/lib:/tmp/loop_over_bdir-23858-hEPe6S/Net-IPv6Addr-0.7-0/blib/arch:/tmp/loop_over_bdir-23858-hEPe6S/Net-IPv6Addr-0.7-0/blib/lib:/tmp/loop_over_bdir-23858-hEPe6S/Net-IPv4Addr-0.10-0/blib/arch:/tmp/loop_over_bdir-23858-hEPe6S/Net-IPv4Addr-0.10-0/blib/lib:/tmp/loop_over_bdir-23858-hEPe6S/Math-Base85-0.2-0/blib/arch:/tmp/loop_over_bdir-23858-hEPe6S/Math-Base85-0.2-0/blib/lib:/tmp/loop_over_bdir-23858-hEPe6S/Locale-SubCountry-2.02-0/blib/arch:/tmp/loop_over_bdir-23858-hEPe6S/Locale-SubCountry-2.02-0/blib/lib:/tmp/loop_over_bdir-23858-hEPe6S/HTML-Lint-2.26-0/blib/arch:/tmp/loop_over_bdir-23858-hEPe6S/HTML-Lint-2.26-0/blib/lib:/tmp/loop_over_bdir-23858-hEPe6S/Email-Valid-1.202-0/blib/arch:/tmp/loop_over_bdir-23858-hEPe6S/Email-Valid-1.202-0/blib/lib:/tmp/loop_over_bdir-23858-hEPe6S/Data-Iter-0.2-0/blib/arch:/tmp/loop_over_bdir-23858-hEPe6S/Data-Iter-0.2-0/blib/lib:/tmp/loop_over_bdir-23858-hEPe6S/Class-Multimethods-1.700-0/blib/arch:/tmp/loop_over_bdir-23858-hEPe6S/Class-Multimethods-1.700-0/blib/lib:/tmp/loop_over_bdir-23858-hEPe6S/Class-Maker-0.5.14-0/blib/arch:/tmp/loop_over_bdir-23858-hEPe6S/Class-Maker-0.5.14-0/blib/lib:/tmp/loop_over_bdir-23858-hEPe6S/IO-Extended-0.16-0/blib/arch:/tmp/loop_over_bdir-23858-hEPe6S/IO-Extended-0.16-0/blib/lib:/tmp/loop_over_bdir-23858-hEPe6S/Business-UPC-0.06-0/blib/arch:/tmp/loop_over_bdir-23858-hEPe6S/Business-UPC-0.06-0/blib/lib:/tmp/loop_over_bdir-23858-hEPe6S/Business-ISSN-0.91-0/blib/arch:/tmp/loop_over_bdir-23858-hEPe6S/Business-ISSN-0.91-0/blib/lib:/tmp/loop_over_bdir-23858-hEPe6S/Business-CreditCard-0.36-0/blib/arch:/tmp/loop_over_bdir-23858-hEPe6S/Business-CreditCard-0.36-0/blib/lib:/tmp/loop_over_bdir-23858-hEPe6S/Business-CINS-1.13-0/blib/arch:/tmp/loop_over_bdir-23858-hEPe6S/Business-CINS-1.13-0/blib/lib:/tmp/loop_over_bdir-23858-hEPe6S/Algorithm-LUHN-1.02-0/blib/arch:/tmp/loop_over_bdir-23858-hEPe6S/Algorithm-LUHN-1.02-0/blib/lib:/tmp/loop_over_bdir-23858-hEPe6S/Attribute-Util-1.07-0/blib/arch:/tmp/loop_over_bdir-23858-hEPe6S/Attribute-Util-1.07-0/blib/lib
PERL5OPT =
PERL5_CPANPLUS_IS_RUNNING = 23871
PERL5_CPAN_IS_RUNNING = 23871
PERL5_CPAN_IS_RUNNING_IN_RECURSION = 5138,23871
PERL_CANARY_STABILITY_NOPROMPT = 1
PERL_MM_USE_DEFAULT = 1
PERL_USE_UNSAFE_INC = 1
SHELL = /usr/bin/zsh
TERM = screen
Perl special variables (and OS-specific diagnostics, for MSWin32):
$^X = /home/sand/src/perl/repoperls/installed-perls/host/k93msid/v5.12.5/89ad/bin/perl
$UID/$EUID = 1005 / 1005
$GID = 1005 1005
$EGID = 1005 1005
Perl module toolchain versions installed:
Module Have
------------------- --------
CPAN 2.18
CPAN::Meta 2.150010
Cwd 3.62
ExtUtils::CBuilder 0.280226
ExtUtils::Command 7.30
ExtUtils::Install 2.06
ExtUtils::MakeMaker 7.30
ExtUtils::Manifest 1.70
ExtUtils::ParseXS 3.35
File::Spec 3.62
JSON 2.94
JSON::PP 2.94
Module::Build 0.4224
Module::Signature 0.81
Parse::CPAN::Meta 2.150010
Test::Harness 3.39
Test::More 1.302096
YAML 1.23
YAML::Syck 1.30
version 0.9918
--
Summary of my perl5 (revision 5 version 12 subversion 5) configuration:
Derived from: 9a9cbd715960a905dcbc9166349a73a64a007e4e
Platform:
osname=linux, osvers=4.9.0-2-amd64, archname=x86_64-linux
uname='linux k93msid 4.9.0-2-amd64 #1 smp debian 4.9.18-1 (2017-03-30) x86_64 gnulinux '
config_args='-Dprefix=/home/sand/src/perl/repoperls/installed-perls/host/k93msid/v5.12.5/89ad -Dmyhostname=k93msid -Dinstallusrbinperl=n -Uversiononly -Dusedevel -des -Ui_db -Dlibswanted=cl pthread socket inet nsl gdbm dbm malloc dl ld sun m crypt sec util c cposix posix ucb BSD gdbm_compat -Uuseithreads -Uuselongdouble -DDEBUGGING=-g'
hint=recommended, useposix=true, d_sigaction=define
useithreads=undef, usemultiplicity=undef
useperlio=define, d_sfio=undef, uselargefiles=define, usesocks=undef
use64bitint=define, use64bitall=define, uselongdouble=undef
usemymalloc=n, bincompat5005=undef
Compiler:
cc='cc', ccflags ='-fno-strict-aliasing -pipe -fstack-protector -I/usr/local/include -D_LARGEFILE_SOURCE -D_FILE_OFFSET_BITS=64',
optimize='-O2 -g',
cppflags='-fno-strict-aliasing -pipe -fstack-protector -I/usr/local/include'
ccversion='', gccversion='6.3.0 20170406', gccosandvers=''
intsize=4, longsize=8, ptrsize=8, doublesize=8, byteorder=12345678
d_longlong=define, longlongsize=8, d_longdbl=define, longdblsize=16
ivtype='long', ivsize=8, nvtype='double', nvsize=8, Off_t='off_t', lseeksize=8
alignbytes=8, prototype=define
Linker and Libraries:
ld='cc', ldflags =' -fstack-protector -L/usr/local/lib'
libpth=/usr/local/lib /lib/x86_64-linux-gnu /lib/../lib /usr/lib/x86_64-linux-gnu /usr/lib/../lib /lib /usr/lib
libs=-lpthread -lnsl -ldl -lm -lcrypt -lutil -lc
perllibs=-lpthread -lnsl -ldl -lm -lcrypt -lutil -lc
libc=libc-2.24.so, so=so, useshrplib=false, libperl=libperl.a
gnulibc_version='2.24'
Dynamic Linking:
dlsrc=dl_dlopen.xs, dlext=so, d_dlsymun=undef, ccdlflags='-Wl,-E'
cccdlflags='-fPIC', lddlflags='-shared -O2 -g -L/usr/local/lib -fstack-protector'
Characteristics of this binary (from libperl):
Compile-time options: PERL_DONT_CREATE_GVSV PERL_MALLOC_WRAP PERL_USE_DEVEL
USE_64_BIT_ALL USE_64_BIT_INT USE_LARGE_FILES
USE_PERLIO USE_PERL_ATOF
Locally applied patches:
uncommitted-changes
Built under linux
Compiled at Aug 25 2017 23:33:48
%ENV:
PERL5LIB="/tmp/loop_over_bdir-23858-hEPe6S/X500-DN-0.29-0/blib/arch:/tmp/loop_over_bdir-23858-hEPe6S/X500-DN-0.29-0/blib/lib:/tmp/loop_over_bdir-23858-hEPe6S/Tie-ListKeyedHash-1.02-0/blib/arch:/tmp/loop_over_bdir-23858-hEPe6S/Tie-ListKeyedHash-1.02-0/blib/lib:/tmp/loop_over_bdir-23858-hEPe6S/Text-TabularDisplay-1.38-0/blib/arch:/tmp/loop_over_bdir-23858-hEPe6S/Text-TabularDisplay-1.38-0/blib/lib:/tmp/loop_over_bdir-23858-hEPe6S/String-ExpandEscapes-0.01-0/blib/arch:/tmp/loop_over_bdir-23858-hEPe6S/String-ExpandEscapes-0.01-0/blib/lib:/tmp/loop_over_bdir-23858-hEPe6S/Regexp-Box-0.02-0/blib/arch:/tmp/loop_over_bdir-23858-hEPe6S/Regexp-Box-0.02-0/blib/lib:/tmp/loop_over_bdir-23858-hEPe6S/Net-IPv6Addr-0.7-0/blib/arch:/tmp/loop_over_bdir-23858-hEPe6S/Net-IPv6Addr-0.7-0/blib/lib:/tmp/loop_over_bdir-23858-hEPe6S/Net-IPv4Addr-0.10-0/blib/arch:/tmp/loop_over_bdir-23858-hEPe6S/Net-IPv4Addr-0.10-0/blib/lib:/tmp/loop_over_bdir-23858-hEPe6S/Math-Base85-0.2-0/blib/arch:/tmp/loop_over_bdir-23858-hEPe6S/Math-Base85-0.2-0/blib/lib:/tmp/loop_over_bdir-23858-hEPe6S/Locale-SubCountry-2.02-0/blib/arch:/tmp/loop_over_bdir-23858-hEPe6S/Locale-SubCountry-2.02-0/blib/lib:/tmp/loop_over_bdir-23858-hEPe6S/HTML-Lint-2.26-0/blib/arch:/tmp/loop_over_bdir-23858-hEPe6S/HTML-Lint-2.26-0/blib/lib:/tmp/loop_over_bdir-23858-hEPe6S/Email-Valid-1.202-0/blib/arch:/tmp/loop_over_bdir-23858-hEPe6S/Email-Valid-1.202-0/blib/lib:/tmp/loop_over_bdir-23858-hEPe6S/Data-Iter-0.2-0/blib/arch:/tmp/loop_over_bdir-23858-hEPe6S/Data-Iter-0.2-0/blib/lib:/tmp/loop_over_bdir-23858-hEPe6S/Class-Multimethods-1.700-0/blib/arch:/tmp/loop_over_bdir-23858-hEPe6S/Class-Multimethods-1.700-0/blib/lib:/tmp/loop_over_bdir-23858-hEPe6S/Class-Maker-0.5.14-0/blib/arch:/tmp/loop_over_bdir-23858-hEPe6S/Class-Maker-0.5.14-0/blib/lib:/tmp/loop_over_bdir-23858-hEPe6S/IO-Extended-0.16-0/blib/arch:/tmp/loop_over_bdir-23858-hEPe6S/IO-Extended-0.16-0/blib/lib:/tmp/loop_over_bdir-23858-hEPe6S/Business-UPC-0.06-0/blib/arch:/tmp/loop_over_bdir-23858-hEPe6S/Business-UPC-0.06-0/blib/lib:/tmp/loop_over_bdir-23858-hEPe6S/Business-ISSN-0.91-0/blib/arch:/tmp/loop_over_bdir-23858-hEPe6S/Business-ISSN-0.91-0/blib/lib:/tmp/loop_over_bdir-23858-hEPe6S/Business-CreditCard-0.36-0/blib/arch:/tmp/loop_over_bdir-23858-hEPe6S/Business-CreditCard-0.36-0/blib/lib:/tmp/loop_over_bdir-23858-hEPe6S/Business-CINS-1.13-0/blib/arch:/tmp/loop_over_bdir-23858-hEPe6S/Business-CINS-1.13-0/blib/lib:/tmp/loop_over_bdir-23858-hEPe6S/Algorithm-LUHN-1.02-0/blib/arch:/tmp/loop_over_bdir-23858-hEPe6S/Algorithm-LUHN-1.02-0/blib/lib:/tmp/loop_over_bdir-23858-hEPe6S/Attribute-Util-1.07-0/blib/arch:/tmp/loop_over_bdir-23858-hEPe6S/Attribute-Util-1.07-0/blib/lib"
PERL5OPT=""
PERL5_CPANPLUS_IS_RUNNING="23871"
PERL5_CPAN_IS_RUNNING="23871"
PERL5_CPAN_IS_RUNNING_IN_RECURSION="5138,23871"
PERL_CANARY_STABILITY_NOPROMPT="1"
PERL_MM_USE_DEFAULT="1"
PERL_USE_UNSAFE_INC="1"
@INC:
/tmp/loop_over_bdir-23858-hEPe6S/X500-DN-0.29-0/blib/arch
/tmp/loop_over_bdir-23858-hEPe6S/X500-DN-0.29-0/blib/lib
/tmp/loop_over_bdir-23858-hEPe6S/Tie-ListKeyedHash-1.02-0/blib/arch
/tmp/loop_over_bdir-23858-hEPe6S/Tie-ListKeyedHash-1.02-0/blib/lib
/tmp/loop_over_bdir-23858-hEPe6S/Text-TabularDisplay-1.38-0/blib/arch
/tmp/loop_over_bdir-23858-hEPe6S/Text-TabularDisplay-1.38-0/blib/lib
/tmp/loop_over_bdir-23858-hEPe6S/String-ExpandEscapes-0.01-0/blib/arch
/tmp/loop_over_bdir-23858-hEPe6S/String-ExpandEscapes-0.01-0/blib/lib
/tmp/loop_over_bdir-23858-hEPe6S/Regexp-Box-0.02-0/blib/arch
/tmp/loop_over_bdir-23858-hEPe6S/Regexp-Box-0.02-0/blib/lib
/tmp/loop_over_bdir-23858-hEPe6S/Net-IPv6Addr-0.7-0/blib/arch
/tmp/loop_over_bdir-23858-hEPe6S/Net-IPv6Addr-0.7-0/blib/lib
/tmp/loop_over_bdir-23858-hEPe6S/Net-IPv4Addr-0.10-0/blib/arch
/tmp/loop_over_bdir-23858-hEPe6S/Net-IPv4Addr-0.10-0/blib/lib
/tmp/loop_over_bdir-23858-hEPe6S/Math-Base85-0.2-0/blib/arch
/tmp/loop_over_bdir-23858-hEPe6S/Math-Base85-0.2-0/blib/lib
/tmp/loop_over_bdir-23858-hEPe6S/Locale-SubCountry-2.02-0/blib/arch
/tmp/loop_over_bdir-23858-hEPe6S/Locale-SubCountry-2.02-0/blib/lib
/tmp/loop_over_bdir-23858-hEPe6S/HTML-Lint-2.26-0/blib/arch
/tmp/loop_over_bdir-23858-hEPe6S/HTML-Lint-2.26-0/blib/lib
/tmp/loop_over_bdir-23858-hEPe6S/Email-Valid-1.202-0/blib/arch
/tmp/loop_over_bdir-23858-hEPe6S/Email-Valid-1.202-0/blib/lib
/tmp/loop_over_bdir-23858-hEPe6S/Data-Iter-0.2-0/blib/arch
/tmp/loop_over_bdir-23858-hEPe6S/Data-Iter-0.2-0/blib/lib
/tmp/loop_over_bdir-23858-hEPe6S/Class-Multimethods-1.700-0/blib/arch
/tmp/loop_over_bdir-23858-hEPe6S/Class-Multimethods-1.700-0/blib/lib
/tmp/loop_over_bdir-23858-hEPe6S/Class-Maker-0.5.14-0/blib/arch
/tmp/loop_over_bdir-23858-hEPe6S/Class-Maker-0.5.14-0/blib/lib
/tmp/loop_over_bdir-23858-hEPe6S/IO-Extended-0.16-0/blib/arch
/tmp/loop_over_bdir-23858-hEPe6S/IO-Extended-0.16-0/blib/lib
/tmp/loop_over_bdir-23858-hEPe6S/Business-UPC-0.06-0/blib/arch
/tmp/loop_over_bdir-23858-hEPe6S/Business-UPC-0.06-0/blib/lib
/tmp/loop_over_bdir-23858-hEPe6S/Business-ISSN-0.91-0/blib/arch
/tmp/loop_over_bdir-23858-hEPe6S/Business-ISSN-0.91-0/blib/lib
/tmp/loop_over_bdir-23858-hEPe6S/Business-CreditCard-0.36-0/blib/arch
/tmp/loop_over_bdir-23858-hEPe6S/Business-CreditCard-0.36-0/blib/lib
/tmp/loop_over_bdir-23858-hEPe6S/Business-CINS-1.13-0/blib/arch
/tmp/loop_over_bdir-23858-hEPe6S/Business-CINS-1.13-0/blib/lib
/tmp/loop_over_bdir-23858-hEPe6S/Algorithm-LUHN-1.02-0/blib/arch
/tmp/loop_over_bdir-23858-hEPe6S/Algorithm-LUHN-1.02-0/blib/lib
/tmp/loop_over_bdir-23858-hEPe6S/Attribute-Util-1.07-0/blib/arch
/tmp/loop_over_bdir-23858-hEPe6S/Attribute-Util-1.07-0/blib/lib
/home/sand/src/perl/repoperls/installed-perls/host/k93msid/v5.12.5/89ad/lib/site_perl/5.12.5/x86_64-linux
/home/sand/src/perl/repoperls/installed-perls/host/k93msid/v5.12.5/89ad/lib/site_perl/5.12.5
/home/sand/src/perl/repoperls/installed-perls/host/k93msid/v5.12.5/89ad/lib/5.12.5/x86_64-linux
/home/sand/src/perl/repoperls/installed-perls/host/k93msid/v5.12.5/89ad/lib/5.12.5
.