Math-NumSeq v75 Perl 5 v5.37.1 x86_64-linux
- Status
- Pass
- From
- Nedzad Hrnjica (NHRNJICA)
- Dist
-
Math-NumSeq v75
- Platform
- Perl 5 v5.37.1 x86_64-linux
- Date
- 2022-07-23 14:23:05
- ID
- f77b4a0c-0a92-11ed-bdd2-86dc24f29030
This distribution has been tested as part of the CPAN Testers
project, supporting the Perl programming language. See
http://wiki.cpantesters.org/ for more information or email
questions to cpan-testers-discuss@perl.org
--
Dear KRYDE,
This is a computer-generated report for Math-NumSeq-75
on perl 5.37.1, created by App::cpanminus::reporter 0.17 (1.7046).
Thank you for uploading your work to CPAN. Congratulations!
All tests were successful.
Sections of this report:
* Tester comments
* Program output
* Prerequisites
* Environment and other context
------------------------------
TESTER COMMENTS
------------------------------
Additional comments from tester:
none provided
------------------------------
PROGRAM OUTPUT
------------------------------
Output from '':
Building and testing Math-NumSeq-75
cp lib/Math/NumSeq/Base/Sparse.pm blib/lib/Math/NumSeq/Base/Sparse.pm
cp lib/Math/NumSeq/CollatzSteps.pm blib/lib/Math/NumSeq/CollatzSteps.pm
cp lib/Math/NumSeq/Base/IterateIth.pm blib/lib/Math/NumSeq/Base/IterateIth.pm
cp lib/Math/NumSeq/CullenNumbers.pm blib/lib/Math/NumSeq/CullenNumbers.pm
cp lib/Math/NumSeq/DivisorCount.pm blib/lib/Math/NumSeq/DivisorCount.pm
cp lib/Math/NumSeq/AllDigits.pm blib/lib/Math/NumSeq/AllDigits.pm
cp lib/Math/NumSeq/BaumSweet.pm blib/lib/Math/NumSeq/BaumSweet.pm
cp lib/Math/NumSeq/BalancedBinary.pm blib/lib/Math/NumSeq/BalancedBinary.pm
cp lib/Math/NumSeq.pm blib/lib/Math/NumSeq.pm
cp lib/Math/NumSeq/DigitCountLow.pm blib/lib/Math/NumSeq/DigitCountLow.pm
cp lib/Math/NumSeq/Catalan.pm blib/lib/Math/NumSeq/Catalan.pm
cp lib/Math/NumSeq/Cubes.pm blib/lib/Math/NumSeq/Cubes.pm
cp lib/Math/NumSeq/Base/Array.pm blib/lib/Math/NumSeq/Base/Array.pm
cp lib/Math/NumSeq/Base/Cache.pm blib/lib/Math/NumSeq/Base/Cache.pm
cp lib/Math/NumSeq/DedekindPsiCumulative.pm blib/lib/Math/NumSeq/DedekindPsiCumulative.pm
cp lib/Math/NumSeq/DigitProductSteps.pm blib/lib/Math/NumSeq/DigitProductSteps.pm
cp lib/Math/NumSeq/DigitSum.pm blib/lib/Math/NumSeq/DigitSum.pm
cp lib/Math/NumSeq/DedekindPsiSteps.pm blib/lib/Math/NumSeq/DedekindPsiSteps.pm
cp lib/Math/NumSeq/AlgebraicContinued.pm blib/lib/Math/NumSeq/AlgebraicContinued.pm
cp lib/Math/NumSeq/DeletablePrimes.pm blib/lib/Math/NumSeq/DeletablePrimes.pm
cp lib/Math/NumSeq/DigitCount.pm blib/lib/Math/NumSeq/DigitCount.pm
cp lib/Math/NumSeq/Abundant.pm blib/lib/Math/NumSeq/Abundant.pm
cp lib/Math/NumSeq/DigitLengthCumulative.pm blib/lib/Math/NumSeq/DigitLengthCumulative.pm
cp lib/Math/NumSeq/Base/IteratePred.pm blib/lib/Math/NumSeq/Base/IteratePred.pm
cp lib/Math/NumSeq/DigitProduct.pm blib/lib/Math/NumSeq/DigitProduct.pm
cp lib/Math/NumSeq/DigitLength.pm blib/lib/Math/NumSeq/DigitLength.pm
cp lib/Math/NumSeq/ConcatNumbers.pm blib/lib/Math/NumSeq/ConcatNumbers.pm
cp lib/Math/NumSeq/AlmostPrimes.pm blib/lib/Math/NumSeq/AlmostPrimes.pm
cp lib/Math/NumSeq/AsciiSelf.pm blib/lib/Math/NumSeq/AsciiSelf.pm
cp lib/Math/NumSeq/DigitSumModulo.pm blib/lib/Math/NumSeq/DigitSumModulo.pm
cp lib/Math/NumSeq/All.pm blib/lib/Math/NumSeq/All.pm
cp lib/Math/NumSeq/Beastly.pm blib/lib/Math/NumSeq/Beastly.pm
cp lib/Math/NumSeq/DigitCountHigh.pm blib/lib/Math/NumSeq/DigitCountHigh.pm
cp lib/Math/NumSeq/Base/Digits.pm blib/lib/Math/NumSeq/Base/Digits.pm
cp lib/Math/NumSeq/AllPrimeFactors.pm blib/lib/Math/NumSeq/AllPrimeFactors.pm
cp lib/Math/NumSeq/HappyNumbers.pm blib/lib/Math/NumSeq/HappyNumbers.pm
cp lib/Math/NumSeq/MaxDigitCount.pm blib/lib/Math/NumSeq/MaxDigitCount.pm
cp lib/Math/NumSeq/FibbinaryBitCount.pm blib/lib/Math/NumSeq/FibbinaryBitCount.pm
cp lib/Math/NumSeq/LuckyNumbers.pm blib/lib/Math/NumSeq/LuckyNumbers.pm
cp lib/Math/NumSeq/LemoineCount.pm blib/lib/Math/NumSeq/LemoineCount.pm
cp lib/Math/NumSeq/Expression.pm blib/lib/Math/NumSeq/Expression.pm
cp lib/Math/NumSeq/HarshadNumbers.pm blib/lib/Math/NumSeq/HarshadNumbers.pm
cp lib/Math/NumSeq/GolombSequence.pm blib/lib/Math/NumSeq/GolombSequence.pm
cp lib/Math/NumSeq/GoldbachCount.pm blib/lib/Math/NumSeq/GoldbachCount.pm
cp lib/Math/NumSeq/ErdosSelfridgeClass.pm blib/lib/Math/NumSeq/ErdosSelfridgeClass.pm
cp lib/Math/NumSeq/HafermanCarpet.pm blib/lib/Math/NumSeq/HafermanCarpet.pm
cp lib/Math/NumSeq/GolayRudinShapiroCumulative.pm blib/lib/Math/NumSeq/GolayRudinShapiroCumulative.pm
cp lib/Math/NumSeq/Even.pm blib/lib/Math/NumSeq/Even.pm
cp lib/Math/NumSeq/FibonacciRepresentations.pm blib/lib/Math/NumSeq/FibonacciRepresentations.pm
cp lib/Math/NumSeq/DuffinianNumbers.pm blib/lib/Math/NumSeq/DuffinianNumbers.pm
cp lib/Math/NumSeq/FractionDigits.pm blib/lib/Math/NumSeq/FractionDigits.pm
cp lib/Math/NumSeq/File.pm blib/lib/Math/NumSeq/File.pm
cp lib/Math/NumSeq/MobiusFunction.pm blib/lib/Math/NumSeq/MobiusFunction.pm
cp lib/Math/NumSeq/GolayRudinShapiro.pm blib/lib/Math/NumSeq/GolayRudinShapiro.pm
cp lib/Math/NumSeq/KlarnerRado.pm blib/lib/Math/NumSeq/KlarnerRado.pm
cp lib/Math/NumSeq/FibonacciWord.pm blib/lib/Math/NumSeq/FibonacciWord.pm
cp lib/Math/NumSeq/HappySteps.pm blib/lib/Math/NumSeq/HappySteps.pm
cp lib/Math/NumSeq/Modulo.pm blib/lib/Math/NumSeq/Modulo.pm
cp lib/Math/NumSeq/MoranNumbers.pm blib/lib/Math/NumSeq/MoranNumbers.pm
cp lib/Math/NumSeq/Fibonacci.pm blib/lib/Math/NumSeq/Fibonacci.pm
cp lib/Math/NumSeq/LiouvilleFunction.pm blib/lib/Math/NumSeq/LiouvilleFunction.pm
cp lib/Math/NumSeq/Emirps.pm blib/lib/Math/NumSeq/Emirps.pm
cp lib/Math/NumSeq/MephistoWaltz.pm blib/lib/Math/NumSeq/MephistoWaltz.pm
cp lib/Math/NumSeq/LucasNumbers.pm blib/lib/Math/NumSeq/LucasNumbers.pm
cp lib/Math/NumSeq/Fibbinary.pm blib/lib/Math/NumSeq/Fibbinary.pm
cp lib/Math/NumSeq/HofstadterFigure.pm blib/lib/Math/NumSeq/HofstadterFigure.pm
cp lib/Math/NumSeq/Kolakoski.pm blib/lib/Math/NumSeq/Kolakoski.pm
cp lib/Math/NumSeq/JugglerSteps.pm blib/lib/Math/NumSeq/JugglerSteps.pm
cp lib/Math/NumSeq/Multiples.pm blib/lib/Math/NumSeq/Multiples.pm
cp lib/Math/NumSeq/Factorials.pm blib/lib/Math/NumSeq/Factorials.pm
cp lib/Math/NumSeq/Palindromes.pm blib/lib/Math/NumSeq/Palindromes.pm
cp lib/Math/NumSeq/Pronic.pm blib/lib/Math/NumSeq/Pronic.pm
cp lib/Math/NumSeq/PolignacObstinate.pm blib/lib/Math/NumSeq/PolignacObstinate.pm
cp lib/Math/NumSeq/OEIS/Catalogue/Plugin.pm blib/lib/Math/NumSeq/OEIS/Catalogue/Plugin.pm
cp lib/Math/NumSeq/Primes.pm blib/lib/Math/NumSeq/Primes.pm
cp lib/Math/NumSeq/Polygonal.pm blib/lib/Math/NumSeq/Polygonal.pm
cp lib/Math/NumSeq/Powerful.pm blib/lib/Math/NumSeq/Powerful.pm
cp lib/Math/NumSeq/PisanoPeriod.pm blib/lib/Math/NumSeq/PisanoPeriod.pm
cp lib/Math/NumSeq/NumAronson.pm blib/lib/Math/NumSeq/NumAronson.pm
cp lib/Math/NumSeq/PythagoreanHypots.pm blib/lib/Math/NumSeq/PythagoreanHypots.pm
cp lib/Math/NumSeq/Perrin.pm blib/lib/Math/NumSeq/Perrin.pm
cp lib/Math/NumSeq/Primorials.pm blib/lib/Math/NumSeq/Primorials.pm
cp lib/Math/NumSeq/OEIS/Catalogue/Plugin/ZZ_Files.pm blib/lib/Math/NumSeq/OEIS/Catalogue/Plugin/ZZ_Files.pm
cp lib/Math/NumSeq/RadixWithoutDigit.pm blib/lib/Math/NumSeq/RadixWithoutDigit.pm
cp lib/Math/NumSeq/OEIS.pm blib/lib/Math/NumSeq/OEIS.pm
cp lib/Math/NumSeq/ReRound.pm blib/lib/Math/NumSeq/ReRound.pm
cp lib/Math/NumSeq/PrimeFactorCount.pm blib/lib/Math/NumSeq/PrimeFactorCount.pm
cp lib/Math/NumSeq/ReReplace.pm blib/lib/Math/NumSeq/ReReplace.pm
cp lib/Math/NumSeq/PisanoPeriodSteps.pm blib/lib/Math/NumSeq/PisanoPeriodSteps.pm
cp lib/Math/NumSeq/OEIS/Catalogue.pm blib/lib/Math/NumSeq/OEIS/Catalogue.pm
cp lib/Math/NumSeq/Odd.pm blib/lib/Math/NumSeq/Odd.pm
cp lib/Math/NumSeq/PrimeIndexOrder.pm blib/lib/Math/NumSeq/PrimeIndexOrder.pm
cp lib/Math/NumSeq/PowerPart.pm blib/lib/Math/NumSeq/PowerPart.pm
cp lib/Math/NumSeq/RadixConversion.pm blib/lib/Math/NumSeq/RadixConversion.pm
cp lib/Math/NumSeq/Pell.pm blib/lib/Math/NumSeq/Pell.pm
cp lib/Math/NumSeq/Repdigits.pm blib/lib/Math/NumSeq/Repdigits.pm
cp lib/Math/NumSeq/RepdigitAny.pm blib/lib/Math/NumSeq/RepdigitAny.pm
cp lib/Math/NumSeq/ProthNumbers.pm blib/lib/Math/NumSeq/ProthNumbers.pm
cp lib/Math/NumSeq/OEIS/Catalogue/Plugin/FractionDigits.pm blib/lib/Math/NumSeq/OEIS/Catalogue/Plugin/FractionDigits.pm
cp lib/Math/NumSeq/PowerFlip.pm blib/lib/Math/NumSeq/PowerFlip.pm
cp lib/Math/NumSeq/OEIS/File.pm blib/lib/Math/NumSeq/OEIS/File.pm
cp lib/Math/NumSeq/RepdigitRadix.pm blib/lib/Math/NumSeq/RepdigitRadix.pm
cp lib/Math/NumSeq/OEIS/Catalogue/Plugin/BuiltinTable.pm blib/lib/Math/NumSeq/OEIS/Catalogue/Plugin/BuiltinTable.pm
cp lib/Math/NumSeq/PrimeIndexPrimes.pm blib/lib/Math/NumSeq/PrimeIndexPrimes.pm
cp lib/Math/NumSeq/TwinPrimes.pm blib/lib/Math/NumSeq/TwinPrimes.pm
cp lib/Math/NumSeq/StarNumbers.pm blib/lib/Math/NumSeq/StarNumbers.pm
cp lib/Math/NumSeq/SternDiatomic.pm blib/lib/Math/NumSeq/SternDiatomic.pm
cp lib/Math/NumSeq/ReverseAddSteps.pm blib/lib/Math/NumSeq/ReverseAddSteps.pm
cp lib/Math/NumSeq/Xenodromes.pm blib/lib/Math/NumSeq/Xenodromes.pm
cp lib/Math/NumSeq/SophieGermainPrimes.pm blib/lib/Math/NumSeq/SophieGermainPrimes.pm
cp lib/Math/NumSeq/Totient.pm blib/lib/Math/NumSeq/Totient.pm
cp lib/Math/NumSeq/Squares.pm blib/lib/Math/NumSeq/Squares.pm
cp lib/Math/NumSeq/UndulatingNumbers.pm blib/lib/Math/NumSeq/UndulatingNumbers.pm
cp lib/Math/NumSeq/SqrtDigits.pm blib/lib/Math/NumSeq/SqrtDigits.pm
cp lib/Math/NumSeq/Triangular.pm blib/lib/Math/NumSeq/Triangular.pm
cp lib/Math/NumSeq/Tetrahedral.pm blib/lib/Math/NumSeq/Tetrahedral.pm
cp lib/Math/NumSeq/ReverseAdd.pm blib/lib/Math/NumSeq/ReverseAdd.pm
cp lib/Math/NumSeq/TotientPerfect.pm blib/lib/Math/NumSeq/TotientPerfect.pm
cp lib/Math/NumSeq/SpiroFibonacci.pm blib/lib/Math/NumSeq/SpiroFibonacci.pm
cp lib/Math/NumSeq/SqrtEngel.pm blib/lib/Math/NumSeq/SqrtEngel.pm
cp lib/Math/NumSeq/Runs.pm blib/lib/Math/NumSeq/Runs.pm
cp lib/Math/NumSeq/SqrtContinuedPeriod.pm blib/lib/Math/NumSeq/SqrtContinuedPeriod.pm
cp lib/Math/NumSeq/SelfLengthCumulative.pm blib/lib/Math/NumSeq/SelfLengthCumulative.pm
cp lib/Math/NumSeq/WoodallNumbers.pm blib/lib/Math/NumSeq/WoodallNumbers.pm
cp lib/Math/NumSeq/UlamSequence.pm blib/lib/Math/NumSeq/UlamSequence.pm
cp lib/Math/NumSeq/SqrtContinued.pm blib/lib/Math/NumSeq/SqrtContinued.pm
cp lib/Math/NumSeq/TotientSteps.pm blib/lib/Math/NumSeq/TotientSteps.pm
cp lib/Math/NumSeq/TotientCumulative.pm blib/lib/Math/NumSeq/TotientCumulative.pm
cp lib/Math/NumSeq/TotientStepsSum.pm blib/lib/Math/NumSeq/TotientStepsSum.pm
cp lib/Math/NumSeq/Tribonacci.pm blib/lib/Math/NumSeq/Tribonacci.pm
Manifying 31 pod documents
Manifying 30 pod documents
Manifying 31 pod documents
Manifying 30 pod documents
PERL_DL_NONLAZY=1 "/home/liveapp/.plenv/versions/5.37.1/bin/perl5.37.1" "-MExtUtils::Command::MM" "-MTest::Harness" "-e" "undef *Test::Harness::Switches; test_harness(0, 'blib/lib', 'blib/arch')" t/*.t
t/Abundant.t ..................... ok
t/All.t .......................... ok
t/AsciiSelf.t .................... ok
t/BalancedBinary.t ............... ok
# Math::BigInt version 1.999830
t/bigint-preload.t ............... ok
t/Catalan.t ...................... ok
# uv_bits is 64
t/CollatzSteps.t ................. ok
# cbrt(27) is 3
# int() is 3
# equal is ''
t/Cubes.t ........................ ok
t/DeletablePrimes.t .............. ok
t/DigitProduct.t ................. ok
t/DivisorCount.t ................. ok
t/Emirps.t ....................... ok
t/ErdosSelfridgeClass.t .......... ok
t/Even.t ......................... ok
t/Expression.t ................... ok
t/Factorials.t ................... ok
# big_calc 1968465517034375322200706745147694433505589739315889588670778928134523203878912
# big_conv 1968465517034375322200706745147694433505589739315889588670778928134523203878912
# nv is 1.96846551703438e+78
# ~0 is 18446744073709551615
# sprintf is 1968465517034375322200706745147694433505589739315889588670778928134523203878912
# _to_bigint(nv) is 1968465517034375322200706745147694433505589739315889588670778928134523203878912
# big & (big>>1) is 0
t/Fibbinary.t .................... ok
t/Fibonacci.t .................... ok
t/FibonacciRepresentations.t ..... ok
t/FibonacciWord.t ................ ok
t/File.t ......................... ok
t/FractionDigits-Catalogue.t ..... ok
# Math::BigInt version 1.999830
t/FractionDigits.t ............... ok
t/GolayRudinShapiroCumulative.t .. ok
t/GolombSequence.t ............... ok
t/HafermanCarpet.t ............... ok
# max_diff=530
t/HofstadterFigure.t ............. ok
t/LucasNumbers.t ................. ok
t/LuckyNumbers.t ................. ok
t/MephistoWaltz.t ................ ok
t/MobiusFunction.t ............... ok
t/Multiples.t .................... ok
t/NumSeq.t ....................... ok
t/Odd.t .......................... ok
t/OEIS-File.t .................... ok
t/OEIS.t ......................... ok
t/Pell.t ......................... ok
t/Perrin.t ....................... ok
t/PolignacObstinate.t ............ ok
t/PowerFlip.t .................... ok
t/Powerful.t ..................... ok
t/PrimeFactorsCount.t ............ ok
t/Primes.t ....................... ok
t/Pronic.t ....................... ok
t/ProthNumbers.t ................. ok
t/RepdigitAny.t .................. ok
t/RepdigitRadix.t ................ ok
t/Repdigits.t .................... ok
t/ReRound.t ...................... ok
# n type: Math::BigInt
# str : 3377699871522813
# n str : 3377699871522813
# BigInt can(as_bin): CODE(0x560ac712a860)
# n as_bin(): 0b1100000000000000000000001000111111111111111111111101
# BigInt can(from_bin): CODE(0x560ac6f63ef0)
t/ReverseAdd.t ................... ok
t/Runs.t ......................... ok
t/SophieGermainPrimes.t .......... ok
t/SqrtContinued.t ................ ok
# Math::BigInt version 1.999830
t/SqrtDigits.t ................... ok
t/SqrtEngel.t .................... ok
t/Squares.t ...................... ok
t/Tetraheral.t ................... ok
t/Totient.t ...................... ok
t/TotientCumulative.t ............ ok
t/Triangular.t ................... ok
t/Tribonacci.t ................... ok
t/TwinPrimes.t ................... ok
t/UndulatingNumbers.t ............ ok
t/WoodallNumbers.t ............... ok
All tests successful.
Files=64, Tests=12297, 8 wallclock secs ( 0.59 usr 0.12 sys + 6.43 cusr 0.57 csys = 7.71 CPU)
Result: PASS
------------------------------
PREREQUISITES
------------------------------
Prerequisite modules loaded:
No requirements found
------------------------------
ENVIRONMENT AND OTHER CONTEXT
------------------------------
Environment variables:
LANG = C.UTF-8
PATH = /home/liveapp/.plenv/versions/5.37.1/bin:/home/liveapp/.plenv/libexec:/home/liveapp/.plenv/plugins/perl-build/bin:/home/liveapp/cpantesters.new/5.37.1/local/bin:/home/liveapp/.plenv/shims:/home/liveapp/.plenv/bin:/usr/local/sbin:/usr/local/bin:/usr/sbin:/usr/bin:/sbin:/bin:/usr/games:/usr/local/games:/snap/bin
PERL5LIB = /home/liveapp/cpantesters.new/5.37.1/local/lib/perl5
SHELL = /bin/bash
TERM = xterm-256color
Perl special variables (and OS-specific diagnostics, for MSWin32):
EGID = 1001 27 1001
EUID = 1001
EXECUTABLE_NAME = /home/liveapp/.plenv/versions/5.37.1/bin/perl5.37.1
GID = 1001 27 1001
UID = 1001
Perl module toolchain versions installed:
Module Have
------------------- --------
CPAN 2.33
CPAN::Meta 2.150010
Cwd 3.85
ExtUtils::CBuilder 0.280237
ExtUtils::Command 7.64
ExtUtils::Install 2.20
ExtUtils::MakeMaker 7.64
ExtUtils::Manifest 1.73
ExtUtils::ParseXS 3.45
File::Spec 3.85
JSON 4.07
JSON::PP 4.10
Module::Build 0.4231
Module::Signature n/a
Parse::CPAN::Meta 2.150010
Test::Harness 3.44
Test::More 1.302190
YAML 1.30
YAML::Syck 1.34
version 0.9929
--
Summary of my perl5 (revision 5 version 37 subversion 1) configuration:
Platform:
osname=linux
osvers=5.4.0-91-generic
archname=x86_64-linux
uname='linux supremeadmin 5.4.0-91-generic #102-ubuntu smp fri nov 5 16:31:28 utc 2021 x86_64 x86_64 x86_64 gnulinux '
config_args='-Dprefix=/home/liveapp/.plenv/versions/5.37.1 -de -Dversiononly -Dusedevel -A'eval:scriptdir=/home/liveapp/.plenv/versions/5.37.1/bin''
hint=recommended
useposix=true
d_sigaction=define
useithreads=undef
usemultiplicity=undef
use64bitint=define
use64bitall=define
uselongdouble=undef
usemymalloc=n
default_inc_excludes_dot=define
Compiler:
cc='cc'
ccflags ='-fwrapv -fno-strict-aliasing -pipe -fstack-protector-strong -I/usr/local/include -D_LARGEFILE_SOURCE -D_FILE_OFFSET_BITS=64'
optimize='-O2'
cppflags='-fwrapv -fno-strict-aliasing -pipe -fstack-protector-strong -I/usr/local/include'
ccversion=''
gccversion='9.4.0'
gccosandvers=''
intsize=4
longsize=8
ptrsize=8
doublesize=8
byteorder=12345678
doublekind=3
d_longlong=define
longlongsize=8
d_longdbl=define
longdblsize=16
longdblkind=3
ivtype='long'
ivsize=8
nvtype='double'
nvsize=8
Off_t='off_t'
lseeksize=8
alignbytes=8
prototype=define
Linker and Libraries:
ld='cc'
ldflags =' -fstack-protector-strong -L/usr/local/lib'
libpth=/usr/local/lib /usr/lib/x86_64-linux-gnu /usr/lib /lib/x86_64-linux-gnu /lib
libs=-lpthread -lnsl -ldl -lm -lcrypt -lutil -lc
perllibs=-lpthread -lnsl -ldl -lm -lcrypt -lutil -lc
libc=libc-2.31.so
so=so
useshrplib=false
libperl=libperl.a
gnulibc_version='2.31'
Dynamic Linking:
dlsrc=dl_dlopen.xs
dlext=so
d_dlsymun=undef
ccdlflags='-Wl,-E'
cccdlflags='-fPIC'
lddlflags='-shared -O2 -L/usr/local/lib -fstack-protector-strong'
Characteristics of this binary (from libperl):
Compile-time options:
HAS_TIMES
PERLIO_LAYERS
PERL_COPY_ON_WRITE
PERL_DONT_CREATE_GVSV
PERL_MALLOC_WRAP
PERL_OP_PARENT
PERL_PRESERVE_IVUV
PERL_USE_DEVEL
PERL_USE_SAFE_PUTENV
USE_64_BIT_ALL
USE_64_BIT_INT
USE_LARGE_FILES
USE_LOCALE
USE_LOCALE_COLLATE
USE_LOCALE_CTYPE
USE_LOCALE_NUMERIC
USE_LOCALE_TIME
USE_PERLIO
USE_PERL_ATOF
Built under linux
Compiled at Jul 20 2022 21:43:25
%ENV:
PERL5LIB="/home/liveapp/cpantesters.new/5.37.1/local/lib/perl5"
@INC:
/home/liveapp/cpantesters.new/5.37.1/local/lib/perl5
/home/liveapp/.plenv/versions/5.37.1/lib/perl5/site_perl/5.37.1/x86_64-linux
/home/liveapp/.plenv/versions/5.37.1/lib/perl5/site_perl/5.37.1
/home/liveapp/.plenv/versions/5.37.1/lib/perl5/5.37.1/x86_64-linux
/home/liveapp/.plenv/versions/5.37.1/lib/perl5/5.37.1