Search-Elasticsearch-Client-2_0-Async v7.30_1 Perl 5 v5.16.1 x86_64-linux

Status
Pass
From
Chris Williams (BINGOS)
Dist
Search-Elasticsearch-Client-2_0-Async v7.30_1
Platform
Perl 5 v5.16.1 x86_64-linux
Date
2020-08-09T07:57:26
ID
f7743988-da15-11ea-b3a5-abe2e1c4f0ab
This distribution has been tested as part of the CPAN Testers
project, supporting the Perl programming language.  See
http://wiki.cpantesters.org/ for more information or email
questions to cpan-testers-discuss@perl.org


--

Dear EZIMUEL,

This is a computer-generated error report created automatically by
CPANPLUS, version 0.9908. Testers personal comments may appear
at the end of this report.


Thank you for uploading your work to CPAN.  Congratulations!
All tests were successful.

TEST RESULTS:

Below is the error stack from stage 'make test':

PERL_DL_NONLAZY=1 "/home/cpan/pit/bare/perl-5.16.1/bin/perl" "-MExtUtils::Command::MM" "-MTest::Harness" "-e" "undef *Test::Harness::Switches; test_harness(0, 'blib/lib', 'blib/arch')" t/*.t t/Client_2_0_Async/*.t
t/author-eol.t ........................... skipped: these tests are for testing by the author
t/author-no-tabs.t ....................... skipped: these tests are for testing by the author
t/author-pod-syntax.t .................... skipped: these tests are for testing by the author
t/Client_2_0_Async/00_print_version.t .... skipped: No $ENV{CLIENT_VER} specified
t/Client_2_0_Async/10_live.t ............. skipped: No $ENV{CLIENT_VER} specified
t/Client_2_0_Async/15_conflict.t ......... skipped: No $ENV{CLIENT_VER} specified
t/Client_2_0_Async/20_fork_aehttp.t ...... skipped: No $ENV{CLIENT_VER} specified
t/Client_2_0_Async/21_fork_mojo.t ........ skipped: No $ENV{CLIENT_VER} specified
t/Client_2_0_Async/30_bulk_add_action.t .. skipped: No $ENV{CLIENT_VER} specified
t/Client_2_0_Async/31_bulk_helpers.t ..... skipped: No $ENV{CLIENT_VER} specified
t/Client_2_0_Async/32_bulk_flush.t ....... skipped: No $ENV{CLIENT_VER} specified
t/Client_2_0_Async/33_bulk_errors.t ...... skipped: No $ENV{CLIENT_VER} specified
t/Client_2_0_Async/34_bulk_cxn_errors.t .. skipped: No $ENV{CLIENT_VER} specified
t/Client_2_0_Async/40_scroll.t ........... skipped: No $ENV{CLIENT_VER} specified
t/Client_2_0_Async/50_reindex.t .......... skipped: No $ENV{CLIENT_VER} specified
t/Client_2_0_Async/60_auth_aehttp.t ...... skipped: AEHTTP - No https server specified in ES_SSL
t/Client_2_0_Async/61_auth_mojo.t ........ skipped: Mojo - No https server specified in ES_SSL
Files=17, Tests=0,  1 wallclock secs ( 0.03 usr  0.01 sys +  0.85 cusr  0.11 csys =  1.00 CPU)
Result: NOTESTS


PREREQUISITES:

Here is a list of prerequisites you specified and versions we
managed to load:

	  Module Name                        Have     Want
	  AE                                    0        0
	  Data::Dumper                   2.135_06        0
	  EV                                 4.33        0
	  ExtUtils::MakeMaker                7.46        0
	  Log::Any::Adapter                 1.708        0
	  Log::Any::Adapter::Callback       0.101     0.09
	  Mojo::UserAgent                       0        0
	  Moo                            2.004000        0
	  POSIX                              1.30        0
	  Promises                           1.04        0
	  Scalar::Util                       1.55        0
	  Search::Elasticsearch              6.81        0
	  Search::Elasticsearch::Async       6.81        0
	  Search::Elasticsearch::Async::Util     6.81        0
	! Search::Elasticsearch::Client::2_0     6.81     7.00
	  Search::Elasticsearch::Client::2_0::Role::Bulk     6.81        0
	  Search::Elasticsearch::Client::2_0::Role::Scroll     6.81        0
	  Search::Elasticsearch::Role::Cxn     6.81        0
	  Search::Elasticsearch::Role::Cxn::Async     6.81        0
	  Search::Elasticsearch::Role::Is_Async     6.81        0
	  Search::Elasticsearch::Transport::Async     6.81        0
	  Search::Elasticsearch::Util        6.81        0
	  Sub::Exporter                     0.987        0
	  Test::Deep                        1.130        0
	  Test::Exception                    0.43        0
	  Test::More                     1.302175     0.98
	  Try::Tiny                          0.30        0
	  lib                                0.63        0
	  namespace::clean                   0.27        0
	  strict                             1.07        0
	  warnings                           1.13        0

Perl module toolchain versions installed:
	Module Name                        Have
	CPANPLUS                         0.9908
	CPANPLUS::Dist::Build              0.90
	Cwd                                3.75
	ExtUtils::CBuilder             0.280234
	ExtUtils::Command                  7.46
	ExtUtils::Install                  2.16
	ExtUtils::MakeMaker                7.46
	ExtUtils::Manifest                 1.72
	ExtUtils::ParseXS                  3.35
	File::Spec                         3.75
	Module::Build                    0.4231
	Pod::Parser                        1.51
	Pod::Simple                        3.20
	Test2                          1.302175
	Test::Harness                      3.42
	Test::More                     1.302175
	version                          0.9924

******************************** NOTE ********************************
The comments above are created mechanically, possibly without manual
checking by the sender.  As there are many people performing automatic
tests on each upload to CPAN, it is likely that you will receive
identical messages about the same problem.

If you believe that the message is mistaken, please reply to the first
one with correction and/or additional informations, and do not take
it personally.  We appreciate your patience. :)
**********************************************************************

Additional comments:


This report was machine-generated by CPANPLUS::Dist::YACSmoke 1.08.
Powered by minismokebox version 0.68

CPANPLUS is prefering Build.PL

------------------------------
ENVIRONMENT AND OTHER CONTEXT
------------------------------

Environment variables:

    AUTOMATED_TESTING = 1
    LANG = C.UTF-8
    LC_COLLATE = C
    NONINTERACTIVE_TESTING = 1
    PATH = /usr/local/sbin:/usr/local/bin:/usr/sbin:/usr/bin:/sbin:/bin
    PERL5LIB = /home/cpan/pit/jail/aIAYFyuoSD/lib/perl5:/home/cpan/pit/bare/conf/perl-5.16.1/.cpanplus/5.16.1/build/xcDoCMxJ4T/Search-Elasticsearch-Client-2_0-Async-7.30_1/blib/lib:/home/cpan/pit/bare/conf/perl-5.16.1/.cpanplus/5.16.1/build/xcDoCMxJ4T/Search-Elasticsearch-Client-2_0-Async-7.30_1/blib/arch
    PERL5_CPANPLUS_IS_RUNNING = 17702
    PERL5_CPANPLUS_IS_VERSION = 0.9908
    PERL5_MINISMOKEBOX = 0.68
    PERL5_YACSMOKE_BASE = /home/cpan/pit/bare/conf/perl-5.16.1
    PERL_EXTUTILS_AUTOINSTALL = --defaultdeps
    PERL_LOCAL_LIB_ROOT = /home/cpan/pit/jail/aIAYFyuoSD
    PERL_MB_OPT = --install_base "/home/cpan/pit/jail/aIAYFyuoSD"
    PERL_MM_OPT = INSTALL_BASE=/home/cpan/pit/jail/aIAYFyuoSD
    PERL_MM_USE_DEFAULT = 1
    SHELL = /bin/bash
    TERM = screen

Perl special variables (and OS-specific diagnostics, for MSWin32):

    Perl: $^X = /home/cpan/pit/bare/perl-5.16.1/bin/perl
    UID:  $<  = 1001
    EUID: $>  = 1001
    GID:  $(  = 1001 1001
    EGID: $)  = 1001 1001


-------------------------------


--

Summary of my perl5 (revision 5 version 16 subversion 1) configuration:
   
  Platform:
    osname=linux, osvers=5.4.12-1-lts, archname=x86_64-linux
    uname='linux august 5.4.12-1-lts #2-alpine smp thu, 16 jan 2020 12:53:54 utc x86_64 linux '
    config_args='-des -Dprefix=/home/cpan/pit/bare/perl-5.16.1'
    hint=recommended, useposix=true, d_sigaction=define
    useithreads=undef, usemultiplicity=undef
    useperlio=define, d_sfio=undef, uselargefiles=define, usesocks=undef
    use64bitint=define, use64bitall=define, uselongdouble=undef
    usemymalloc=n, bincompat5005=undef
  Compiler:
    cc='cc', ccflags ='-D_GNU_SOURCE -fwrapv -fno-strict-aliasing -pipe -fstack-protector -D_LARGEFILE_SOURCE -D_FILE_OFFSET_BITS=64',
    optimize='-O2',
    cppflags='-D_GNU_SOURCE -fwrapv -fno-strict-aliasing -pipe -fstack-protector'
    ccversion='', gccversion='9.2.0', gccosandvers=''
    intsize=4, longsize=8, ptrsize=8, doublesize=8, byteorder=12345678
    d_longlong=define, longlongsize=8, d_longdbl=define, longdblsize=16
    ivtype='long', ivsize=8, nvtype='double', nvsize=8, Off_t='off_t', lseeksize=8
    alignbytes=8, prototype=define
  Linker and Libraries:
    ld='cc', ldflags =' -fstack-protector -L/usr/local/lib'
    libpth=/usr/local/lib /lib/../lib /usr/lib/../lib /lib /usr/lib
    libs=-lgdbm -ldl -lm -lcrypt -lutil -lc -lgdbm_compat
    perllibs=-ldl -lm -lcrypt -lutil -lc
    libc=/usr/lib/libc.a, so=so, useshrplib=false, libperl=libperl.a
    gnulibc_version=''
  Dynamic Linking:
    dlsrc=dl_dlopen.xs, dlext=so, d_dlsymun=undef, ccdlflags='-Wl,-E'
    cccdlflags='-fPIC', lddlflags='-shared -O2 -L/usr/local/lib -fstack-protector'


Characteristics of this binary (from libperl): 
  Compile-time options: HAS_TIMES PERLIO_LAYERS PERL_DONT_CREATE_GVSV
                        PERL_MALLOC_WRAP PERL_PRESERVE_IVUV USE_64_BIT_ALL
                        USE_64_BIT_INT USE_LARGE_FILES USE_LOCALE
                        USE_LOCALE_COLLATE USE_LOCALE_CTYPE
                        USE_LOCALE_NUMERIC USE_PERLIO USE_PERL_ATOF
  Locally applied patches:
	Devel::PatchPerl 1.82
  Built under linux
  Compiled at Jan 28 2020 21:13:09
  %ENV:
    PERL5LIB="/home/cpan/pit/jail/aIAYFyuoSD/lib/perl5:/home/cpan/pit/bare/conf/perl-5.16.1/.cpanplus/5.16.1/build/xcDoCMxJ4T/Search-Elasticsearch-Client-2_0-Async-7.30_1/blib/lib:/home/cpan/pit/bare/conf/perl-5.16.1/.cpanplus/5.16.1/build/xcDoCMxJ4T/Search-Elasticsearch-Client-2_0-Async-7.30_1/blib/arch"
    PERL5_CPANPLUS_IS_RUNNING="17702"
    PERL5_CPANPLUS_IS_VERSION="0.9908"
    PERL5_MINISMOKEBOX="0.68"
    PERL5_YACSMOKE_BASE="/home/cpan/pit/bare/conf/perl-5.16.1"
    PERL_EXTUTILS_AUTOINSTALL="--defaultdeps"
    PERL_LOCAL_LIB_ROOT="/home/cpan/pit/jail/aIAYFyuoSD"
    PERL_MB_OPT="--install_base "/home/cpan/pit/jail/aIAYFyuoSD""
    PERL_MM_OPT="INSTALL_BASE=/home/cpan/pit/jail/aIAYFyuoSD"
    PERL_MM_USE_DEFAULT="1"
  @INC:
    /home/cpan/pit/jail/aIAYFyuoSD/lib/perl5/5.16.1/x86_64-linux
    /home/cpan/pit/jail/aIAYFyuoSD/lib/perl5/5.16.1
    /home/cpan/pit/jail/aIAYFyuoSD/lib/perl5/x86_64-linux
    /home/cpan/pit/jail/aIAYFyuoSD/lib/perl5
    /home/cpan/pit/bare/conf/perl-5.16.1/.cpanplus/5.16.1/build/xcDoCMxJ4T/Search-Elasticsearch-Client-2_0-Async-7.30_1/blib/lib
    /home/cpan/pit/bare/conf/perl-5.16.1/.cpanplus/5.16.1/build/xcDoCMxJ4T/Search-Elasticsearch-Client-2_0-Async-7.30_1/blib/arch
    /home/cpan/pit/bare/perl-5.16.1/lib/site_perl/5.16.1/x86_64-linux
    /home/cpan/pit/bare/perl-5.16.1/lib/site_perl/5.16.1
    /home/cpan/pit/bare/perl-5.16.1/lib/5.16.1/x86_64-linux
    /home/cpan/pit/bare/perl-5.16.1/lib/5.16.1
    .