Rose-DB-Object v0.815 Perl 5 v5.24.4 x86_64-linux-thread-multi
- Status
- Pass
- From
- Slaven Rezić (SREZIC)
- Dist
-
Rose-DB-Object v0.815
- Platform
- Perl 5 v5.24.4 x86_64-linux-thread-multi
- Date
- 2019-05-20 06:53:25
- ID
- f70e4aba-7acb-11e9-a8a7-96231f24ea8f
This distribution has been tested as part of the CPAN Testers
project, supporting the Perl programming language. See
http://wiki.cpantesters.org/ for more information or email
questions to cpan-testers-discuss@perl.org
--
Dear John Siracusa,
This is a computer-generated report for Rose-DB-Object-0.815
on perl 5.24.4, created by CPAN-Reporter-1.2018.
Thank you for uploading your work to CPAN. Congratulations!
All tests were successful.
Sections of this report:
* Tester comments
* Program output
* Prerequisites
* Environment and other context
------------------------------
TESTER COMMENTS
------------------------------
Additional comments from tester:
none provided
------------------------------
PROGRAM OUTPUT
------------------------------
Output from '/usr/bin/make test':
PERL_DL_NONLAZY=1 "/opt/perl-5.24.4t/bin/perl" "-MExtUtils::Command::MM" "-MTest::Harness" "-e" "undef *Test::Harness::Switches; test_harness(0, 'blib/lib', 'blib/arch')" t/*.t
##
## DBI 1.642
## DBD::Pg 3.8.0
## DBD::mysql 4.048
## DBD::SQLite 1.62
## JSON 4.02
##
## WARNING: Almost all the tests in this module distribution need to connect
## to a database in order to run. The tests need full privileges on this
## database: the ability to create and drop tables, insert, update, and delete
## rows, create schemas, sequences, functions, triggers, the works.
##
## By default, the tests will try to connect to the database named "test"
## running on "localhost" using the default superuser username for each
## database type and an empty password.
##
## If you have setup your database in a secure manner, these connection
## attempts will fail, and the tests will be skipped. If you want to override
## these values, set the following environment variables before running tests.
## (The current values are shown in parentheses.)
##
## PostgreSQL:
##
## RDBO_PG_DSN (dbi:Pg:dbname=test;host=localhost)
## RDBO_PG_USER (postgres)
## RDBO_PG_PASS (<none>)
##
## MySQL:
##
## RDBO_MYSQL_DSN (dbi:mysql:database=test;host=localhost)
## RDBO_MYSQL_USER (root)
## RDBO_MYSQL_PASS (<none>)
##
## Oracle:
##
## RDBO_ORACLE_DSN (dbi:Oracle:dbname=test)
## RDBO_ORACLE_USER (<none>)
## RDBO_ORACLE_PASS (<none>)
##
## Informix:
##
## RDBO_INFORMIX_DSN (dbi:Informix:test@test)
## RDBO_INFORMIX_USER (<none>)
## RDBO_INFORMIX_PASS (<none>)
##
## SQLite: To disable the SQLite tests, set this environment varible
##
## RDBO_NO_SQLITE (<undef>)
##
## Press return to continue (or wait 60 seconds)
t/00-warning.t ..................... ok
t/as-tree.t ........................ ok
t/auto-setup.t ..................... ok
t/bind-param.t ..................... ok
t/column-triggers.t ................ ok
t/column-values.t .................. ok
t/db-migration.t ................... ok
t/db-object-auto.t ................. ok
t/db-object-cached.t ............... ok
t/db-object-changes-only-1.t ....... ok
t/db-object-changes-only-2.t ....... ok
t/db-object-convention.t ........... ok
t/db-object-foreign-key-auto.t ..... ok
t/db-object-foreign-key.t .......... ok
t/db-object-helpers.t .............. ok
t/db-object-loader-2.t ............. ok
t/db-object-loader-3.t ............. ok
t/db-object-loader-4.t ............. ok
t/db-object-loader-5.t ............. ok
t/db-object-loader-6.t ............. ok
t/db-object-loader-7.t ............. ok
t/db-object-loader-8.t ............. ok
t/db-object-loader-9.t ............. ok
t/db-object-loader.t ............... ok
t/db-object-manager-bulk-ops.t ..... ok
t/db-object-manager.t .............. ok
t/db-object-mapper.t ............... ok
t/db-object-metadata.t ............. ok
t/db-object-relationship-auto-2.t .. ok
t/db-object-relationship-auto.t .... ok
t/db-object-relationship.t ......... ok
t/db-object-std-cached.t ........... ok
t/db-object-std.t .................. ok
t/db-object.t ...................... ok
t/deep-joins.t ..................... ok
t/inheritance.t .................... ok
t/lazy-columns.t ................... ok
t/leaks.t .......................... ok
t/make-modules.t ................... ok
t/makemethods-db.t ................. ok
t/makemethods.t .................... ok
t/multi-many-the-hard-way.t ........ ok
t/multi-pk-sequences.t ............. ok
t/nested-joins.t ................... ok
t/one-to-many-reset.t .............. ok
t/pk-fk-columns.t .................. ok
t/pod.t ............................ ok
t/query-builder.t .................. ok
t/rt-cpan-45836.t .................. ok
t/save-cascade.t ................... ok
t/schema-override.t ................ ok
t/spot-check-01.t .................. ok
t/spot-check-02.t .................. ok
t/spot-check-03.t .................. ok
t/spot-check-04.t .................. ok
t/spot-check-05.t .................. ok
t/spot-check-06.t .................. ok
t/spot-check-07.t .................. ok
t/spot-check-08.t .................. ok
t/spot-check-09.t .................. ok
t/spot-check-10.t .................. ok
t/spot-check-11.t .................. ok
t/spot-check-12.t .................. ok
t/spot-check-13.t .................. ok
t/spot-check-14.t .................. ok
t/undef-overrides-default.t ........ ok
t/unique-key-prefs.t ............... ok
All tests successful.
Files=67, Tests=15335, 61 wallclock secs ( 1.32 usr 0.70 sys + 36.90 cusr 5.00 csys = 43.92 CPU)
Result: PASS
------------------------------
PREREQUISITES
------------------------------
Prerequisite modules loaded:
requires:
Module Need Have
-------------------- -------- --------
Bit::Vector 0 7.4
Clone 0.29 0.41
Cwd 0 3.75
Data::Dumper 2.121 2.173
DateTime 0 1.50
DBI 1.40 1.642
File::Path 0 2.15
File::Spec 0 3.75
List::MoreUtils 0 0.428
Math::BigInt 1.77 1.999816
perl 5.006000 5.024004
Rose::DateTime::Util 0.532 0.540
Rose::DB 0.763 0.778
Rose::Object 0.854 0.860
Scalar::Util 0 1.50
Test::More 0 1.302164
Time::Clock 1.00 1.03
build_requires:
Module Need Have
-------------------- -------- --------
ExtUtils::MakeMaker 0 7.36
configure_requires:
Module Need Have
-------------------- -------- --------
ExtUtils::MakeMaker 0 7.36
------------------------------
ENVIRONMENT AND OTHER CONTEXT
------------------------------
Environment variables:
LANG = C
LC_ALL = de_DE.UTF-8
PATH = /usr/local/bin:/usr/bin:/bin:/usr/local/sbin:/usr/sbin:/sbin:/home/cpansand/bin/linux-gnu:/home/cpansand/bin/sh:/home/cpansand/bin:/usr/games:/home/cpansand/devel:/home/eserte/src/srezic-misc/scripts
PERL5LIB = /home/cpansand/.cpan/build/2019052006/Rose-DB-0.778-4/blib/arch:/home/cpansand/.cpan/build/2019052006/Rose-DB-0.778-4/blib/lib:/home/cpansand/.cpan/build/2019052006/Time-Clock-1.03-4/blib/arch:/home/cpansand/.cpan/build/2019052006/Time-Clock-1.03-4/blib/lib:/home/cpansand/.cpan/build/2019052006/SQL-ReservedWords-0.8-4/blib/arch:/home/cpansand/.cpan/build/2019052006/SQL-ReservedWords-0.8-4/blib/lib:/home/cpansand/.cpan/build/2019052006/Rose-DateTime-0.540-4/blib/arch:/home/cpansand/.cpan/build/2019052006/Rose-DateTime-0.540-4/blib/lib:/home/cpansand/.cpan/build/2019052006/Rose-Object-0.860-4/blib/arch:/home/cpansand/.cpan/build/2019052006/Rose-Object-0.860-4/blib/lib:/home/cpansand/.cpan/build/2019052006/DateTime-Format-Oracle-0.06-4/blib/arch:/home/cpansand/.cpan/build/2019052006/DateTime-Format-Oracle-0.06-4/blib/lib:/home/cpansand/.cpan/build/2019052006/Convert-NLS_DATE_FORMAT-0.06-4/blib/arch:/home/cpansand/.cpan/build/2019052006/Convert-NLS_DATE_FORMAT-0.06-4/blib/lib
PERL5OPT =
PERL5_CPANPLUS_IS_RUNNING = 23286
PERL5_CPAN_IS_RUNNING = 23286
PERL5_CPAN_IS_RUNNING_IN_RECURSION = 13961,23286
PERLDOC = -MPod::Perldoc::ToTextOverstrike
PERL_BATCH = yes
PERL_CANARY_STABILITY_NOPROMPT = 1
PERL_CPAN_REPORTER_CONFIG = /var/tmp/cpansmoker-1023/2019052006/cpanreporter_001_config.ini
PERL_EXTUTILS_AUTOINSTALL = --defaultdeps
PERL_MM_USE_DEFAULT = 1
PERL_USE_UNSAFE_INC = 1
SHELL = /usr/bin/zsh
TERM = screen
TMPDIR = /var/tmp/cpansmoker-1023/2019052006
Perl special variables (and OS-specific diagnostics, for MSWin32):
$^X = /opt/perl-5.24.4t/bin/perl
$UID/$EUID = 1023 / 1023
$GID = 1023 1023
$EGID = 1023 1023
Perl module toolchain versions installed:
Module Have
------------------- --------
CPAN 2.26
CPAN::Meta 2.150010
Cwd 3.75
ExtUtils::CBuilder 0.280231
ExtUtils::Command 7.36
ExtUtils::Install 2.14
ExtUtils::MakeMaker 7.36
ExtUtils::Manifest 1.72
ExtUtils::ParseXS 3.35
File::Spec 3.75
JSON 4.02
JSON::PP 4.02
Module::Build 0.4229
Module::Signature 0.83
Parse::CPAN::Meta 2.150010
Test::Harness 3.42
Test::More 1.302164
YAML 1.28
YAML::Syck 1.31
version 0.9924
--
Summary of my perl5 (revision 5 version 24 subversion 4) configuration:
Platform:
osname=linux, osvers=3.16.0-5-amd64, archname=x86_64-linux-thread-multi
uname='linux debian8 3.16.0-5-amd64 #1 smp debian 3.16.51-3+deb8u1 (2018-01-08) x86_64 gnulinux '
config_args='-ds -e -Dprefix=/opt/perl-5.24.4t -Dusethreads -Dcf_email=srezic@cpan.org'
hint=recommended, useposix=true, d_sigaction=define
useithreads=define, usemultiplicity=define
use64bitint=define, use64bitall=define, uselongdouble=undef
usemymalloc=n, bincompat5005=undef
Compiler:
cc='cc', ccflags ='-D_REENTRANT -D_GNU_SOURCE -fwrapv -fno-strict-aliasing -pipe -fstack-protector-strong -I/usr/local/include -D_LARGEFILE_SOURCE -D_FILE_OFFSET_BITS=64 -D_FORTIFY_SOURCE=2',
optimize='-O2',
cppflags='-D_REENTRANT -D_GNU_SOURCE -fwrapv -fno-strict-aliasing -pipe -fstack-protector-strong -I/usr/local/include'
ccversion='', gccversion='4.9.2', gccosandvers=''
intsize=4, longsize=8, ptrsize=8, doublesize=8, byteorder=12345678, doublekind=3
d_longlong=define, longlongsize=8, d_longdbl=define, longdblsize=16, longdblkind=3
ivtype='long', ivsize=8, nvtype='double', nvsize=8, Off_t='off_t', lseeksize=8
alignbytes=8, prototype=define
Linker and Libraries:
ld='cc', ldflags =' -fstack-protector-strong -L/usr/local/lib'
libpth=/usr/local/lib /usr/lib/gcc/x86_64-linux-gnu/4.9/include-fixed /usr/include/x86_64-linux-gnu /usr/lib /lib/x86_64-linux-gnu /lib/../lib /usr/lib/x86_64-linux-gnu /usr/lib/../lib /lib
libs=-lpthread -lnsl -lgdbm -ldb -ldl -lm -lcrypt -lutil -lc -lgdbm_compat
perllibs=-lpthread -lnsl -ldl -lm -lcrypt -lutil -lc
libc=libc-2.19.so, so=so, useshrplib=false, libperl=libperl.a
gnulibc_version='2.19'
Dynamic Linking:
dlsrc=dl_dlopen.xs, dlext=so, d_dlsymun=undef, ccdlflags='-Wl,-E'
cccdlflags='-fPIC', lddlflags='-shared -O2 -L/usr/local/lib -fstack-protector-strong'
Characteristics of this binary (from libperl):
Compile-time options: HAS_TIMES MULTIPLICITY PERLIO_LAYERS
PERL_COPY_ON_WRITE PERL_DONT_CREATE_GVSV
PERL_HASH_FUNC_ONE_AT_A_TIME_HARD
PERL_IMPLICIT_CONTEXT PERL_MALLOC_WRAP
PERL_PRESERVE_IVUV USE_64_BIT_ALL USE_64_BIT_INT
USE_ITHREADS USE_LARGE_FILES USE_LOCALE
USE_LOCALE_COLLATE USE_LOCALE_CTYPE
USE_LOCALE_NUMERIC USE_LOCALE_TIME USE_PERLIO
USE_PERL_ATOF USE_REENTRANT_API
Built under linux
Compiled at Apr 17 2018 04:57:43
%ENV:
PERL5LIB="/home/cpansand/.cpan/build/2019052006/Rose-DB-0.778-4/blib/arch:/home/cpansand/.cpan/build/2019052006/Rose-DB-0.778-4/blib/lib:/home/cpansand/.cpan/build/2019052006/Time-Clock-1.03-4/blib/arch:/home/cpansand/.cpan/build/2019052006/Time-Clock-1.03-4/blib/lib:/home/cpansand/.cpan/build/2019052006/SQL-ReservedWords-0.8-4/blib/arch:/home/cpansand/.cpan/build/2019052006/SQL-ReservedWords-0.8-4/blib/lib:/home/cpansand/.cpan/build/2019052006/Rose-DateTime-0.540-4/blib/arch:/home/cpansand/.cpan/build/2019052006/Rose-DateTime-0.540-4/blib/lib:/home/cpansand/.cpan/build/2019052006/Rose-Object-0.860-4/blib/arch:/home/cpansand/.cpan/build/2019052006/Rose-Object-0.860-4/blib/lib:/home/cpansand/.cpan/build/2019052006/DateTime-Format-Oracle-0.06-4/blib/arch:/home/cpansand/.cpan/build/2019052006/DateTime-Format-Oracle-0.06-4/blib/lib:/home/cpansand/.cpan/build/2019052006/Convert-NLS_DATE_FORMAT-0.06-4/blib/arch:/home/cpansand/.cpan/build/2019052006/Convert-NLS_DATE_FORMAT-0.06-4/blib/lib"
PERL5OPT=""
PERL5_CPANPLUS_IS_RUNNING="23286"
PERL5_CPAN_IS_RUNNING="23286"
PERL5_CPAN_IS_RUNNING_IN_RECURSION="13961,23286"
PERLDOC="-MPod::Perldoc::ToTextOverstrike"
PERL_BATCH="yes"
PERL_CANARY_STABILITY_NOPROMPT="1"
PERL_CPAN_REPORTER_CONFIG="/var/tmp/cpansmoker-1023/2019052006/cpanreporter_001_config.ini"
PERL_EXTUTILS_AUTOINSTALL="--defaultdeps"
PERL_MM_USE_DEFAULT="1"
PERL_USE_UNSAFE_INC="1"
@INC:
/home/cpansand/.cpan/build/2019052006/Rose-DB-0.778-4/blib/arch
/home/cpansand/.cpan/build/2019052006/Rose-DB-0.778-4/blib/lib
/home/cpansand/.cpan/build/2019052006/Time-Clock-1.03-4/blib/arch
/home/cpansand/.cpan/build/2019052006/Time-Clock-1.03-4/blib/lib
/home/cpansand/.cpan/build/2019052006/SQL-ReservedWords-0.8-4/blib/arch
/home/cpansand/.cpan/build/2019052006/SQL-ReservedWords-0.8-4/blib/lib
/home/cpansand/.cpan/build/2019052006/Rose-DateTime-0.540-4/blib/arch
/home/cpansand/.cpan/build/2019052006/Rose-DateTime-0.540-4/blib/lib
/home/cpansand/.cpan/build/2019052006/Rose-Object-0.860-4/blib/arch
/home/cpansand/.cpan/build/2019052006/Rose-Object-0.860-4/blib/lib
/home/cpansand/.cpan/build/2019052006/DateTime-Format-Oracle-0.06-4/blib/arch
/home/cpansand/.cpan/build/2019052006/DateTime-Format-Oracle-0.06-4/blib/lib
/home/cpansand/.cpan/build/2019052006/Convert-NLS_DATE_FORMAT-0.06-4/blib/arch
/home/cpansand/.cpan/build/2019052006/Convert-NLS_DATE_FORMAT-0.06-4/blib/lib
/opt/perl-5.24.4t/lib/site_perl/5.24.4/x86_64-linux-thread-multi
/opt/perl-5.24.4t/lib/site_perl/5.24.4
/opt/perl-5.24.4t/lib/5.24.4/x86_64-linux-thread-multi
/opt/perl-5.24.4t/lib/5.24.4
.