Test-Class-Moose v0.95 Perl 5 v5.20.1 MSWin32-x86-multi-thread-64int

Status
Pass
From
Alexandr Ciornii (CHORNY)
Dist
Test-Class-Moose v0.95
Platform
Perl 5 v5.20.1 MSWin32-x86-multi-thread-64int
Date
2018-11-04 15:59:10
ID
f6ebc9dc-6bf7-1014-accb-414a2c7217ea
This distribution has been tested as part of the CPAN Testers
project, supporting the Perl programming language.  See
http://wiki.cpantesters.org/ for more information or email
questions to cpan-testers-discuss@perl.org


--
Dear Dave Rolsky,

This is a computer-generated report for Test-Class-Moose-0.95
on perl 5.20.1, created by CPAN-Reporter-1.2014.

Thank you for uploading your work to CPAN.  Congratulations!
All tests were successful.

Sections of this report:

    * Tester comments
    * Program output
    * Prerequisites
    * Environment and other context

------------------------------
TESTER COMMENTS
------------------------------

Additional comments from tester:

this report is from an automated smoke testing program
and was not reviewed by a human for accuracy

------------------------------
PROGRAM OUTPUT
------------------------------

Output from 'C:\STRAWB~1\c\bin\dmake.exe test':

"C:\Strawberry201\perl\bin\perl.exe" "-MExtUtils::Command::MM" "-MTest::Harness" "-e" "undef *Test::Harness::Switches; test_harness(0, 'blib\lib', 'blib\arch')" t/*.t
# 
# Versions for all modules listed in MYMETA.json (including optional ones):
# 
# === Configure Requires ===
# 
#     Module              Want Have
#     ------------------- ---- ----
#     ExtUtils::MakeMaker  any 7.04
# 
# === Build Requires ===
# 
#     Module              Want Have
#     ------------------- ---- ----
#     ExtUtils::MakeMaker  any 7.04
# 
# === Test Requires ===
# 
#     Module                    Want     Have
#     --------------------- -------- --------
#     ExtUtils::MakeMaker        any     7.04
#     File::Spec                 any     3.48
#     File::Temp                 any   0.2304
#     Test2::Tools::Basic        any 0.000115
#     Test2::Tools::Class        any 0.000115
#     Test2::Tools::Compare      any 0.000115
#     Test2::Tools::Subtest      any 0.000115
#     Test2::V0                  any 0.000115
#     Test::Builder              any 1.302140
#     Test::More            1.302015 1.302140
#     Test::Requires             any     0.08
#     Test::Warnings             any    0.016
#     lib                        any     0.63
# 
# === Test Recommends ===
# 
#     Module           Want     Have
#     ------------ -------- --------
#     CPAN::Meta   2.120900 2.142060
#     Test::Output   0.0005     1.03
# 
# === Runtime Requires ===
# 
#     Module                            Want     Have
#     ---------------------------- --------- --------
#     Benchmark                          any     1.18
#     Carp                               any     1.36
#     Class::MOP                         any   2.1404
#     Exporter                           any     5.71
#     File::Find                         any     1.27
#     File::Spec                         any     3.48
#     Import::Into                       any 1.002004
#     JSON                               any     2.90
#     List::SomeUtils                    any     0.56
#     List::Util                         any     1.41
#     Module::Runtime                    any    0.014
#     Module::Util                       any     1.09
#     Moose                           2.0000   2.1404
#     Moose::Role                     2.0000   2.1404
#     Moose::Util                        any   2.1404
#     Moose::Util::TypeConstraints       any   2.1404
#     MooseX::Getopt                    0.71     0.74
#     MooseX::Getopt::Dashes             any     0.74
#     Package::DeprecationManager       0.16     0.17
#     Parallel::ForkManager              any     1.12
#     Scalar::Util                       any     1.41
#     Sub::Attribute                     any     0.05
#     TAP::Formatter::Color             3.29     3.33
#     Test2                        1.1302118 1.302140
#     Test2::API                         any 1.302140
#     Test2::AsyncSubtest           0.000018 0.000115
#     Test2::IPC                         any 1.302140
#     Test2::Tools::AsyncSubtest         any 0.000115
#     Test::Most                         any     0.34
#     Try::Tiny                          any     0.22
#     namespace::autoclean               any     0.24
#     strict                             any     1.08
#     warnings                           any     1.23
# 
# === Runtime Recommends ===
# 
#     Module                  Want Have
#     --------------------- ------ ----
#     Parallel::ForkManager v0.7.6 1.12
# 
t/00-report-prereqs.t .......... ok
t/autouse.t .................... ok
t/bad_subclass.t ............... ok
t/bare.t ....................... ok
t/basic.t ...................... ok
Can't stat t\lib\Local: No such file or directory
 at C:\STRAWB~1\cpan\build\Test-Class-Moose-0.95-W5te1D\blib\lib/Test/Class/Moose/Load.pm line 73.
t/cli.t ........................ ok
t/environment.t ................ ok
t/executor_roles.t ............. ok
t/include_classes.t ............ ok
t/include_exclude.t ............ ok
t/load.t ....................... ok
t/no_tests_run.t ............... ok
t/non_randomize_classes.t ...... ok
t/parallel.t ................... skipped: These tests currently fail on Windows for reasons we do not understand. Patches welcome.
t/parameterized.t .............. ok
t/plans.t ...................... ok
t/process_name.t ............... ok
t/reportpassed.t ............... ok
t/skip.t ....................... ok
t/tags.t ....................... ok
t/test_class_is_not_loaded.t ... ok
t/test_control_methods.t ....... ok
t/test_control_methods_skip.t .. ok
t/timing.t ..................... ok
t/todo.t ....................... ok
All tests successful.
Files=25, Tests=186, 100 wallclock secs ( 0.42 usr +  0.39 sys =  0.81 CPU)
Result: PASS

------------------------------
PREREQUISITES
------------------------------

Prerequisite modules loaded:

requires:

    Module                       Need      Have    
    ---------------------------- --------- --------
    Benchmark                    0         1.18    
    Carp                         0         1.36    
    Class::MOP                   0         2.1404  
    Exporter                     0         5.71    
    File::Find                   0         1.27    
    File::Spec                   0         3.48    
    Import::Into                 0         1.002004
    JSON                         0         2.90    
    List::SomeUtils              0         0.56    
    List::Util                   0         1.41    
    Module::Runtime              0         0.014   
    Module::Util                 0         1.09    
    Moose                        2.0000    2.1404  
    Moose::Role                  2.0000    2.1404  
    Moose::Util                  0         2.1404  
    Moose::Util::TypeConstraints 0         2.1404  
    MooseX::Getopt               0.71      0.74    
    MooseX::Getopt::Dashes       0         0.74    
    namespace::autoclean         0         0.24    
    Package::DeprecationManager  0.16      0.17    
    Parallel::ForkManager        0         1.12    
    perl                         5.010000  5.020001
    Scalar::Util                 0         1.41    
    strict                       0         1.08    
    Sub::Attribute               0         0.05    
    TAP::Formatter::Color        3.29      3.33    
    Test2                        1.1302118 1.302140
    Test2::API                   0         1.302140
    Test2::AsyncSubtest          0.000018  0.000115
    Test2::IPC                   0         1.302140
    Test2::Tools::AsyncSubtest   0         0.000115
    Test::Most                   0         0.34    
    Try::Tiny                    0         0.22    
    warnings                     0         1.23    

build_requires:

    Module                       Need      Have    
    ---------------------------- --------- --------
    ExtUtils::MakeMaker          0         7.04    
    File::Spec                   0         3.48    
    File::Temp                   0         0.2304  
    lib                          0         0.63    
    Test2::Tools::Basic          0         0.000115
    Test2::Tools::Class          0         0.000115
    Test2::Tools::Compare        0         0.000115
    Test2::Tools::Subtest        0         0.000115
    Test2::V0                    0         0.000115
    Test::Builder                0         1.302140
    Test::More                   1.302015  1.302140
    Test::Requires               0         0.08    
    Test::Warnings               0         0.016   

configure_requires:

    Module                       Need      Have    
    ---------------------------- --------- --------
    ExtUtils::MakeMaker          0         7.04    


------------------------------
ENVIRONMENT AND OTHER CONTEXT
------------------------------

Environment variables:

    AUTOMATED_TESTING = 1
    COMSPEC = C:\WINDOWS\system32\cmd.exe
    NUMBER_OF_PROCESSORS = 1
    PATH = C:\WINDOWS\system32;C:\WINDOWS;C:\WINDOWS\System32\Wbem;C:\Strawberry201\c\bin;C:\Strawberry201\perl\site\bin;C:\Strawberry201\perl\bin;C:\Git\cmd
    PERL5LIB = C:\STRAWB~1\cpan\build\List-SomeUtils-0.56-tvvDLN/blib/arch;C:\STRAWB~1\cpan\build\List-SomeUtils-0.56-tvvDLN/blib/lib;C:\STRAWB~1\cpan\build\List-SomeUtils-XS-0.58-k0Uq8l/blib/arch;C:\STRAWB~1\cpan\build\List-SomeUtils-XS-0.58-k0Uq8l/blib/lib;C:\STRAWB~1\cpan\build\Package-DeprecationManager-0.17-JAQkTX/blib/arch;C:\STRAWB~1\cpan\build\Package-DeprecationManager-0.17-JAQkTX/blib/lib;C:\STRAWB~1\cpan\build\MooseX-Getopt-0.74-tO9rRk/blib/arch;C:\STRAWB~1\cpan\build\MooseX-Getopt-0.74-tO9rRk/blib/lib;C:\STRAWB~1\cpan\build\Test2-Suite-0.000115-Y1v4PZ/blib/arch;C:\STRAWB~1\cpan\build\Test2-Suite-0.000115-Y1v4PZ/blib/lib;C:\STRAWB~1\cpan\build\Sub-Info-0.002-84DnCQ/blib/arch;C:\STRAWB~1\cpan\build\Sub-Info-0.002-84DnCQ/blib/lib;C:\STRAWB~1\cpan\build\Term-Table-0.012-DGOVUw/blib/arch;C:\STRAWB~1\cpan\build\Term-Table-0.012-DGOVUw/blib/lib;C:\STRAWB~1\cpan\build\Importer-0.025-beQ0VY/blib/arch;C:\STRAWB~1\cpan\build\Importer-0.025-beQ0VY/blib/lib;C:\STRAWB~1\cpan\build\Test-Simple-1.302140-F3OhJe/blib/arch;C:\STRAWB~1\cpan\build\Test-Simple-1.302140-F3OhJe/blib/lib
    PERL5OPT = 
    PERL5_CPANPLUS_IS_RUNNING = 1968
    PERL5_CPAN_IS_RUNNING = 1968
    PERL5_CPAN_IS_RUNNING_IN_RECURSION = 1060,1968
    PERL_CR_SMOKER_CURRENT = Test-Class-Moose-0.95
    PERL_CR_SMOKER_RUNONCE = 1
    PERL_EXTUTILS_AUTOINSTALL = --defaultdeps
    PERL_MM_USE_DEFAULT = 1
    PROCESSOR_IDENTIFIER = x86 Family 16 Model 5 Stepping 3, AuthenticAMD
    TEMP = C:\DOCUME~1\c\LOCALS~1\Temp

Perl special variables (and OS-specific diagnostics, for MSWin32):

    $^X = C:\Strawberry201\perl\bin\perl.exe
    $UID/$EUID = 0 / 0
    $GID = 0
    $EGID = 0
    Win32::GetOSName = WinXP/.Net
    Win32::GetOSVersion = Service Pack 3, 5, 1, 2600, 2, 3, 0, 256, 1
    Win32::FsType = NTFS
    Win32::IsAdminUser = 1

Perl module toolchain versions installed:

    Module              Have    
    ------------------- --------
    CPAN                2.05    
    CPAN::Meta          2.142060
    Cwd                 3.48    
    ExtUtils::CBuilder  0.280219
    ExtUtils::Command   1.18    
    ExtUtils::Install   1.68    
    ExtUtils::MakeMaker 7.04    
    ExtUtils::Manifest  1.66    
    ExtUtils::ParseXS   3.24    
    File::Spec          3.48    
    JSON                2.90    
    JSON::PP            2.27203 
    Module::Build       0.4211  
    Module::Signature   0.78    
    Parse::CPAN::Meta   1.4414  
    Test::Harness       3.33    
    Test::More          1.302140
    YAML                1.15    
    YAML::Syck          1.29    
    version             0.9909  


--

Summary of my perl5 (revision 5 version 20 subversion 1) configuration:
   
  Platform:
    osname=MSWin32, osvers=6.3, archname=MSWin32-x86-multi-thread-64int
    uname='Win32 strawberry-perl 5.20.1.1 #1 Mon Sep 15 18:25:23 2014 i386'
    config_args='undef'
    hint=recommended, useposix=true, d_sigaction=undef
    useithreads=define, usemultiplicity=define
    use64bitint=define, use64bitall=undef, uselongdouble=undef
    usemymalloc=n, bincompat5005=undef
  Compiler:
    cc='gcc', ccflags =' -s -O2 -DWIN32  -DPERL_TEXTMODE_SCRIPTS -DPERL_IMPLICIT_CONTEXT -DPERL_IMPLICIT_SYS -DUSE_PERLIO -fwrapv -fno-strict-aliasing -mms-bitfields',
    optimize='-s -O2',
    cppflags='-DWIN32'
    ccversion='', gccversion='4.8.3', gccosandvers=''
    intsize=4, longsize=4, ptrsize=4, doublesize=8, byteorder=12345678
    d_longlong=define, longlongsize=8, d_longdbl=define, longdblsize=12
    ivtype='long long', ivsize=8, nvtype='double', nvsize=8, Off_t='long long', lseeksize=8
    alignbytes=8, prototype=define
  Linker and Libraries:
    ld='g++', ldflags ='-s -L"C:\STRAWB~1\perl\lib\CORE" -L"C:\STRAWB~1\c\lib"'
    libpth=C:\STRAWB~1\c\lib C:\STRAWB~1\c\i686-w64-mingw32\lib C:\STRAWB~1\c\lib\gcc\i686-w64-mingw32\4.8.3
    libs=-lmoldname -lkernel32 -luser32 -lgdi32 -lwinspool -lcomdlg32 -ladvapi32 -lshell32 -lole32 -loleaut32 -lnetapi32 -luuid -lws2_32 -lmpr -lwinmm -lversion -lodbc32 -lodbccp32 -lcomctl32
    perllibs=-lmoldname -lkernel32 -luser32 -lgdi32 -lwinspool -lcomdlg32 -ladvapi32 -lshell32 -lole32 -loleaut32 -lnetapi32 -luuid -lws2_32 -lmpr -lwinmm -lversion -lodbc32 -lodbccp32 -lcomctl32
    libc=, so=dll, useshrplib=true, libperl=libperl520.a
    gnulibc_version=''
  Dynamic Linking:
    dlsrc=dl_win32.xs, dlext=xs.dll, d_dlsymun=undef, ccdlflags=' '
    cccdlflags=' ', lddlflags='-mdll -s -L"C:\STRAWB~1\perl\lib\CORE" -L"C:\STRAWB~1\c\lib"'


Characteristics of this binary (from libperl): 
  Compile-time options: HAS_TIMES HAVE_INTERP_INTERN MULTIPLICITY
                        PERLIO_LAYERS PERL_DONT_CREATE_GVSV
                        PERL_HASH_FUNC_ONE_AT_A_TIME_HARD
                        PERL_IMPLICIT_CONTEXT PERL_IMPLICIT_SYS
                        PERL_MALLOC_WRAP PERL_NEW_COPY_ON_WRITE
                        PERL_PRESERVE_IVUV USE_64_BIT_INT USE_ITHREADS
                        USE_LARGE_FILES USE_LOCALE USE_LOCALE_COLLATE
                        USE_LOCALE_CTYPE USE_LOCALE_NUMERIC USE_PERLIO
                        USE_PERL_ATOF
  Built under MSWin32
  Compiled at Sep 15 2014 18:29:20
  %ENV:
    PERL5LIB="C:\STRAWB~1\cpan\build\List-SomeUtils-0.56-tvvDLN/blib/arch;C:\STRAWB~1\cpan\build\List-SomeUtils-0.56-tvvDLN/blib/lib;C:\STRAWB~1\cpan\build\List-SomeUtils-XS-0.58-k0Uq8l/blib/arch;C:\STRAWB~1\cpan\build\List-SomeUtils-XS-0.58-k0Uq8l/blib/lib;C:\STRAWB~1\cpan\build\Package-DeprecationManager-0.17-JAQkTX/blib/arch;C:\STRAWB~1\cpan\build\Package-DeprecationManager-0.17-JAQkTX/blib/lib;C:\STRAWB~1\cpan\build\MooseX-Getopt-0.74-tO9rRk/blib/arch;C:\STRAWB~1\cpan\build\MooseX-Getopt-0.74-tO9rRk/blib/lib;C:\STRAWB~1\cpan\build\Test2-Suite-0.000115-Y1v4PZ/blib/arch;C:\STRAWB~1\cpan\build\Test2-Suite-0.000115-Y1v4PZ/blib/lib;C:\STRAWB~1\cpan\build\Sub-Info-0.002-84DnCQ/blib/arch;C:\STRAWB~1\cpan\build\Sub-Info-0.002-84DnCQ/blib/lib;C:\STRAWB~1\cpan\build\Term-Table-0.012-DGOVUw/blib/arch;C:\STRAWB~1\cpan\build\Term-Table-0.012-DGOVUw/blib/lib;C:\STRAWB~1\cpan\build\Importer-0.025-beQ0VY/blib/arch;C:\STRAWB~1\cpan\build\Importer-0.025-beQ0VY/blib/lib;C:\STRAWB~1\cpan\build\Test-Simple-1.302140-F3OhJe/blib/arch;C:\STRAWB~1\cpan\build\Test-Simple-1.302140-F3OhJe/blib/lib"
    PERL5_CPANPLUS_IS_RUNNING="1968"
    PERL5_CPAN_IS_RUNNING="1968"
    PERL5_CPAN_IS_RUNNING_IN_RECURSION="1060,1968"
    PERL_CR_SMOKER_CURRENT="Test-Class-Moose-0.95"
    PERL_CR_SMOKER_RUNONCE="1"
    PERL_EXTUTILS_AUTOINSTALL="--defaultdeps"
    PERL_MM_USE_DEFAULT="1"
  @INC:
    C:\STRAWB~1\cpan\build\List-SomeUtils-0.56-tvvDLN/blib/arch
    C:\STRAWB~1\cpan\build\List-SomeUtils-0.56-tvvDLN/blib/lib
    C:\STRAWB~1\cpan\build\List-SomeUtils-XS-0.58-k0Uq8l/blib/arch
    C:\STRAWB~1\cpan\build\List-SomeUtils-XS-0.58-k0Uq8l/blib/lib
    C:\STRAWB~1\cpan\build\Package-DeprecationManager-0.17-JAQkTX/blib/arch
    C:\STRAWB~1\cpan\build\Package-DeprecationManager-0.17-JAQkTX/blib/lib
    C:\STRAWB~1\cpan\build\MooseX-Getopt-0.74-tO9rRk/blib/arch
    C:\STRAWB~1\cpan\build\MooseX-Getopt-0.74-tO9rRk/blib/lib
    C:\STRAWB~1\cpan\build\Test2-Suite-0.000115-Y1v4PZ/blib/arch
    C:\STRAWB~1\cpan\build\Test2-Suite-0.000115-Y1v4PZ/blib/lib
    C:\STRAWB~1\cpan\build\Sub-Info-0.002-84DnCQ/blib/arch
    C:\STRAWB~1\cpan\build\Sub-Info-0.002-84DnCQ/blib/lib
    C:\STRAWB~1\cpan\build\Term-Table-0.012-DGOVUw/blib/arch
    C:\STRAWB~1\cpan\build\Term-Table-0.012-DGOVUw/blib/lib
    C:\STRAWB~1\cpan\build\Importer-0.025-beQ0VY/blib/arch
    C:\STRAWB~1\cpan\build\Importer-0.025-beQ0VY/blib/lib
    C:\STRAWB~1\cpan\build\Test-Simple-1.302140-F3OhJe/blib/arch
    C:\STRAWB~1\cpan\build\Test-Simple-1.302140-F3OhJe/blib/lib
    C:/Strawberry201/perl/site/lib
    C:/Strawberry201/perl/vendor/lib
    C:/Strawberry201/perl/lib
    .