App-perlbrew v1.01 Perl 5 v5.16.3 darwin-thread-multi-2level

Status
Pass
From
David Cantrell (DCANTRELL)
Dist
App-perlbrew v1.01
Platform
Perl 5 v5.16.3 darwin-thread-multi-2level
Date
2024-11-20 00:04:07
ID
f671c5da-a6d2-11ef-88dc-32f99c565607
This distribution has been tested as part of the CPAN Testers
project, supporting the Perl programming language.  See
http://wiki.cpantesters.org/ for more information or email
questions to cpan-testers-discuss@perl.org


--
Dear Liu Kang Min,

This is a computer-generated report for App-perlbrew-1.01
on perl 5.16.3, created by CPAN-Reporter-1.2019.

Thank you for uploading your work to CPAN.  Congratulations!
All tests were successful.

Sections of this report:

    * Tester comments
    * Program output
    * Prerequisites
    * Environment and other context

------------------------------
TESTER COMMENTS
------------------------------

Additional comments from tester:

this report is from an automated smoke testing program
and was not reviewed by a human for accuracy

------------------------------
PROGRAM OUTPUT
------------------------------

Output from './Build test':

t/00.load.t ............................... ok
t/01.options.t ............................ ok
t/02.format_perl_version.t ................ ok
t/03.test_get_available_versions.t ........ ok
t/04.find_available_perls.t ............... ok
t/05.get_current_perl.t ................... ok
t/06.installed_perls.t .................... ok
t/07.argv.t ............................... ok
t/08.error_available.t .................... ok
t/08.error_install.t ...................... ok
t/08.error_install_blead.t ................ ok
t/08.error_install_cpanm.t ................ ok
t/08.error_install_cpm.t .................. ok
t/09.exit_status.t ........................ ok
t/10.resolve.t ............................ ok
t/11.editdist.t ........................... ok
t/11.root_from_arg.t ...................... ok
t/12.destdir.t ............................ ok
t/12.sitecustomize.t ...................... ok
# Workflow build 'when the given versionis not found is CPAN::Perl::Releases' is empty at t/13.perl_release.t around lines 27 -> 44.
t/13.perl_release.t ....................... ok
t/14.perl_version_parsing.t ............... ok
# /tmp/M3VT49rHHG/build/test/test
t/15.no-reuse-build-dir.t ................. ok
t/16.release-detail.t ..................... ok
t/18.release-detail-perl-local.t .......... ok
t/18.release-detail-perl-remote.t ......... skipped: These tests send HTTP requests. Set env TEST_LIVE=1 to really run them.
# alias, available, clean, clone-modules, compgen, display-bashrc, display-cshrc, display-installation-failure-message, display-pristine-manpath, display-pristine-path, display-system-perl-executable, display-system-perl-shebang, download, env, exec, help, info, init, init-in-bash, install, install-cpanm, install-cpm, install-multiple, install-patchperl, lib, lib-create, lib-delete, lib-list, list, list-modules, make-pp, make-shim, off, self-install, self-upgrade, switch, switch-off, symlink-executables, uninstall, upgrade-perl, use, version
t/19.find_similar_commands.t .............. ok
t/app-perlbrew-path-installation.t ........ ok
t/app-perlbrew-path.t ..................... ok
t/bashrc_content.t ........................ ok
t/bashrc_executes.t ....................... ok
t/builddir.t .............................. ok
t/command-alias.t ......................... ok
t/command-available.t ..................... ok
t/command-clone-modules.t ................. ok
t/command-compgen.t ....................... ok
t/command-display-rc.t .................... ok
t/command-env.t ........................... ok
sort (...) interpreted as function at t/command-exec.t line 386.
sort (...) interpreted as function at t/command-exec.t line 410.
            # Command [perl -E 'say 42'] terminated with exit code 255 ($? = -1) under the following perl environment:
            # Command [perl -E 'say 42'] terminated with exit code 7 ($? = 1792) under the following perl environment:
            # Command [perl -E 'say 42'] terminated with exit code 3 ($? = 768) under the following perl environment:
            # Command [perl -E 'say 42'] terminated with exit code 3 ($? = 768) under the following perl environment:
            # Command [perl -E 'say 42'] terminated with exit code 3 ($? = 768) under the following perl environment:
            # Command [perl -E 'somesub 42'] terminated with exit code 7 ($? = 1792) under the following perl environment:
            # format_info_output_value
t/command-exec.t .......................... ok
t/command-help.t .......................... ok
t/command-info.t .......................... ok
t/command-install-cpanm.t ................. ok
t/command-install-cpm.t ................... ok
t/command-install-from-archive.t .......... ok
t/command-install-patchperl.t ............. ok
t/command-install.t ....................... ok
t/command-lib.t ........................... ok
# Workflow build 'when `--no-decoration` is given' is empty at t/command-list.t around lines 90 -> 98.
t/command-list.t .......................... ok
        # 
        # The content of shim:
        # ----
        # #!/bin/bash
        # export PERL5LIB="/Users/cpantesting/cpantesting/perl-5.16.3/.cpan/build/App-perlbrew-1.01-mB2_W2/blib/arch:/Users/cpantesting/cpantesting/perl-5.16.3/.cpan/build/App-perlbrew-1.01-mB2_W2/blib/lib"
        # unset PERLBREW_LIB
        # export PERLBREW_MANPATH="/tmp/rHHGKZC0Tq/perls/perl-5.36.1/man"
        # export PERLBREW_PATH="/tmp/rHHGKZC0Tq/bin:/tmp/rHHGKZC0Tq/perls/perl-5.36.1/bin"
        # export PERLBREW_PERL="perl-5.36.1"
        # export PERLBREW_ROOT="/tmp/rHHGKZC0Tq"
        # export PERLBREW_VERSION="1.01"
        # unset PERL_LOCAL_LIB_ROOT
        # 
        # export PATH="/tmp/rHHGKZC0Tq/bin:/tmp/rHHGKZC0Tq/perls/perl-5.36.1/bin:/Users/cpantesting/perl5/perlbrew/bin:/Users/cpantesting/perl5/perlbrew/perls/perl-5.32.0/bin:/usr/local/bin:/System/Cryptexes/App/usr/bin:/usr/bin:/bin:/usr/sbin:/sbin:/var/run/com.apple.security.cryptexd/codex.system/bootstrap/usr/local/bin:/var/run/com.apple.security.cryptexd/codex.system/bootstrap/usr/bin:/var/run/com.apple.security.cryptexd/codex.system/bootstrap/usr/appleinternal/bin:/Library/Apple/usr/bin:/usr/local/zfs/bin:/Users/cpantesting/.cargo/bin"
        # 
        # exec bar "$@"
        # 
        # 
        # ----
        # 
        # The content of shim:
        # ----
        # #!/bin/bash
        # export PERL5LIB="/Users/cpantesting/cpantesting/perl-5.16.3/.cpan/build/App-perlbrew-1.01-mB2_W2/blib/arch:/Users/cpantesting/cpantesting/perl-5.16.3/.cpan/build/App-perlbrew-1.01-mB2_W2/blib/lib"
        # unset PERLBREW_LIB
        # export PERLBREW_MANPATH="/tmp/rHHGKZC0Tq/perls/perl-5.36.1/man"
        # export PERLBREW_PATH="/tmp/rHHGKZC0Tq/bin:/tmp/rHHGKZC0Tq/perls/perl-5.36.1/bin"
        # export PERLBREW_PERL="perl-5.36.1"
        # export PERLBREW_ROOT="/tmp/rHHGKZC0Tq"
        # export PERLBREW_VERSION="1.01"
        # unset PERL_LOCAL_LIB_ROOT
        # 
        # export PATH="/tmp/rHHGKZC0Tq/bin:/tmp/rHHGKZC0Tq/perls/perl-5.36.1/bin:/Users/cpantesting/perl5/perlbrew/bin:/Users/cpantesting/perl5/perlbrew/perls/perl-5.32.0/bin:/usr/local/bin:/System/Cryptexes/App/usr/bin:/usr/bin:/bin:/usr/sbin:/sbin:/var/run/com.apple.security.cryptexd/codex.system/bootstrap/usr/local/bin:/var/run/com.apple.security.cryptexd/codex.system/bootstrap/usr/bin:/var/run/com.apple.security.cryptexd/codex.system/bootstrap/usr/appleinternal/bin:/Library/Apple/usr/bin:/usr/local/zfs/bin:/Users/cpantesting/.cargo/bin"
        # 
        # exec foo "$@"
        # 
        # 
        # ----
t/command-make-shim.t ..................... ok
t/current_perl.t .......................... ok
t/current_shell.t ......................... ok
t/do_system.t ............................. ok
t/error-http_download-exec-error.t ........ ok
t/error-http_download-exit-nonzero.t ...... ok
t/error-http_download-param-validation.t .. ok
t/error-install-before-init.t ............. ok
t/failure-command-install-cpanm.t ......... ok
t/failure-command-install-cpm.t ........... ok
t/failure-command-install-patchperl.t ..... ok
t/home.t .................................. ok
t/http-program-control.t .................. ok
# PATH=/Users/cpantesting/cpantesting/perl-5.16.3/.cpan/build/App-perlbrew-1.01-mB2_W2/t/fake-bin:/Users/cpantesting/perl5/perlbrew/bin:/Users/cpantesting/perl5/perlbrew/perls/perl-5.32.0/bin:/usr/local/bin:/System/Cryptexes/App/usr/bin:/usr/bin:/bin:/usr/sbin:/sbin:/var/run/com.apple.security.cryptexd/codex.system/bootstrap/usr/local/bin:/var/run/com.apple.security.cryptexd/codex.system/bootstrap/usr/bin:/var/run/com.apple.security.cryptexd/codex.system/bootstrap/usr/appleinternal/bin:/Library/Apple/usr/bin:/usr/local/zfs/bin:/Users/cpantesting/.cargo/bin
# curl = /Users/cpantesting/cpantesting/perl-5.16.3/.cpan/build/App-perlbrew-1.01-mB2_W2/t/fake-bin/curl
t/http-ua-detect-non-curl.t ............... ok
t/http-ua-detect.t ........................ ok
t/http.t .................................. skipped: (no reason given)
t/installation-perlbrew.t ................. ok
t/installation.t .......................... ok
t/installation2.t ......................... ok
t/installation3.t ......................... ok
t/list_modules.t .......................... ok
t/sys.t ................................... ok
t/unit-files-are-the-same.t ............... ok
t/util-find-similar-tokens.t .............. ok
t/util-looks-like.t ....................... ok
All tests successful.
Files=72, Tests=245, 69 wallclock secs ( 0.41 usr  0.25 sys + 25.63 cusr  6.45 csys = 32.74 CPU)
Result: PASS

------------------------------
PREREQUISITES
------------------------------

Prerequisite modules loaded:

requires:

    Module                    Need       Have      
    ------------------------- ---------- ----------
    Capture::Tiny             0.48       0.48      
    CPAN::Perl::Releases      5.20240920 5.20241020
    Devel::PatchPerl          2.08       2.08      
    ExtUtils::MakeMaker       7.22       7.58      
    File::Copy                0          2.23      
    File::Temp                0.2304     0.2311    
    JSON::PP                  0          4.05      
    local::lib                2.000014   2.000029  
    Pod::Usage                1.69       2.03      

build_requires:

    Module                    Need       Have      
    ------------------------- ---------- ----------
    File::Which               1.21       1.23      
    Path::Class               0.33       0.37      
    Test2::Plugin::IOEvents   0.001001   0.001001  
    Test2::Plugin::NoWarnings 0.10       0.10      
    Test2::V0                 0.000163   1.302204  

configure_requires:

    Module                    Need       Have      
    ------------------------- ---------- ----------
    Module::Build::Tiny       0.039      0.051     


------------------------------
ENVIRONMENT AND OTHER CONTEXT
------------------------------

Environment variables:

    AUTOMATED_TESTING = 1
    NONINTERACTIVE_TESTING = 1
    PATH = /Users/cpantesting/perl5/perlbrew/bin:/Users/cpantesting/perl5/perlbrew/perls/perl-5.32.0/bin:/usr/local/bin:/System/Cryptexes/App/usr/bin:/usr/bin:/bin:/usr/sbin:/sbin:/var/run/com.apple.security.cryptexd/codex.system/bootstrap/usr/local/bin:/var/run/com.apple.security.cryptexd/codex.system/bootstrap/usr/bin:/var/run/com.apple.security.cryptexd/codex.system/bootstrap/usr/appleinternal/bin:/Library/Apple/usr/bin:/usr/local/zfs/bin:/Users/cpantesting/.cargo/bin
    PERL = 5.16.3
    PERL5LIB = 
    PERL5OPT = 
    PERL5_CPANPLUS_IS_RUNNING = 48273
    PERL5_CPAN_IS_RUNNING = 48273
    PERLBREW_HOME = /Users/cpantesting/.perlbrew
    PERLBREW_MANPATH = /Users/cpantesting/perl5/perlbrew/perls/perl-5.32.0/man
    PERLBREW_PATH = /Users/cpantesting/perl5/perlbrew/bin:/Users/cpantesting/perl5/perlbrew/perls/perl-5.32.0/bin
    PERLBREW_PERL = perl-5.32.0
    PERLBREW_ROOT = /Users/cpantesting/perl5/perlbrew
    PERLBREW_SHELLRC_VERSION = 0.94
    PERLBREW_VERSION = 0.94
    PERLVER = 5.16.3
    PERL_INLINE_DIRECTORY = /Users/cpantesting/.Inline-5.16.3
    PERL_MM_USE_DEFAULT = 1
    PERL_USE_UNSAFE_INC = 0
    SHELL = /bin/bash
    TERM = screen

Perl special variables (and OS-specific diagnostics, for MSWin32):

    $^X = /Users/cpantesting/cpantesting/perl-5.16.3/bin/perl
    $UID/$EUID = 503 / 503
    $GID = 20 20 12 61 703 702 701 100
    $EGID = 20 20 12 61 703 702 701 100

Perl module toolchain versions installed:

    Module              Have    
    ------------------- --------
    CPAN                1.9800  
    CPAN::Meta          2.143240
    Cwd                 3.39_02 
    ExtUtils::CBuilder  0.280235
    ExtUtils::Command   7.58    
    ExtUtils::Install   2.06    
    ExtUtils::MakeMaker 7.58    
    ExtUtils::Manifest  1.70    
    ExtUtils::ParseXS   3.16    
    File::Spec          3.39_02 
    JSON                n/a     
    JSON::PP            4.05    
    Module::Build       0.4234  
    Module::Signature   n/a     
    Parse::CPAN::Meta   1.4414  
    Test2               1.302204
    Test::Harness       3.50    
    Test::More          1.302204
    YAML                n/a     
    YAML::Syck          n/a     
    version             0.99    


--

Summary of my perl5 (revision 5 version 16 subversion 3) configuration:
   
  Platform:
    osname=darwin, osvers=19.6.0, archname=darwin-thread-multi-2level
    uname='darwin harrow.local 19.6.0 darwin kernel version 19.6.0: thu oct 29 22:56:45 pdt 2020; root:xnu-6153.141.2.2~1release_x86_64 x86_64 '
    config_args='-de -Dusethreads -Dprefix=/Users/cpantesting/cpantesting/perl-5.16.3'
    hint=recommended, useposix=true, d_sigaction=define
    useithreads=define, usemultiplicity=define
    useperlio=define, d_sfio=undef, uselargefiles=define, usesocks=undef
    use64bitint=define, use64bitall=define, uselongdouble=undef
    usemymalloc=n, bincompat5005=undef
  Compiler:
    cc='cc', ccflags ='-fno-common -DPERL_DARWIN -fno-strict-aliasing -pipe -fstack-protector -I/usr/local/include',
    optimize='-O3',
    cppflags='-fno-common -DPERL_DARWIN -fno-strict-aliasing -pipe -fstack-protector -I/usr/local/include'
    ccversion='', gccversion='Apple LLVM 12.0.0 (clang-1200.0.32.27)', gccosandvers=''
    intsize=4, longsize=8, ptrsize=8, doublesize=8, byteorder=12345678
    d_longlong=define, longlongsize=8, d_longdbl=define, longdblsize=16
    ivtype='long', ivsize=8, nvtype='double', nvsize=8, Off_t='off_t', lseeksize=8
    alignbytes=8, prototype=define
  Linker and Libraries:
    ld='env MACOSX_DEPLOYMENT_TARGET=10.3 cc', ldflags =' -fstack-protector -L/usr/local/lib'
    libpth=/usr/local/lib /usr/lib
    libs=-lgdbm -ldbm -ldl -lm -lutil -lc
    perllibs=-ldl -lm -lutil -lc
    libc=, so=dylib, useshrplib=false, libperl=libperl.a
    gnulibc_version=''
  Dynamic Linking:
    dlsrc=dl_dlopen.xs, dlext=bundle, d_dlsymun=undef, ccdlflags=' '
    cccdlflags=' ', lddlflags=' -bundle -undefined dynamic_lookup -L/usr/local/lib -fstack-protector'


Characteristics of this binary (from libperl): 
  Compile-time options: HAS_TIMES MULTIPLICITY PERLIO_LAYERS
                        PERL_DONT_CREATE_GVSV PERL_IMPLICIT_CONTEXT
                        PERL_MALLOC_WRAP PERL_PRESERVE_IVUV USE_64_BIT_ALL
                        USE_64_BIT_INT USE_ITHREADS USE_LARGE_FILES
                        USE_LOCALE USE_LOCALE_COLLATE USE_LOCALE_CTYPE
                        USE_LOCALE_NUMERIC USE_PERLIO USE_PERL_ATOF
                        USE_REENTRANT_API
  Built under darwin
  Compiled at Dec 29 2020 22:52:51
  %ENV:
    PERL="5.16.3"
    PERL5LIB=""
    PERL5OPT=""
    PERL5_CPANPLUS_IS_RUNNING="48273"
    PERL5_CPAN_IS_RUNNING="48273"
    PERLBREW_HOME="/Users/cpantesting/.perlbrew"
    PERLBREW_MANPATH="/Users/cpantesting/perl5/perlbrew/perls/perl-5.32.0/man"
    PERLBREW_PATH="/Users/cpantesting/perl5/perlbrew/bin:/Users/cpantesting/perl5/perlbrew/perls/perl-5.32.0/bin"
    PERLBREW_PERL="perl-5.32.0"
    PERLBREW_ROOT="/Users/cpantesting/perl5/perlbrew"
    PERLBREW_SHELLRC_VERSION="0.94"
    PERLBREW_VERSION="0.94"
    PERLVER="5.16.3"
    PERL_INLINE_DIRECTORY="/Users/cpantesting/.Inline-5.16.3"
    PERL_MM_USE_DEFAULT="1"
    PERL_USE_UNSAFE_INC="0"
  @INC:
    /Users/cpantesting/cpantesting/perl-5.16.3/lib/site_perl/5.16.3/darwin-thread-multi-2level
    /Users/cpantesting/cpantesting/perl-5.16.3/lib/site_perl/5.16.3
    /Users/cpantesting/cpantesting/perl-5.16.3/lib/5.16.3/darwin-thread-multi-2level
    /Users/cpantesting/cpantesting/perl-5.16.3/lib/5.16.3
    .