Symbol-Approx-Sub vv3.1.1 Perl 5 v5.26.1 darwin-2level
- Status
- Pass
- From
- Nigel Horne
- Dist
-
Symbol-Approx-Sub vv3.1.1
- Platform
- Perl 5 v5.26.1 darwin-2level
- Date
- 2018-12-22 21:53:05
- ID
- f66f695c-0633-11e9-b4b7-6f27ff059962
This distribution has been tested as part of the CPAN Testers
project, supporting the Perl programming language. See
http://wiki.cpantesters.org/ for more information or email
questions to cpan-testers-discuss@perl.org
--
Dear Dave Cross,
This is a computer-generated report for Symbol-Approx-Sub-v3.1.1
on perl 5.26.1, created by CPAN-Reporter-1.2018.
Thank you for uploading your work to CPAN. Congratulations!
All tests were successful.
Sections of this report:
* Tester comments
* Program output
* Prerequisites
* Environment and other context
------------------------------
TESTER COMMENTS
------------------------------
Additional comments from tester:
this report is from an automated smoke testing program
and was not reviewed by a human for accuracy
------------------------------
PROGRAM OUTPUT
------------------------------
Output from './Build test':
t/anon.t ............ ok
t/arr_str_xform.t ... ok
t/arr_xform.t ....... ok
t/basic.t ........... ok
t/choose_sub.t ...... ok
t/code_xform.t ...... ok
t/invalid.t ......... ok
t/match_undef.t ..... ok
t/package.t ......... ok
t/packages.t ........ ok
t/random.t .......... ok
t/pod.t ............. ok
t/ref.t ............. ok
t/pod_coverage.t .... ok
t/str_choose.t ...... ok
t/str_xform.t ....... ok
t/string_approx.t ... ok
t/suggest.t ......... ok
t/text_metaphone.t .. ok
All tests successful.
Files=19, Tests=43, 1 wallclock secs ( 0.05 usr 0.04 sys + 1.09 cusr 0.77 csys = 1.95 CPU)
Result: PASS
------------------------------
PREREQUISITES
------------------------------
Prerequisite modules loaded:
requires:
Module Need Have
---------------- ----- --------
Carp 0 1.50
Devel::Symdump 0 2.18
Exception::Class 0 1.43
Module::Load 0 0.32
perl 5.006 5.026001
build_requires:
Module Need Have
---------------- ----- --------
String::Approx 0 3.28
Test::Exception 0 0.43
Test::More 0 1.302136
Text::Metaphone 0 20160805
Text::Soundex 0 3.05
configure_requires:
Module Need Have
---------------- ----- --------
Module::Build 0 0.4224
------------------------------
ENVIRONMENT AND OTHER CONTEXT
------------------------------
Environment variables:
AUTOMATED_TESTING = 1
HARNESS_OPTIONS = j4
LANG = en_US.UTF-8
LC_ALL = POSIX
NONINTERACTIVE_TESTING = 1
PATH = /Users/hornenj/perl5/perlbrew/bin:/Users/hornenj/perl5/perlbrew/perls/perl-5.26.1/bin:src/njh/smoker/bin:/Users/hornenj/homebrew/bin:/Users/hornenj/bin:/usr/bin:/bin:/usr/X11R6/bin:/sw/bin
PERL5LIB = /Users/hornenj/.cpan/build/Text-Metaphone-20160805-5/blib/arch:/Users/hornenj/.cpan/build/Text-Metaphone-20160805-5/blib/lib:/Users/hornenj/.cpan/build/String-Approx-3.28-5/blib/arch:/Users/hornenj/.cpan/build/String-Approx-3.28-5/blib/lib:/Users/hornenj/.cpan/build/HTTP-Request-Generator-0.06-5/blib/arch:/Users/hornenj/.cpan/build/HTTP-Request-Generator-0.06-5/blib/lib:/Users/hornenj/.cpan/build/Filter-signatures-0.15-41/blib/arch:/Users/hornenj/.cpan/build/Filter-signatures-0.15-41/blib/lib:/Users/hornenj/.cpan/build/Algorithm-Loops-1.032-41/blib/arch:/Users/hornenj/.cpan/build/Algorithm-Loops-1.032-41/blib/lib
PERL5OPT =
PERL5_CPANPLUS_IS_RUNNING = 69784
PERL5_CPAN_IS_RUNNING = 69784
PERLBREW_HOME = /Users/hornenj/.perlbrew
PERLBREW_MANPATH = /Users/hornenj/perl5/perlbrew/perls/perl-5.26.1/man
PERLBREW_PATH = /Users/hornenj/perl5/perlbrew/bin:/Users/hornenj/perl5/perlbrew/perls/perl-5.26.1/bin
PERLBREW_PERL = perl-5.26.1
PERLBREW_ROOT = /Users/hornenj/perl5/perlbrew
PERLBREW_SHELLRC_VERSION = 0.84
PERLBREW_VERSION = 0.84
PERL_MM_USE_DEFAULT = 1
PERL_USE_UNSAFE_INC = 1
SHELL = /bin/bash
TERM = xterm-256color
TMPDIR = /var/folders/pz/pd7y1qjs6s3cbk170cw50fjc000c61/T//testwrapper.69770
VERSIONER_PERL_PREFER_32_BIT = no
VERSIONER_PERL_VERSION = 5.18
Perl special variables (and OS-specific diagnostics, for MSWin32):
$^X = /Users/hornenj/perl5/perlbrew/perls/perl-5.26.1/bin/perl5.26.1
$UID/$EUID = 12481 / 12481
$GID = 14 14 206 5344 37191 527 12 62 98 204 399 37223 241 223 100
$EGID = 14 14 206 5344 37191 527 12 62 98 204 399 37223 241 223 100
Perl module toolchain versions installed:
Module Have
------------------- --------
CPAN 2.18
CPAN::Meta 2.150010
Cwd 3.75
ExtUtils::CBuilder 0.280230
ExtUtils::Command 7.34
ExtUtils::Install 2.14
ExtUtils::MakeMaker 7.34
ExtUtils::Manifest 1.70
ExtUtils::ParseXS 3.35
File::Spec 3.75
JSON 4.00
JSON::PP 2.97000
Module::Build 0.4224
Module::Signature n/a
Parse::CPAN::Meta 2.150010
Test::Harness 3.39
Test::More 1.302136
YAML 1.27
YAML::Syck 1.31
version 0.9918
--
Summary of my perl5 (revision 5 version 26 subversion 1) configuration:
Platform:
osname=darwin
osvers=16.7.0
archname=darwin-2level
uname='darwin ncbimac2024 16.7.0 darwin kernel version 16.7.0: thu jun 15 17:36:27 pdt 2017; root:xnu-3789.70.16~2release_x86_64 x86_64 '
config_args='-de -Dprefix=/Users/hornenj/perl5/perlbrew/perls/perl-5.26.1 -Dusedevel -Accflags=-O2 -W -Wformat=2 -Wswitch -Wshadow -Wwrite-strings -Wuninitialized -Wall -pipe -fomit-frame-pointer -pedantic -D_FORTIFY_SOURCE=2 -Wpointer-arith -Wstrict-prototypes -fstack-protector -Wstack-protector -Wextra -Wbad-function-cast -Wcast-align -Wcast-qual -Wdisabled-optimization -Wendif-labels -Wfloat-equal -Wformat-nonliteral -Winline -Wmissing-declarations -Wmissing-prototypes -Wnested-externs -Wpointer-arith -Wundef -Wformat-security -ftree-vectorize -mmmx -msse -mfpmath=sse -msse2 -msse3 -msse4.1 -msse4.2 -fdiagnostics-color=auto -mtune=native -march=native -I/Users/hornenj/openssl/include -Aldflags=-L/Users/hornenj/openssl/lib -Addflags=-L/Users/hornenj/openssl/lib -Acc=cc -Aeval:scriptdir=/Users/hornenj/perl5/perlbrew/perls/perl-5.26.1/bin'
hint=recommended
useposix=true
d_sigaction=define
useithreads=undef
usemultiplicity=undef
use64bitint=define
use64bitall=define
uselongdouble=undef
usemymalloc=n
default_inc_excludes_dot=define
bincompat5005=undef
Compiler:
cc=' cc'
ccflags ='-fno-common -DPERL_DARWIN -O2 -W -Wformat=2 -Wswitch -Wshadow -Wwrite-strings -Wuninitialized -Wall -pipe -fomit-frame-pointer -pedantic -D_FORTIFY_SOURCE=2 -Wpointer-arith -Wstrict-prototypes -fstack-protector -Wstack-protector -Wextra -Wbad-function-cast -Wcast-align -Wcast-qual -Wdisabled-optimization -Wendif-labels -Wfloat-equal -Wformat-nonliteral -Winline -Wmissing-declarations -Wmissing-prototypes -Wnested-externs -Wpointer-arith -Wundef -Wformat-security -ftree-vectorize -mmmx -msse -mfpmath=sse -msse2 -msse3 -msse4.1 -msse4.2 -fdiagnostics-color=auto -mtune=native -march=native -I/Users/hornenj/openssl/include -fno-strict-aliasing -fstack-protector-strong'
optimize='-O3'
cppflags='-fno-common -DPERL_DARWIN -O2 -W -Wformat=2 -Wswitch -Wshadow -Wwrite-strings -Wuninitialized -Wall -pipe -fomit-frame-pointer -pedantic -D_FORTIFY_SOURCE=2 -Wpointer-arith -Wstrict-prototypes -fstack-protector -Wstack-protector -Wextra -Wbad-function-cast -Wcast-align -Wcast-qual -Wdisabled-optimization -Wendif-labels -Wfloat-equal -Wformat-nonliteral -Winline -Wmissing-declarations -Wmissing-prototypes -Wnested-externs -Wpointer-arith -Wundef -Wformat-security -ftree-vectorize -mmmx -msse -mfpmath=sse -msse2 -msse3 -msse4.1 -msse4.2 -fdiagnostics-color=auto -mtune=native -march=native -I/Users/hornenj/openssl/include -fno-strict-aliasing -fstack-protector-strong'
ccversion=''
gccversion='4.2.1 Compatible Apple LLVM 8.1.0 (clang-802.0.42)'
gccosandvers=''
intsize=4
longsize=8
ptrsize=8
doublesize=8
byteorder=12345678
doublekind=3
d_longlong=define
longlongsize=8
d_longdbl=define
longdblsize=16
longdblkind=3
ivtype='long'
ivsize=8
nvtype='double'
nvsize=8
Off_t='off_t'
lseeksize=8
alignbytes=8
prototype=define
Linker and Libraries:
ld='env MACOSX_DEPLOYMENT_TARGET=10.3 cc'
ldflags =' -L/Users/hornenj/openssl/lib -fstack-protector-strong -L/usr/local/lib'
libpth=/Applications/Xcode.app/Contents/Developer/Toolchains/XcodeDefault.xctoolchain/usr/bin/../lib/clang/8.1.0/lib /Applications/Xcode.app/Contents/Developer/Toolchains/XcodeDefault.xctoolchain/usr/lib /usr/lib /usr/local/lib
libs=-lpthread -ldbm -ldl -lm -lutil -lc
perllibs=-lpthread -ldl -lm -lutil -lc
libc=
so=dylib
useshrplib=false
libperl=libperl.a
gnulibc_version=''
Dynamic Linking:
dlsrc=dl_dlopen.xs
dlext=bundle
d_dlsymun=undef
ccdlflags=' '
cccdlflags=' '
lddlflags=' -bundle -undefined dynamic_lookup -L/Users/hornenj/openssl/lib -L/usr/local/lib -fstack-protector-strong'
Characteristics of this binary (from libperl):
Compile-time options:
HAS_TIMES
PERLIO_LAYERS
PERL_COPY_ON_WRITE
PERL_DONT_CREATE_GVSV
PERL_MALLOC_WRAP
PERL_OP_PARENT
PERL_PRESERVE_IVUV
PERL_USE_DEVEL
USE_64_BIT_ALL
USE_64_BIT_INT
USE_LARGE_FILES
USE_LOCALE
USE_LOCALE_COLLATE
USE_LOCALE_CTYPE
USE_LOCALE_NUMERIC
USE_LOCALE_TIME
USE_PERLIO
USE_PERL_ATOF
Locally applied patches:
Devel::PatchPerl 1.30
Built under darwin
Compiled at Sep 28 2017 17:20:00
%ENV:
PERL5LIB="/Users/hornenj/.cpan/build/Text-Metaphone-20160805-5/blib/arch:/Users/hornenj/.cpan/build/Text-Metaphone-20160805-5/blib/lib:/Users/hornenj/.cpan/build/String-Approx-3.28-5/blib/arch:/Users/hornenj/.cpan/build/String-Approx-3.28-5/blib/lib:/Users/hornenj/.cpan/build/HTTP-Request-Generator-0.06-5/blib/arch:/Users/hornenj/.cpan/build/HTTP-Request-Generator-0.06-5/blib/lib:/Users/hornenj/.cpan/build/Filter-signatures-0.15-41/blib/arch:/Users/hornenj/.cpan/build/Filter-signatures-0.15-41/blib/lib:/Users/hornenj/.cpan/build/Algorithm-Loops-1.032-41/blib/arch:/Users/hornenj/.cpan/build/Algorithm-Loops-1.032-41/blib/lib"
PERL5OPT=""
PERL5_CPANPLUS_IS_RUNNING="69784"
PERL5_CPAN_IS_RUNNING="69784"
PERLBREW_HOME="/Users/hornenj/.perlbrew"
PERLBREW_MANPATH="/Users/hornenj/perl5/perlbrew/perls/perl-5.26.1/man"
PERLBREW_PATH="/Users/hornenj/perl5/perlbrew/bin:/Users/hornenj/perl5/perlbrew/perls/perl-5.26.1/bin"
PERLBREW_PERL="perl-5.26.1"
PERLBREW_ROOT="/Users/hornenj/perl5/perlbrew"
PERLBREW_SHELLRC_VERSION="0.84"
PERLBREW_VERSION="0.84"
PERL_MM_USE_DEFAULT="1"
PERL_USE_UNSAFE_INC="1"
@INC:
/Users/hornenj/.cpan/build/Text-Metaphone-20160805-5/blib/arch
/Users/hornenj/.cpan/build/Text-Metaphone-20160805-5/blib/lib
/Users/hornenj/.cpan/build/String-Approx-3.28-5/blib/arch
/Users/hornenj/.cpan/build/String-Approx-3.28-5/blib/lib
/Users/hornenj/.cpan/build/HTTP-Request-Generator-0.06-5/blib/arch
/Users/hornenj/.cpan/build/HTTP-Request-Generator-0.06-5/blib/lib
/Users/hornenj/.cpan/build/Filter-signatures-0.15-41/blib/arch
/Users/hornenj/.cpan/build/Filter-signatures-0.15-41/blib/lib
/Users/hornenj/.cpan/build/Algorithm-Loops-1.032-41/blib/arch
/Users/hornenj/.cpan/build/Algorithm-Loops-1.032-41/blib/lib
/Users/hornenj/perl5/perlbrew/perls/perl-5.26.1/lib/site_perl/5.26.1/darwin-2level
/Users/hornenj/perl5/perlbrew/perls/perl-5.26.1/lib/site_perl/5.26.1
/Users/hornenj/perl5/perlbrew/perls/perl-5.26.1/lib/5.26.1/darwin-2level
/Users/hornenj/perl5/perlbrew/perls/perl-5.26.1/lib/5.26.1
.