Test-Moose-More v0.050 Perl 5 v5.32.1 darwin-2level

Status
Pass
From
Stanislaw Pusep
Dist
Test-Moose-More v0.050
Platform
Perl 5 v5.32.1 darwin-2level
Date
2021-02-19 20:13:42
ID
f63ed4e8-72ee-11eb-9f36-d3a15ad631b1
This distribution has been tested as part of the CPAN Testers
project, supporting the Perl programming language.  See
http://wiki.cpantesters.org/ for more information or email
questions to cpan-testers-discuss@perl.org


--
Dear RSRCHBOY,

This is a computer-generated report for Test-Moose-More-0.050
on perl 5.32.1, created by App::cpanminus::reporter 0.17 (1.7044).

Thank you for uploading your work to CPAN.  Congratulations!
All tests were successful.

Sections of this report:

    * Tester comments
    * Program output
    * Prerequisites
    * Environment and other context

------------------------------
TESTER COMMENTS
------------------------------

Additional comments from tester:

none provided

------------------------------
PROGRAM OUTPUT
------------------------------

Output from '':

Building and testing Test-Moose-More-0.050
cp lib/Test/Moose/More.pm blib/lib/Test/Moose/More.pm
cp lib/Test/Moose/More/Utils.pm blib/lib/Test/Moose/More/Utils.pm
Manifying 2 pod documents
PERL_DL_NONLAZY=1 "/Users/stan/perl5/perlbrew/perls/perl-5.32.1/bin/perl" "-MExtUtils::Command::MM" "-MTest::Harness" "-e" "undef *Test::Harness::Switches; test_harness(0, 'blib/lib', 'blib/arch')" t/*.t t/attribute_options_ok/*.t t/is_class_ok/*.t t/validate_attribute/*.t t/validate_class/*.t t/validate_role/*.t t/validate_thing/*.t t/wrapped/*.t
t/00-check-deps.t ...................................... ok
t/00-compile.t ......................................... ok
# 
# Versions for all modules listed in MYMETA.json (including optional ones):
# 
# === Configure Requires ===
# 
#     Module              Want Have
#     ------------------- ---- ----
#     ExtUtils::MakeMaker  any 7.44
# 
# === Build Requires ===
# 
#     Module              Want Have
#     ------------------- ---- ----
#     ExtUtils::MakeMaker  any 7.44
# 
# === Test Requires ===
# 
#     Module                  Want     Have
#     ---------------------- ----- --------
#     ExtUtils::MakeMaker      any     7.44
#     File::Spec               any     3.78
#     IO::Handle               any     1.42
#     IPC::Open3               any     1.21
#     List::Util              1.45     1.55
#     Moose                    any   2.2014
#     Moose::Meta::Attribute   any   2.2014
#     Moose::Role              any   2.2014
#     Moose::Util::MetaRole    any   2.2014
#     TAP::SimpleOutput      0.009    0.009
#     Test::Builder::Tester    any 1.302183
#     Test::CheckDeps        0.010    0.010
#     Test::More              0.94 1.302183
#     namespace::autoclean     any     0.29
# 
# === Test Recommends ===
# 
#     Module         Want     Have
#     ---------- -------- --------
#     CPAN::Meta 2.120900 2.150010
# 
# === Runtime Requires ===
# 
#     Module                       Want     Have
#     ---------------------------- ---- --------
#     Carp                          any     1.50
#     Data::OptList                 any    0.110
#     List::MoreUtils               any    0.430
#     List::Util                   1.45     1.55
#     Moose::Util                   any   2.2014
#     Moose::Util::TypeConstraints  any   2.2014
#     Scalar::Util                  any     1.55
#     Sub::Exporter::Progressive    any 0.001013
#     Syntax::Keyword::Junction     any 0.003008
#     Test::Builder                 any 1.302183
#     Test::Moose                   any   2.2014
#     Test::More                   0.94 1.302183
#     strict                        any     1.11
#     warnings                      any     1.47
# 
t/00-report-prereqs.t .................................. ok
t/attribute_options_ok/basic.t ......................... ok
t/attribute_options_ok/subtest-wrapper.t ............... ok
t/check_sugar.t ........................................ ok
t/definition_context.t ................................. ok
t/does_metaroles_ok.t .................................. ok
t/does_not_metaroles_ok.t .............................. ok
t/does_not_ok.t ........................................ ok
t/does_ok.t ............................................ ok
t/has_attribute_ok.t ................................... ok
t/is_anon_ok.t ......................................... ok
t/is_class_ok/basic.t .................................. ok
t/is_class_ok/moose-meta-attribute-should-be-moosey.t .. ok
t/is_immutable_ok.t .................................... ok
t/is_not_anon_ok.t ..................................... ok
t/is_role_ok.t ......................................... ok
t/meta_ok.t ............................................ ok
t/method_from_pkg_ok.t ................................. ok
t/method_is_accessor_ok.t .............................. ok
t/method_is_not_accessor_ok.t .......................... ok
t/method_not_from_pkg_ok.t ............................. ok
t/method_ok.t .......................................... ok
t/no_meta_ok.t ......................................... ok
t/pristine_ok.t ........................................ ok
t/requires_method_ok.t ................................. ok
t/subtest-1.t .......................................... ok
t/validate_attribute/basic.t ........................... ok
t/validate_attribute/coerce.t .......................... ok
t/validate_attribute/in_roles.t ........................ ok
t/validate_attribute/lazy.t ............................ ok
t/validate_attribute/required.t ........................ ok
t/validate_class/basic.t ............................... ok
t/validate_class/metaclasses.t ......................... ok
t/validate_class/metaroles.t ........................... ok
t/validate_class/methods.t ............................. ok
t/validate_role/basic.t ................................ ok
t/validate_role/compose.t .............................. ok
t/validate_role/metaclasses.t .......................... ok
t/validate_role/metaroles.t ............................ ok
t/validate_thing/metaclasses.t ......................... ok
t/validate_thing/methods.t ............................. ok
t/validate_thing/sugar.t ............................... ok
t/wrapped/in_roles.t ................................... ok
All tests successful.

Test Summary Report
-------------------
t/00-check-deps.t                                    (Wstat: 0 Tests: 32 Failed: 0)
  TODO passed:   32
Files=45, Tests=235, 11 wallclock secs ( 0.12 usr  0.07 sys +  8.99 cusr  1.22 csys = 10.40 CPU)
Result: PASS

------------------------------
PREREQUISITES
------------------------------

Prerequisite modules loaded:

    No requirements found

------------------------------
ENVIRONMENT AND OTHER CONTEXT
------------------------------

Environment variables:

    LANG = en_US.UTF-8
    LC_ALL = en_US.UTF-8
    LC_CTYPE = UTF-8
    LC_TERMINAL = iTerm2
    LC_TERMINAL_VERSION = 3.4.4
    LDFLAGS = -L/usr/local/opt/curl/lib
    PATH = /Users/stan/.vim/bin:/Users/stan/bin:/Users/stan/node_modules/.bin:/usr/local/sbin:/Users/stan/perl5/perlbrew/bin:/Users/stan/perl5/perlbrew/perls/perl-5.32.1/bin:/usr/local/opt/curl/bin:/usr/local/bin:/usr/bin:/bin:/usr/sbin:/sbin:/Users/stan/.vim/bin:/Users/stan/bin:/Users/stan/node_modules/.bin:/usr/local/sbin:/usr/local/opt/curl/bin
    PERLBREW_HOME = /Users/stan/.perlbrew
    PERLBREW_MANPATH = /Users/stan/perl5/perlbrew/perls/perl-5.32.1/man
    PERLBREW_PATH = /Users/stan/perl5/perlbrew/bin:/Users/stan/perl5/perlbrew/perls/perl-5.32.1/bin
    PERLBREW_PERL = perl-5.32.1
    PERLBREW_ROOT = /Users/stan/perl5/perlbrew
    PERLBREW_SHELLRC_VERSION = 0.91
    PERLBREW_VERSION = 0.91
    PERL_MM_USE_DEFAULT = 1
    SHELL = /usr/local/bin/zsh
    TERM = screen
    TMPDIR = /var/folders/tk/hx6fvpsj3yzbyd1k1br945mc0000gn/T/

Perl special variables (and OS-specific diagnostics, for MSWin32):

    EGID = 20 20 12 61 79 80 81 98 701 33 100 204 250 395 398 399 400
    EUID = 501
    EXECUTABLE_NAME = /Users/stan/perl5/perlbrew/perls/perl-5.32.1/bin/perl
    GID = 20 20 12 61 79 80 81 98 701 33 100 204 250 395 398 399 400
    UID = 501

Perl module toolchain versions installed:

    Module              Have    
    ------------------- --------
    CPAN                2.28    
    CPAN::Meta          2.150010
    Cwd                 3.78    
    ExtUtils::CBuilder  0.280236
    ExtUtils::Command   7.60    
    ExtUtils::Install   2.20    
    ExtUtils::MakeMaker 7.60    
    ExtUtils::Manifest  1.73    
    ExtUtils::ParseXS   3.40    
    File::Spec          3.78    
    JSON                4.03    
    JSON::PP            4.06    
    Module::Build       0.4231  
    Module::Signature   n/a     
    Parse::CPAN::Meta   2.150010
    Test::Harness       3.42    
    Test::More          1.302183
    YAML                1.30    
    YAML::Syck          n/a     
    version             0.9928  


--

Summary of my perl5 (revision 5 version 32 subversion 1) configuration:
   
  Platform:
    osname=darwin
    osvers=20.3.0
    archname=darwin-2level
    uname='darwin imac.fritz.box 20.3.0 darwin kernel version 20.3.0: thu jan 21 00:07:06 pst 2021; root:xnu-7195.81.3~1release_x86_64 x86_64 '
    config_args='-de -Dprefix=/Users/stan/perl5/perlbrew/perls/perl-5.32.1 -Aeval:scriptdir=/Users/stan/perl5/perlbrew/perls/perl-5.32.1/bin'
    hint=recommended
    useposix=true
    d_sigaction=define
    useithreads=undef
    usemultiplicity=undef
    use64bitint=define
    use64bitall=define
    uselongdouble=undef
    usemymalloc=n
    default_inc_excludes_dot=define
    bincompat5005=undef
  Compiler:
    cc='cc'
    ccflags ='-fno-common -DPERL_DARWIN -mmacosx-version-min=11.2 -fno-strict-aliasing -pipe -fstack-protector-strong -I/usr/local/include -DPERL_USE_SAFE_PUTENV'
    optimize='-O3'
    cppflags='-fno-common -DPERL_DARWIN -mmacosx-version-min=11.2 -fno-strict-aliasing -pipe -fstack-protector-strong -I/usr/local/include'
    ccversion=''
    gccversion='Apple LLVM 12.0.0 (clang-1200.0.32.29)'
    gccosandvers=''
    intsize=4
    longsize=8
    ptrsize=8
    doublesize=8
    byteorder=12345678
    doublekind=3
    d_longlong=define
    longlongsize=8
    d_longdbl=define
    longdblsize=16
    longdblkind=3
    ivtype='long'
    ivsize=8
    nvtype='double'
    nvsize=8
    Off_t='off_t'
    lseeksize=8
    alignbytes=8
    prototype=define
  Linker and Libraries:
    ld='cc'
    ldflags =' -mmacosx-version-min=11.2 -fstack-protector-strong -L/usr/local/lib'
    libpth=/usr/local/lib /Library/Developer/CommandLineTools/usr/lib/clang/12.0.0/lib /Library/Developer/CommandLineTools/SDKs/MacOSX.sdk/usr/lib /Library/Developer/CommandLineTools/usr/lib /usr/lib
    libs=-lgdbm
    perllibs=
    libc=
    so=dylib
    useshrplib=false
    libperl=libperl.a
    gnulibc_version=''
  Dynamic Linking:
    dlsrc=dl_dlopen.xs
    dlext=bundle
    d_dlsymun=undef
    ccdlflags=' '
    cccdlflags=' '
    lddlflags=' -mmacosx-version-min=11.2 -bundle -undefined dynamic_lookup -L/usr/local/lib -fstack-protector-strong'


Characteristics of this binary (from libperl): 
  Compile-time options:
    HAS_TIMES
    PERLIO_LAYERS
    PERL_COPY_ON_WRITE
    PERL_DONT_CREATE_GVSV
    PERL_MALLOC_WRAP
    PERL_OP_PARENT
    PERL_PRESERVE_IVUV
    PERL_USE_SAFE_PUTENV
    USE_64_BIT_ALL
    USE_64_BIT_INT
    USE_LARGE_FILES
    USE_LOCALE
    USE_LOCALE_COLLATE
    USE_LOCALE_CTYPE
    USE_LOCALE_NUMERIC
    USE_LOCALE_TIME
    USE_PERLIO
    USE_PERL_ATOF
  Locally applied patches:
    Devel::PatchPerl 2.08
  Built under darwin
  Compiled at Feb 19 2021 18:52:46
  %ENV:
    PERLBREW_HOME="/Users/stan/.perlbrew"
    PERLBREW_MANPATH="/Users/stan/perl5/perlbrew/perls/perl-5.32.1/man"
    PERLBREW_PATH="/Users/stan/perl5/perlbrew/bin:/Users/stan/perl5/perlbrew/perls/perl-5.32.1/bin"
    PERLBREW_PERL="perl-5.32.1"
    PERLBREW_ROOT="/Users/stan/perl5/perlbrew"
    PERLBREW_SHELLRC_VERSION="0.91"
    PERLBREW_VERSION="0.91"
    PERL_MM_USE_DEFAULT="1"
  @INC:
    /Users/stan/perl5/perlbrew/perls/perl-5.32.1/lib/site_perl/5.32.1/darwin-2level
    /Users/stan/perl5/perlbrew/perls/perl-5.32.1/lib/site_perl/5.32.1
    /Users/stan/perl5/perlbrew/perls/perl-5.32.1/lib/5.32.1/darwin-2level
    /Users/stan/perl5/perlbrew/perls/perl-5.32.1/lib/5.32.1