YAML v1.27 Perl 5 v5.16.3 x86_64-linux-thread-multi

Status
Pass
From
Andreas J. König (ANDK)
Dist
YAML v1.27
Platform
Perl 5 v5.16.3 x86_64-linux-thread-multi
Date
2019-02-23 15:16:14
ID
f60a6f22-377d-11e9-9da2-911942e0152b
This distribution has been tested as part of the CPAN Testers
project, supporting the Perl programming language.  See
http://wiki.cpantesters.org/ for more information or email
questions to cpan-testers-discuss@perl.org


--
Dear Tina Muller,

This is a computer-generated report for YAML-1.27
on perl 5.16.3, created by CPAN-Reporter-1.2018.

Thank you for uploading your work to CPAN.  Congratulations!
All tests were successful.

Sections of this report:

    * Tester comments
    * Program output
    * Prerequisites
    * Environment and other context

------------------------------
TESTER COMMENTS
------------------------------

Additional comments from tester:

none provided

------------------------------
PROGRAM OUTPUT
------------------------------

Output from '/usr/bin/make test':

PERL_DL_NONLAZY=1 /home/sand/src/perl/repoperls/installed-perls/host/k93bionic/v5.16.3/7ee9/bin/perl "-MExtUtils::Command::MM" "-e" "test_harness(0, 'blib/lib', 'blib/arch')" t/*.t
Subroutine main::Dump redefined at /home/sand/src/perl/repoperls/installed-perls/host/k93bionic/v5.16.3/7ee9/lib/5.16.3/Exporter.pm line 66.
 at t/000-compile-modules.t line 9.
Subroutine main::Load redefined at /home/sand/src/perl/repoperls/installed-perls/host/k93bionic/v5.16.3/7ee9/lib/5.16.3/Exporter.pm line 66.
 at t/000-compile-modules.t line 9.
t/000-compile-modules.t ............ ok
t/2-scalars.t ...................... ok
t/author-pod-syntax.t .............. skipped: these tests are for testing by the author
t/basic-tests.t .................... ok
t/bugs-emailed.t ................... ok
t/bugs-rt.t ........................ ok
t/changes.t ........................ ok
t/dump-basics.t .................... ok
t/dump-blessed-glob.t .............. ok
t/dump-blessed.t ................... ok
t/dump-code.t ...................... ok
t/dump-file-utf8.t ................. ok
t/dump-file.t ...................... ok
t/dump-nested.t .................... ok
t/dump-opts.t ...................... ok
t/dump-perl-types-512.t ............ skipped: test only for perls before v5.13.5-11-gfb85c04
t/dump-perl-types-514.t ............ ok
t/dump-perl-types.t ................ ok
t/dump-stringify.t ................. ok
t/dump-stringy-numbers.t ........... ok
t/dump-synopsis.t .................. ok
t/dump-tests-512.t ................. skipped: test only for perls before v5.13.5-11-gfb85c04
t/dump-tests-514.t ................. ok
t/dump-tests.t ..................... ok
t/dump-works.t ..................... ok
t/errors.t ......................... ok
t/export.t ......................... ok
t/freeze-thaw.t .................... ok
t/global-api.t ..................... ok
t/inbox.t .......................... ok
t/io-handle.t ...................... ok
t/issue-149.t ...................... ok
t/issue-69.t ....................... ok
t/load-code.t ...................... ok
t/load-fails.t ..................... ok
t/load-passes.t .................... ok
t/load-slides.t .................... ok
t/load-spec.t ...................... ok
t/load-tests.t ..................... ok
t/load-works.t ..................... ok
t/marshall.t ....................... ok
t/no-load-blessed.t ................ ok
t/node-info.t ...................... ok
t/numify.t ......................... ok
t/preserve.t ....................... ok
t/pugs-objects.t ................... ok
t/references.t ..................... ok
t/regexp.t ......................... ok
t/roundtrip.t ...................... ok
t/rt-90593.t ....................... ok
t/svk.t ............................ ok
t/test.t ........................... ok
t/trailing-comments-content.t ...... ok
t/trailing-comments-non-content.t .. ok
All tests successful.
Files=54, Tests=541, 10 wallclock secs ( 0.14 usr  0.26 sys +  6.54 cusr  1.30 csys =  8.24 CPU)
Result: PASS

------------------------------
PREREQUISITES
------------------------------

Prerequisite modules loaded:

requires:

    Module              Need     Have    
    ------------------- -------- --------
    perl                5.008001 5.016003

build_requires:

    Module              Need     Have    
    ------------------- -------- --------
    Encode              0        2.44_01 
    ExtUtils::MakeMaker 0        6.64    
    Test::Deep          0        1.128   
    Test::More          0.88     1.302160
    Test::YAML          1.05     1.07    

configure_requires:

    Module              Need     Have    
    ------------------- -------- --------
    ExtUtils::MakeMaker 0        6.64    


------------------------------
ENVIRONMENT AND OTHER CONTEXT
------------------------------

Environment variables:

    LANG = en_US.UTF-8
    PATH = /home/sand/bin:/usr/local/bin:/usr/local/sbin:/usr/sbin:/usr/bin:/sbin:/bin:/usr/games:/usr/local/games:/usr/local/perl/bin:/usr/X11/bin
    PERL5LIB = /tmp/loop_over_bdir-bQg7EB/Test-YAML-1.07-yQHEsA/blib/arch:/tmp/loop_over_bdir-bQg7EB/Test-YAML-1.07-yQHEsA/blib/lib:/tmp/loop_over_bdir-bQg7EB/Test-Base-0.89-tKUvN2/blib/arch:/tmp/loop_over_bdir-bQg7EB/Test-Base-0.89-tKUvN2/blib/lib:/tmp/loop_over_bdir-bQg7EB/Text-Diff-1.45-l3Wa5r/blib/arch:/tmp/loop_over_bdir-bQg7EB/Text-Diff-1.45-l3Wa5r/blib/lib:/tmp/loop_over_bdir-bQg7EB/Algorithm-Diff-1.1903-uYhg1I/blib/arch:/tmp/loop_over_bdir-bQg7EB/Algorithm-Diff-1.1903-uYhg1I/blib/lib:/tmp/loop_over_bdir-bQg7EB/Spiffy-0.46-xgSELQ/blib/arch:/tmp/loop_over_bdir-bQg7EB/Spiffy-0.46-xgSELQ/blib/lib
    PERL5OPT = 
    PERL5_CPANPLUS_IS_RUNNING = 13792
    PERL5_CPAN_IS_RUNNING = 13792
    SHELL = /usr/bin/zsh
    TERM = screen

Perl special variables (and OS-specific diagnostics, for MSWin32):

    $^X = /home/sand/src/perl/repoperls/installed-perls/host/k93bionic/v5.16.3/7ee9/bin/perl
    $UID/$EUID = 1005 / 1005
    $GID = 1005 1005
    $EGID = 1005 1005

Perl module toolchain versions installed:

    Module              Have    
    ------------------- --------
    CPAN                1.9800  
    CPAN::Meta          2.150010
    Cwd                 3.39_02 
    ExtUtils::CBuilder  0.280206
    ExtUtils::Command   1.17    
    ExtUtils::Install   1.58    
    ExtUtils::MakeMaker 6.64    
    ExtUtils::Manifest  1.61    
    ExtUtils::ParseXS   3.16    
    File::Spec          3.39_02 
    JSON                n/a     
    JSON::PP            4.00    
    Module::Build       0.4224  
    Module::Signature   n/a     
    Parse::CPAN::Meta   2.150010
    Test::Harness       3.42    
    Test::More          1.302160
    YAML                n/a     
    YAML::Syck          n/a     
    version             0.99    


--

Summary of my perl5 (revision 5 version 16 subversion 3) configuration:
  Derived from: fd04d42d38f4751b981eb6e9213ee1ab8ef11ea6
  Platform:
    osname=linux, osvers=4.15.0-43-generic, archname=x86_64-linux-thread-multi
    uname='linux k93bionic 4.15.0-43-generic #46-ubuntu smp thu dec 6 14:45:28 utc 2018 x86_64 x86_64 x86_64 gnulinux '
    config_args='-Dprefix=/home/sand/src/perl/repoperls/installed-perls/host/k93bionic/v5.16.3/7ee9 -Dmyhostname=k93bionic -Dinstallusrbinperl=n -Uversiononly -Dusedevel -des -Ui_db -Dlibswanted=cl pthread socket inet nsl gdbm dbm malloc dl ld sun m crypt sec util c cposix posix ucb BSD gdbm_compat -Duseithreads -Uuselongdouble -DEBUGGING=-g'
    hint=recommended, useposix=true, d_sigaction=define
    useithreads=define, usemultiplicity=define
    useperlio=define, d_sfio=undef, uselargefiles=define, usesocks=undef
    use64bitint=define, use64bitall=define, uselongdouble=undef
    usemymalloc=n, bincompat5005=undef
  Compiler:
    cc='cc', ccflags ='-D_REENTRANT -D_GNU_SOURCE -fno-strict-aliasing -pipe -fstack-protector -I/usr/local/include -D_LARGEFILE_SOURCE -D_FILE_OFFSET_BITS=64',
    optimize='-O2 -g',
    cppflags='-D_REENTRANT -D_GNU_SOURCE -fno-strict-aliasing -pipe -fstack-protector -I/usr/local/include'
    ccversion='', gccversion='7.3.0', gccosandvers=''
    intsize=4, longsize=8, ptrsize=8, doublesize=8, byteorder=12345678
    d_longlong=define, longlongsize=8, d_longdbl=define, longdblsize=16
    ivtype='long', ivsize=8, nvtype='double', nvsize=8, Off_t='off_t', lseeksize=8
    alignbytes=8, prototype=define
  Linker and Libraries:
    ld='cc', ldflags =' -fstack-protector -L/usr/local/lib'
    libpth=/usr/local/lib /lib/x86_64-linux-gnu /lib/../lib /usr/lib/x86_64-linux-gnu /usr/lib/../lib /lib /usr/lib
    libs=-lpthread -lnsl -ldl -lm -lcrypt -lutil -lc
    perllibs=-lpthread -lnsl -ldl -lm -lcrypt -lutil -lc
    libc=libc-2.27.so, so=so, useshrplib=false, libperl=libperl.a
    gnulibc_version='2.27'
  Dynamic Linking:
    dlsrc=dl_dlopen.xs, dlext=so, d_dlsymun=undef, ccdlflags='-Wl,-E'
    cccdlflags='-fPIC', lddlflags='-shared -O2 -g -L/usr/local/lib -fstack-protector'


Characteristics of this binary (from libperl): 
  Compile-time options: HAS_TIMES MULTIPLICITY PERLIO_LAYERS
                        PERL_DONT_CREATE_GVSV PERL_IMPLICIT_CONTEXT
                        PERL_MALLOC_WRAP PERL_PRESERVE_IVUV PERL_USE_DEVEL
                        USE_64_BIT_ALL USE_64_BIT_INT USE_ITHREADS
                        USE_LARGE_FILES USE_LOCALE USE_LOCALE_COLLATE
                        USE_LOCALE_CTYPE USE_LOCALE_NUMERIC USE_PERLIO
                        USE_PERL_ATOF USE_REENTRANT_API
  Locally applied patches:
	uncommitted-changes
  Built under linux
  Compiled at Feb  2 2019 08:10:04
  %ENV:
    PERL5LIB="/tmp/loop_over_bdir-bQg7EB/Test-YAML-1.07-yQHEsA/blib/arch:/tmp/loop_over_bdir-bQg7EB/Test-YAML-1.07-yQHEsA/blib/lib:/tmp/loop_over_bdir-bQg7EB/Test-Base-0.89-tKUvN2/blib/arch:/tmp/loop_over_bdir-bQg7EB/Test-Base-0.89-tKUvN2/blib/lib:/tmp/loop_over_bdir-bQg7EB/Text-Diff-1.45-l3Wa5r/blib/arch:/tmp/loop_over_bdir-bQg7EB/Text-Diff-1.45-l3Wa5r/blib/lib:/tmp/loop_over_bdir-bQg7EB/Algorithm-Diff-1.1903-uYhg1I/blib/arch:/tmp/loop_over_bdir-bQg7EB/Algorithm-Diff-1.1903-uYhg1I/blib/lib:/tmp/loop_over_bdir-bQg7EB/Spiffy-0.46-xgSELQ/blib/arch:/tmp/loop_over_bdir-bQg7EB/Spiffy-0.46-xgSELQ/blib/lib"
    PERL5OPT=""
    PERL5_CPANPLUS_IS_RUNNING="13792"
    PERL5_CPAN_IS_RUNNING="13792"
  @INC:
    /tmp/loop_over_bdir-bQg7EB/Test-YAML-1.07-yQHEsA/blib/arch
    /tmp/loop_over_bdir-bQg7EB/Test-YAML-1.07-yQHEsA/blib/lib
    /tmp/loop_over_bdir-bQg7EB/Test-Base-0.89-tKUvN2/blib/arch
    /tmp/loop_over_bdir-bQg7EB/Test-Base-0.89-tKUvN2/blib/lib
    /tmp/loop_over_bdir-bQg7EB/Text-Diff-1.45-l3Wa5r/blib/arch
    /tmp/loop_over_bdir-bQg7EB/Text-Diff-1.45-l3Wa5r/blib/lib
    /tmp/loop_over_bdir-bQg7EB/Algorithm-Diff-1.1903-uYhg1I/blib/arch
    /tmp/loop_over_bdir-bQg7EB/Algorithm-Diff-1.1903-uYhg1I/blib/lib
    /tmp/loop_over_bdir-bQg7EB/Spiffy-0.46-xgSELQ/blib/arch
    /tmp/loop_over_bdir-bQg7EB/Spiffy-0.46-xgSELQ/blib/lib
    /home/sand/src/perl/repoperls/installed-perls/host/k93bionic/v5.16.3/7ee9/lib/site_perl/5.16.3/x86_64-linux-thread-multi
    /home/sand/src/perl/repoperls/installed-perls/host/k93bionic/v5.16.3/7ee9/lib/site_perl/5.16.3
    /home/sand/src/perl/repoperls/installed-perls/host/k93bionic/v5.16.3/7ee9/lib/5.16.3/x86_64-linux-thread-multi
    /home/sand/src/perl/repoperls/installed-perls/host/k93bionic/v5.16.3/7ee9/lib/5.16.3
    .