Net-Amazon-S3 v0.97 Perl 5 v5.18.4 MSWin32-x64-multi-thread

Status
Pass
From
twata
Dist
Net-Amazon-S3 v0.97
Platform
Perl 5 v5.18.4 MSWin32-x64-multi-thread
Date
2020-10-10 14:52:20
ID
f5fee959-6e88-1014-9de3-df3a76a13fd6
This distribution has been tested as part of the CPAN Testers
project, supporting the Perl programming language.  See
http://wiki.cpantesters.org/ for more information or email
questions to cpan-testers-discuss@perl.org


--
Dear Branislav Zahradnik,

This is a computer-generated report for Net-Amazon-S3-0.97
on perl 5.18.4, created by CPAN-Reporter-1.2018.

Thank you for uploading your work to CPAN.  Congratulations!
All tests were successful.

Sections of this report:

    * Tester comments
    * Program output
    * Prerequisites
    * Environment and other context

------------------------------
TESTER COMMENTS
------------------------------

Additional comments from tester:

none provided

------------------------------
PROGRAM OUTPUT
------------------------------

Output from 'C:\Strawberry\c\bin\dmake.exe test':

C:\"Strawberry\perl\bin\perl.exe" "-MExtUtils::Command::MM" "-MTest::Harness" "-e" "undef *Test::Harness::Switches; test_harness(0, 'blib\lib', 'blib\arch')" t/*.t
t/01api.t ................................ skipped: Testing this module for real costs money. Enable it by setting true value to env variable AMAZON_S3_EXPENSIVE_TESTS
t/02client.t ............................. skipped: Testing this module for real costs money.
t/03token.t .............................. skipped: Need these vars in ENV: AWS_ACCESS_KEY_ID, AWS_ACCESS_KEY_SECRET, AWS_ACCESS_TOKEN
t/acl-set.t .............................. ok
t/api-bucket-acl-get.t ................... ok
t/api-bucket-acl-set.t ................... ok
t/api-bucket-create.t .................... ok
t/api-bucket-delete.t .................... ok
t/api-bucket-objects-delete.t ............ ok
t/api-bucket-objects-list.t .............. ok
t/api-bucket-tags-add.t .................. ok
t/api-bucket-tags-delete.t ............... ok
t/api-build-bucket.t ..................... ok
t/api-construct.t ........................ ok
t/api-object-acl-get.t ................... ok
t/api-object-acl-set.t ................... ok
t/api-object-create.t .................... ok
t/api-object-delete.t .................... ok
t/api-object-fetch.t ..................... ok
t/api-object-head.t ...................... ok
t/api-object-tags-add.t .................. ok
t/api-object-tags-delete.t ............... ok
t/api-service-buckets-list.t ............. ok
t/author-eol.t ........................... skipped: these tests are for testing by the author
t/client-bucket-acl-get.t ................ ok
t/client-bucket-acl-set.t ................ ok
t/client-bucket-create.t ................. ok
t/client-bucket-delete.t ................. ok
t/client-bucket-objects-delete.t ......... ok
t/client-bucket-objects-list.t ........... ok
t/client-bucket-tags-add.t ............... ok
t/client-bucket-tags-delete.t ............ ok
t/client-construct.t ..................... ok
t/client-object-acl-set.t ................ ok
t/client-object-create.t ................. ok
t/client-object-delete.t ................. ok
t/client-object-fetch.t .................. ok
t/client-object-tags-add.t ............... ok
t/client-object-tags-delete.t ............ ok
t/client-service-buckets-list.t .......... ok
t/error-handler-x.t ...................... ok
t/issue-39-content-length-0.t ............ ok
t/issue-88-non-standard-service-port.t ... ok
t/query-string-authentication-uri.t ...... ok
t/request.t .............................. ok
t/response.t ............................. ok
t/s3-operation-bucket-acl-fetch.t ........ ok
t/s3-operation-bucket-acl-set.t .......... ok
t/s3-operation-bucket-create.t ........... ok
t/s3-operation-bucket-delete.t ........... ok
t/s3-operation-bucket-location.t ......... ok
t/s3-operation-bucket-tags-add.t ......... ok
t/s3-operation-bucket-tags-delete.t ...... ok
t/s3-operation-buckets-list.t ............ ok
t/s3-operation-object-acl-fetch.t ........ ok
t/s3-operation-object-acl-set.t .......... ok
t/s3-operation-object-add.t .............. ok
t/s3-operation-object-copy.t ............. ok
t/s3-operation-object-delete.t ........... ok
t/s3-operation-object-fetch.t ............ ok
t/s3-operation-object-head.t ............. ok
t/s3-operation-object-restore.t .......... ok
t/s3-operation-object-tags-add.t ......... ok
t/s3-operation-object-tags-delete.t ...... ok
t/s3-operation-object-upload-abort.t ..... ok
t/s3-operation-object-upload-complete.t .. ok
t/s3-operation-object-upload-create.t .... ok
t/s3-operation-object-upload-part.t ...... ok
t/s3-operation-objects-delete.t .......... ok
t/s3-operation-objects-list.t ............ ok
t/s3-request-bucket-acl-fetch.t .......... ok
t/s3-request-bucket-acl-set.t ............ ok
t/s3-request-bucket-create.t ............. ok
t/s3-request-bucket-delete.t ............. ok
t/s3-request-bucket-location.t ........... ok
t/s3-request-bucket-objects-delete.t ..... ok
t/s3-request-bucket-objects-list.t ....... ok
t/s3-request-bucket-tags-add.t ........... ok
t/s3-request-bucket-tags-delete.t ........ ok
t/s3-request-object-acl-fetch.t .......... ok
t/s3-request-object-acl-set.t ............ ok
t/s3-request-object-add.t ................ ok
t/s3-request-object-delete.t ............. ok
t/s3-request-object-fetch.t .............. ok
t/s3-request-object-restore.t ............ ok
t/s3-request-object-tags-add.t ........... ok
t/s3-request-object-tags-delete.t ........ ok
t/s3-request-object-upload-abort.t ....... ok
t/s3-request-object-upload-complete.t .... ok
t/s3-request-object-upload-create.t ...... ok
t/s3-request-object-upload-part.t ........ ok
t/s3-request-object-upload-parts.t ....... ok
t/s3-request-service-buckets-list.t ...... ok
t/s3-response-object-upload-create.t ..... ok
t/s3-response-service-buckets-list.t ..... ok
t/signature-v4-with-security-token.t ..... ok
t/utils-parse-arguments.t ................ ok
t/vendor-amazon.t ........................ ok
t/vendor-generic.t ....................... ok
t/vendor-info.t .......................... ok
All tests successful.
Files=100, Tests=523, 342 wallclock secs ( 0.53 usr +  0.30 sys =  0.83 CPU)
Result: PASS

------------------------------
PREREQUISITES
------------------------------

Prerequisite modules loaded:

requires:

    Module                                 Need     Have      
    -------------------------------------- -------- ----------
    Carp                                   0        1.3301    
    constant                               0        1.33      
    Data::Stream::Bulk::Callback           0        0.11      
    DateTime::Format::HTTP                 0        0.42      
    Digest::HMAC_SHA1                      0        1.03      
    Digest::MD5                            0        2.58      
    Digest::MD5::File                      0        0.08      
    Digest::SHA                            0        5.92      
    Exporter::Tiny                         0        1.002001  
    File::Find::Rule                       0        0.33      
    File::stat                             0        1.07      
    Getopt::Long                           0        2.42      
    Hash::Util                             0        0.16      
    HTTP::Date                             0        6.02      
    HTTP::Response                         0        6.26      
    HTTP::Status                           0        6.26      
    IO::File                               1.14     1.41      
    LWP                                    6.03     6.08      
    LWP::UserAgent::Determined             0        1.07      
    MIME::Base64                           0        3.16      
    MIME::Types                            0        2.17      
    Moose                                  0.85     2.2013    
    Moose::Meta::Class                     0        2.2013    
    Moose::Object                          0        2.2013    
    Moose::Role                            0        2.2013    
    Moose::Util                            0        2.2013    
    Moose::Util::TypeConstraints           0        2.2013    
    MooseX::Role::Parameterized            0        1.08      
    MooseX::StrictConstructor              0.16     0.21      
    MooseX::Types::DateTime::MoreCoercions 0.07     0.15      
    namespace::clean                       0        0.25      
    parent                                 0        0.238     
    Path::Class                            0        0.35      
    Pod::Usage                             0        1.64      
    Ref::Util                              0        0.204     
    Regexp::Common                         0        2017060201
    Safe::Isa                              0        1.000010  
    Scalar::Util                           0        1.55      
    sort                                   0        2.02      
    strict                                 0        1.07      
    Sub::Override                          0        0.09      
    Term::Encoding                         0        0.03      
    Term::ProgressBar::Simple              0        0.03      
    Test::Deep                             v0.111.0 1.130     
    Test::LWP::UserAgent                   0        0.034     
    Test::More                             0        1.302182  
    Time::Piece                            0        1.29      
    URI                                    0        1.64      
    URI::Escape                            0        3.31      
    URI::QueryParam                        0        0         
    warnings                               0        1.18      
    XML::LibXML                            0        2.0116    
    XML::LibXML::XPathContext              0        2.0116    

build_requires:

    Module                                 Need     Have      
    -------------------------------------- -------- ----------
    ExtUtils::MakeMaker                    0        7.49_03   
    File::Temp                             0        0.2311    
    FindBin                                0        1.51      
    HTTP::Request                          0        6.26      
    lib                                    0        0.63      
    LWP::Simple                            0        6.00      
    Test::Deep                             v0.111.0 1.130     
    Test::Exception                        0        0.43      
    Test::MockTime                         0        0.17      
    Test::Warnings                         0        0.016     
    utf8                                   0        1.10      
    vars                                   0        1.03      

configure_requires:

    Module                                 Need     Have      
    -------------------------------------- -------- ----------
    ExtUtils::MakeMaker                    0        7.49_03   


------------------------------
ENVIRONMENT AND OTHER CONTEXT
------------------------------

Environment variables:

    COMSPEC = C:\WINDOWS\system32\cmd.exe
    NONINTERACTIVE_TESTING = 1
    NUMBER_OF_PROCESSORS = 4
    PATH = C:\home\golfball\perl5\bin;C:\WINDOWS\system32;C:\WINDOWS;C:\WINDOWS\System32\Wbem;C:\WINDOWS\System32\WindowsPowerShell\v1.0\;C:\Strawberry\c\bin;C:\Strawberry\perl\site\bin;C:\Strawberry\perl\bin
    PERL5LIB = C:\home\golfball\perl5\lib\perl5
    PERL5OPT = 
    PERL5_CPANPLUS_IS_RUNNING = 9700
    PERL5_CPAN_IS_RUNNING = 9700
    PERL_LOCAL_LIB_ROOT = C:\home\golfball\perl5
    PERL_MB_OPT = --install_base "C:\\home\\golfball\\perl5"
    PERL_MM_OPT = INSTALL_BASE=C:\\home\\golfball\\perl5
    PERL_MM_USE_DEFAULT = 1
    PERL_USE_UNSAFE_INC = 1
    PROCESSOR_IDENTIFIER = Intel64 Family 6 Model 58 Stepping 9, GenuineIntel
    TEMP = C:\Users\USER\AppData\Local\Temp
    TERM = dumb

Perl special variables (and OS-specific diagnostics, for MSWin32):

    $^X = C:\Strawberry\perl\bin\perl.exe
    $UID/$EUID = 0 / 0
    $GID = 0
    $EGID = 0
    Win32::GetOSName = Win8
    Win32::GetOSVersion = , 6, 2, 9200, 2, 0, 0, 256, 1
    Win32::FsType = NTFS
    Win32::IsAdminUser = 0

Perl module toolchain versions installed:

    Module              Have    
    ------------------- --------
    CPAN                2.28    
    CPAN::Meta          2.150010
    Cwd                 3.47    
    ExtUtils::CBuilder  0.280234
    ExtUtils::Command   7.49_03 
    ExtUtils::Install   2.18    
    ExtUtils::MakeMaker 7.49_03 
    ExtUtils::Manifest  1.70    
    ExtUtils::ParseXS   3.35    
    File::Spec          3.47    
    JSON                4.02    
    JSON::PP            4.05    
    Module::Build       0.4210  
    Module::Signature   0.87    
    Parse::CPAN::Meta   2.150010
    Test::Harness       3.42    
    Test::More          1.302182
    YAML                1.12    
    YAML::Syck          n/a     
    version             0.9928  


--

Summary of my perl5 (revision 5 version 18 subversion 4) configuration:
   
  Platform:
    osname=MSWin32, osvers=6.3, archname=MSWin32-x64-multi-thread
    uname='Win32 strawberry-perl 5.18.4.1 #1 Thu Oct  2 07:49:26 2014 x64'
    config_args='undef'
    hint=recommended, useposix=true, d_sigaction=undef
    useithreads=define, usemultiplicity=define
    useperlio=define, d_sfio=undef, uselargefiles=define, usesocks=undef
    use64bitint=define, use64bitall=undef, uselongdouble=undef
    usemymalloc=n, bincompat5005=undef
  Compiler:
    cc='gcc', ccflags =' -s -O2 -DWIN32 -DWIN64 -DCONSERVATIVE  -DPERL_TEXTMODE_SCRIPTS -DPERL_IMPLICIT_CONTEXT -DPERL_IMPLICIT_SYS -DUSE_PERLIO -fno-strict-aliasing -mms-bitfields',
    optimize='-s -O2',
    cppflags='-DWIN32'
    ccversion='', gccversion='4.7.3', gccosandvers=''
    intsize=4, longsize=4, ptrsize=8, doublesize=8, byteorder=12345678
    d_longlong=define, longlongsize=8, d_longdbl=define, longdblsize=12
    ivtype='long long', ivsize=8, nvtype='double', nvsize=8, Off_t='long long', lseeksize=8
    alignbytes=8, prototype=define
  Linker and Libraries:
    ld='g++', ldflags ='-s -L"C:\Strawberry\perl\lib\CORE" -L"C:\Strawberry\c\lib"'
    libpth=C:\Strawberry\c\lib C:\Strawberry\c\x86_64-w64-mingw32\lib C:\Strawberry\c\lib\gcc\x86_64-w64-mingw32\4.7.3
    libs=-lmoldname -lkernel32 -luser32 -lgdi32 -lwinspool -lcomdlg32 -ladvapi32 -lshell32 -lole32 -loleaut32 -lnetapi32 -luuid -lws2_32 -lmpr -lwinmm -lversion -lodbc32 -lodbccp32 -lcomctl32
    perllibs=-lmoldname -lkernel32 -luser32 -lgdi32 -lwinspool -lcomdlg32 -ladvapi32 -lshell32 -lole32 -loleaut32 -lnetapi32 -luuid -lws2_32 -lmpr -lwinmm -lversion -lodbc32 -lodbccp32 -lcomctl32
    libc=, so=dll, useshrplib=true, libperl=libperl518.a
    gnulibc_version=''
  Dynamic Linking:
    dlsrc=dl_win32.xs, dlext=dll, d_dlsymun=undef, ccdlflags=' '
    cccdlflags=' ', lddlflags='-mdll -s -L"C:\Strawberry\perl\lib\CORE" -L"C:\Strawberry\c\lib"'


Characteristics of this binary (from libperl): 
  Compile-time options: HAS_TIMES HAVE_INTERP_INTERN MULTIPLICITY
                        PERLIO_LAYERS PERL_DONT_CREATE_GVSV
                        PERL_HASH_FUNC_ONE_AT_A_TIME_HARD
                        PERL_IMPLICIT_CONTEXT PERL_IMPLICIT_SYS
                        PERL_MALLOC_WRAP PERL_PRESERVE_IVUV PERL_SAWAMPERSAND
                        USE_64_BIT_INT USE_ITHREADS USE_LARGE_FILES
                        USE_LOCALE USE_LOCALE_COLLATE USE_LOCALE_CTYPE
                        USE_LOCALE_NUMERIC USE_PERLIO USE_PERL_ATOF
  Built under MSWin32
  Compiled at Oct  2 2014 07:58:36
  %ENV:
    PERL5LIB="C:\home\golfball\perl5\lib\perl5"
    PERL5_CPANPLUS_IS_RUNNING="9700"
    PERL5_CPAN_IS_RUNNING="9700"
    PERL_LOCAL_LIB_ROOT="C:\home\golfball\perl5"
    PERL_MB_OPT="--install_base "C:\\home\\golfball\\perl5""
    PERL_MM_OPT="INSTALL_BASE=C:\\home\\golfball\\perl5"
    PERL_MM_USE_DEFAULT="1"
    PERL_USE_UNSAFE_INC="1"
  @INC:
    C:\home\golfball\perl5\lib\perl5/MSWin32-x64-multi-thread
    C:\home\golfball\perl5\lib\perl5
    C:/Strawberry/perl/site/lib
    C:/Strawberry/perl/vendor/lib
    C:/Strawberry/perl/lib
    .