Report for MooseX-WithCache-0.01002

Back
From: metabase:user:fed57a20-ca61-11e0-a8f8-2309af9bf95a
Subject: PASS MooseX-WithCache-0.01002 v5.12.4 GNU/Linux
Date: 2012-01-19T13:17:39Z

This distribution has been tested as part of the CPAN Testers
project, supporting the Perl programming language.  See
http://wiki.cpantesters.org/ for more information or email
questions to cpan-testers-discuss@perl.org


--
Dear Daisuke Maki,

This is a computer-generated report for MooseX-WithCache-0.01002
on perl 5.12.4, created by CPAN-Reporter-1.2003.

Thank you for uploading your work to CPAN.  Congratulations!
All tests were successful.

Sections of this report:

    * Tester comments
    * Program output
    * Prerequisites
    * Environment and other context

------------------------------
TESTER COMMENTS
------------------------------

Additional comments from tester:

this report is from an automated smoke testing program
and was not reviewed by a human for accuracy

------------------------------
PROGRAM OUTPUT
------------------------------

Output from '/usr/bin/make test':

PERL_DL_NONLAZY=1 /home/kmg/perl5/perlbrew/perls/perl-5.12.4/bin/perl "-MExtUtils::Command::MM" "-e" "test_harness(0, 'inc', 'blib/lib', 'blib/arch')" t/*.t t/*/*.t
t/00_compile.t ............... ok
t/02_memcached.t ............. skipped: no memcached server found
t/03_chi.t ................... skipped: CHI not available
t/04_fastmmap.t .............. skipped: no Cache::FastMmap found
t/deprecated/00_compile.t .... ok
t/deprecated/02_memcached.t .. skipped: no memcached server found
t/deprecated/03_chi.t ........ skipped: CHI not available
t/deprecated/04_fastmmap.t ... skipped: no Cache::FastMmap found
All tests successful.
Files=8, Tests=2,  6 wallclock secs ( 0.07 usr  0.05 sys +  5.36 cusr  0.43 csys =  5.91 CPU)
Result: PASS

------------------------------
PREREQUISITES
------------------------------

Prerequisite modules loaded:

requires:

    Module                      Need  Have    
    --------------------------- ----- --------
    Cache::Memcached            0     1.29    
    Data::Dumper                0     2.131   
    Digest::MD5                 0     2.39    
    Moose                       0.59  2.0401  
    MooseX::Role::Parameterized 0     0.27    
    perl                        5.008 5.012004

build_requires:

    Module                      Need  Have    
    --------------------------- ----- --------
    ExtUtils::MakeMaker         6.42  6.62    
    IO::Socket::INET            0     1.31    
    Test::Exception             0     0.31    
    Test::More                  0     0.98    

configure_requires:

    Module                      Need  Have    
    --------------------------- ----- --------
    ExtUtils::MakeMaker         6.42  6.62    


------------------------------
ENVIRONMENT AND OTHER CONTEXT
------------------------------

Environment variables:

    AUTOMATED_TESTING = 1
    LANG = ja_JP.UTF-8
    LC_MESSAGES = C
    MANPATH_WITHOUT_PERLBREW = 
    PATH = /home/kmg/perl5/perlbrew/bin:/home/kmg/perl5/perlbrew/perls/perl-5.12.4/bin:/home/kmg/perl/bin:/usr/local/bin:/usr/bin:/bin:/usr/local/games:/usr/games
    PATH_WITHOUT_PERLBREW = /home/kmg/perl/bin:/usr/local/bin:/usr/bin:/bin:/usr/local/games:/usr/games
    PERL5LIB = /home/kmg/.cpan/build/Cache-Memcached-1.29-_xFSme/blib/arch:/home/kmg/.cpan/build/Cache-Memcached-1.29-_xFSme/blib/lib:/home/kmg/.cpan/build/String-CRC32-1.4-HPlAgN/blib/arch:/home/kmg/.cpan/build/String-CRC32-1.4-HPlAgN/blib/lib:/home/kmg/.cpan/build/AnyEvent-HTTP-2.13-g_6DNj/blib/arch:/home/kmg/.cpan/build/AnyEvent-HTTP-2.13-g_6DNj/blib/lib:/home/kmg/.cpan/build/AnyEvent-6.13-CetkM3/blib/arch:/home/kmg/.cpan/build/AnyEvent-6.13-CetkM3/blib/lib:/home/kmg/.cpan/build/Log-Dispatch-Config-1.04-vwDwPj/blib/arch:/home/kmg/.cpan/build/Log-Dispatch-Config-1.04-vwDwPj/blib/lib:/home/kmg/.cpan/build/Regexp-Common-2011121001-7UcMav/blib/arch:/home/kmg/.cpan/build/Regexp-Common-2011121001-7UcMav/blib/lib:/home/kmg/.cpan/build/XML-Simple-2.18-yR2lrP/blib/arch:/home/kmg/.cpan/build/XML-Simple-2.18-yR2lrP/blib/lib:/home/kmg/.cpan/build/Smart-Args-0.10-EmvRPC/blib/arch:/home/kmg/.cpan/build/Smart-Args-0.10-EmvRPC/blib/lib:/home/kmg/.cpan/build/Hash-MultiKey-0.06-GzsxNe/blib/arch:/home/kmg/.cpan/build/Hash-MultiKey-0.06-GzsxNe/blib/lib:/home/kmg/perl/lib/perl5:/home/kmg/perl/lib/site_perl
    PERL5OPT = 
    PERL5_CPANPLUS_IS_RUNNING = 3432
    PERL5_CPAN_IS_RUNNING = 3432
    PERL5_CPAN_IS_RUNNING_IN_RECURSION = 1178,3432
    PERLBREW_BASHRC_VERSION = 0.39
    PERLBREW_HOME = /home/kmg/.perlbrew
    PERLBREW_MANPATH = /home/kmg/perl5/perlbrew/perls/perl-5.12.4/man
    PERLBREW_PATH = /home/kmg/perl5/perlbrew/bin:/home/kmg/perl5/perlbrew/perls/perl-5.12.4/bin
    PERLBREW_PERL = perl-5.12.4
    PERLBREW_ROOT = /home/kmg/perl5/perlbrew
    PERLBREW_VERSION = 0.39
    PERL_CR_SMOKER_CURRENT = WebService-Async-0.04
    PERL_EXTUTILS_AUTOINSTALL = --defaultdeps
    PERL_MM_USE_DEFAULT = 1
    SHELL = /bin/bash
    TERM = screen

Perl special variables (and OS-specific diagnostics, for MSWin32):

    $^X = /home/kmg/perl5/perlbrew/perls/perl-5.12.4/bin/perl
    $UID/$EUID = 1001 / 1001
    $GID = 1001 1001
    $EGID = 1001 1001

Perl module toolchain versions installed:

    Module              Have    
    ------------------- --------
    CPAN                1.9800  
    CPAN::Meta          2.113640
    Cwd                 3.33    
    ExtUtils::CBuilder  0.280202
    ExtUtils::Command   1.17    
    ExtUtils::Install   1.55    
    ExtUtils::MakeMaker 6.62    
    ExtUtils::Manifest  1.60    
    ExtUtils::ParseXS   3.11    
    File::Spec          3.33    
    JSON                2.53    
    JSON::PP            2.27200 
    Module::Build       0.3800  
    Module::Signature   0.68    
    Parse::CPAN::Meta   1.4401  
    Test::Harness       3.23    
    Test::More          0.98    
    YAML                0.78    
    YAML::Syck          1.19    
    version             0.95    


--

Summary of my perl5 (revision 5 version 12 subversion 4) configuration:
   
  Platform:
    osname=linux, osvers=2.6.32-5-686, archname=i686-linux-thread-multi
    uname='linux natsume 2.6.32-5-686 #1 smp thu nov 3 04:23:54 utc 2011 i686 gnulinux '
    config_args='-de -Dprefix=/home/kmg/perl5/perlbrew/perls/perl-5.12.4 -Duseithreads'
    hint=recommended, useposix=true, d_sigaction=define
    useithreads=define, usemultiplicity=define
    useperlio=define, d_sfio=undef, uselargefiles=define, usesocks=undef
    use64bitint=undef, use64bitall=undef, uselongdouble=undef
    usemymalloc=n, bincompat5005=undef
  Compiler:
    cc='cc', ccflags ='-D_REENTRANT -D_GNU_SOURCE -fno-strict-aliasing -pipe -fstack-protector -I/usr/local/include -D_LARGEFILE_SOURCE -D_FILE_OFFSET_BITS=64',
    optimize='-O2',
    cppflags='-D_REENTRANT -D_GNU_SOURCE -fno-strict-aliasing -pipe -fstack-protector -I/usr/local/include'
    ccversion='', gccversion='4.4.5', gccosandvers=''
    intsize=4, longsize=4, ptrsize=4, doublesize=8, byteorder=1234
    d_longlong=define, longlongsize=8, d_longdbl=define, longdblsize=12
    ivtype='long', ivsize=4, nvtype='double', nvsize=8, Off_t='off_t', lseeksize=8
    alignbytes=4, prototype=define
  Linker and Libraries:
    ld='cc', ldflags =' -fstack-protector -L/usr/local/lib'
    libpth=/usr/local/lib /lib/../lib /usr/lib/../lib /lib /usr/lib
    libs=-lnsl -ldl -lm -lcrypt -lutil -lpthread -lc
    perllibs=-lnsl -ldl -lm -lcrypt -lutil -lpthread -lc
    libc=/lib/libc-2.11.2.so, so=so, useshrplib=false, libperl=libperl.a
    gnulibc_version='2.11.2'
  Dynamic Linking:
    dlsrc=dl_dlopen.xs, dlext=so, d_dlsymun=undef, ccdlflags='-Wl,-E'
    cccdlflags='-fPIC', lddlflags='-shared -O2 -L/usr/local/lib -fstack-protector'


Characteristics of this binary (from libperl): 
  Compile-time options: MULTIPLICITY PERL_DONT_CREATE_GVSV
                        PERL_IMPLICIT_CONTEXT PERL_MALLOC_WRAP USE_ITHREADS
                        USE_LARGE_FILES USE_PERLIO USE_PERL_ATOF
                        USE_REENTRANT_API
  Built under linux
  Compiled at Jan  6 2012 14:47:09
  %ENV:
    PERL5LIB="/home/kmg/.cpan/build/Cache-Memcached-1.29-_xFSme/blib/arch:/home/kmg/.cpan/build/Cache-Memcached-1.29-_xFSme/blib/lib:/home/kmg/.cpan/build/String-CRC32-1.4-HPlAgN/blib/arch:/home/kmg/.cpan/build/String-CRC32-1.4-HPlAgN/blib/lib:/home/kmg/.cpan/build/AnyEvent-HTTP-2.13-g_6DNj/blib/arch:/home/kmg/.cpan/build/AnyEvent-HTTP-2.13-g_6DNj/blib/lib:/home/kmg/.cpan/build/AnyEvent-6.13-CetkM3/blib/arch:/home/kmg/.cpan/build/AnyEvent-6.13-CetkM3/blib/lib:/home/kmg/.cpan/build/Log-Dispatch-Config-1.04-vwDwPj/blib/arch:/home/kmg/.cpan/build/Log-Dispatch-Config-1.04-vwDwPj/blib/lib:/home/kmg/.cpan/build/Regexp-Common-2011121001-7UcMav/blib/arch:/home/kmg/.cpan/build/Regexp-Common-2011121001-7UcMav/blib/lib:/home/kmg/.cpan/build/XML-Simple-2.18-yR2lrP/blib/arch:/home/kmg/.cpan/build/XML-Simple-2.18-yR2lrP/blib/lib:/home/kmg/.cpan/build/Smart-Args-0.10-EmvRPC/blib/arch:/home/kmg/.cpan/build/Smart-Args-0.10-EmvRPC/blib/lib:/home/kmg/.cpan/build/Hash-MultiKey-0.06-GzsxNe/blib/arch:/home/kmg/.cpan/build/Hash-MultiKey-0.06-GzsxNe/blib/lib:/home/kmg/perl/lib/perl5:/home/kmg/perl/lib/site_perl"
    PERL5OPT=""
    PERL5_CPANPLUS_IS_RUNNING="3432"
    PERL5_CPAN_IS_RUNNING="3432"
    PERL5_CPAN_IS_RUNNING_IN_RECURSION="1178,3432"
    PERLBREW_BASHRC_VERSION="0.39"
    PERLBREW_HOME="/home/kmg/.perlbrew"
    PERLBREW_MANPATH="/home/kmg/perl5/perlbrew/perls/perl-5.12.4/man"
    PERLBREW_PATH="/home/kmg/perl5/perlbrew/bin:/home/kmg/perl5/perlbrew/perls/perl-5.12.4/bin"
    PERLBREW_PERL="perl-5.12.4"
    PERLBREW_ROOT="/home/kmg/perl5/perlbrew"
    PERLBREW_VERSION="0.39"
    PERL_CR_SMOKER_CURRENT="WebService-Async-0.04"
    PERL_EXTUTILS_AUTOINSTALL="--defaultdeps"
    PERL_MM_USE_DEFAULT="1"
  @INC:
    /home/kmg/.cpan/build/Cache-Memcached-1.29-_xFSme/blib/arch
    /home/kmg/.cpan/build/Cache-Memcached-1.29-_xFSme/blib/lib
    /home/kmg/.cpan/build/String-CRC32-1.4-HPlAgN/blib/arch
    /home/kmg/.cpan/build/String-CRC32-1.4-HPlAgN/blib/lib
    /home/kmg/.cpan/build/AnyEvent-HTTP-2.13-g_6DNj/blib/arch
    /home/kmg/.cpan/build/AnyEvent-HTTP-2.13-g_6DNj/blib/lib
    /home/kmg/.cpan/build/AnyEvent-6.13-CetkM3/blib/arch
    /home/kmg/.cpan/build/AnyEvent-6.13-CetkM3/blib/lib
    /home/kmg/.cpan/build/Log-Dispatch-Config-1.04-vwDwPj/blib/arch
    /home/kmg/.cpan/build/Log-Dispatch-Config-1.04-vwDwPj/blib/lib
    /home/kmg/.cpan/build/Regexp-Common-2011121001-7UcMav/blib/arch
    /home/kmg/.cpan/build/Regexp-Common-2011121001-7UcMav/blib/lib
    /home/kmg/.cpan/build/XML-Simple-2.18-yR2lrP/blib/arch
    /home/kmg/.cpan/build/XML-Simple-2.18-yR2lrP/blib/lib
    /home/kmg/.cpan/build/Smart-Args-0.10-EmvRPC/blib/arch
    /home/kmg/.cpan/build/Smart-Args-0.10-EmvRPC/blib/lib
    /home/kmg/.cpan/build/Hash-MultiKey-0.06-GzsxNe/blib/arch
    /home/kmg/.cpan/build/Hash-MultiKey-0.06-GzsxNe/blib/lib
    /home/kmg/perl/lib/perl5/i686-linux-thread-multi
    /home/kmg/perl/lib/perl5
    /home/kmg/perl/lib/site_perl/5.12.4/i686-linux-thread-multi
    /home/kmg/perl/lib/site_perl/5.12.4
    /home/kmg/perl/lib/site_perl
    /home/kmg/perl5/perlbrew/perls/perl-5.12.4/lib/site_perl/5.12.4/i686-linux-thread-multi
    /home/kmg/perl5/perlbrew/perls/perl-5.12.4/lib/site_perl/5.12.4
    /home/kmg/perl5/perlbrew/perls/perl-5.12.4/lib/5.12.4/i686-linux-thread-multi
    /home/kmg/perl5/perlbrew/perls/perl-5.12.4/lib/5.12.4
    .