Back
From: metabase:user:9c36dc84-a30f-11e0-a9fc-0a18abbd4f2f
Subject: PASS Dist-Zilla-Plugin-CheckExtraTests-0.029 v5.20.3 GNU/Linux
Date: 2016-09-17T12:26:29Z
This distribution has been tested as part of the CPAN Testers
project, supporting the Perl programming language. See
http://wiki.cpantesters.org/ for more information or email
questions to cpan-testers-discuss@perl.org
--
Dear David Golden,
This is a computer-generated report for Dist-Zilla-Plugin-CheckExtraTests-0.029
on perl 5.20.3, created by CPAN-Reporter-1.2018.
Thank you for uploading your work to CPAN. Congratulations!
All tests were successful.
Sections of this report:
* Tester comments
* Program output
* Prerequisites
* Environment and other context
------------------------------
TESTER COMMENTS
------------------------------
Additional comments from tester:
none provided
------------------------------
PROGRAM OUTPUT
------------------------------
Output from '/usr/bin/make test':
PERL_DL_NONLAZY=1 "/home/alceu/perl5/perlbrew/perls/perl-5.20.1/bin/perl" "-MExtUtils::Command::MM" "-MTest::Harness" "-e" "undef *Test::Harness::Switches; test_harness(0, 'blib/lib', 'blib/arch')" t/*.t
#
# Versions for all modules listed in MYMETA.json (including optional ones):
#
# === Configure Requires ===
#
# Module Want Have
# ------------------- ---- ----
# ExtUtils::MakeMaker 6.17 7.24
#
# === Configure Suggests ===
#
# Module Want Have
# -------- ------- -------
# JSON::PP 2.27300 2.27400
#
# === Build Requires ===
#
# Module Want Have
# ------------------- ---- ----
# ExtUtils::MakeMaker any 7.24
#
# === Test Requires ===
#
# Module Want Have
# ------------------------ ---- --------
# Capture::Tiny any 0.44
# Dist::Zilla::App::Tester any 6.007
# ExtUtils::MakeMaker any 7.24
# File::Spec any 3.62
# Params::Util any 1.07
# Sub::Exporter any 0.987
# Test::More 0.88 1.302052
# Test::Requires any 0.10
# Try::Tiny any 0.24
# lib any 0.63
#
# === Test Recommends ===
#
# Module Want Have
# ---------- -------- --------
# CPAN::Meta 2.120900 2.150010
#
# === Runtime Requires ===
#
# Module Want Have
# -------------------------------- ----- ------
# App::Prove 3.00 3.36
# Archive::Tar any 2.10
# Dist::Zilla 4.3 6.007
# Dist::Zilla::App any 6.007
# Dist::Zilla::Role::BeforeRelease any 6.007
# Dist::Zilla::Role::TestRunner any 6.007
# File::pushd any 1.009
# Moose 2 2.1805
# Path::Iterator::Rule any 1.012
# Path::Tiny 0.013 0.096
# namespace::autoclean 0.09 0.28
# strict any 1.08
# warnings any 1.23
#
t/00-report-prereqs.t .. ok
t/checkxt.t ............ ok
t/runxt.t .............. ok
t/withblib.t ........... ok
All tests successful.
Files=4, Tests=20, 8 wallclock secs ( 0.05 usr 0.00 sys + 6.09 cusr 1.11 csys = 7.25 CPU)
Result: PASS
------------------------------
PREREQUISITES
------------------------------
Prerequisite modules loaded:
requires:
Module Need Have
-------------------------------- ----- --------
App::Prove 3.00 3.36
Archive::Tar 0 2.10
Dist::Zilla 4.3 6.007
Dist::Zilla::App 0 6.007
Dist::Zilla::Role::BeforeRelease 0 6.007
Dist::Zilla::Role::TestRunner 0 6.007
File::pushd 0 1.009
Moose 2 2.1805
namespace::autoclean 0.09 0.28
Path::Iterator::Rule 0 1.012
Path::Tiny 0.013 0.096
perl 5.006 5.020003
strict 0 1.08
warnings 0 1.23
build_requires:
Module Need Have
-------------------------------- ----- --------
Capture::Tiny 0 0.44
Dist::Zilla::App::Tester 0 6.007
ExtUtils::MakeMaker 0 7.24
File::Spec 0 3.62
lib 0 0.63
Params::Util 0 1.07
Sub::Exporter 0 0.987
Test::More 0.88 1.302052
Test::Requires 0 0.10
Try::Tiny 0 0.24
configure_requires:
Module Need Have
-------------------------------- ----- --------
ExtUtils::MakeMaker 6.17 7.24
perl 5.006 5.020003
------------------------------
ENVIRONMENT AND OTHER CONTEXT
------------------------------
Environment variables:
LANG = pt_BR.UTF-8
LANGUAGE = pt_BR:pt:en
NONINTERACTIVE_TESTING = 1
PATH = /home/alceu/perl5/perlbrew/bin:/home/alceu/perl5/perlbrew/perls/perl-5.20.1/bin:/home/alceu/bin:/usr/local/sbin:/usr/local/bin:/usr/sbin:/usr/bin:/sbin:/bin:/usr/games:/usr/local/games
PERL5LIB =
PERL5OPT =
PERL5_CPANPLUS_IS_RUNNING = 5184
PERL5_CPAN_IS_RUNNING = 5184
PERLBREW_BASHRC_VERSION = 0.73
PERLBREW_HOME = /home/alceu/.perlbrew
PERLBREW_MANPATH = /home/alceu/perl5/perlbrew/perls/perl-5.20.1/man
PERLBREW_PATH = /home/alceu/perl5/perlbrew/bin:/home/alceu/perl5/perlbrew/perls/perl-5.20.1/bin
PERLBREW_PERL = perl-5.20.1
PERLBREW_ROOT = /home/alceu/perl5/perlbrew
PERLBREW_VERSION = 0.73
PERL_MM_USE_DEFAULT = 1
SHELL = /bin/bash
TERM = xterm
Perl special variables (and OS-specific diagnostics, for MSWin32):
$^X = /home/alceu/perl5/perlbrew/perls/perl-5.20.1/bin/perl
$UID/$EUID = 1000 / 1000
$GID = 1000 4 24 27 30 46 108 124 129 1000 1002
$EGID = 1000 4 24 27 30 46 108 124 129 1000 1002
Perl module toolchain versions installed:
Module Have
------------------- --------
CPAN 2.14
CPAN::Meta 2.150010
Cwd 3.62
ExtUtils::CBuilder 0.280224
ExtUtils::Command 7.24
ExtUtils::Install 2.04
ExtUtils::MakeMaker 7.24
ExtUtils::Manifest 1.70
ExtUtils::ParseXS 3.30
File::Spec 3.62
JSON 2.90
JSON::PP 2.27400
Module::Build 0.4220
Module::Signature n/a
Parse::CPAN::Meta 2.150010
Test::Harness 3.36
Test::More 1.302052
YAML 1.15
YAML::Syck 1.29
version 0.9916
--
Summary of my perl5 (revision 5 version 20 subversion 3) configuration:
Platform:
osname=linux, osvers=3.13.0-74-generic, archname=x86_64-linux
uname='linux yggdrasil 3.13.0-74-generic #118-ubuntu smp thu dec 17 22:52:10 utc 2015 x86_64 x86_64 x86_64 gnulinux '
config_args='-de -Dprefix=/home/alceu/perl5/perlbrew/perls/perl-5.20.1 -Aeval:scriptdir=/home/alceu/perl5/perlbrew/perls/perl-5.20.1/bin'
hint=recommended, useposix=true, d_sigaction=define
useithreads=undef, usemultiplicity=undef
use64bitint=define, use64bitall=define, uselongdouble=undef
usemymalloc=n, bincompat5005=undef
Compiler:
cc='cc', ccflags ='-fwrapv -fno-strict-aliasing -pipe -fstack-protector -I/usr/local/include -D_LARGEFILE_SOURCE -D_FILE_OFFSET_BITS=64',
optimize='-O2',
cppflags='-fwrapv -fno-strict-aliasing -pipe -fstack-protector -I/usr/local/include'
ccversion='', gccversion='4.8.4', gccosandvers=''
intsize=4, longsize=8, ptrsize=8, doublesize=8, byteorder=12345678
d_longlong=define, longlongsize=8, d_longdbl=define, longdblsize=16
ivtype='long', ivsize=8, nvtype='double', nvsize=8, Off_t='off_t', lseeksize=8
alignbytes=8, prototype=define
Linker and Libraries:
ld='cc', ldflags =' -fstack-protector -L/usr/local/lib'
libpth=/usr/local/lib /usr/lib/gcc/x86_64-linux-gnu/4.8/include-fixed /usr/include/x86_64-linux-gnu /usr/lib /lib/x86_64-linux-gnu /lib/../lib /usr/lib/x86_64-linux-gnu /usr/lib/../lib /lib
libs=-lpthread -lnsl -ldl -lm -lcrypt -lutil -lc
perllibs=-lpthread -lnsl -ldl -lm -lcrypt -lutil -lc
libc=libc-2.19.so, so=so, useshrplib=false, libperl=libperl.a
gnulibc_version='2.19'
Dynamic Linking:
dlsrc=dl_dlopen.xs, dlext=so, d_dlsymun=undef, ccdlflags='-Wl,-E'
cccdlflags='-fPIC', lddlflags='-shared -O2 -L/usr/local/lib -fstack-protector'
Characteristics of this binary (from libperl):
Compile-time options: HAS_TIMES PERLIO_LAYERS PERL_DONT_CREATE_GVSV
PERL_HASH_FUNC_ONE_AT_A_TIME_HARD PERL_MALLOC_WRAP
PERL_NEW_COPY_ON_WRITE PERL_PRESERVE_IVUV
USE_64_BIT_ALL USE_64_BIT_INT USE_LARGE_FILES
USE_LOCALE USE_LOCALE_COLLATE USE_LOCALE_CTYPE
USE_LOCALE_NUMERIC USE_PERLIO USE_PERL_ATOF
Locally applied patches:
Devel::PatchPerl 1.38
Built under linux
Compiled at Jan 9 2016 16:43:49
%ENV:
PERL5LIB=""
PERL5OPT=""
PERL5_CPANPLUS_IS_RUNNING="5184"
PERL5_CPAN_IS_RUNNING="5184"
PERLBREW_BASHRC_VERSION="0.73"
PERLBREW_HOME="/home/alceu/.perlbrew"
PERLBREW_MANPATH="/home/alceu/perl5/perlbrew/perls/perl-5.20.1/man"
PERLBREW_PATH="/home/alceu/perl5/perlbrew/bin:/home/alceu/perl5/perlbrew/perls/perl-5.20.1/bin"
PERLBREW_PERL="perl-5.20.1"
PERLBREW_ROOT="/home/alceu/perl5/perlbrew"
PERLBREW_VERSION="0.73"
PERL_MM_USE_DEFAULT="1"
@INC:
/home/alceu/perl5/perlbrew/perls/perl-5.20.1/lib/site_perl/5.20.3/x86_64-linux
/home/alceu/perl5/perlbrew/perls/perl-5.20.1/lib/site_perl/5.20.3
/home/alceu/perl5/perlbrew/perls/perl-5.20.1/lib/5.20.3/x86_64-linux
/home/alceu/perl5/perlbrew/perls/perl-5.20.1/lib/5.20.3
/home/alceu/perl5/perlbrew/perls/perl-5.20.1/lib/site_perl/5.20.2/x86_64-linux
/home/alceu/perl5/perlbrew/perls/perl-5.20.1/lib/site_perl/5.20.2
/home/alceu/perl5/perlbrew/perls/perl-5.20.1/lib/site_perl/5.20.1/x86_64-linux
/home/alceu/perl5/perlbrew/perls/perl-5.20.1/lib/site_perl/5.20.1
/home/alceu/perl5/perlbrew/perls/perl-5.20.1/lib/site_perl
.