Mo v0.40 Perl 5 v5.20.2 darwin-2level

Status
Pass
From
Neil Bowers
Dist
Mo v0.40
Platform
Perl 5 v5.20.2 darwin-2level
Date
2021-09-07 14:14:48
ID
f5a70ffc-0fe5-11ec-b2ca-2f7075ecddd1
This distribution has been tested as part of the CPAN Testers
project, supporting the Perl programming language.  See
http://wiki.cpantesters.org/ for more information or email
questions to cpan-testers-discuss@perl.org


--
Dear Tina Muller,

This is a computer-generated report for Mo-0.40
on perl 5.20.2, created by CPAN-Reporter-1.2018.

Thank you for uploading your work to CPAN.  Congratulations!
All tests were successful.

Sections of this report:

    * Tester comments
    * Program output
    * Prerequisites
    * Environment and other context

------------------------------
TESTER COMMENTS
------------------------------

Additional comments from tester:

none provided

------------------------------
PROGRAM OUTPUT
------------------------------

Output from '/usr/bin/make test':

PERL_DL_NONLAZY=1 "/usr/local/perl/5202/bin/perl" "-MExtUtils::Command::MM" "-MTest::Harness" "-e" "undef *Test::Harness::Switches; test_harness(0, 'blib/lib', 'blib/arch')" t/*.t
# 
# 
# Generated by Dist::Zilla::Plugin::ReportVersions::Tiny v1.12
# perl: 5.020002 (wanted v5.6.0) on darwin from /usr/local/perl/5202/bin/perl
# 
# Class::XSAccessor                             => 1.19       (want any version)
# ExtUtils::MakeMaker                           => 7.62       (want any version)
# IO::All                                       => module not found. (want any version)
# Moose                                         => 2.1804     (want any version)
# Mouse                                         => v2.5.10    (want any version)
# Test::More                                    => 1.302186   (want 0.96)   
# 
# Thanks for using my code.  I hope it works for you.
# If not, please try and include this output in the bug report.
# That will help me reproduce the issue and solve your problem.
# 
t/000-report-versions-tiny.t .. ok
t/author-00-compile.t ......... skipped: these tests are for testing by the author
t/author-pod-spell.t .......... skipped: these tests are for testing by the author
t/author-pod-syntax.t ......... skipped: these tests are for testing by the author
t/author-test-version.t ....... skipped: these tests are for testing by the author
t/build.t ..................... ok
t/builder.t ................... ok
t/chain.t ..................... ok
t/coerce.t .................... ok
t/combined.t .................. ok
t/default.t ................... ok
t/extends.t ................... ok
t/importer.t .................. ok
t/is.t ........................ ok
t/lazy-nonlazy.t .............. ok
t/main_sub.t .................. ok
t/Moose.t ..................... ok
t/Mouse.t ..................... ok
t/object.t .................... ok
t/option.t .................... ok
t/release-correct-version.t ... skipped: these tests are for release candidate testing
t/release-distmeta.t .......... skipped: these tests are for release candidate testing
t/release-eol.t ............... skipped: these tests are for release candidate testing
t/release-no-tabs.t ........... skipped: these tests are for release candidate testing
t/required.t .................. ok
t/strict.t .................... ok
t/test.t ...................... ok
t/xs.t ........................ ok
All tests successful.
Files=28, Tests=158,  2 wallclock secs ( 0.08 usr  0.04 sys +  1.49 cusr  0.33 csys =  1.94 CPU)
Result: PASS

------------------------------
PREREQUISITES
------------------------------

Prerequisite modules loaded:

requires:

    Module              Need     Have    
    ------------------- -------- --------
    perl                5.006000 5.020002

build_requires:

    Module              Need     Have    
    ------------------- -------- --------
    ExtUtils::MakeMaker 0        7.62    
    Test::More          0.96     1.302186

configure_requires:

    Module              Need     Have    
    ------------------- -------- --------
    ExtUtils::MakeMaker 0        7.62    


------------------------------
ENVIRONMENT AND OTHER CONTEXT
------------------------------

Environment variables:

    PATH = /usr/local/apache/bin:/usr/local/bin:/opt/local/bin:/usr/local/bin:/usr/bin:/bin:/usr/sbin:/sbin:/Applications/VMware Fusion.app/Contents/Public:/usr/local/go/bin:/opt/X11/bin:/usr/local/git/bin
    PERL5LIB = 
    PERL5OPT = 
    PERL5_CPANPLUS_IS_RUNNING = 32590
    PERL5_CPAN_IS_RUNNING = 32590
    SHELL = /bin/sh
    TERM = xterm

Perl special variables (and OS-specific diagnostics, for MSWin32):

    $^X = /usr/local/perl/5202/bin/perl
    $UID/$EUID = 0 / 0
    $GID = 0 0 1 2 3 4 5 8 9 12 20 29 61 80 701 702 33
    $EGID = 0 0 1 2 3 4 5 8 9 12 20 29 61 80 701 702 33

Perl module toolchain versions installed:

    Module              Have    
    ------------------- --------
    CPAN                2.05    
    CPAN::Meta          2.150005
    Cwd                 3.75    
    ExtUtils::CBuilder  0.280236
    ExtUtils::Command   7.62    
    ExtUtils::Install   2.06    
    ExtUtils::MakeMaker 7.62    
    ExtUtils::Manifest  1.70    
    ExtUtils::ParseXS   3.35    
    File::Spec          3.75    
    JSON                4.03    
    JSON::PP            4.06    
    Module::Build       0.4218  
    Module::Signature   n/a     
    Parse::CPAN::Meta   1.4414  
    Test::Harness       3.30    
    Test::More          1.302186
    YAML                1.18    
    YAML::Syck          n/a     
    version             0.9929  


--

Summary of my perl5 (revision 5 version 20 subversion 2) configuration:
   
  Platform:
    osname=darwin, osvers=15.6.0, archname=darwin-2level
    uname='darwin tucumcari.home 15.6.0 darwin kernel version 15.6.0: thu jun 23 18:25:34 pdt 2016; root:xnu-3248.60.10~1release_x86_64 x86_64 '
    config_args=''
    hint=recommended, useposix=true, d_sigaction=define
    useithreads=undef, usemultiplicity=undef
    use64bitint=define, use64bitall=define, uselongdouble=undef
    usemymalloc=n, bincompat5005=undef
  Compiler:
    cc='gcc', ccflags ='-fno-common -DPERL_DARWIN -fno-strict-aliasing -pipe -fstack-protector -I/usr/local/include -I/opt/local/include',
    optimize='-O3',
    cppflags='-fno-common -DPERL_DARWIN -fno-strict-aliasing -pipe -fstack-protector -I/usr/local/include -I/opt/local/include'
    ccversion='', gccversion='4.2.1 Compatible Apple LLVM 7.0.2 (clang-700.1.81)', gccosandvers=''
    intsize=4, longsize=8, ptrsize=8, doublesize=8, byteorder=12345678
    d_longlong=define, longlongsize=8, d_longdbl=define, longdblsize=16
    ivtype='long', ivsize=8, nvtype='double', nvsize=8, Off_t='off_t', lseeksize=8
    alignbytes=8, prototype=define
  Linker and Libraries:
    ld='env MACOSX_DEPLOYMENT_TARGET=10.3 gcc', ldflags =' -fstack-protector -L/usr/local/lib -L/opt/local/lib'
    libpth=/Applications/Xcode.app/Contents/Developer/Toolchains/XcodeDefault.xctoolchain/usr/bin/../lib/clang/7.0.2/lib /Applications/Xcode.app/Contents/Developer/Toolchains/XcodeDefault.xctoolchain/usr/lib /Applications/Xcode.app/Contents/Developer/Platforms/MacOSX.platform/Developer/SDKs/MacOSX10.11.sdk/usr/lib /usr/local/lib /opt/local/lib /usr/lib
    libs=-lgdbm -ldbm -ldl -lm -lutil -lc
    perllibs=-ldl -lm -lutil -lc
    libc=, so=dylib, useshrplib=false, libperl=libperl.a
    gnulibc_version=''
  Dynamic Linking:
    dlsrc=dl_dlopen.xs, dlext=bundle, d_dlsymun=undef, ccdlflags=' '
    cccdlflags=' ', lddlflags=' -bundle -undefined dynamic_lookup -L/usr/local/lib -L/opt/local/lib -fstack-protector'


Characteristics of this binary (from libperl): 
  Compile-time options: HAS_TIMES PERLIO_LAYERS PERL_DONT_CREATE_GVSV
                        PERL_HASH_FUNC_ONE_AT_A_TIME_HARD PERL_MALLOC_WRAP
                        PERL_NEW_COPY_ON_WRITE PERL_PRESERVE_IVUV
                        USE_64_BIT_ALL USE_64_BIT_INT USE_LARGE_FILES
                        USE_LOCALE USE_LOCALE_COLLATE USE_LOCALE_CTYPE
                        USE_LOCALE_NUMERIC USE_PERLIO USE_PERL_ATOF
  Built under darwin
  Compiled at Jul 22 2016 22:43:36
  %ENV:
    PERL5LIB=""
    PERL5OPT=""
    PERL5_CPANPLUS_IS_RUNNING="32590"
    PERL5_CPAN_IS_RUNNING="32590"
  @INC:
    /usr/local/perl/5202/lib/site_perl/5.20.2/darwin-2level
    /usr/local/perl/5202/lib/site_perl/5.20.2
    /usr/local/perl/5202/lib/5.20.2/darwin-2level
    /usr/local/perl/5202/lib/5.20.2
    .