Report for Module-Provision-0.42.1

Back
From: metabase:user:314402c4-2aae-11df-837a-5e0a49663a4f
Subject: PASS Module-Provision-0.42.1 v5.26.0 RC1 GNU/Linux
Date: 2017-05-17T22:27:06Z

This distribution has been tested as part of the CPAN Testers
project, supporting the Perl programming language.  See
http://wiki.cpantesters.org/ for more information or email
questions to cpan-testers-discuss@perl.org


--
Dear Peter Flanigan,

This is a computer-generated report for Module-Provision-0.42.1
on perl 5.26.0, created by CPAN-Reporter-1.2018.

Thank you for uploading your work to CPAN.  Congratulations!
All tests were successful.

Sections of this report:

    * Tester comments
    * Program output
    * Prerequisites
    * Environment and other context

------------------------------
TESTER COMMENTS
------------------------------

Additional comments from tester:

none provided

------------------------------
PROGRAM OUTPUT
------------------------------

Output from './Build test':


OS: linux, Host: prod4

=== Environment variables ===

    $AUTHOR_TESTING                   undef
    $AUTOMATED_TESTING                undef
    $EXTENDED_TESTING                 undef
    $NONINTERACTIVE_TESTING           undef
    $PERL_CPAN_REPORTER_CONFIG        /var/tmp/cpansmoker-1002/2017051718/cpanreporter_001_config.ini
    $PERL_CR_SMOKER_CURRENT           undef
    $PERL5_CPAN_IS_RUNNING            8983
    $PERL5_CPANPLUS_IS_VERSION        undef
    $TEST_CRITIC                      undef
    $TEST_SPELLING                    undef

Versions for all modules listed in MYMETA.json (including optional ones):

=== Configure Requires ===

    Module          Want   Have
    ------------- ------ ------
    Module::Build 0.4004 0.4222
    version         0.88 0.9917

=== Build Requires ===

    Module          Want   Have
    ------------- ------ ------
    Module::Build 0.4004 0.4222
    version         0.88 0.9917

=== Test Requires ===

    Module               Want     Have
    ---------------- -------- --------
    File::Spec            any     3.67
    Module::Build      0.4004   0.4222
    Module::Metadata 1.000011 1.000033
    Sys::Hostname         any     1.20
    Test::Requires       0.08     0.10
    version              0.88   0.9917

=== Test Recommends ===

    Module         Want     Have
    ---------- -------- --------
    CPAN::Meta 2.120900 2.150010

=== Runtime Requires ===

    Module                                         Want     Have
    ------------------------------------------ -------- --------
    CPAN::Meta                                 2.150005 2.150010
    CPAN::Uploader                             0.103004 0.103013
    Class::Null                                2.110730 2.110730
    Class::Usul                                 v0.73.0   0.82.1
    Config::Tiny                                   2.22     2.23
    Date::Format                                   2.24     2.24
    Dist::Zilla                                   5.037    6.009
    Dist::Zilla::Plugin::AbstractFromPOD         v0.3.0    0.3.1
    Dist::Zilla::Plugin::LicenseFromModule         0.05     0.05
    Dist::Zilla::Plugin::ManifestInRoot         v0.13.0   0.16.1
    Dist::Zilla::Plugin::Meta::Dynamic::Config     0.04     0.04
    Dist::Zilla::Plugin::ModuleBuild::Custom       4.26  missing
    Dist::Zilla::Plugin::ReadmeAnyFromPod      0.150250 0.163250
    Dist::Zilla::Plugin::Signature             1.100930 1.100930
    Dist::Zilla::Plugin::Test::ReportMetadata    v0.4.0    0.5.1
    Dist::Zilla::Plugin::VersionFromModule         0.08  missing
    File::DataClass                             v0.68.0   0.72.1
    File::ShareDir                                1.102    1.102
    HTTP::Message                                  6.06     6.11
    LWP                                            6.13     6.26
    LWP::Protocol::https                            any     6.07
    Module::Metadata                           1.000011 1.000033
    Moo                                        2.000001 2.003002
    Perl::Version                                 1.013    1.013
    Pod::Eventual                              0.094001 0.094001
    Software::License                          0.103010 0.103012
    Template                                       2.26     2.27
    Test::Requires                                 0.08     0.10
    Try::Tiny                                      0.22     0.28
    Type::Tiny                                 1.000004 1.000006
    Unexpected                                  v0.43.0   0.46.1
    local::lib                                 2.000014 2.000019
    namespace::autoclean                           0.26     0.28


*** WARNING WARNING WARNING WARNING WARNING WARNING ***

The following REQUIRED prerequisites were not satisfied:

Dist::Zilla::Plugin::ModuleBuild::Custom is not installed (version '4.26' required)
Dist::Zilla::Plugin::VersionFromModule is not installed (version '0.08' required)

t/00report-metadata.t .. ok
t/02pod.t .............. skipped: POD test only for developers
t/03podcoverage.t ...... skipped: POD coverage test only for developers
t/05kwalitee.t ......... skipped: Kwalitee test only for developers
t/06yaml.t ............. skipped: YAML test only for developers
t/07podspelling.t ...... skipped: POD spelling test only for developers
t/10test_script.t ...... ok
All tests successful.
Files=7, Tests=4,  2 wallclock secs ( 0.05 usr  0.01 sys +  1.59 cusr  0.16 csys =  1.81 CPU)
Result: PASS

------------------------------
PREREQUISITES
------------------------------

Prerequisite modules loaded:

requires:

    Module                                     Need     Have    
    ------------------------------------------ -------- --------
    Class::Null                                2.110730 2.110730
    Class::Usul                                v0.73.0  0.82.1  
    Config::Tiny                               2.22     2.23    
    CPAN::Meta                                 2.150005 2.150010
    CPAN::Uploader                             0.103004 0.103013
    Date::Format                               2.24     2.24    
    Dist::Zilla                                5.037    6.009   
    Dist::Zilla::Plugin::AbstractFromPOD       v0.3.0   0.3.1   
    Dist::Zilla::Plugin::LicenseFromModule     0.05     0.05    
    Dist::Zilla::Plugin::ManifestInRoot        v0.13.0  0.16.1  
    Dist::Zilla::Plugin::Meta::Dynamic::Config 0.04     0.04    
  ! Dist::Zilla::Plugin::ModuleBuild::Custom   4.26     n/a     
    Dist::Zilla::Plugin::ReadmeAnyFromPod      0.150250 0.163250
    Dist::Zilla::Plugin::Signature             1.100930 1.100930
    Dist::Zilla::Plugin::Test::ReportMetadata  v0.4.0   0.5.1   
  ! Dist::Zilla::Plugin::VersionFromModule     0.08     n/a     
    File::DataClass                            v0.68.0  0.72.1  
    File::ShareDir                             1.102    1.102   
    HTTP::Message                              6.06     6.11    
    local::lib                                 2.000014 2.000019
    LWP                                        6.13     6.26    
    LWP::Protocol::https                       0        6.07    
    Module::Metadata                           1.000011 1.000033
    Moo                                        2.000001 2.003002
    namespace::autoclean                       0.26     0.28    
    perl                                       5.010001 5.026000
    Perl::Version                              1.013    1.013   
    Pod::Eventual                              0.094001 0.094001
    Software::License                          0.103010 0.103012
    Template                                   2.26     2.27    
    Test::Requires                             0.08     0.10    
    Try::Tiny                                  0.22     0.28    
    Type::Tiny                                 1.000004 1.000006
    Unexpected                                 v0.43.0  0.46.1  

build_requires:

    Module                                     Need     Have    
    ------------------------------------------ -------- --------
    File::Spec                                 0        3.67    
    Module::Build                              0.4004   0.4222  
    Module::Metadata                           1.000011 1.000033
    Sys::Hostname                              0        1.20    
    Test::Requires                             0.08     0.10    
    version                                    0.88     0.9917  

configure_requires:

    Module                                     Need     Have    
    ------------------------------------------ -------- --------
    Module::Build                              0.4004   0.4222  
    version                                    0.88     0.9917  


------------------------------
ENVIRONMENT AND OTHER CONTEXT
------------------------------

Environment variables:

    LANG = en_US.UTF-8
    LANGUAGE = en_US:en
    PATH = /usr/local/bin:/usr/bin:/bin:/usr/local/sbin:/usr/sbin:/sbin:/home/cpansand/bin/linux-gnu:/home/cpansand/bin/sh:/home/cpansand/bin:/usr/games:/home/cpansand/devel:/home/eserte/src/srezic-misc/scripts
    PERL5LIB = 
    PERL5OPT = 
    PERL5_CPANPLUS_IS_RUNNING = 8983
    PERL5_CPAN_IS_RUNNING = 8983
    PERL5_CPAN_IS_RUNNING_IN_RECURSION = 8265,8983
    PERLDOC = -MPod::Perldoc::ToTextOverstrike
    PERL_BATCH = yes
    PERL_CANARY_STABILITY_NOPROMPT = 1
    PERL_CPAN_REPORTER_CONFIG = /var/tmp/cpansmoker-1002/2017051718/cpanreporter_001_config.ini
    PERL_EXTUTILS_AUTOINSTALL = --defaultdeps
    PERL_USE_UNSAFE_INC = 1
    SHELL = /bin/zsh
    TERM = screen.xterm-256color
    TMPDIR = /var/tmp/cpansmoker-1002/2017051718

Perl special variables (and OS-specific diagnostics, for MSWin32):

    $^X = /opt/perl-5.26.0-RC1t/bin/perl
    $UID/$EUID = 1002 / 1002
    $GID = 1002 1002
    $EGID = 1002 1002

Perl module toolchain versions installed:

    Module              Have      
    ------------------- ----------
    CPAN                2.18      
    CPAN::Meta          2.150010  
    Cwd                 3.67      
    ExtUtils::CBuilder  0.280225  
    ExtUtils::Command   7.24      
    ExtUtils::Install   2.04      
    ExtUtils::MakeMaker 7.24      
    ExtUtils::Manifest  1.70      
    ExtUtils::ParseXS   3.34      
    File::Spec          3.67      
    JSON                2.92      
    JSON::PP            2.27400_02
    Module::Build       0.4222    
    Module::Signature   0.81      
    Parse::CPAN::Meta   2.150010  
    Test::Harness       3.38      
    Test::More          1.302073  
    YAML                1.23      
    YAML::Syck          1.30      
    version             0.9917    


--

Summary of my perl5 (revision 5 version 26 subversion 0) configuration:
   
  Platform:
    osname=linux
    osvers=4.9.0-2-amd64
    archname=x86_64-linux-thread-multi
    uname='linux prod4 4.9.0-2-amd64 #1 smp debian 4.9.18-1 (2017-03-30) x86_64 gnulinux '
    config_args='-ds -e -Dprefix=/opt/perl-5.26.0-RC1t -Dusethreads -Dcf_email=srezic@cpan.org'
    hint=recommended
    useposix=true
    d_sigaction=define
    useithreads=define
    usemultiplicity=define
    use64bitint=define
    use64bitall=define
    uselongdouble=undef
    usemymalloc=n
    default_inc_excludes_dot=define
    bincompat5005=undef
  Compiler:
    cc='cc'
    ccflags ='-D_REENTRANT -D_GNU_SOURCE -fwrapv -fno-strict-aliasing -pipe -fstack-protector-strong -I/usr/local/include -D_LARGEFILE_SOURCE -D_FILE_OFFSET_BITS=64'
    optimize='-O2'
    cppflags='-D_REENTRANT -D_GNU_SOURCE -fwrapv -fno-strict-aliasing -pipe -fstack-protector-strong -I/usr/local/include'
    ccversion=''
    gccversion='6.3.0 20170425'
    gccosandvers=''
    intsize=4
    longsize=8
    ptrsize=8
    doublesize=8
    byteorder=12345678
    doublekind=3
    d_longlong=define
    longlongsize=8
    d_longdbl=define
    longdblsize=16
    longdblkind=3
    ivtype='long'
    ivsize=8
    nvtype='double'
    nvsize=8
    Off_t='off_t'
    lseeksize=8
    alignbytes=8
    prototype=define
  Linker and Libraries:
    ld='cc'
    ldflags =' -fstack-protector-strong -L/usr/local/lib'
    libpth=/usr/local/lib /usr/lib/gcc/x86_64-linux-gnu/6/include-fixed /usr/include/x86_64-linux-gnu /usr/lib /lib/x86_64-linux-gnu /lib/../lib /usr/lib/x86_64-linux-gnu /usr/lib/../lib /lib
    libs=-lpthread -lnsl -lgdbm -ldb -ldl -lm -lcrypt -lutil -lc -lgdbm_compat
    perllibs=-lpthread -lnsl -ldl -lm -lcrypt -lutil -lc
    libc=libc-2.24.so
    so=so
    useshrplib=false
    libperl=libperl.a
    gnulibc_version='2.24'
  Dynamic Linking:
    dlsrc=dl_dlopen.xs
    dlext=so
    d_dlsymun=undef
    ccdlflags='-Wl,-E'
    cccdlflags='-fPIC'
    lddlflags='-shared -O2 -L/usr/local/lib -fstack-protector-strong'


Characteristics of this binary (from libperl): 
  Compile-time options:
    HAS_TIMES
    MULTIPLICITY
    PERLIO_LAYERS
    PERL_COPY_ON_WRITE
    PERL_DONT_CREATE_GVSV
    PERL_IMPLICIT_CONTEXT
    PERL_MALLOC_WRAP
    PERL_OP_PARENT
    PERL_PRESERVE_IVUV
    USE_64_BIT_ALL
    USE_64_BIT_INT
    USE_ITHREADS
    USE_LARGE_FILES
    USE_LOCALE
    USE_LOCALE_COLLATE
    USE_LOCALE_CTYPE
    USE_LOCALE_NUMERIC
    USE_LOCALE_TIME
    USE_PERLIO
    USE_PERL_ATOF
    USE_REENTRANT_API
  Locally applied patches:
    RC1
  Built under linux
  Compiled at May 17 2017 18:34:52
  %ENV:
    PERL5LIB=""
    PERL5OPT=""
    PERL5_CPANPLUS_IS_RUNNING="8983"
    PERL5_CPAN_IS_RUNNING="8983"
    PERL5_CPAN_IS_RUNNING_IN_RECURSION="8265,8983"
    PERLDOC="-MPod::Perldoc::ToTextOverstrike"
    PERL_BATCH="yes"
    PERL_CANARY_STABILITY_NOPROMPT="1"
    PERL_CPAN_REPORTER_CONFIG="/var/tmp/cpansmoker-1002/2017051718/cpanreporter_001_config.ini"
    PERL_EXTUTILS_AUTOINSTALL="--defaultdeps"
    PERL_USE_UNSAFE_INC="1"
  @INC:
    /opt/perl-5.26.0-RC1t/lib/site_perl/5.26.0/x86_64-linux-thread-multi
    /opt/perl-5.26.0-RC1t/lib/site_perl/5.26.0
    /opt/perl-5.26.0-RC1t/lib/5.26.0/x86_64-linux-thread-multi
    /opt/perl-5.26.0-RC1t/lib/5.26.0
    .