Google-Ads-AdWords-Client v5.8.2 Perl 5 v5.28.0 amd64-freebsd
- Status
- Pass
- From
- Slaven Rezić (SREZIC)
- Dist
-
Google-Ads-AdWords-Client v5.8.2
- Platform
- Perl 5 v5.28.0 amd64-freebsd
- Date
- 2019-09-29 16:26:58
- ID
- f569df36-e2d5-11e9-961c-4e8a1f24ea8f
This distribution has been tested as part of the CPAN Testers
project, supporting the Perl programming language. See
http://wiki.cpantesters.org/ for more information or email
questions to cpan-testers-discuss@perl.org
--
Dear Nadine Sundquist,
This is a computer-generated report for Google-Ads-AdWords-Client-5.8.2
on perl 5.28.0, created by CPAN-Reporter-1.2018.
Thank you for uploading your work to CPAN. Congratulations!
All tests were successful.
Sections of this report:
* Tester comments
* Program output
* Prerequisites
* Environment and other context
------------------------------
TESTER COMMENTS
------------------------------
Additional comments from tester:
none provided
------------------------------
PROGRAM OUTPUT
------------------------------
Output from './Build test':
t/001_require.t ....................... ok
t/011_Client.t ........................ ok
t/012_Serializer.t .................... ok
t/013_Deserializer.t .................. ok
t/014_XPathSAXParser.t ................ ok
t/015_RequestStats.t .................. ok
t/017_OAuth2ApplicationsHandler.t ..... ok
t/018_MapUtils.t ...................... ok
t/019_OAuth2ServiceAccountsHandler.t .. ok
t/020_GenerateOfflineCredentials.t .... ok
t/021_ReportingConfiguration.t ........ ok
t/022_ReportUtils.t ................... ok
t/023_AdsUtilityRegistry.t ............ ok
t/024_BatchJobHandler.t ............... ok
t/025_ReportQueryBuilder.t ............ ok
t/026_ServiceQueryBuilder.t ........... ok
All tests successful.
Files=16, Tests=1859, 14 wallclock secs ( 0.47 usr 0.12 sys + 10.42 cusr 1.85 csys = 12.87 CPU)
Result: PASS
------------------------------
PREREQUISITES
------------------------------
Prerequisite modules loaded:
requires:
Module Need Have
------------------------- ------- ----------
Class::Load 0 0.25
Class::Std::Fast 0 0.0.8
Crypt::OpenSSL::RSA 0 0.31
Cwd 0 3.75
Data::Uniqid 0 0.12
Date::Format 0 2.24
Date::Parse 0 2.30
Digest::SHA 0 6.02
File::Basename 0 2.85
File::HomeDir 0 1.004
File::Path 0 2.15
File::Spec 0 3.75
File::Temp 0 0.2309
Getopt::Long 0 2.51
HTTP::Server::Simple::CGI 0 0
IO::Socket::SSL 0 2.066
JSON::Parse 0 0.55
List::Util 0 1.52
Log::Log4perl 0 1.49
LWP::Protocol::https 0 6.07
LWP::UserAgent 0 6.39
Math::Random::MT 0 1.17
perl v5.14.0 5.028000
POSIX 0 1.84
SOAP::WSDL v2.0.10 3.003
Template 0 2.29
URI::Escape 0 3.31
XML::LibXML 0 2.0201
XML::Simple 0 2.25
XML::XPath 0 1.44
build_requires:
Module Need Have
------------------------- ------- ----------
Class::Std::Fast v0.0.5 0.0.8
Config::Properties 0 1.80
Module::Build 0 0.4229
Test::Deep 0 1.128
Test::Exception 0 0.43
Test::MockObject 0 1.20180705
Test::MockObject::Extends 0 1.20180705
Test::More 0 1.302168
configure_requires:
Module Need Have
------------------------- ------- ----------
Module::Build 0.42 0.4229
------------------------------
ENVIRONMENT AND OTHER CONTEXT
------------------------------
Environment variables:
PATH = /usr/local/bin:/usr/bin:/bin:/usr/local/sbin:/usr/sbin:/sbin:/home/cpansand/bin/sh:/home/cpansand/bin:/usr/games:/home/cpansand/devel:/usr/home/eserte/src/srezic-misc/scripts
PERL5LIB =
PERL5OPT =
PERL5_CPANPLUS_IS_RUNNING = 82652
PERL5_CPAN_IS_RUNNING = 82652
PERL5_CPAN_IS_RUNNING_IN_RECURSION = 81183,82652
PERL_BATCH = yes
PERL_CANARY_STABILITY_NOPROMPT = 1
PERL_CPAN_REPORTER_CONFIG = /var/tmp/cpansmoker-1023/2019092616/cpanreporter_000_config.ini
PERL_EXTUTILS_AUTOINSTALL = --defaultdeps
PERL_USE_UNSAFE_INC = 1
SHELL = /bin/sh
TMPDIR = /var/tmp/cpansmoker-1023/2019092616
Perl special variables (and OS-specific diagnostics, for MSWin32):
$^X = /usr/perl5.28.0p/bin/perl5.28.0
$UID/$EUID = 1023 / 1023
$GID = 1023 1023
$EGID = 1023 1023
Perl module toolchain versions installed:
Module Have
------------------- --------
CPAN 2.22
CPAN::Meta 2.150010
Cwd 3.75
ExtUtils::CBuilder 0.280231
ExtUtils::Command 7.38
ExtUtils::Install 2.14
ExtUtils::MakeMaker 7.38
ExtUtils::Manifest 1.72
ExtUtils::ParseXS 3.39
File::Spec 3.75
JSON 4.02
JSON::PP 4.04
Module::Build 0.4229
Module::Signature 0.83
Parse::CPAN::Meta 2.150010
Test::Harness 3.42
Test::More 1.302168
YAML 1.29
YAML::Syck 1.31
version 0.9924
--
Summary of my perl5 (revision 5 version 28 subversion 0) configuration:
Platform:
osname=freebsd
osvers=12.0-beta2
archname=amd64-freebsd
uname='freebsd cloud1.bbbike.org 12.0-beta2 freebsd 12.0-beta2 e560655f7e7(stable12) generic amd64 '
config_args='-ds -e -Dprefix=/usr/perl5.28.0p -Dcf_email=srezic@cpan.org -Doptimize=-O2 -pipe'
hint=recommended
useposix=true
d_sigaction=define
useithreads=undef
usemultiplicity=undef
use64bitint=define
use64bitall=define
uselongdouble=undef
usemymalloc=n
default_inc_excludes_dot=define
bincompat5005=undef
Compiler:
cc='cc'
ccflags ='-DHAS_FPSETMASK -DHAS_FLOATINGPOINT_H -fno-strict-aliasing -pipe -fstack-protector-strong -I/usr/local/include -D_FORTIFY_SOURCE=2'
optimize='-O2 -pipe'
cppflags='-DHAS_FPSETMASK -DHAS_FLOATINGPOINT_H -fno-strict-aliasing -pipe -fstack-protector-strong -I/usr/local/include'
ccversion=''
gccversion='4.2.1 Compatible FreeBSD Clang 6.0.1 (tags/RELEASE_601/final 335540)'
gccosandvers=''
intsize=4
longsize=8
ptrsize=8
doublesize=8
byteorder=12345678
doublekind=3
d_longlong=define
longlongsize=8
d_longdbl=define
longdblsize=16
longdblkind=3
ivtype='long'
ivsize=8
nvtype='double'
nvsize=8
Off_t='off_t'
lseeksize=8
alignbytes=8
prototype=define
Linker and Libraries:
ld='cc'
ldflags ='-pthread -Wl,-E -fstack-protector-strong -L/usr/local/lib'
libpth=/usr/lib /usr/local/lib /usr/lib/clang/6.0.1/lib /usr/lib
libs=-lpthread -lgdbm -ldl -lm -lcrypt -lutil -lc
perllibs=-lpthread -ldl -lm -lcrypt -lutil -lc
libc=
so=so
useshrplib=false
libperl=libperl.a
gnulibc_version=''
Dynamic Linking:
dlsrc=dl_dlopen.xs
dlext=so
d_dlsymun=undef
ccdlflags=' '
cccdlflags='-DPIC -fPIC'
lddlflags='-shared -L/usr/local/lib -fstack-protector-strong'
Characteristics of this binary (from libperl):
Compile-time options:
HAS_TIMES
PERLIO_LAYERS
PERL_COPY_ON_WRITE
PERL_DONT_CREATE_GVSV
PERL_MALLOC_WRAP
PERL_OP_PARENT
PERL_PRESERVE_IVUV
USE_64_BIT_ALL
USE_64_BIT_INT
USE_LARGE_FILES
USE_LOCALE
USE_LOCALE_COLLATE
USE_LOCALE_CTYPE
USE_LOCALE_NUMERIC
USE_LOCALE_TIME
USE_PERLIO
USE_PERL_ATOF
Built under freebsd
Compiled at Oct 27 2018 09:29:20
%ENV:
PERL5LIB=""
PERL5OPT=""
PERL5_CPANPLUS_IS_RUNNING="82652"
PERL5_CPAN_IS_RUNNING="82652"
PERL5_CPAN_IS_RUNNING_IN_RECURSION="81183,82652"
PERL_BATCH="yes"
PERL_CANARY_STABILITY_NOPROMPT="1"
PERL_CPAN_REPORTER_CONFIG="/var/tmp/cpansmoker-1023/2019092616/cpanreporter_000_config.ini"
PERL_EXTUTILS_AUTOINSTALL="--defaultdeps"
PERL_USE_UNSAFE_INC="1"
@INC:
/usr/perl5.28.0p/lib/site_perl/5.28.0/amd64-freebsd
/usr/perl5.28.0p/lib/site_perl/5.28.0
/usr/perl5.28.0p/lib/5.28.0/amd64-freebsd
/usr/perl5.28.0p/lib/5.28.0
.