RPerl v4.000000 Perl 5 v5.22.3 x86_64-linux

Status
Pass
From
Slaven Rezić (SREZIC)
Dist
RPerl v4.000000
Platform
Perl 5 v5.22.3 x86_64-linux
Date
2018-07-05 05:12:05
ID
f55ca5b4-8011-11e8-add2-ac8b72c70352
This distribution has been tested as part of the CPAN Testers
project, supporting the Perl programming language.  See
http://wiki.cpantesters.org/ for more information or email
questions to cpan-testers-discuss@perl.org


--
Dear William N. Braswell, Jr.,

This is a computer-generated report for RPerl-4.000000
on perl 5.22.3, created by CPAN-Reporter-1.2018.

Thank you for uploading your work to CPAN.  Congratulations!
All tests were successful.

Sections of this report:

    * Tester comments
    * Program output
    * Prerequisites
    * Environment and other context

------------------------------
TESTER COMMENTS
------------------------------

Additional comments from tester:

none provided

------------------------------
PROGRAM OUTPUT
------------------------------

Output from '/usr/bin/make test':

"/opt/perl-5.22.3/bin/perl" "-MExtUtils::Command::MM" "-MTest::Harness" "-e" "undef *Test::Harness::Switches; test_harness(0, 'blib/lib', 'blib/arch')" t/*.t
t/00_depend.t ............. ok
t/01_changes.t ............ ok
t/02_inline_c.t ........... ok
t/03_inline_cpp.t ......... ok
t/04_type_scalar.t ........ ok
t/05_type_array.t ......... ok
t/06_type_hash.t .......... ok
t/07_type_gmp.t ........... ok
t/09_interpret_execute.t .. ok
t/12_parse.t .............. ok
t/13_generate.t ........... ok
All tests successful.
Files=11, Tests=4609, 1574 wallclock secs ( 0.55 usr  0.06 sys + 1206.25 cusr 337.26 csys = 1544.12 CPU)
Result: PASS

------------------------------
PREREQUISITES
------------------------------

Prerequisite modules loaded:

requires:

    Module                   Need     Have    
    ------------------------ -------- --------
    Alien::astyle            0.009    0.010000
    Alien::JPCRE2            0.012    0.012000
    Alien::PCRE2             0.015    0.015000
    App::Pod2CpanHtml        0.04     0.04    
    CPAN::Meta               2.150005 2.150010
    Date::Format             2.24     2.24    
    ExtUtils::MakeMaker      7.04     7.34    
    File::Which              1.21     1.22    
    Filter::Simple           0.91     0.92    
    Inline                   0.80     0.80    
    Inline::C                0.76     0.78    
    Inline::CPP              0.74     0.74    
    Inline::Filters          0.19     0.20    
    IPC::Run3                0.048    0.048   
    List::MoreUtils          0.33     0.428   
    Math::BigInt::GMP        1.46     1.6004  
    Math::GSL                0.39     0.39    
    Module::Refresh          0.17     0.17    
    Module::ScanDeps         1.19     1.24    
    MongoDB                  v1.8.0   v1.8.3  
    PadWalker                2.1      2.2     
    Parse::Eyapp             1.21     1.21    
    perl                     5.010000 5.022003
    Perl::Critic             1.121    1.130   
    Perl::Tidy               20140711 20180101
    Pod::PseudoPod           0.18     0.18    
    Test2::Suite             0.000069 0.000114
    Test::CPAN::Changes      0.400002 0.400002
    Test::Exception          0.43     0.43    
    Test::Number::Delta      1.06     1.06    
    Text::ASCIITable         0.20     0.22    
    Time::HiRes              1.9726   1.9758  

build_requires:

    Module                   Need     Have    
    ------------------------ -------- --------
    ExtUtils::MakeMaker      0        7.34    

configure_requires:

    Module                   Need     Have    
    ------------------------ -------- --------
    Alien::Base::ModuleBuild 1.02     1.04    
    Alien::GMP               1.08     1.10    
    Alien::GSL               1.01     1.01    
    IO::Socket::SSL          2.043    2.056   


------------------------------
ENVIRONMENT AND OTHER CONTEXT
------------------------------

Environment variables:

    LANG = C
    PATH = /usr/local/bin:/usr/bin:/bin:/usr/local/sbin:/usr/sbin:/sbin:/home/cpansand/bin/linux-gnu:/home/cpansand/bin/sh:/home/cpansand/bin:/usr/games:/home/cpansand/devel:/home/eserte/src/srezic-misc/scripts
    PERL5LIB = /home/cpansand/.cpan/build/2018070503/Math-GSL-0.39-3/blib/arch:/home/cpansand/.cpan/build/2018070503/Math-GSL-0.39-3/blib/lib:/home/cpansand/.cpan/build/2018070503/Alien-JPCRE2-0.012000-3/blib/arch:/home/cpansand/.cpan/build/2018070503/Alien-JPCRE2-0.012000-3/blib/lib:/home/cpansand/.cpan/build/2018070503/Alien-GSL-1.01-3/blib/arch:/home/cpansand/.cpan/build/2018070503/Alien-GSL-1.01-3/blib/lib:/home/cpansand/.cpan/build/2018070503/Alien-Base-ModuleBuild-1.04-3/blib/arch:/home/cpansand/.cpan/build/2018070503/Alien-Base-ModuleBuild-1.04-3/blib/lib
    PERL5OPT = 
    PERL5_CPANPLUS_IS_RUNNING = 31820
    PERL5_CPAN_IS_RUNNING = 31820
    PERL5_CPAN_IS_RUNNING_IN_RECURSION = 19726,31820
    PERLDOC = -MPod::Perldoc::ToTextOverstrike
    PERL_BATCH = yes
    PERL_CANARY_STABILITY_NOPROMPT = 1
    PERL_CPAN_REPORTER_CONFIG = /var/tmp/cpansmoker-1023/2018070500/cpanreporter_000_config.ini
    PERL_EXTUTILS_AUTOINSTALL = --defaultdeps
    PERL_USE_UNSAFE_INC = 1
    SHELL = /usr/bin/zsh
    TERM = screen
    TMPDIR = /var/tmp/cpansmoker-1023/2018070500

Perl special variables (and OS-specific diagnostics, for MSWin32):

    $^X = /opt/perl-5.22.3/bin/perl
    $UID/$EUID = 1023 / 1023
    $GID = 1023 1023
    $EGID = 1023 1023

Perl module toolchain versions installed:

    Module              Have    
    ------------------- --------
    CPAN                2.16    
    CPAN::Meta          2.150010
    Cwd                 3.74    
    ExtUtils::CBuilder  0.280230
    ExtUtils::Command   7.34    
    ExtUtils::Install   2.06    
    ExtUtils::MakeMaker 7.34    
    ExtUtils::Manifest  1.70    
    ExtUtils::ParseXS   3.35    
    File::Spec          3.74    
    JSON                2.97001 
    JSON::PP            2.95    
    Module::Build       0.4224  
    Module::Signature   0.81    
    Parse::CPAN::Meta   2.150010
    Test::Harness       3.42    
    Test::More          1.302136
    YAML                1.26    
    YAML::Syck          1.30    
    version             0.9923  


--

Summary of my perl5 (revision 5 version 22 subversion 3) configuration:
   
  Platform:
    osname=linux, osvers=4.9.0-3-amd64, archname=x86_64-linux
    uname='linux debian9 4.9.0-3-amd64 #1 smp debian 4.9.30-2+deb9u1 (2017-06-18) x86_64 gnulinux '
    config_args='-ds -e -Dprefix=/opt/perl-5.22.3 -Dcf_email=srezic@cpan.org'
    hint=recommended, useposix=true, d_sigaction=define
    useithreads=undef, usemultiplicity=undef
    use64bitint=define, use64bitall=define, uselongdouble=undef
    usemymalloc=n, bincompat5005=undef
  Compiler:
    cc='cc', ccflags ='-fwrapv -fno-strict-aliasing -pipe -fstack-protector-strong -I/usr/local/include -D_LARGEFILE_SOURCE -D_FILE_OFFSET_BITS=64',
    optimize='-O2',
    cppflags='-fwrapv -fno-strict-aliasing -pipe -fstack-protector-strong -I/usr/local/include'
    ccversion='', gccversion='6.3.0 20170516', gccosandvers=''
    intsize=4, longsize=8, ptrsize=8, doublesize=8, byteorder=12345678, doublekind=3
    d_longlong=define, longlongsize=8, d_longdbl=define, longdblsize=16, longdblkind=3
    ivtype='long', ivsize=8, nvtype='double', nvsize=8, Off_t='off_t', lseeksize=8
    alignbytes=8, prototype=define
  Linker and Libraries:
    ld='cc', ldflags =' -fstack-protector-strong -L/usr/local/lib'
    libpth=/usr/local/lib /usr/lib/gcc/x86_64-linux-gnu/6/include-fixed /usr/include/x86_64-linux-gnu /usr/lib /lib/x86_64-linux-gnu /lib/../lib /usr/lib/x86_64-linux-gnu /usr/lib/../lib /lib
    libs=-lpthread -lnsl -lgdbm -ldb -ldl -lm -lcrypt -lutil -lc -lgdbm_compat
    perllibs=-lpthread -lnsl -ldl -lm -lcrypt -lutil -lc
    libc=libc-2.24.so, so=so, useshrplib=false, libperl=libperl.a
    gnulibc_version='2.24'
  Dynamic Linking:
    dlsrc=dl_dlopen.xs, dlext=so, d_dlsymun=undef, ccdlflags='-Wl,-E'
    cccdlflags='-fPIC', lddlflags='-shared -O2 -L/usr/local/lib -fstack-protector-strong'


Characteristics of this binary (from libperl): 
  Compile-time options: HAS_TIMES PERLIO_LAYERS PERL_DONT_CREATE_GVSV
                        PERL_HASH_FUNC_ONE_AT_A_TIME_HARD PERL_MALLOC_WRAP
                        PERL_NEW_COPY_ON_WRITE PERL_PRESERVE_IVUV
                        USE_64_BIT_ALL USE_64_BIT_INT USE_LARGE_FILES
                        USE_LOCALE USE_LOCALE_COLLATE USE_LOCALE_CTYPE
                        USE_LOCALE_NUMERIC USE_LOCALE_TIME USE_PERLIO
                        USE_PERL_ATOF
  Built under linux
  Compiled at Jun 21 2017 06:16:58
  %ENV:
    PERL5LIB="/home/cpansand/.cpan/build/2018070503/Math-GSL-0.39-3/blib/arch:/home/cpansand/.cpan/build/2018070503/Math-GSL-0.39-3/blib/lib:/home/cpansand/.cpan/build/2018070503/Alien-JPCRE2-0.012000-3/blib/arch:/home/cpansand/.cpan/build/2018070503/Alien-JPCRE2-0.012000-3/blib/lib:/home/cpansand/.cpan/build/2018070503/Alien-GSL-1.01-3/blib/arch:/home/cpansand/.cpan/build/2018070503/Alien-GSL-1.01-3/blib/lib:/home/cpansand/.cpan/build/2018070503/Alien-Base-ModuleBuild-1.04-3/blib/arch:/home/cpansand/.cpan/build/2018070503/Alien-Base-ModuleBuild-1.04-3/blib/lib"
    PERL5OPT=""
    PERL5_CPANPLUS_IS_RUNNING="31820"
    PERL5_CPAN_IS_RUNNING="31820"
    PERL5_CPAN_IS_RUNNING_IN_RECURSION="19726,31820"
    PERLDOC="-MPod::Perldoc::ToTextOverstrike"
    PERL_BATCH="yes"
    PERL_CANARY_STABILITY_NOPROMPT="1"
    PERL_CPAN_REPORTER_CONFIG="/var/tmp/cpansmoker-1023/2018070500/cpanreporter_000_config.ini"
    PERL_EXTUTILS_AUTOINSTALL="--defaultdeps"
    PERL_USE_UNSAFE_INC="1"
  @INC:
    /home/cpansand/.cpan/build/2018070503/Math-GSL-0.39-3/blib/arch
    /home/cpansand/.cpan/build/2018070503/Math-GSL-0.39-3/blib/lib
    /home/cpansand/.cpan/build/2018070503/Alien-JPCRE2-0.012000-3/blib/arch
    /home/cpansand/.cpan/build/2018070503/Alien-JPCRE2-0.012000-3/blib/lib
    /home/cpansand/.cpan/build/2018070503/Alien-GSL-1.01-3/blib/arch
    /home/cpansand/.cpan/build/2018070503/Alien-GSL-1.01-3/blib/lib
    /home/cpansand/.cpan/build/2018070503/Alien-Base-ModuleBuild-1.04-3/blib/arch
    /home/cpansand/.cpan/build/2018070503/Alien-Base-ModuleBuild-1.04-3/blib/lib
    /opt/perl-5.22.3/lib/site_perl/5.22.3/x86_64-linux
    /opt/perl-5.22.3/lib/site_perl/5.22.3
    /opt/perl-5.22.3/lib/5.22.3/x86_64-linux
    /opt/perl-5.22.3/lib/5.22.3
    .