Report for Slurm-Sacctmgr-1.1.0

Back
From: metabase:user:322078bc-2aae-11df-837a-5e0a49663a4f
Subject: PASS Slurm-Sacctmgr-1.1.0 v5.14.3 GNU/Linux
Date: 2016-06-12T14:28:39Z

This distribution has been tested as part of the CPAN Testers
project, supporting the Perl programming language.  See
http://wiki.cpantesters.org/ for more information or email
questions to cpan-testers-discuss@perl.org


--

Dear PAYERLE,

This is a computer-generated error report created automatically by
CPANPLUS, version 0.9160. Testers personal comments may appear
at the end of this report.


Thank you for uploading your work to CPAN.  Congratulations!
All tests were successful.

TEST RESULTS:

Below is the error stack from stage 'make test':

PERL_DL_NONLAZY=1 "/home/cpan/pit/bare/perl-5.14.3/bin/perl" "-MExtUtils::Command::MM" "-MTest::Harness" "-e" "undef *Test::Harness::Switches; test_harness(0, 'blib/lib', 'blib/arch')" t/*.t
t/000_Slurm-Sacctmgr-use.t .......... ok
t/050_pod.t ......................... skipped: Author tests not required for installation
[VERBOSE] /home/cpan/pit/bare/conf/perl-5.14.3/.cpanplus/5.14.3/build/37lIHBFu5q/Slurm-Sacctmgr-1.1.0/t/helpers/echo_cmdline_to_stderr create cluster test-cluster
[VERBOSE] /home/cpan/pit/bare/conf/perl-5.14.3/.cpanplus/5.14.3/build/37lIHBFu5q/Slurm-Sacctmgr-1.1.0/t/helpers/echo_cmdline_to_stderr show user cluster='test-cluster' --readonly
[VERBOSE] /home/cpan/pit/bare/conf/perl-5.14.3/.cpanplus/5.14.3/build/37lIHBFu5q/Slurm-Sacctmgr-1.1.0/t/helpers/echo_cmdline_to_stderr show user cluster='test-cluster' --parsable2 --noheader --readonly
[DRYRUN] /home/cpan/pit/bare/conf/perl-5.14.3/.cpanplus/5.14.3/build/37lIHBFu5q/Slurm-Sacctmgr-1.1.0/t/helpers/echo_cmdline_to_stderr create cluster test-cluster
t/100_Slurm-Sacctmgr-basic.t ........ ok
t/110_lowlevel-utilities.t .......... ok
t/150_Slurm-Sacctmgr-taint.t ........ skipped: Skipping tests because Test:Exception not found
[DRYRUN] /home/cpan/pit/bare/conf/perl-5.14.3/.cpanplus/5.14.3/build/37lIHBFu5q/Slurm-Sacctmgr-1.1.0/t/helpers/echo_cmdline -i add account cluster=yottascale name=abc124 organization=nsa parent=special
[DRYRUN] /home/cpan/pit/bare/conf/perl-5.14.3/.cpanplus/5.14.3/build/37lIHBFu5q/Slurm-Sacctmgr-1.1.0/t/helpers/echo_cmdline -i modify account where account=abc124 cluster=yottascale organization=nsa set parent=topsecret rawusage=0
[DRYRUN] /home/cpan/pit/bare/conf/perl-5.14.3/.cpanplus/5.14.3/build/37lIHBFu5q/Slurm-Sacctmgr-1.1.0/t/helpers/echo_cmdline -i delete account where account=abc124 cluster=yottascale
t/200_Slurm-SAAccount-echo.t ........ ok
[DRYRUN] /home/cpan/pit/bare/conf/perl-5.14.3/.cpanplus/5.14.3/build/37lIHBFu5q/Slurm-Sacctmgr-1.1.0/t/helpers/echo_cmdline -i add account cluster=yottascale name=abc124 organization=nsa parent=special
[DRYRUN] /home/cpan/pit/bare/conf/perl-5.14.3/.cpanplus/5.14.3/build/37lIHBFu5q/Slurm-Sacctmgr-1.1.0/t/helpers/echo_cmdline -i modify account where account=abc124 cluster=yottascale organization=nsa set parent=topsecret rawusage=0
[DRYRUN] /home/cpan/pit/bare/conf/perl-5.14.3/.cpanplus/5.14.3/build/37lIHBFu5q/Slurm-Sacctmgr-1.1.0/t/helpers/echo_cmdline -i delete account where account=abc124 cluster=yottascale
t/205_Slurm-SAAssoc-echo.t .......... ok
[DRYRUN] /home/cpan/pit/bare/conf/perl-5.14.3/.cpanplus/5.14.3/build/37lIHBFu5q/Slurm-Sacctmgr-1.1.0/t/helpers/echo_cmdline -i add cluster cluster=yottascale controlhost=ys-master1 controlport=6817 cpucount=20000000 nodecount=1000000 nodenames=compute-[0-99999] rpc=7168
[DRYRUN] /home/cpan/pit/bare/conf/perl-5.14.3/.cpanplus/5.14.3/build/37lIHBFu5q/Slurm-Sacctmgr-1.1.0/t/helpers/echo_cmdline -i add cluster cluster=yottascale controlhost=ys-master1 controlport=6817 nodenames=compute-[0-99999] rpc=7168 tres=cpu=20000000,node=1000000
[DRYRUN] /home/cpan/pit/bare/conf/perl-5.14.3/.cpanplus/5.14.3/build/37lIHBFu5q/Slurm-Sacctmgr-1.1.0/t/helpers/echo_cmdline -i add cluster cluster=yottascale controlhost=ys-master1 controlport=6817 nodenames=compute-[0-99999] rpc=7168 tres=cpu=20000000,node=1000000
[DRYRUN] /home/cpan/pit/bare/conf/perl-5.14.3/.cpanplus/5.14.3/build/37lIHBFu5q/Slurm-Sacctmgr-1.1.0/t/helpers/echo_cmdline -i modify cluster where cluster=yottascale set classificiation=virtual
[DRYRUN] /home/cpan/pit/bare/conf/perl-5.14.3/.cpanplus/5.14.3/build/37lIHBFu5q/Slurm-Sacctmgr-1.1.0/t/helpers/echo_cmdline -i modify cluster where cluster=yottascale set cpucount=20000010
[DRYRUN] /home/cpan/pit/bare/conf/perl-5.14.3/.cpanplus/5.14.3/build/37lIHBFu5q/Slurm-Sacctmgr-1.1.0/t/helpers/echo_cmdline -i modify cluster where cluster=yottascale set tres=cpu=20000020,node=1000001
[DRYRUN] /home/cpan/pit/bare/conf/perl-5.14.3/.cpanplus/5.14.3/build/37lIHBFu5q/Slurm-Sacctmgr-1.1.0/t/helpers/echo_cmdline -i delete cluster where cluster=yottascale
[DRYRUN] /home/cpan/pit/bare/conf/perl-5.14.3/.cpanplus/5.14.3/build/37lIHBFu5q/Slurm-Sacctmgr-1.1.0/t/helpers/echo_cmdline -i add cluster cluster=yottascale controlhost=ys-master1 controlport=6817 cpucount=20000000 nodecount=1000000 nodenames=compute-[0-99999] rpc=7168
[DRYRUN] /home/cpan/pit/bare/conf/perl-5.14.3/.cpanplus/5.14.3/build/37lIHBFu5q/Slurm-Sacctmgr-1.1.0/t/helpers/echo_cmdline -i add cluster cluster=yottascale controlhost=ys-master1 controlport=6817 nodenames=compute-[0-99999] rpc=7168 tres=cpu=20000000,node=1000000
[DRYRUN] /home/cpan/pit/bare/conf/perl-5.14.3/.cpanplus/5.14.3/build/37lIHBFu5q/Slurm-Sacctmgr-1.1.0/t/helpers/echo_cmdline -i add cluster cluster=yottascale controlhost=ys-master1 controlport=6817 nodenames=compute-[0-99999] rpc=7168 tres=cpu=20000000,node=1000000
[DRYRUN] /home/cpan/pit/bare/conf/perl-5.14.3/.cpanplus/5.14.3/build/37lIHBFu5q/Slurm-Sacctmgr-1.1.0/t/helpers/echo_cmdline -i modify cluster where cluster=yottascale set classificiation=virtual
[DRYRUN] /home/cpan/pit/bare/conf/perl-5.14.3/.cpanplus/5.14.3/build/37lIHBFu5q/Slurm-Sacctmgr-1.1.0/t/helpers/echo_cmdline -i modify cluster where cluster=yottascale set cpucount=20000010
[DRYRUN] /home/cpan/pit/bare/conf/perl-5.14.3/.cpanplus/5.14.3/build/37lIHBFu5q/Slurm-Sacctmgr-1.1.0/t/helpers/echo_cmdline -i modify cluster where cluster=yottascale set tres=cpu=20000020,node=1000001
[DRYRUN] /home/cpan/pit/bare/conf/perl-5.14.3/.cpanplus/5.14.3/build/37lIHBFu5q/Slurm-Sacctmgr-1.1.0/t/helpers/echo_cmdline -i delete cluster where cluster=yottascale
t/210_Slurm-SACluster-echo.t ........ ok
t/230_Slurm-SAEvent-echo.t .......... ok
[DRYRUN] /home/cpan/pit/bare/conf/perl-5.14.3/.cpanplus/5.14.3/build/37lIHBFu5q/Slurm-Sacctmgr-1.1.0/t/helpers/echo_cmdline -i add qos 'description=high-priority qos' gracetime=10 grpcpumins=60000 grpcpus=1000 grpjobs=200 grpnodes=100 grpsubmitjobs=150 grpwall=40000 maxcpumins=120000 maxcpus=2000 maxjobs=400 maxnodes=300 maxsubmitjobs=275 maxwall=80000 name=high-priority preempt=scavenger,normal preemptmode=cluster priority=10 usagefactor=2
[DRYRUN] /home/cpan/pit/bare/conf/perl-5.14.3/.cpanplus/5.14.3/build/37lIHBFu5q/Slurm-Sacctmgr-1.1.0/t/helpers/echo_cmdline -i delete qos where name=high-priority
[DRYRUN] /home/cpan/pit/bare/conf/perl-5.14.3/.cpanplus/5.14.3/build/37lIHBFu5q/Slurm-Sacctmgr-1.1.0/t/helpers/echo_cmdline -i modify qos where name=high-priority set priority=75
[DRYRUN] /home/cpan/pit/bare/conf/perl-5.14.3/.cpanplus/5.14.3/build/37lIHBFu5q/Slurm-Sacctmgr-1.1.0/t/helpers/echo_cmdline -i add qos 'description=high-priority qos' gracetime=10 grpcpumins=60000 grpcpus=1000 grpjobs=200 grpnodes=100 grpsubmitjobs=150 grpwall=40000 maxcpumins=120000 maxcpus=2000 maxjobs=400 maxnodes=300 maxsubmitjobs=275 maxwall=80000 name=high-priority preempt=scavenger,normal preemptmode=cluster priority=10 usagefactor=2
[DRYRUN] /home/cpan/pit/bare/conf/perl-5.14.3/.cpanplus/5.14.3/build/37lIHBFu5q/Slurm-Sacctmgr-1.1.0/t/helpers/echo_cmdline -i delete qos where name=high-priority
[DRYRUN] /home/cpan/pit/bare/conf/perl-5.14.3/.cpanplus/5.14.3/build/37lIHBFu5q/Slurm-Sacctmgr-1.1.0/t/helpers/echo_cmdline -i modify qos where name=high-priority set priority=75
t/260_Slurm-SACQos-echo.t ........... ok
[DRYRUN] /home/cpan/pit/bare/conf/perl-5.14.3/.cpanplus/5.14.3/build/37lIHBFu5q/Slurm-Sacctmgr-1.1.0/t/helpers/echo_cmdline -i add resource allocated=100 cluster=yottascale count=10 description=test name=abaqus percentallowed=100 server=flexlm.umd.edu servertype=flexlm type=License
[DRYRUN] /home/cpan/pit/bare/conf/perl-5.14.3/.cpanplus/5.14.3/build/37lIHBFu5q/Slurm-Sacctmgr-1.1.0/t/helpers/echo_cmdline -i modify resource where name=abaqus set count=20
[DRYRUN] /home/cpan/pit/bare/conf/perl-5.14.3/.cpanplus/5.14.3/build/37lIHBFu5q/Slurm-Sacctmgr-1.1.0/t/helpers/echo_cmdline -i delete resource where name=abaqus
t/262_Slurm-SAResource-echo.t ....... ok
[DRYRUN] /home/cpan/pit/bare/conf/perl-5.14.3/.cpanplus/5.14.3/build/37lIHBFu5q/Slurm-Sacctmgr-1.1.0/t/helpers/echo_cmdline -i add resource allocated=100 cluster=yottascale count=10 description=test name=abaqus percentallowed=100 server=flexlm.umd.edu servertype=flexlm type=License
[DRYRUN] /home/cpan/pit/bare/conf/perl-5.14.3/.cpanplus/5.14.3/build/37lIHBFu5q/Slurm-Sacctmgr-1.1.0/t/helpers/echo_cmdline -i modify resource where name=abaqus set count=20
[DRYRUN] /home/cpan/pit/bare/conf/perl-5.14.3/.cpanplus/5.14.3/build/37lIHBFu5q/Slurm-Sacctmgr-1.1.0/t/helpers/echo_cmdline -i delete resource where name=abaqus
t/265_Slurm-SATransaction-echo.t .... ok
t/267_Slurm-SATres-echo.t ........... ok
[DRYRUN] /home/cpan/pit/bare/conf/perl-5.14.3/.cpanplus/5.14.3/build/37lIHBFu5q/Slurm-Sacctmgr-1.1.0/t/helpers/echo_cmdline -i add user adminlevel=Admin defaultaccount=nsa user=george
[DRYRUN] /home/cpan/pit/bare/conf/perl-5.14.3/.cpanplus/5.14.3/build/37lIHBFu5q/Slurm-Sacctmgr-1.1.0/t/helpers/echo_cmdline -i modify user where user=george set defaultaccount=abc124 rawusage=0
[DRYRUN] /home/cpan/pit/bare/conf/perl-5.14.3/.cpanplus/5.14.3/build/37lIHBFu5q/Slurm-Sacctmgr-1.1.0/t/helpers/echo_cmdline -i delete user where name=george
t/270_Slurm-SAUser-echo.t ........... ok
[DRYRUN] /home/cpan/pit/bare/conf/perl-5.14.3/.cpanplus/5.14.3/build/37lIHBFu5q/Slurm-Sacctmgr-1.1.0/t/helpers/echo_cmdline -i add user adminlevel=Admin defaultaccount=nsa user=george
[DRYRUN] /home/cpan/pit/bare/conf/perl-5.14.3/.cpanplus/5.14.3/build/37lIHBFu5q/Slurm-Sacctmgr-1.1.0/t/helpers/echo_cmdline -i modify user where user=george set defaultaccount=abc124 rawusage=0
[DRYRUN] /home/cpan/pit/bare/conf/perl-5.14.3/.cpanplus/5.14.3/build/37lIHBFu5q/Slurm-Sacctmgr-1.1.0/t/helpers/echo_cmdline -i delete user where name=george
t/280_Slurm-SAWCKey-echo.t .......... ok
t/500_Slurm-SAAccount-parse.t ....... ok
t/505_Slurm-SAAssoc-parse.t ......... ok
t/510_Slurm-SACluster-parse.t ....... ok
t/530_Slurm-SAEvent-parse.t ......... ok
t/560_Slurm-SAQos-parse.t ........... ok
t/562_Slurm-SAResource-parse.t ...... ok
t/565_Slurm-SATransaction-parse.t ... ok
t/567_Slurm-SATres-parse.t .......... ok
t/570_Slurm-SAUser-parse.t .......... ok
t/580_Slurm-SAWCKey-parse.t ......... ok
[DRYRUN] /home/cpan/pit/bare/conf/perl-5.14.3/.cpanplus/5.14.3/build/37lIHBFu5q/Slurm-Sacctmgr-1.1.0/t/helpers/fake_sacctmgr_show+echo -i add account account=xxx 'description=new account' organization=xx
[DRYRUN] /home/cpan/pit/bare/conf/perl-5.14.3/.cpanplus/5.14.3/build/37lIHBFu5q/Slurm-Sacctmgr-1.1.0/t/helpers/fake_sacctmgr_show+echo -i delete account where account=aaa
[DRYRUN] /home/cpan/pit/bare/conf/perl-5.14.3/.cpanplus/5.14.3/build/37lIHBFu5q/Slurm-Sacctmgr-1.1.0/t/helpers/fake_sacctmgr_show+echo -i delete account where account=aab
[DRYRUN] /home/cpan/pit/bare/conf/perl-5.14.3/.cpanplus/5.14.3/build/37lIHBFu5q/Slurm-Sacctmgr-1.1.0/t/helpers/fake_sacctmgr_show+echo -i delete account where account=bbb
[DRYRUN] /home/cpan/pit/bare/conf/perl-5.14.3/.cpanplus/5.14.3/build/37lIHBFu5q/Slurm-Sacctmgr-1.1.0/t/helpers/fake_sacctmgr_show+echo -i delete account where account=ccc
[DRYRUN] /home/cpan/pit/bare/conf/perl-5.14.3/.cpanplus/5.14.3/build/37lIHBFu5q/Slurm-Sacctmgr-1.1.0/t/helpers/fake_sacctmgr_show+echo -i modify account where account=aaa set 'description=new desc' 'organization=new org'
[DRYRUN] /home/cpan/pit/bare/conf/perl-5.14.3/.cpanplus/5.14.3/build/37lIHBFu5q/Slurm-Sacctmgr-1.1.0/t/helpers/fake_sacctmgr_show+echo -i modify account where account=aab set 'description=new desc' 'organization=new org'
[DRYRUN] /home/cpan/pit/bare/conf/perl-5.14.3/.cpanplus/5.14.3/build/37lIHBFu5q/Slurm-Sacctmgr-1.1.0/t/helpers/fake_sacctmgr_show+echo -i modify account where account=bbb set 'description=new desc' 'organization=new org'
[DRYRUN] /home/cpan/pit/bare/conf/perl-5.14.3/.cpanplus/5.14.3/build/37lIHBFu5q/Slurm-Sacctmgr-1.1.0/t/helpers/fake_sacctmgr_show+echo -i modify account where account=ccc set 'description=new desc' 'organization=new org'
[DRYRUN] /home/cpan/pit/bare/conf/perl-5.14.3/.cpanplus/5.14.3/build/37lIHBFu5q/Slurm-Sacctmgr-1.1.0/t/helpers/fake_sacctmgr_show+echo -i add account account=xxx 'description=new account' extra_flag=772 organization=xx
[DRYRUN] /home/cpan/pit/bare/conf/perl-5.14.3/.cpanplus/5.14.3/build/37lIHBFu5q/Slurm-Sacctmgr-1.1.0/t/helpers/fake_sacctmgr_show+echo -i modify account where account=aaa set extra_flag=772
[DRYRUN] /home/cpan/pit/bare/conf/perl-5.14.3/.cpanplus/5.14.3/build/37lIHBFu5q/Slurm-Sacctmgr-1.1.0/t/helpers/fake_sacctmgr_show+echo -i modify account where account=aab set extra_flag=772 'organization=new org'
[DRYRUN] /home/cpan/pit/bare/conf/perl-5.14.3/.cpanplus/5.14.3/build/37lIHBFu5q/Slurm-Sacctmgr-1.1.0/t/helpers/fake_sacctmgr_show+echo -i modify account where account=bbb set 'description=new desc' extra_flag=772
[DRYRUN] /home/cpan/pit/bare/conf/perl-5.14.3/.cpanplus/5.14.3/build/37lIHBFu5q/Slurm-Sacctmgr-1.1.0/t/helpers/fake_sacctmgr_show+echo -i modify account where account=ccc set 'description=new desc' extra_flag=772 'organization=new org'
[DRYRUN] /home/cpan/pit/bare/conf/perl-5.14.3/.cpanplus/5.14.3/build/37lIHBFu5q/Slurm-Sacctmgr-1.1.0/t/helpers/fake_sacctmgr_show+echo -i modify account where account=aab set 'organization=new org'
[DRYRUN] /home/cpan/pit/bare/conf/perl-5.14.3/.cpanplus/5.14.3/build/37lIHBFu5q/Slurm-Sacctmgr-1.1.0/t/helpers/fake_sacctmgr_show+echo -i modify account where account=bbb set 'description=new desc'
[DRYRUN] /home/cpan/pit/bare/conf/perl-5.14.3/.cpanplus/5.14.3/build/37lIHBFu5q/Slurm-Sacctmgr-1.1.0/t/helpers/fake_sacctmgr_show+echo -i modify account where account=ccc set 'description=new desc' 'organization=new org'
[DRYRUN] /home/cpan/pit/bare/conf/perl-5.14.3/.cpanplus/5.14.3/build/37lIHBFu5q/Slurm-Sacctmgr-1.1.0/t/helpers/fake_sacctmgr_show+echo -i add account account=xxx 'description=new account' organization=xx
[DRYRUN] /home/cpan/pit/bare/conf/perl-5.14.3/.cpanplus/5.14.3/build/37lIHBFu5q/Slurm-Sacctmgr-1.1.0/t/helpers/fake_sacctmgr_show+echo -i delete account where account=aaa
[DRYRUN] /home/cpan/pit/bare/conf/perl-5.14.3/.cpanplus/5.14.3/build/37lIHBFu5q/Slurm-Sacctmgr-1.1.0/t/helpers/fake_sacctmgr_show+echo -i delete account where account=aab
[DRYRUN] /home/cpan/pit/bare/conf/perl-5.14.3/.cpanplus/5.14.3/build/37lIHBFu5q/Slurm-Sacctmgr-1.1.0/t/helpers/fake_sacctmgr_show+echo -i delete account where account=bbb
[DRYRUN] /home/cpan/pit/bare/conf/perl-5.14.3/.cpanplus/5.14.3/build/37lIHBFu5q/Slurm-Sacctmgr-1.1.0/t/helpers/fake_sacctmgr_show+echo -i delete account where account=ccc
[DRYRUN] /home/cpan/pit/bare/conf/perl-5.14.3/.cpanplus/5.14.3/build/37lIHBFu5q/Slurm-Sacctmgr-1.1.0/t/helpers/fake_sacctmgr_show+echo -i modify account where account=aaa set 'description=new desc' 'organization=new org'
[DRYRUN] /home/cpan/pit/bare/conf/perl-5.14.3/.cpanplus/5.14.3/build/37lIHBFu5q/Slurm-Sacctmgr-1.1.0/t/helpers/fake_sacctmgr_show+echo -i modify account where account=aab set 'description=new desc' 'organization=new org'
[DRYRUN] /home/cpan/pit/bare/conf/perl-5.14.3/.cpanplus/5.14.3/build/37lIHBFu5q/Slurm-Sacctmgr-1.1.0/t/helpers/fake_sacctmgr_show+echo -i modify account where account=bbb set 'description=new desc' 'organization=new org'
[DRYRUN] /home/cpan/pit/bare/conf/perl-5.14.3/.cpanplus/5.14.3/build/37lIHBFu5q/Slurm-Sacctmgr-1.1.0/t/helpers/fake_sacctmgr_show+echo -i modify account where account=ccc set 'description=new desc' 'organization=new org'
[DRYRUN] /home/cpan/pit/bare/conf/perl-5.14.3/.cpanplus/5.14.3/build/37lIHBFu5q/Slurm-Sacctmgr-1.1.0/t/helpers/fake_sacctmgr_show+echo -i add account account=xxx 'description=new account' extra_flag=772 organization=xx
[DRYRUN] /home/cpan/pit/bare/conf/perl-5.14.3/.cpanplus/5.14.3/build/37lIHBFu5q/Slurm-Sacctmgr-1.1.0/t/helpers/fake_sacctmgr_show+echo -i modify account where account=aaa set extra_flag=772
[DRYRUN] /home/cpan/pit/bare/conf/perl-5.14.3/.cpanplus/5.14.3/build/37lIHBFu5q/Slurm-Sacctmgr-1.1.0/t/helpers/fake_sacctmgr_show+echo -i modify account where account=aab set extra_flag=772 'organization=new org'
[DRYRUN] /home/cpan/pit/bare/conf/perl-5.14.3/.cpanplus/5.14.3/build/37lIHBFu5q/Slurm-Sacctmgr-1.1.0/t/helpers/fake_sacctmgr_show+echo -i modify account where account=bbb set 'description=new desc' extra_flag=772
[DRYRUN] /home/cpan/pit/bare/conf/perl-5.14.3/.cpanplus/5.14.3/build/37lIHBFu5q/Slurm-Sacctmgr-1.1.0/t/helpers/fake_sacctmgr_show+echo -i modify account where account=ccc set 'description=new desc' extra_flag=772 'organization=new org'
[DRYRUN] /home/cpan/pit/bare/conf/perl-5.14.3/.cpanplus/5.14.3/build/37lIHBFu5q/Slurm-Sacctmgr-1.1.0/t/helpers/fake_sacctmgr_show+echo -i modify account where account=aab set 'organization=new org'
[DRYRUN] /home/cpan/pit/bare/conf/perl-5.14.3/.cpanplus/5.14.3/build/37lIHBFu5q/Slurm-Sacctmgr-1.1.0/t/helpers/fake_sacctmgr_show+echo -i modify account where account=bbb set 'description=new desc'
t/600_Slurm-SAAccount-foo_me.t ...... ok
[DRYRUN] /home/cpan/pit/bare/conf/perl-5.14.3/.cpanplus/5.14.3/build/37lIHBFu5q/Slurm-Sacctmgr-1.1.0/t/helpers/fake_sacctmgr_show+echo -i modify account where account=ccc set 'description=new desc' 'organization=new org'
t/605_Slurm-SAAssoc-foo_me.t ........ ok
[DRYRUN] /home/cpan/pit/bare/conf/perl-5.14.3/.cpanplus/5.14.3/build/37lIHBFu5q/Slurm-Sacctmgr-1.1.0/t/helpers/fake_sacctmgr_show+echo -i add cluster classification=new cluster=newcluster controlhost=new-master controlport=6818 cpucount=1600 flags=virtual nodecount=100 rpc=7169
[DRYRUN] /home/cpan/pit/bare/conf/perl-5.14.3/.cpanplus/5.14.3/build/37lIHBFu5q/Slurm-Sacctmgr-1.1.0/t/helpers/fake_sacctmgr_show+echo -i delete cluster where cluster=test1
[DRYRUN] /home/cpan/pit/bare/conf/perl-5.14.3/.cpanplus/5.14.3/build/37lIHBFu5q/Slurm-Sacctmgr-1.1.0/t/helpers/fake_sacctmgr_show+echo -i delete cluster where cluster=yottascale
[DRYRUN] /home/cpan/pit/bare/conf/perl-5.14.3/.cpanplus/5.14.3/build/37lIHBFu5q/Slurm-Sacctmgr-1.1.0/t/helpers/fake_sacctmgr_show+echo -i modify cluster where cluster=test1 set 'classification=newer class' flags=deprecated
[DRYRUN] /home/cpan/pit/bare/conf/perl-5.14.3/.cpanplus/5.14.3/build/37lIHBFu5q/Slurm-Sacctmgr-1.1.0/t/helpers/fake_sacctmgr_show+echo -i modify cluster where cluster=yottascale set 'classification=newer class' flags=deprecated
[DRYRUN] /home/cpan/pit/bare/conf/perl-5.14.3/.cpanplus/5.14.3/build/37lIHBFu5q/Slurm-Sacctmgr-1.1.0/t/helpers/fake_sacctmgr_show+echo -i add cluster classification=new cluster=newcluster controlhost=new-master controlport=6818 cpucount=1600 extra_flag=772 flags=virtual nodecount=100 rpc=7169
[DRYRUN] /home/cpan/pit/bare/conf/perl-5.14.3/.cpanplus/5.14.3/build/37lIHBFu5q/Slurm-Sacctmgr-1.1.0/t/helpers/fake_sacctmgr_show+echo -i modify cluster where cluster=test1 set extra_flag=772
[DRYRUN] /home/cpan/pit/bare/conf/perl-5.14.3/.cpanplus/5.14.3/build/37lIHBFu5q/Slurm-Sacctmgr-1.1.0/t/helpers/fake_sacctmgr_show+echo -i modify cluster where cluster=yottascale set extra_flag=772 flags=updated
[DRYRUN] /home/cpan/pit/bare/conf/perl-5.14.3/.cpanplus/5.14.3/build/37lIHBFu5q/Slurm-Sacctmgr-1.1.0/t/helpers/fake_sacctmgr_show+echo -i modify cluster where cluster=yottascale set flags=updated
[DRYRUN] /home/cpan/pit/bare/conf/perl-5.14.3/.cpanplus/5.14.3/build/37lIHBFu5q/Slurm-Sacctmgr-1.1.0/t/helpers/fake_sacctmgr_show+echo -i add cluster classification=new cluster=newcluster controlhost=new-master controlport=6818 flags=virtual rpc=7169 tres=cpu=1600,mem=12800000,node=100
[DRYRUN] /home/cpan/pit/bare/conf/perl-5.14.3/.cpanplus/5.14.3/build/37lIHBFu5q/Slurm-Sacctmgr-1.1.0/t/helpers/fake_sacctmgr_show+echo -i delete cluster where cluster=test1
[DRYRUN] /home/cpan/pit/bare/conf/perl-5.14.3/.cpanplus/5.14.3/build/37lIHBFu5q/Slurm-Sacctmgr-1.1.0/t/helpers/fake_sacctmgr_show+echo -i delete cluster where cluster=yottascale
[DRYRUN] /home/cpan/pit/bare/conf/perl-5.14.3/.cpanplus/5.14.3/build/37lIHBFu5q/Slurm-Sacctmgr-1.1.0/t/helpers/fake_sacctmgr_show+echo -i modify cluster where cluster=test1 set 'classification=newer class' flags=deprecated
[DRYRUN] /home/cpan/pit/bare/conf/perl-5.14.3/.cpanplus/5.14.3/build/37lIHBFu5q/Slurm-Sacctmgr-1.1.0/t/helpers/fake_sacctmgr_show+echo -i modify cluster where cluster=yottascale set 'classification=newer class' flags=deprecated
[DRYRUN] /home/cpan/pit/bare/conf/perl-5.14.3/.cpanplus/5.14.3/build/37lIHBFu5q/Slurm-Sacctmgr-1.1.0/t/helpers/fake_sacctmgr_show+echo -i add cluster classification=new cluster=newcluster controlhost=new-master controlport=6818 extra_flag=772 flags=virtual rpc=7169 tres=cpu=1600,mem=12800000,node=100
[DRYRUN] /home/cpan/pit/bare/conf/perl-5.14.3/.cpanplus/5.14.3/build/37lIHBFu5q/Slurm-Sacctmgr-1.1.0/t/helpers/fake_sacctmgr_show+echo -i modify cluster where cluster=test1 set extra_flag=772
[DRYRUN] /home/cpan/pit/bare/conf/perl-5.14.3/.cpanplus/5.14.3/build/37lIHBFu5q/Slurm-Sacctmgr-1.1.0/t/helpers/fake_sacctmgr_show+echo -i modify cluster where cluster=yottascale set extra_flag=772 flags=updated
[DRYRUN] /home/cpan/pit/bare/conf/perl-5.14.3/.cpanplus/5.14.3/build/37lIHBFu5q/Slurm-Sacctmgr-1.1.0/t/helpers/fake_sacctmgr_show+echo -i modify cluster where cluster=yottascale set flags=updated
t/610_Slurm_SACluster-foo_me.t ...... ok
t/630_Slurm-SAEvent-foo_me.t ........ ok
[DRYRUN] /home/cpan/pit/bare/conf/perl-5.14.3/.cpanplus/5.14.3/build/37lIHBFu5q/Slurm-Sacctmgr-1.1.0/t/helpers/fake_sacctmgr_show+echo -i add qos 'description=GPU qos' gracetime=57 grpcpumins=1000000 grpcpus=1000 grpjobs=200 grpnodes=50 grpsubmitjobs=100 id=4 maxcpumins=60000 maxcpus=2000 maxcpusperuser=500 maxjobs=300 maxnodes=100 maxnodesperuser=25 maxsubmitjobs=150 maxwall=6000 mincpus=10 name=gpu preempt=scavenger preemptmode=cluster priority=25 usagefactor=3
[DRYRUN] /home/cpan/pit/bare/conf/perl-5.14.3/.cpanplus/5.14.3/build/37lIHBFu5q/Slurm-Sacctmgr-1.1.0/t/helpers/fake_sacctmgr_show+echo -i delete qos where name=high-priority
[DRYRUN] /home/cpan/pit/bare/conf/perl-5.14.3/.cpanplus/5.14.3/build/37lIHBFu5q/Slurm-Sacctmgr-1.1.0/t/helpers/fake_sacctmgr_show+echo -i delete qos where name=scavenger
[DRYRUN] /home/cpan/pit/bare/conf/perl-5.14.3/.cpanplus/5.14.3/build/37lIHBFu5q/Slurm-Sacctmgr-1.1.0/t/helpers/fake_sacctmgr_show+echo -i delete qos where name=standard
[DRYRUN] /home/cpan/pit/bare/conf/perl-5.14.3/.cpanplus/5.14.3/build/37lIHBFu5q/Slurm-Sacctmgr-1.1.0/t/helpers/fake_sacctmgr_show+echo -i modify qos where name=high-priority set 'description=new desc' 'organization=new org'
[DRYRUN] /home/cpan/pit/bare/conf/perl-5.14.3/.cpanplus/5.14.3/build/37lIHBFu5q/Slurm-Sacctmgr-1.1.0/t/helpers/fake_sacctmgr_show+echo -i modify qos where name=scavenger set 'description=new desc' 'organization=new org'
[DRYRUN] /home/cpan/pit/bare/conf/perl-5.14.3/.cpanplus/5.14.3/build/37lIHBFu5q/Slurm-Sacctmgr-1.1.0/t/helpers/fake_sacctmgr_show+echo -i modify qos where name=standard set 'description=new desc' 'organization=new org'
[DRYRUN] /home/cpan/pit/bare/conf/perl-5.14.3/.cpanplus/5.14.3/build/37lIHBFu5q/Slurm-Sacctmgr-1.1.0/t/helpers/fake_sacctmgr_show+echo -i add qos 'description=GPU qos' gracetime=57 grpjobs=200 grpsubmitjobs=100 grptres=cpu=1000,node=50 grptresmins=cpu=1000000 id=4 maxjobs=300 maxsubmitjobs=150 maxtresmins=cpu=60000 maxtresperjob=cpu=2000,node=100 maxtresperuser=cpu=500,node=25 maxwall=6000 mintresperjob=cpu=10,node=1 name=gpu preempt=scavenger preemptmode=cluster priority=25 usagefactor=3
[DRYRUN] /home/cpan/pit/bare/conf/perl-5.14.3/.cpanplus/5.14.3/build/37lIHBFu5q/Slurm-Sacctmgr-1.1.0/t/helpers/fake_sacctmgr_show+echo -i delete qos where name=high-priority
[DRYRUN] /home/cpan/pit/bare/conf/perl-5.14.3/.cpanplus/5.14.3/build/37lIHBFu5q/Slurm-Sacctmgr-1.1.0/t/helpers/fake_sacctmgr_show+echo -i delete qos where name=scavenger
[DRYRUN] /home/cpan/pit/bare/conf/perl-5.14.3/.cpanplus/5.14.3/build/37lIHBFu5q/Slurm-Sacctmgr-1.1.0/t/helpers/fake_sacctmgr_show+echo -i delete qos where name=standard
[DRYRUN] /home/cpan/pit/bare/conf/perl-5.14.3/.cpanplus/5.14.3/build/37lIHBFu5q/Slurm-Sacctmgr-1.1.0/t/helpers/fake_sacctmgr_show+echo -i modify qos where name=high-priority set 'description=new desc' 'organization=new org'
[DRYRUN] /home/cpan/pit/bare/conf/perl-5.14.3/.cpanplus/5.14.3/build/37lIHBFu5q/Slurm-Sacctmgr-1.1.0/t/helpers/fake_sacctmgr_show+echo -i modify qos where name=scavenger set 'description=new desc' 'organization=new org'
[DRYRUN] /home/cpan/pit/bare/conf/perl-5.14.3/.cpanplus/5.14.3/build/37lIHBFu5q/Slurm-Sacctmgr-1.1.0/t/helpers/fake_sacctmgr_show+echo -i modify qos where name=standard set 'description=new desc' 'organization=new org'
t/660_Slurm-SAQos-foo_me.t .......... ok
[DRYRUN] /home/cpan/pit/bare/conf/perl-5.14.3/.cpanplus/5.14.3/build/37lIHBFu5q/Slurm-Sacctmgr-1.1.0/t/helpers/fake_sacctmgr_show+echo -i add resource cluster=yottascale count=10 description=test name=abaqus percentallowed=100 server=flexlm.umd.edu servertype=flexlm type=License
[DRYRUN] /home/cpan/pit/bare/conf/perl-5.14.3/.cpanplus/5.14.3/build/37lIHBFu5q/Slurm-Sacctmgr-1.1.0/t/helpers/fake_sacctmgr_show+echo -i delete resource where cluster=yottascale name=foo
[DRYRUN] /home/cpan/pit/bare/conf/perl-5.14.3/.cpanplus/5.14.3/build/37lIHBFu5q/Slurm-Sacctmgr-1.1.0/t/helpers/fake_sacctmgr_show+echo -i delete resource where cluster=yottascale name=matlab
[DRYRUN] /home/cpan/pit/bare/conf/perl-5.14.3/.cpanplus/5.14.3/build/37lIHBFu5q/Slurm-Sacctmgr-1.1.0/t/helpers/fake_sacctmgr_show+echo -i delete resource where cluster=testcluster name=matlab
[DRYRUN] /home/cpan/pit/bare/conf/perl-5.14.3/.cpanplus/5.14.3/build/37lIHBFu5q/Slurm-Sacctmgr-1.1.0/t/helpers/fake_sacctmgr_show+echo -i modify resource where cluster=yottascale name=foo set count=999
[DRYRUN] /home/cpan/pit/bare/conf/perl-5.14.3/.cpanplus/5.14.3/build/37lIHBFu5q/Slurm-Sacctmgr-1.1.0/t/helpers/fake_sacctmgr_show+echo -i modify resource where cluster=yottascale name=matlab set count=999
[DRYRUN] /home/cpan/pit/bare/conf/perl-5.14.3/.cpanplus/5.14.3/build/37lIHBFu5q/Slurm-Sacctmgr-1.1.0/t/helpers/fake_sacctmgr_show+echo -i modify resource where cluster=testcluster name=matlab set count=999
[DRYRUN] /home/cpan/pit/bare/conf/perl-5.14.3/.cpanplus/5.14.3/build/37lIHBFu5q/Slurm-Sacctmgr-1.1.0/t/helpers/fake_sacctmgr_show+echo -i add resource cluster=yottascale count=10 description=test extra_flag=772 name=abaqus percentallowed=100 server=flexlm.umd.edu servertype=flexlm type=License
[DRYRUN] /home/cpan/pit/bare/conf/perl-5.14.3/.cpanplus/5.14.3/build/37lIHBFu5q/Slurm-Sacctmgr-1.1.0/t/helpers/fake_sacctmgr_show+echo -i modify resource where cluster=yottascale name=foo set extra_flag=772
[DRYRUN] /home/cpan/pit/bare/conf/perl-5.14.3/.cpanplus/5.14.3/build/37lIHBFu5q/Slurm-Sacctmgr-1.1.0/t/helpers/fake_sacctmgr_show+echo -i modify resource where cluster=yottascale name=matlab set count=999 extra_flag=772
[DRYRUN] /home/cpan/pit/bare/conf/perl-5.14.3/.cpanplus/5.14.3/build/37lIHBFu5q/Slurm-Sacctmgr-1.1.0/t/helpers/fake_sacctmgr_show+echo -i modify resource where cluster=testcluster name=matlab set count=999 'description=new descr' extra_flag=772
[DRYRUN] /home/cpan/pit/bare/conf/perl-5.14.3/.cpanplus/5.14.3/build/37lIHBFu5q/Slurm-Sacctmgr-1.1.0/t/helpers/fake_sacctmgr_show+echo -i modify resource where cluster=yottascale name=matlab set count=999
[DRYRUN] /home/cpan/pit/bare/conf/perl-5.14.3/.cpanplus/5.14.3/build/37lIHBFu5q/Slurm-Sacctmgr-1.1.0/t/helpers/fake_sacctmgr_show+echo -i modify resource where cluster=testcluster name=matlab set count=999 'description=new descr'
[DRYRUN] /home/cpan/pit/bare/conf/perl-5.14.3/.cpanplus/5.14.3/build/37lIHBFu5q/Slurm-Sacctmgr-1.1.0/t/helpers/fake_sacctmgr_show+echo -i add resource cluster=yottascale count=10 description=test name=abaqus percentallowed=100 server=flexlm.umd.edu servertype=flexlm type=License
[DRYRUN] /home/cpan/pit/bare/conf/perl-5.14.3/.cpanplus/5.14.3/build/37lIHBFu5q/Slurm-Sacctmgr-1.1.0/t/helpers/fake_sacctmgr_show+echo -i delete resource where cluster=yottascale name=foo
[DRYRUN] /home/cpan/pit/bare/conf/perl-5.14.3/.cpanplus/5.14.3/build/37lIHBFu5q/Slurm-Sacctmgr-1.1.0/t/helpers/fake_sacctmgr_show+echo -i delete resource where cluster=yottascale name=matlab
[DRYRUN] /home/cpan/pit/bare/conf/perl-5.14.3/.cpanplus/5.14.3/build/37lIHBFu5q/Slurm-Sacctmgr-1.1.0/t/helpers/fake_sacctmgr_show+echo -i delete resource where cluster=testcluster name=matlab
[DRYRUN] /home/cpan/pit/bare/conf/perl-5.14.3/.cpanplus/5.14.3/build/37lIHBFu5q/Slurm-Sacctmgr-1.1.0/t/helpers/fake_sacctmgr_show+echo -i modify resource where cluster=yottascale name=foo set count=999
[DRYRUN] /home/cpan/pit/bare/conf/perl-5.14.3/.cpanplus/5.14.3/build/37lIHBFu5q/Slurm-Sacctmgr-1.1.0/t/helpers/fake_sacctmgr_show+echo -i modify resource where cluster=yottascale name=matlab set count=999
[DRYRUN] /home/cpan/pit/bare/conf/perl-5.14.3/.cpanplus/5.14.3/build/37lIHBFu5q/Slurm-Sacctmgr-1.1.0/t/helpers/fake_sacctmgr_show+echo -i modify resource where cluster=testcluster name=matlab set count=999
[DRYRUN] /home/cpan/pit/bare/conf/perl-5.14.3/.cpanplus/5.14.3/build/37lIHBFu5q/Slurm-Sacctmgr-1.1.0/t/helpers/fake_sacctmgr_show+echo -i add resource cluster=yottascale count=10 description=test extra_flag=772 name=abaqus percentallowed=100 server=flexlm.umd.edu servertype=flexlm type=License
[DRYRUN] /home/cpan/pit/bare/conf/perl-5.14.3/.cpanplus/5.14.3/build/37lIHBFu5q/Slurm-Sacctmgr-1.1.0/t/helpers/fake_sacctmgr_show+echo -i modify resource where cluster=yottascale name=foo set extra_flag=772
[DRYRUN] /home/cpan/pit/bare/conf/perl-5.14.3/.cpanplus/5.14.3/build/37lIHBFu5q/Slurm-Sacctmgr-1.1.0/t/helpers/fake_sacctmgr_show+echo -i modify resource where cluster=yottascale name=matlab set count=999 extra_flag=772
[DRYRUN] /home/cpan/pit/bare/conf/perl-5.14.3/.cpanplus/5.14.3/build/37lIHBFu5q/Slurm-Sacctmgr-1.1.0/t/helpers/fake_sacctmgr_show+echo -i modify resource where cluster=testcluster name=matlab set count=999 'description=new descr' extra_flag=772
[DRYRUN] /home/cpan/pit/bare/conf/perl-5.14.3/.cpanplus/5.14.3/build/37lIHBFu5q/Slurm-Sacctmgr-1.1.0/t/helpers/fake_sacctmgr_show+echo -i modify resource where cluster=yottascale name=matlab set count=999
t/662_Slurm-SAResource-foo_me.t ..... ok
[DRYRUN] /home/cpan/pit/bare/conf/perl-5.14.3/.cpanplus/5.14.3/build/37lIHBFu5q/Slurm-Sacctmgr-1.1.0/t/helpers/fake_sacctmgr_show+echo -i modify resource where cluster=testcluster name=matlab set count=999 'description=new descr'
t/665_Slurm-SATransaction-foo_me.t .. ok
t/667_Slurm-SATres-foo_me.t ......... ok
[DRYRUN] /home/cpan/pit/bare/conf/perl-5.14.3/.cpanplus/5.14.3/build/37lIHBFu5q/Slurm-Sacctmgr-1.1.0/t/helpers/fake_sacctmgr_show+echo -i add user adminlevel=Administrator defaultaccount=abc124 user=xxx
[DRYRUN] /home/cpan/pit/bare/conf/perl-5.14.3/.cpanplus/5.14.3/build/37lIHBFu5q/Slurm-Sacctmgr-1.1.0/t/helpers/fake_sacctmgr_show+echo -i delete user where user=aaa
[DRYRUN] /home/cpan/pit/bare/conf/perl-5.14.3/.cpanplus/5.14.3/build/37lIHBFu5q/Slurm-Sacctmgr-1.1.0/t/helpers/fake_sacctmgr_show+echo -i delete user where user=bbb
[DRYRUN] /home/cpan/pit/bare/conf/perl-5.14.3/.cpanplus/5.14.3/build/37lIHBFu5q/Slurm-Sacctmgr-1.1.0/t/helpers/fake_sacctmgr_show+echo -i delete user where user=ccc
[DRYRUN] /home/cpan/pit/bare/conf/perl-5.14.3/.cpanplus/5.14.3/build/37lIHBFu5q/Slurm-Sacctmgr-1.1.0/t/helpers/fake_sacctmgr_show+echo -i delete user where user=ddd
[DRYRUN] /home/cpan/pit/bare/conf/perl-5.14.3/.cpanplus/5.14.3/build/37lIHBFu5q/Slurm-Sacctmgr-1.1.0/t/helpers/fake_sacctmgr_show+echo -i modify user where user=aaa set adminlevel=Admin defaultaccount=newacct
[DRYRUN] /home/cpan/pit/bare/conf/perl-5.14.3/.cpanplus/5.14.3/build/37lIHBFu5q/Slurm-Sacctmgr-1.1.0/t/helpers/fake_sacctmgr_show+echo -i modify user where user=bbb set adminlevel=Admin defaultaccount=newacct
[DRYRUN] /home/cpan/pit/bare/conf/perl-5.14.3/.cpanplus/5.14.3/build/37lIHBFu5q/Slurm-Sacctmgr-1.1.0/t/helpers/fake_sacctmgr_show+echo -i modify user where user=ccc set adminlevel=Admin defaultaccount=newacct
[DRYRUN] /home/cpan/pit/bare/conf/perl-5.14.3/.cpanplus/5.14.3/build/37lIHBFu5q/Slurm-Sacctmgr-1.1.0/t/helpers/fake_sacctmgr_show+echo -i modify user where user=ddd set adminlevel=Admin defaultaccount=newacct
[DRYRUN] /home/cpan/pit/bare/conf/perl-5.14.3/.cpanplus/5.14.3/build/37lIHBFu5q/Slurm-Sacctmgr-1.1.0/t/helpers/fake_sacctmgr_show+echo -i add user adminlevel=Administrator defaultaccount=abc124 extra_flag=772 user=xxx
[DRYRUN] /home/cpan/pit/bare/conf/perl-5.14.3/.cpanplus/5.14.3/build/37lIHBFu5q/Slurm-Sacctmgr-1.1.0/t/helpers/fake_sacctmgr_show+echo -i modify user where user=aaa set extra_flag=772
[DRYRUN] /home/cpan/pit/bare/conf/perl-5.14.3/.cpanplus/5.14.3/build/37lIHBFu5q/Slurm-Sacctmgr-1.1.0/t/helpers/fake_sacctmgr_show+echo -i modify user where user=bbb set defaultaccount=newacct extra_flag=772
[DRYRUN] /home/cpan/pit/bare/conf/perl-5.14.3/.cpanplus/5.14.3/build/37lIHBFu5q/Slurm-Sacctmgr-1.1.0/t/helpers/fake_sacctmgr_show+echo -i modify user where user=ccc set adminlevel=SuperUser defaultaccount=newacct extra_flag=772
[DRYRUN] /home/cpan/pit/bare/conf/perl-5.14.3/.cpanplus/5.14.3/build/37lIHBFu5q/Slurm-Sacctmgr-1.1.0/t/helpers/fake_sacctmgr_show+echo -i modify user where user=ddd set extra_flag=772
[DRYRUN] /home/cpan/pit/bare/conf/perl-5.14.3/.cpanplus/5.14.3/build/37lIHBFu5q/Slurm-Sacctmgr-1.1.0/t/helpers/fake_sacctmgr_show+echo -i modify user where user=bbb set defaultaccount=newacct
[DRYRUN] /home/cpan/pit/bare/conf/perl-5.14.3/.cpanplus/5.14.3/build/37lIHBFu5q/Slurm-Sacctmgr-1.1.0/t/helpers/fake_sacctmgr_show+echo -i modify user where user=ccc set adminlevel=SuperUser defaultaccount=newacct
[DRYRUN] /home/cpan/pit/bare/conf/perl-5.14.3/.cpanplus/5.14.3/build/37lIHBFu5q/Slurm-Sacctmgr-1.1.0/t/helpers/fake_sacctmgr_show+echo -i add user adminlevel=Administrator defaultaccount=abc124 user=xxx
[DRYRUN] /home/cpan/pit/bare/conf/perl-5.14.3/.cpanplus/5.14.3/build/37lIHBFu5q/Slurm-Sacctmgr-1.1.0/t/helpers/fake_sacctmgr_show+echo -i delete user where user=aaa
[DRYRUN] /home/cpan/pit/bare/conf/perl-5.14.3/.cpanplus/5.14.3/build/37lIHBFu5q/Slurm-Sacctmgr-1.1.0/t/helpers/fake_sacctmgr_show+echo -i delete user where user=bbb
[DRYRUN] /home/cpan/pit/bare/conf/perl-5.14.3/.cpanplus/5.14.3/build/37lIHBFu5q/Slurm-Sacctmgr-1.1.0/t/helpers/fake_sacctmgr_show+echo -i delete user where user=ccc
[DRYRUN] /home/cpan/pit/bare/conf/perl-5.14.3/.cpanplus/5.14.3/build/37lIHBFu5q/Slurm-Sacctmgr-1.1.0/t/helpers/fake_sacctmgr_show+echo -i delete user where user=ddd
[DRYRUN] /home/cpan/pit/bare/conf/perl-5.14.3/.cpanplus/5.14.3/build/37lIHBFu5q/Slurm-Sacctmgr-1.1.0/t/helpers/fake_sacctmgr_show+echo -i modify user where user=aaa set adminlevel=Admin defaultaccount=newacct
[DRYRUN] /home/cpan/pit/bare/conf/perl-5.14.3/.cpanplus/5.14.3/build/37lIHBFu5q/Slurm-Sacctmgr-1.1.0/t/helpers/fake_sacctmgr_show+echo -i modify user where user=bbb set adminlevel=Admin defaultaccount=newacct
[DRYRUN] /home/cpan/pit/bare/conf/perl-5.14.3/.cpanplus/5.14.3/build/37lIHBFu5q/Slurm-Sacctmgr-1.1.0/t/helpers/fake_sacctmgr_show+echo -i modify user where user=ccc set adminlevel=Admin defaultaccount=newacct
[DRYRUN] /home/cpan/pit/bare/conf/perl-5.14.3/.cpanplus/5.14.3/build/37lIHBFu5q/Slurm-Sacctmgr-1.1.0/t/helpers/fake_sacctmgr_show+echo -i modify user where user=ddd set adminlevel=Admin defaultaccount=newacct
[DRYRUN] /home/cpan/pit/bare/conf/perl-5.14.3/.cpanplus/5.14.3/build/37lIHBFu5q/Slurm-Sacctmgr-1.1.0/t/helpers/fake_sacctmgr_show+echo -i add user adminlevel=Administrator defaultaccount=abc124 extra_flag=772 user=xxx
[DRYRUN] /home/cpan/pit/bare/conf/perl-5.14.3/.cpanplus/5.14.3/build/37lIHBFu5q/Slurm-Sacctmgr-1.1.0/t/helpers/fake_sacctmgr_show+echo -i modify user where user=aaa set extra_flag=772
[DRYRUN] /home/cpan/pit/bare/conf/perl-5.14.3/.cpanplus/5.14.3/build/37lIHBFu5q/Slurm-Sacctmgr-1.1.0/t/helpers/fake_sacctmgr_show+echo -i modify user where user=bbb set defaultaccount=newacct extra_flag=772
[DRYRUN] /home/cpan/pit/bare/conf/perl-5.14.3/.cpanplus/5.14.3/build/37lIHBFu5q/Slurm-Sacctmgr-1.1.0/t/helpers/fake_sacctmgr_show+echo -i modify user where user=ccc set adminlevel=SuperUser defaultaccount=newacct extra_flag=772
[DRYRUN] /home/cpan/pit/bare/conf/perl-5.14.3/.cpanplus/5.14.3/build/37lIHBFu5q/Slurm-Sacctmgr-1.1.0/t/helpers/fake_sacctmgr_show+echo -i modify user where user=ddd set extra_flag=772
[DRYRUN] /home/cpan/pit/bare/conf/perl-5.14.3/.cpanplus/5.14.3/build/37lIHBFu5q/Slurm-Sacctmgr-1.1.0/t/helpers/fake_sacctmgr_show+echo -i modify user where user=bbb set defaultaccount=newacct
[DRYRUN] /home/cpan/pit/bare/conf/perl-5.14.3/.cpanplus/5.14.3/build/37lIHBFu5q/Slurm-Sacctmgr-1.1.0/t/helpers/fake_sacctmgr_show+echo -i modify user where user=ccc set adminlevel=SuperUser defaultaccount=newacct
t/670_Slurm-SAUser-foo_me.t ......... ok
t/680_Slurm-SAWCKey-foo_me.t ........ ok
[DRYRUN] /home/cpan/pit/bare/conf/perl-5.14.3/.cpanplus/5.14.3/build/37lIHBFu5q/Slurm-Sacctmgr-1.1.0/t/helpers/fake_sacctmgr_show+echo -i modify account where cluster=yottascale name=abc124 set rawusage=0
[DRYRUN] /home/cpan/pit/bare/conf/perl-5.14.3/.cpanplus/5.14.3/build/37lIHBFu5q/Slurm-Sacctmgr-1.1.0/t/helpers/fake_sacctmgr_show+echo -i modify account where cluster=test-cluster name=test-account set rawusage=0
[DRYRUN] /home/cpan/pit/bare/conf/perl-5.14.3/.cpanplus/5.14.3/build/37lIHBFu5q/Slurm-Sacctmgr-1.1.0/t/helpers/fake_sacctmgr_show+echo -i modify account where cluster=yottascale name=abc124 set grpcpumins=13571024
[DRYRUN] /home/cpan/pit/bare/conf/perl-5.14.3/.cpanplus/5.14.3/build/37lIHBFu5q/Slurm-Sacctmgr-1.1.0/t/helpers/fake_sacctmgr_show+echo -i modify account where cluster=yottascale name=abc124 set grpcpumins=13571025
[DRYRUN] /home/cpan/pit/bare/conf/perl-5.14.3/.cpanplus/5.14.3/build/37lIHBFu5q/Slurm-Sacctmgr-1.1.0/t/helpers/fake_sacctmgr_show+echo -i modify account where cluster=yottascale name=abc124 set grpcpumins=13571026
[DRYRUN] /home/cpan/pit/bare/conf/perl-5.14.3/.cpanplus/5.14.3/build/37lIHBFu5q/Slurm-Sacctmgr-1.1.0/t/helpers/fake_sacctmgr_show+echo -i modify account where cluster=yottascale name=abc124 set grpcpumins=13571027
[DRYRUN] /home/cpan/pit/bare/conf/perl-5.14.3/.cpanplus/5.14.3/build/37lIHBFu5q/Slurm-Sacctmgr-1.1.0/t/helpers/fake_sacctmgr_show+echo -i modify account where cluster=yottascale name=abc124 set rawusage=0
t/800_Slurm-SAAccount-extra.t ....... ok
All tests successful.
Files=36, Tests=879,  9 wallclock secs ( 0.14 usr  0.03 sys +  1.40 cusr  0.25 csys =  1.82 CPU)
Result: PASS
[DRYRUN] /home/cpan/pit/bare/conf/perl-5.14.3/.cpanplus/5.14.3/build/37lIHBFu5q/Slurm-Sacctmgr-1.1.0/t/helpers/fake_sacctmgr_show+echo -i modify account where cluster=test-cluster name=test-account set rawusage=0
[DRYRUN] /home/cpan/pit/bare/conf/perl-5.14.3/.cpanplus/5.14.3/build/37lIHBFu5q/Slurm-Sacctmgr-1.1.0/t/helpers/fake_sacctmgr_show+echo -i modify account where cluster=yottascale name=abc124 set grptresmins=cpu=13571024
[DRYRUN] /home/cpan/pit/bare/conf/perl-5.14.3/.cpanplus/5.14.3/build/37lIHBFu5q/Slurm-Sacctmgr-1.1.0/t/helpers/fake_sacctmgr_show+echo -i modify account where cluster=yottascale name=abc124 set grptresmins=cpu=13571025
[DRYRUN] /home/cpan/pit/bare/conf/perl-5.14.3/.cpanplus/5.14.3/build/37lIHBFu5q/Slurm-Sacctmgr-1.1.0/t/helpers/fake_sacctmgr_show+echo -i modify account where cluster=yottascale name=abc124 set grptresmins=cpu=13571026
[DRYRUN] /home/cpan/pit/bare/conf/perl-5.14.3/.cpanplus/5.14.3/build/37lIHBFu5q/Slurm-Sacctmgr-1.1.0/t/helpers/fake_sacctmgr_show+echo -i modify account where cluster=yottascale name=abc124 set grptresmins=cpu=13571027,mem=100000


PREREQUISITES:

Here is a list of prerequisites you specified and versions we
managed to load:

	  Module Name                        Have     Want
	  Carp                               1.20        0
	  Class::Accessor                    0.34        0
	  Cwd                                3.62        0
	  File::Basename                     2.82        0
	  POSIX                              1.24        0
	  Test::More                     1.302026        0
	  base                               2.16        0
	  strict                             1.04        0
	  version                          0.9917        0
	  warnings                           1.12        0

Perl module toolchain versions installed:
	Module Name                        Have
	CPANPLUS                         0.9160
	CPANPLUS::Dist::Build              0.80
	Cwd                                3.62
	ExtUtils::CBuilder             0.280224
	ExtUtils::Command                  7.18
	ExtUtils::Install                  2.04
	ExtUtils::MakeMaker                7.18
	ExtUtils::Manifest                 1.70
	ExtUtils::ParseXS                  3.30
	File::Spec                         3.62
	Module::Build                    0.4218
	Pod::Parser                        1.37
	Pod::Simple                        3.16
	Test2                          1.302026
	Test::Harness                      3.36
	Test::More                     1.302026
	version                          0.9917

******************************** NOTE ********************************
The comments above are created mechanically, possibly without manual
checking by the sender.  As there are many people performing automatic
tests on each upload to CPAN, it is likely that you will receive
identical messages about the same problem.

If you believe that the message is mistaken, please reply to the first
one with correction and/or additional informations, and do not take
it personally.  We appreciate your patience. :)
**********************************************************************

Additional comments:


This report was machine-generated by CPANPLUS::Dist::YACSmoke 0.98.
Powered by minismokebox version 0.58

------------------------------
ENVIRONMENT AND OTHER CONTEXT
------------------------------

Environment variables:

    AUTOMATED_TESTING = 1
    LANG = en_GB.UTF-8
    LANGUAGE = en_GB:en
    NONINTERACTIVE_TESTING = 1
    PATH = /usr/local/sbin:/usr/local/bin:/usr/sbin:/usr/bin:/sbin:/bin:/usr/games:/usr/local/games:/snap/bin
    PERL5LIB = :/home/cpan/pit/bare/conf/perl-5.14.3/.cpanplus/5.14.3/build/ESndWoccJa/Class-Accessor-0.34/blib/lib:/home/cpan/pit/bare/conf/perl-5.14.3/.cpanplus/5.14.3/build/ESndWoccJa/Class-Accessor-0.34/blib/arch:/home/cpan/pit/bare/conf/perl-5.14.3/.cpanplus/5.14.3/build/37lIHBFu5q/Slurm-Sacctmgr-1.1.0/blib/lib:/home/cpan/pit/bare/conf/perl-5.14.3/.cpanplus/5.14.3/build/37lIHBFu5q/Slurm-Sacctmgr-1.1.0/blib/arch
    PERL5_CPANPLUS_IS_RUNNING = 1534
    PERL5_CPANPLUS_IS_VERSION = 0.9160
    PERL5_MINISMOKEBOX = 0.58
    PERL5_YACSMOKE_BASE = /home/cpan/pit/bare/conf/perl-5.14.3
    PERL_EXTUTILS_AUTOINSTALL = --defaultdeps
    PERL_MM_USE_DEFAULT = 1
    SHELL = /bin/bash
    TERM = screen

Perl special variables (and OS-specific diagnostics, for MSWin32):

    Perl: $^X = /home/cpan/pit/bare/perl-5.14.3/bin/perl
    UID:  $<  = 1001
    EUID: $>  = 1001
    GID:  $(  = 1001 1001
    EGID: $)  = 1001 1001


-------------------------------


--

Summary of my perl5 (revision 5 version 14 subversion 3) configuration:
   
  Platform:
    osname=linux, osvers=4.4.0-21-generic, archname=x86_64-linux
    uname='linux uchder 4.4.0-21-generic #37-ubuntu smp mon apr 18 18:33:37 utc 2016 x86_64 x86_64 x86_64 gnulinux '
    config_args='-des -Dprefix=/home/cpan/pit/bare/perl-5.14.3'
    hint=recommended, useposix=true, d_sigaction=define
    useithreads=undef, usemultiplicity=undef
    useperlio=define, d_sfio=undef, uselargefiles=define, usesocks=undef
    use64bitint=define, use64bitall=define, uselongdouble=undef
    usemymalloc=n, bincompat5005=undef
  Compiler:
    cc='cc', ccflags ='-fno-strict-aliasing -pipe -fstack-protector -I/usr/local/include -D_LARGEFILE_SOURCE -D_FILE_OFFSET_BITS=64',
    optimize='-O2',
    cppflags='-fno-strict-aliasing -pipe -fstack-protector -I/usr/local/include'
    ccversion='', gccversion='5.3.1 20160413', gccosandvers=''
    intsize=4, longsize=8, ptrsize=8, doublesize=8, byteorder=12345678
    d_longlong=define, longlongsize=8, d_longdbl=define, longdblsize=16
    ivtype='long', ivsize=8, nvtype='double', nvsize=8, Off_t='off_t', lseeksize=8
    alignbytes=8, prototype=define
  Linker and Libraries:
    ld='cc', ldflags =' -fstack-protector -L/usr/local/lib'
    libpth=/usr/local/lib /lib/x86_64-linux-gnu /lib/../lib /usr/lib/x86_64-linux-gnu /usr/lib/../lib /lib /usr/lib
    libs=-lnsl -lgdbm -ldl -lm -lcrypt -lutil -lc -lgdbm_compat
    perllibs=-lnsl -ldl -lm -lcrypt -lutil -lc
    libc=libc-2.23.so, so=so, useshrplib=false, libperl=libperl.a
    gnulibc_version='2.23'
  Dynamic Linking:
    dlsrc=dl_dlopen.xs, dlext=so, d_dlsymun=undef, ccdlflags='-Wl,-E'
    cccdlflags='-fPIC', lddlflags='-shared -O2 -L/usr/local/lib -fstack-protector'


Characteristics of this binary (from libperl): 
  Compile-time options: PERL_DONT_CREATE_GVSV PERL_MALLOC_WRAP
                        PERL_PRESERVE_IVUV USE_64_BIT_ALL USE_64_BIT_INT
                        USE_LARGE_FILES USE_PERLIO USE_PERL_ATOF
  Locally applied patches:
	Devel::PatchPerl 1.42
  Built under linux
  Compiled at May  1 2016 23:02:18
  %ENV:
    PERL5LIB=":/home/cpan/pit/bare/conf/perl-5.14.3/.cpanplus/5.14.3/build/ESndWoccJa/Class-Accessor-0.34/blib/lib:/home/cpan/pit/bare/conf/perl-5.14.3/.cpanplus/5.14.3/build/ESndWoccJa/Class-Accessor-0.34/blib/arch:/home/cpan/pit/bare/conf/perl-5.14.3/.cpanplus/5.14.3/build/37lIHBFu5q/Slurm-Sacctmgr-1.1.0/blib/lib:/home/cpan/pit/bare/conf/perl-5.14.3/.cpanplus/5.14.3/build/37lIHBFu5q/Slurm-Sacctmgr-1.1.0/blib/arch"
    PERL5_CPANPLUS_IS_RUNNING="1534"
    PERL5_CPANPLUS_IS_VERSION="0.9160"
    PERL5_MINISMOKEBOX="0.58"
    PERL5_YACSMOKE_BASE="/home/cpan/pit/bare/conf/perl-5.14.3"
    PERL_EXTUTILS_AUTOINSTALL="--defaultdeps"
    PERL_MM_USE_DEFAULT="1"
  @INC:
    /home/cpan/pit/bare/conf/perl-5.14.3/.cpanplus/5.14.3/build/ESndWoccJa/Class-Accessor-0.34/blib/lib
    /home/cpan/pit/bare/conf/perl-5.14.3/.cpanplus/5.14.3/build/ESndWoccJa/Class-Accessor-0.34/blib/arch
    /home/cpan/pit/bare/conf/perl-5.14.3/.cpanplus/5.14.3/build/37lIHBFu5q/Slurm-Sacctmgr-1.1.0/blib/lib
    /home/cpan/pit/bare/conf/perl-5.14.3/.cpanplus/5.14.3/build/37lIHBFu5q/Slurm-Sacctmgr-1.1.0/blib/arch
    /home/cpan/pit/bare/perl-5.14.3/lib/site_perl/5.14.3/x86_64-linux
    /home/cpan/pit/bare/perl-5.14.3/lib/site_perl/5.14.3
    /home/cpan/pit/bare/perl-5.14.3/lib/5.14.3/x86_64-linux
    /home/cpan/pit/bare/perl-5.14.3/lib/5.14.3
    .