Plack v1.0051 Perl 5 v5.39.6 darwin-2level

Status
Pass
From
Dist
Plack v1.0051
Platform
Perl 5 v5.39.6 darwin-2level
Date
2024-01-15 18:36:11
ID
f46e3eb8-b3d4-11ee-979e-193a70a043d9
This distribution has been tested as part of the CPAN Testers
project, supporting the Perl programming language.  See
http://wiki.cpantesters.org/ for more information or email
questions to cpan-testers-discuss@perl.org


--
Dear MIYAGAWA,

This is a computer-generated report for Plack-1.0051
on perl 5.39.6, created by App::cpanminus::reporter 0.21 (1.7047).

Thank you for uploading your work to CPAN.  Congratulations!
All tests were successful.

Sections of this report:

    * Tester comments
    * Program output
    * Prerequisites
    * Environment and other context

------------------------------
TESTER COMMENTS
------------------------------

Additional comments from tester:

none provided

------------------------------
PROGRAM OUTPUT
------------------------------

Output from '':

Building and testing Plack-1.0051
cp script/plackup blib/script/plackup
"/Volumes/chambord/Users/ether/perl5/perlbrew/perls/39.6/bin/perl5.39.6" -MExtUtils::MY -e 'MY->fixin(shift)' -- blib/script/plackup
PERL_DL_NONLAZY=1 "/Volumes/chambord/Users/ether/perl5/perlbrew/perls/39.6/bin/perl5.39.6" "-MExtUtils::Command::MM" "-MTest::Harness" "-e" "undef *Test::Harness::Switches; test_harness(0, 'blib/lib', 'blib/arch')" t/*.t t/HTTP-Message-PSGI/*.t t/HTTP-Server-PSGI/*.t t/Plack-Builder/*.t t/Plack-HTTPParser-PP/*.t t/Plack-Handler/*.t t/Plack-Loader/*.t t/Plack-MIME/*.t t/Plack-Middleware/*.t t/Plack-Middleware/cascade/*.t t/Plack-Middleware/recursive/*.t t/Plack-Middleware/stacktrace/*.t t/Plack-Request/*.t t/Plack-Response/*.t t/Plack-Runner/*.t t/Plack-TempBuffer/*.t t/Plack-Test/*.t t/Plack-Util/*.t
t/author-pod-syntax.t ................................ skipped: these tests are for testing by the author
t/HTTP-Message-PSGI/content_length.t ................. ok
t/HTTP-Message-PSGI/empty_delayed_writer.t ........... ok
t/HTTP-Message-PSGI/path_info.t ...................... ok
t/HTTP-Message-PSGI/host.t ........................... ok
t/HTTP-Message-PSGI/unknown_response.t ............... ok
t/HTTP-Message-PSGI/empty_streamed_response.t ........ ok
t/Plack-Builder/builder.t ............................ ok
t/HTTP-Message-PSGI/utf8_req.t ....................... ok
t/Plack-Builder/mount.t .............................. ok
t/Plack-Builder/oo_interface.t ....................... ok
t/HTTP-Server-PSGI/listen.t .......................... ok
t/Plack-Handler/apache2-registry.t ................... skipped: TEST_APACHE2 is not set
t/HTTP-Server-PSGI/post.t ............................ ok
t/Plack-Handler/apache1.t ............................ skipped: TEST_APACHE1 is not set
t/Plack-Handler/apache2.t ............................ skipped: TEST_APACHE2 is not set
t/Plack-Handler/output_encoding.t .................... ok
t/Plack-Handler/fcgi_cleanup.t ....................... skipped: release test only
t/Plack-Handler/fcgi.t ............................... skipped: release test only
t/Plack-Handler/cgi.t ................................ ok
t/Plack-HTTPParser-PP/simple.t ....................... ok
t/Plack-Loader/auto.t ................................ ok
t/Plack-Loader/auto_fallback.t ....................... ok
t/Plack-Loader/delayed.t ............................. ok
t/Plack-Loader/restarter.t ........................... skipped: author test only
t/Plack-Loader/restarter_valid.t ..................... ok
t/Plack-Middleware/access_log.t ...................... ok
t/Plack-Middleware/access_log_timed.t ................ ok
t/Plack-Middleware/access_log_value_zero.t ........... ok
t/Plack-Middleware/auth_basic.t ...................... ok
t/Plack-Middleware/auth_basic_simple.t ............... skipped: Test requires module 'Authen::Simple::Passwd' but it's not found
t/Plack-Handler/standalone.t ......................... ok
t/Plack-Middleware/auth_basic_env.t .................. ok
t/Plack-Middleware/bufferedstreaming.t ............... ok
t/Plack-Middleware/cascade/basic.t ................... ok
t/Plack-Middleware/cascade/streaming.t ............... ok
t/Plack-Middleware/cgibin.t .......................... skipped: release test only
t/Plack-Middleware/cgibin_exec.t ..................... skipped: release test only
t/Plack-Middleware/component.t ....................... ok
t/Plack-Middleware/component-leak.t .................. ok
t/Plack-Middleware/conditional.t ..................... ok
t/Plack-Middleware/conditional_new.t ................. ok
t/Plack-Middleware/conditionalget.t .................. ok
t/Plack-Middleware/conditionalget_writer.t ........... ok
t/Plack-Middleware/chunked.t ......................... ok
t/Plack-Middleware/content_length.t .................. ok
t/Plack-Middleware/directory.t ....................... ok
t/Plack-Middleware/error_document.t .................. ok
t/Plack-Middleware/file.t ............................ ok
t/Plack-Loader/shotgun.t ............................. ok
t/Plack-Middleware/head.t ............................ ok
t/Plack-Middleware/head_streaming.t .................. ok
t/Plack-Middleware/error_document_streaming_app.t .... ok
t/Plack-Middleware/iis6_script_name_fix.t ............ ok
t/Plack-Middleware/httpexceptions.t .................. ok
t/Plack-Middleware/httpexceptions_streaming.t ........ ok
t/Plack-Middleware/iis7_keep_alive_fix.t ............. ok
t/Plack-Middleware/jsonp.t ........................... ok
t/Plack-Middleware/lint_utf8_false_alarm.t ........... ok
t/Plack-Middleware/lint_env.t ........................ ok
t/Plack-Middleware/lint.t ............................ ok
t/Plack-Middleware/lint_wrong_header_info.t .......... ok
t/Plack-Middleware/log4perl-category.t ............... ok
t/Plack-Middleware/order.t ........................... ok
t/Plack-Middleware/log4perl.t ........................ ok
t/Plack-Middleware/prefix.t .......................... ok
t/Plack-Middleware/rearrange_headers.t ............... ok
t/Plack-Middleware/log_dispatch.t .................... ok
t/Plack-Middleware/psgibin.t ......................... ok
t/Plack-Middleware/recursive/base.t .................. ok
t/Plack-Middleware/refresh-init.t .................... skipped: Test requires module 'Module::Refresh' but it's not found
t/Plack-Middleware/recursive/streaming.t ............. ok
t/Plack-Middleware/recursive/throw.t ................. ok
t/Plack-Middleware/recursive/throw_streaming.t ....... ok
t/Plack-Middleware/simple_content_filter.t ........... ok
t/Plack-Middleware/stacktrace/basic.t ................ ok
t/Plack-Middleware/stacktrace/force.t ................ ok
t/Plack-Middleware/simple_logger.t ................... ok
t/Plack-Middleware/stacktrace/streaming.t ............ ok
t/Plack-Middleware/stacktrace/multiple_exceptions.t .. ok
t/Plack-Middleware/stacktrace/sigdie.t ............... ok
t/Plack-Middleware/static.t .......................... ok
t/Plack-Middleware/static_env.t ...................... ok
t/Plack-Middleware/urlmap.t .......................... ok
t/Plack-Middleware/stacktrace/utf8.t ................. ok
t/Plack-Middleware/urlmap_builder.t .................. ok
t/Plack-Middleware/urlmap_env.t ...................... ok
t/Plack-Middleware/xframework.t ...................... ok
t/Plack-Middleware/urlmap_ports.t .................... ok
t/Plack-MIME/add_type.t .............................. ok
t/Plack-Middleware/xsendfile.t ....................... ok
t/Plack-MIME/basic.t ................................. ok
t/Plack-MIME/fallback.t .............................. ok
t/Plack-Request/base.t ............................... ok
t/Plack-Request/body-unbuffered.t .................... ok
t/Plack-Request/body.t ............................... ok
t/Plack-Middleware/wrapcgi.t ......................... ok
t/Plack-Request/content-on-get.t ..................... ok
t/Plack-Request/content.t ............................ ok
t/Plack-Request/cookie.t ............................. ok
t/Plack-Request/headers.t ............................ ok
t/Plack-Request/double_port.t ........................ ok
t/Plack-Request/hostname.t ........................... ok
t/Plack-Request/many_upload.t ........................ ok
t/Plack-Request/new.t ................................ ok
t/Plack-Request/multi_read.t ......................... ok
t/Plack-Request/parameters.t ......................... ok
t/Plack-Request/params.t ............................. ok
t/Plack-Request/path_info.t .......................... ok
t/Plack-Middleware/runtime.t ......................... ok
t/Plack-Request/path_info_escaped.t .................. ok
t/Plack-Request/upload-basename.t .................... ok
t/Plack-Request/query_string.t ....................... ok
t/Plack-Request/readbody.t ........................... ok
t/Plack-Request/request_uri.t ........................ ok
t/Plack-Request/uri.t ................................ ok
t/Plack-Request/uri_utf8.t ........................... ok
t/Plack-Request/upload.t ............................. ok
t/Plack-Response/body.t .............................. ok
t/Plack-Request/upload-large.t ....................... ok
t/Plack-Response/compatible.t ........................ ok
t/Plack-Response/cookie.t ............................ ok
t/Plack-Response/redirect.t .......................... ok
t/Plack-Response/headers.t ........................... ok
t/Plack-Response/new.t ............................... ok
t/Plack-Middleware/wrapcgi_exec.t .................... ok
t/Plack-Response/response.t .......................... ok
t/Plack-Response/to_app.t ............................ ok
t/Plack-Runner/options.t ............................. ok
t/Plack-TempBuffer/print.t ........................... ok
t/Plack-Runner/path.t ................................ skipped: release test only
t/Plack-Test/hello.t ................................. ok
t/Plack-Test/cookie.t ................................ ok
t/Plack-Util/can.t ................................... ok
t/Plack-Util/foreach.t ............................... ok
t/Plack-Test/2args.t ................................. ok
t/Plack-Test/hello_server.t .......................... ok
t/Plack-Util/header_exists.t ......................... ok
t/Plack-Util/header_get.t ............................ ok
t/Plack-Test/suite.t ................................. ok
t/Plack-Util/header_push.t ........................... ok
t/HTTP-Server-PSGI/harakiri.t ........................ ok
t/Plack-Util/header_set.t ............................ ok
t/Plack-Util/header_remove.t ......................... ok
t/Plack-Util/headers_obj.t ........................... ok
t/Plack-Util/inline_object.t ......................... ok
t/Plack-Util/io_with_path.t .......................... ok
t/Plack-Util/is_real_fh.t ............................ ok
t/Plack-Util/load.t .................................. ok
t/Plack-Util/response_cb.t ........................... ok
All tests successful.
Files=150, Tests=1387,  4 wallclock secs ( 0.26 usr  0.19 sys +  8.14 cusr  2.44 csys = 11.03 CPU)
Result: PASS

------------------------------
PREREQUISITES
------------------------------

Prerequisite modules loaded:

runtime:

    Module                      Need     Have    
    --------------------------- -------- --------
    Apache::LogFormat::Compiler 0.33     0.36    
    Cookie::Baker               0.07     0.11    
    Devel::StackTrace           1.23     2.04    
    Devel::StackTrace::AsHTML   0.11     0.15    
    File::ShareDir              1.00     1.118   
    Filesys::Notify::Simple     0        0.14    
    Hash::MultiValue            0.05     0.16    
    HTTP::Entity::Parser        0.25     0.25    
    HTTP::Headers::Fast         0.18     0.22    
    HTTP::Message               5.814    6.45    
    HTTP::Tiny                  0.034    0.088   
    parent                      0        0.241   
    perl                        5.012000 5.039006
    Pod::Usage                  1.36     2.03    
    Stream::Buffered            0.02     0.03    
    Test::TCP                   2.15     2.22    
    Try::Tiny                   0        0.31    
    URI                         1.59     5.21    
    WWW::Form::UrlEncoded       0.23     0.26    

build:

    Module                      Need     Have    
    --------------------------- -------- --------
    ExtUtils::MakeMaker         0        7.70    

configure:

    Module                      Need     Have    
    --------------------------- -------- --------
    ExtUtils::MakeMaker         0        7.70    
    File::ShareDir::Install     0.06     0.14    


------------------------------
ENVIRONMENT AND OTHER CONTEXT
------------------------------

Environment variables:

    HARNESS_OPTIONS = j6:c
    LANG = en_CA.UTF-8
    LC_ALL = en_CA.UTF-8
    LC_CTYPE = en_CA.UTF-8
    NO_NETWORK_TESTING = 1
    PATH = /Volumes/chambord/Users/ether/bin:/Volumes/chambord/Users/ether/git/misc/install/advocaat/bin:/Volumes/chambord/Users/ether/git/misc/install/generic/bin:/Volumes/chambord/Users/ether/.perlbrew/libs/39.6@std/bin:/Volumes/chambord/Users/ether/perl5/perlbrew/bin:/Volumes/chambord/Users/ether/perl5/perlbrew/perls/39.6/bin:/opt/local/bin:/opt/local/sbin:/Volumes/chambord/Users/ether/git/git-hub/lib:/usr/local/bin:/System/Cryptexes/App/usr/bin:/usr/bin:/bin:/usr/sbin:/sbin:/var/run/com.apple.security.cryptexd/codex.system/bootstrap/usr/local/bin:/var/run/com.apple.security.cryptexd/codex.system/bootstrap/usr/bin:/var/run/com.apple.security.cryptexd/codex.system/bootstrap/usr/appleinternal/bin:/Library/Apple/usr/bin:/opt/local/share/git-core/contrib/workdir
    PERL5LIB = /Volumes/chambord/Users/ether/.perlbrew/libs/39.6@std/lib/perl5
    PERLBREW_HOME = /Volumes/chambord/Users/ether/.perlbrew
    PERLBREW_LIB = std
    PERLBREW_MANPATH = /Volumes/chambord/Users/ether/.perlbrew/libs/39.6@std/man:/Volumes/chambord/Users/ether/perl5/perlbrew/perls/39.6/man
    PERLBREW_PATH = /Volumes/chambord/Users/ether/.perlbrew/libs/39.6@std/bin:/Volumes/chambord/Users/ether/perl5/perlbrew/bin:/Volumes/chambord/Users/ether/perl5/perlbrew/perls/39.6/bin
    PERLBREW_PERL = 39.6
    PERLBREW_ROOT = /Volumes/chambord/Users/ether/perl5/perlbrew
    PERLBREW_SHELLRC_VERSION = 0.98
    PERLBREW_VERSION = 0.98
    PERLDOC = -oman
    PERLDOC_PAGER = less -sicMr
    PERL_AUTOINSTALL_PREFER_CPAN = 1
    PERL_INSTALL_QUIET = 1
    PERL_LOCAL_LIB_ROOT = /Volumes/chambord/Users/ether/.perlbrew/libs/39.6@std
    PERL_MB_OPT = --install_base /Volumes/chambord/Users/ether/.perlbrew/libs/39.6@std
    PERL_MM_OPT = INSTALL_BASE=/Volumes/chambord/Users/ether/.perlbrew/libs/39.6@std
    PERL_TEST_HARNESS_ASAP = 1
    PERL_USE_UNSAFE_INC = 0
    SHELL = /bin/bash
    TERM = xterm-color
    TMPDIR = /var/folders/qm/78j2jm3x59j9z08g8xqytmjw0000gp/T/

Perl special variables (and OS-specific diagnostics, for MSWin32):

    EGID = 20 20 12 61 79 80 81 98 701 704 703 702 705 33 100 204 250
    EUID = 502
    EXECUTABLE_NAME = /Volumes/chambord/Users/ether/perl5/perlbrew/perls/39.6/bin/perl5.39.6
    GID = 20 20 12 61 79 80 81 98 701 704 703 702 705 33 100 204 250
    UID = 502

Perl module toolchain versions installed:

    Module              Have    
    ------------------- --------
    CPAN                2.36    
    CPAN::Meta          2.150010
    Cwd                 3.90    
    ExtUtils::CBuilder  0.280240
    ExtUtils::Command   7.70    
    ExtUtils::Install   2.22    
    ExtUtils::MakeMaker 7.70    
    ExtUtils::Manifest  1.75    
    ExtUtils::ParseXS   3.51    
    File::Spec          3.90    
    JSON                4.10    
    JSON::PP            4.16    
    Module::Build       0.4234  
    Module::Signature   n/a     
    Parse::CPAN::Meta   2.150010
    Test::Harness       3.48    
    Test::More          1.302198
    YAML                n/a     
    YAML::Syck          n/a     
    version             0.9930  


--

Summary of my perl5 (revision 5 version 39 subversion 6) configuration:
   
  Platform:
    osname=darwin
    osvers=23.2.0
    archname=darwin-2level
    uname='darwin advocaat 23.2.0 darwin kernel version 23.2.0: wed nov 15 21:59:33 pst 2023; root:xnu-10002.61.3~2release_arm64_t8112 arm64 '
    config_args='-de -Dprefix=/Volumes/chambord/Users/ether/perl5/perlbrew/perls/39.6 -Dman1dir=none -Dman3dir=none -Dusedevel -Aeval:scriptdir=/Volumes/chambord/Users/ether/perl5/perlbrew/perls/39.6/bin'
    hint=recommended
    useposix=true
    d_sigaction=define
    useithreads=undef
    usemultiplicity=undef
    use64bitint=define
    use64bitall=define
    uselongdouble=undef
    usemymalloc=n
    default_inc_excludes_dot=define
  Compiler:
    cc='cc'
    ccflags ='-fno-common -DPERL_DARWIN -mmacosx-version-min=14.2 -DNO_THREAD_SAFE_QUERYLOCALE -DNO_POSIX_2008_LOCALE -fno-strict-aliasing -pipe -fstack-protector-strong -I/opt/local/include'
    optimize='-O3'
    cppflags='-fno-common -DPERL_DARWIN -mmacosx-version-min=14.2 -DNO_THREAD_SAFE_QUERYLOCALE -DNO_POSIX_2008_LOCALE -fno-strict-aliasing -pipe -fstack-protector-strong -I/opt/local/include'
    ccversion=''
    gccversion='Apple LLVM 15.0.0 (clang-1500.1.0.2.5)'
    gccosandvers=''
    intsize=4
    longsize=8
    ptrsize=8
    doublesize=8
    byteorder=12345678
    doublekind=3
    d_longlong=define
    longlongsize=8
    d_longdbl=define
    longdblsize=8
    longdblkind=0
    ivtype='long'
    ivsize=8
    nvtype='double'
    nvsize=8
    Off_t='off_t'
    lseeksize=8
    alignbytes=8
    prototype=define
  Linker and Libraries:
    ld='cc'
    ldflags =' -mmacosx-version-min=14.2 -fstack-protector-strong -L/opt/local/lib'
    libpth=/Applications/Xcode.app/Contents/Developer/Toolchains/XcodeDefault.xctoolchain/usr/lib/clang/15.0.0/lib /Applications/Xcode.app/Contents/Developer/Platforms/MacOSX.platform/Developer/SDKs/MacOSX.sdk/usr/lib /Applications/Xcode.app/Contents/Developer/Toolchains/XcodeDefault.xctoolchain/usr/lib /opt/local/lib /usr/lib
    libs=-lgdbm
    perllibs=
    libc=
    so=dylib
    useshrplib=false
    libperl=libperl.a
    gnulibc_version=''
  Dynamic Linking:
    dlsrc=dl_dlopen.xs
    dlext=bundle
    d_dlsymun=undef
    ccdlflags=' '
    cccdlflags=' '
    lddlflags=' -mmacosx-version-min=14.2 -bundle -undefined dynamic_lookup -L/opt/local/lib -fstack-protector-strong'


Characteristics of this binary (from libperl): 
  Compile-time options:
    HAS_LONG_DOUBLE
    HAS_STRTOLD
    HAS_TIMES
    PERLIO_LAYERS
    PERL_COPY_ON_WRITE
    PERL_DONT_CREATE_GVSV
    PERL_HASH_FUNC_SIPHASH13
    PERL_HASH_USE_SBOX32
    PERL_MALLOC_WRAP
    PERL_OP_PARENT
    PERL_PRESERVE_IVUV
    PERL_USE_DEVEL
    PERL_USE_SAFE_PUTENV
    USE_64_BIT_ALL
    USE_64_BIT_INT
    USE_LARGE_FILES
    USE_LOCALE
    USE_LOCALE_COLLATE
    USE_LOCALE_CTYPE
    USE_LOCALE_NUMERIC
    USE_LOCALE_TIME
    USE_PERLIO
    USE_PERL_ATOF
  Built under darwin
  Compiled at Dec 30 2023 15:54:02
  %ENV:
    PERL5LIB="/Volumes/chambord/Users/ether/.perlbrew/libs/39.6@std/lib/perl5"
    PERLBREW_HOME="/Volumes/chambord/Users/ether/.perlbrew"
    PERLBREW_LIB="std"
    PERLBREW_MANPATH="/Volumes/chambord/Users/ether/.perlbrew/libs/39.6@std/man:/Volumes/chambord/Users/ether/perl5/perlbrew/perls/39.6/man"
    PERLBREW_PATH="/Volumes/chambord/Users/ether/.perlbrew/libs/39.6@std/bin:/Volumes/chambord/Users/ether/perl5/perlbrew/bin:/Volumes/chambord/Users/ether/perl5/perlbrew/perls/39.6/bin"
    PERLBREW_PERL="39.6"
    PERLBREW_ROOT="/Volumes/chambord/Users/ether/perl5/perlbrew"
    PERLBREW_SHELLRC_VERSION="0.98"
    PERLBREW_VERSION="0.98"
    PERLDOC="-oman"
    PERLDOC_PAGER="less -sicMr"
    PERL_AUTOINSTALL_PREFER_CPAN="1"
    PERL_INSTALL_QUIET="1"
    PERL_LOCAL_LIB_ROOT="/Volumes/chambord/Users/ether/.perlbrew/libs/39.6@std"
    PERL_MB_OPT="--install_base /Volumes/chambord/Users/ether/.perlbrew/libs/39.6@std"
    PERL_MM_OPT="INSTALL_BASE=/Volumes/chambord/Users/ether/.perlbrew/libs/39.6@std"
    PERL_TEST_HARNESS_ASAP="1"
    PERL_USE_UNSAFE_INC="0"
  @INC:
    /Volumes/chambord/Users/ether/.perlbrew/libs/39.6@std/lib/perl5/darwin-2level
    /Volumes/chambord/Users/ether/.perlbrew/libs/39.6@std/lib/perl5
    /Volumes/chambord/Users/ether/perl5/perlbrew/perls/39.6/lib/site_perl/5.39.6/darwin-2level
    /Volumes/chambord/Users/ether/perl5/perlbrew/perls/39.6/lib/site_perl/5.39.6
    /Volumes/chambord/Users/ether/perl5/perlbrew/perls/39.6/lib/5.39.6/darwin-2level
    /Volumes/chambord/Users/ether/perl5/perlbrew/perls/39.6/lib/5.39.6