Dist-Zilla-Plugin-Git v2.043 Perl 5 v5.24.1 i86pc-solaris-multi
- Status
- Pass
- From
- Serguei Trouchelle (STRO)
- Dist
-
Dist-Zilla-Plugin-Git v2.043
- Platform
- Perl 5 v5.24.1 i86pc-solaris-multi
- Date
- 2018-01-06 02:54:46
- ID
- f417bde6-f28c-11e7-8168-d3a7172475f0
This distribution has been tested as part of the CPAN Testers
project, supporting the Perl programming language. See
http://wiki.cpantesters.org/ for more information or email
questions to cpan-testers-discuss@perl.org
--
Dear Karen Etheridge,
This is a computer-generated report for Dist-Zilla-Plugin-Git-2.043
on perl 5.24.1, created by CPAN-Reporter-1.2018.
Thank you for uploading your work to CPAN. Congratulations!
All tests were successful.
Sections of this report:
* Tester comments
* Program output
* Prerequisites
* Environment and other context
------------------------------
TESTER COMMENTS
------------------------------
Additional comments from tester:
this report is from an automated smoke testing program
and was not reviewed by a human for accuracy
------------------------------
PROGRAM OUTPUT
------------------------------
Output from '/usr/bin/make test':
"/home/stro/perl/5.24.1m/bin/perl" "-Iblib/arch" "-Iblib/lib" Makefile_git.PL Makefile_git
PERL_DL_NONLAZY=1 "/home/stro/perl/5.24.1m/bin/perl" "-MExtUtils::Command::MM" "-MTest::Harness" "-e" "undef *Test::Harness::Switches; test_harness(0, 'blib/lib', 'blib/arch')" t/*.t
#
# Versions for all modules listed in MYMETA.json (including optional ones):
#
# === Configure Requires ===
#
# Module Want Have
# ------------------- ---- ------
# ExtUtils::MakeMaker any 7.30
# Text::ParseWords any 3.30
# version any 0.9916
#
# === Build Requires ===
#
# Module Want Have
# ------------------- ---- ----
# ExtUtils::MakeMaker any 7.30
#
# === Test Requires ===
#
# Module Want Have
# -------------------------------- ----- --------
# CPAN::Meta::Check 0.011 0.014
# CPAN::Meta::Requirements any 2.140
# Devel::SimpleTrace any 0.08
# Dist::Zilla::File::InMemory any 6.008
# Dist::Zilla::Plugin::Config::Git any 0.92
# Dist::Zilla::Role::Releaser any 6.008
# Dist::Zilla::Tester any 6.008
# Encode any 2.80_01
# Exporter any 5.72
# ExtUtils::MakeMaker any 7.30
# File::Copy any 2.31
# File::Copy::Recursive any 0.39
# File::Path 2.07 2.12_01
# File::Spec any 3.63_01
# File::Which any 1.21
# File::pushd any 1.014
# Log::Dispatchouli any 2.015
# Test::DZil any 6.008
# Test::Fatal any 0.014
# Test::More 0.88 1.302120
# lib any 0.63
# utf8 any 1.19
#
# === Test Recommends ===
#
# Module Want Have
# ---------- -------- --------
# CPAN::Meta 2.120900 2.150005
#
# === Runtime Requires ===
#
# Module Want Have
# ---------------------------------- -------- --------
# Cwd any 3.63_01
# DateTime any 1.45
# Dist::Zilla 4 6.008
# Dist::Zilla::Plugin::GatherDir 4.200016 6.008
# Dist::Zilla::Role::AfterBuild any 6.008
# Dist::Zilla::Role::AfterMint any 6.008
# Dist::Zilla::Role::AfterRelease any 6.008
# Dist::Zilla::Role::BeforeRelease any 6.008
# Dist::Zilla::Role::FilePruner any 6.008
# Dist::Zilla::Role::GitConfig any 0.92
# Dist::Zilla::Role::PluginBundle any 6.008
# Dist::Zilla::Role::VersionProvider any 6.008
# File::Spec::Functions any 3.63_01
# File::Temp any 0.2304
# File::chdir any 0.1010
# Git::Wrapper 0.021 0.047
# IPC::Open3 any 1.20
# IPC::System::Simple any 1.25
# List::Util 1.45 1.49
# Module::Runtime any 0.014
# Moose any 2.2009
# Moose::Role any 2.2009
# Moose::Util::TypeConstraints any 2.2009
# MooseX::Has::Sugar any 1.000004
# MooseX::Types::Moose any 0.50
# MooseX::Types::Path::Tiny 0.010 0.012
# Path::Tiny 0.048 0.100
# String::Formatter any 0.102084
# Try::Tiny any 0.28
# Version::Next any 1.000
# constant any 1.33
# namespace::autoclean 0.09 0.28
# strict any 1.11
# version 0.80 0.9916
# warnings any 1.36
#
# === Other Modules ===
#
# Module Have
# ------------- -------
# JSON::PP 2.97001
# Pod::Coverage 0.23
# Sub::Name 0.21
# YAML 1.23
# autodie 2.29
#
t/00-report-prereqs.t ........... ok
# git version 2.13.5
t/000-report-git-version.t ...... ok
t/check.t ....................... ok
t/commit-build-custom.t ......... ok
t/commit-build-src-as-parent.t .. ok
t/commit-build.t ................ ok
t/commit-dirtydir.t ............. ok
t/commit-message.t .............. ok
t/commit-utf8.t ................. ok
t/commit-ws.t ................... ok
t/commit.t ...................... ok
t/gatherdir-multi.t ............. ok
t/gatherdir.t ................... ok
t/push-gitconfig.t .............. ok
t/push-multi.t .................. ok
t/push.t ........................ ok
t/repo-dir.t .................... ok
t/tag-signed.t .................. skipped: gpg couldn't be located in $PATH; required for GPG-signed tags
t/tag.t ......................... ok
t/version-by-branch.t ........... ok
t/version-default.t ............. ok
t/version-extraction.t .......... ok
t/version-regexp.t .............. ok
t/zzz-check-breaks.t ............ ok
All tests successful.
Files=24, Tests=199, 44 wallclock secs ( 0.10 usr 0.04 sys + 30.66 cusr 6.44 csys = 37.24 CPU)
Result: PASS
------------------------------
PREREQUISITES
------------------------------
Prerequisite modules loaded:
requires:
Module Need Have
---------------------------------- -------- --------
constant 0 1.33
Cwd 0 3.63_01
DateTime 0 1.45
Dist::Zilla 4 6.008
Dist::Zilla::Plugin::GatherDir 4.200016 6.008
Dist::Zilla::Role::AfterBuild 0 6.008
Dist::Zilla::Role::AfterMint 0 6.008
Dist::Zilla::Role::AfterRelease 0 6.008
Dist::Zilla::Role::BeforeRelease 0 6.008
Dist::Zilla::Role::FilePruner 0 6.008
Dist::Zilla::Role::GitConfig 0 0.92
Dist::Zilla::Role::PluginBundle 0 6.008
Dist::Zilla::Role::VersionProvider 0 6.008
File::chdir 0 0.1010
File::Spec::Functions 0 3.63_01
File::Temp 0 0.2304
Git::Wrapper 0.021 0.047
IPC::Open3 0 1.20
IPC::System::Simple 0 1.25
List::Util 1.45 1.49
Module::Runtime 0 0.014
Moose 0 2.2009
Moose::Role 0 2.2009
Moose::Util::TypeConstraints 0 2.2009
MooseX::Has::Sugar 0 1.000004
MooseX::Types::Moose 0 0.50
MooseX::Types::Path::Tiny 0.010 0.012
namespace::autoclean 0.09 0.28
Path::Tiny 0.048 0.100
perl 5.010 5.024001
strict 0 1.11
String::Formatter 0 0.102084
Try::Tiny 0 0.28
version 0.80 0.9916
Version::Next 0 1.000
warnings 0 1.36
build_requires:
Module Need Have
---------------------------------- -------- --------
CPAN::Meta::Check 0.011 0.014
CPAN::Meta::Requirements 0 2.140
Devel::SimpleTrace 0 0.08
Dist::Zilla::File::InMemory 0 6.008
Dist::Zilla::Plugin::Config::Git 0 0.92
Dist::Zilla::Role::Releaser 0 6.008
Dist::Zilla::Tester 0 6.008
Encode 0 2.80_01
Exporter 0 5.72
ExtUtils::MakeMaker 0 7.30
File::Copy 0 2.31
File::Copy::Recursive 0 0.39
File::Path 2.07 2.12_01
File::pushd 0 1.014
File::Spec 0 3.63_01
File::Which 0 1.21
lib 0 0.63
Log::Dispatchouli 0 2.015
Test::DZil 0 6.008
Test::Fatal 0 0.014
Test::More 0.88 1.302120
utf8 0 1.19
configure_requires:
Module Need Have
---------------------------------- -------- --------
ExtUtils::MakeMaker 0 7.30
perl 5.010 5.024001
Text::ParseWords 0 3.30
version 0 0.9916
opt_build_requires:
Module Need Have
---------------------------------- -------- --------
CPAN::Meta 2.120900 2.150005
------------------------------
ENVIRONMENT AND OTHER CONTEXT
------------------------------
Environment variables:
AUTOMATED_TESTING = 1
LANG = en_US.UTF-8
PATH = /usr/gnu/bin:/usr/bin:/usr/sbin:/sbin:/usr/sfw/bin:
PERL5LIB =
PERL5OPT =
PERL5_CPANPLUS_IS_RUNNING = 11386
PERL5_CPAN_IS_RUNNING = 11386
PERL5_CPAN_IS_RUNNING_IN_RECURSION = 18016,11386
PERL_CR_SMOKER_CURRENT = Dist-Zilla-PluginBundle-Git-VersionManager-0.004
PERL_EXTUTILS_AUTOINSTALL = --defaultdeps
PERL_MM_USE_DEFAULT = 1
SHELL = /bin/bash
TERM = xterm
Perl special variables (and OS-specific diagnostics, for MSWin32):
$^X = /home/stro/perl/5.24.1m/bin/perl
$UID/$EUID = 101 / 101
$GID = 10 10
$EGID = 10 10
Perl module toolchain versions installed:
Module Have
------------------- ----------
CPAN 2.16
CPAN::Meta 2.150005
Cwd 3.63_01
ExtUtils::CBuilder 0.280225
ExtUtils::Command 7.30
ExtUtils::Install 2.06
ExtUtils::MakeMaker 7.30
ExtUtils::Manifest 1.70
ExtUtils::ParseXS 3.31
File::Spec 3.63_01
JSON 2.90
JSON::PP 2.97001
Module::Build 0.4224
Module::Signature 0.81
Parse::CPAN::Meta 1.4417_001
Test::Harness 3.39
Test::More 1.302120
YAML 1.23
YAML::Syck 1.30
version 0.9916
--
Summary of my perl5 (revision 5 version 24 subversion 1) configuration:
Platform:
osname=solaris, osvers=2.11, archname=i86pc-solaris-multi
uname='sunos vm-openindiana-001 5.11 illumos-2816291 i86pc i386 i86pc '
config_args='-Dcc=gcc'
hint=recommended, useposix=true, d_sigaction=define
useithreads=undef, usemultiplicity=define
use64bitint=undef, use64bitall=undef, uselongdouble=undef
usemymalloc=n, bincompat5005=undef
Compiler:
cc='gcc', ccflags ='-fno-strict-aliasing -pipe -I/usr/gnu/include -D_LARGEFILE_SOURCE -D_FILE_OFFSET_BITS=64 -DPERL_USE_SAFE_PUTENV',
optimize='-O',
cppflags='-fno-strict-aliasing -pipe -I/usr/gnu/include'
ccversion='', gccversion='3.4.3 (csl-sol210-3_4-20050802)', gccosandvers='solaris2.11'
intsize=4, longsize=4, ptrsize=4, doublesize=8, byteorder=1234, doublekind=3
d_longlong=define, longlongsize=8, d_longdbl=define, longdblsize=12, longdblkind=3
ivtype='long', ivsize=4, nvtype='double', nvsize=8, Off_t='off_t', lseeksize=8
alignbytes=4, prototype=define
Linker and Libraries:
ld='gcc', ldflags =' -L/usr/gnu/lib '
libpth=/usr/gcc/3.4/lib /usr/lib /usr/gnu/lib /usr/ccs/lib
libs=-lpthread -lsocket -lnsl -lgdbm -ldb -ldl -lm -lc
perllibs=-lpthread -lsocket -lnsl -ldl -lm -lc
libc=/lib/libc.so, so=so, useshrplib=true, libperl=libperl.so
gnulibc_version=''
Dynamic Linking:
dlsrc=dl_dlopen.xs, dlext=so, d_dlsymun=undef, ccdlflags=' -R /home/stro/perl/5.24.1m/lib/5.24.1/i86pc-solaris-multi/CORE'
cccdlflags='-fPIC', lddlflags='-shared -L/usr/gnu/lib'
Characteristics of this binary (from libperl):
Compile-time options: HAS_TIMES MULTIPLICITY PERLIO_LAYERS
PERL_COPY_ON_WRITE PERL_DONT_CREATE_GVSV
PERL_HASH_FUNC_ONE_AT_A_TIME_HARD
PERL_IMPLICIT_CONTEXT PERL_MALLOC_WRAP
PERL_PRESERVE_IVUV PERL_USE_SAFE_PUTENV
USE_LARGE_FILES USE_LOCALE USE_LOCALE_COLLATE
USE_LOCALE_CTYPE USE_LOCALE_NUMERIC USE_LOCALE_TIME
USE_PERLIO USE_PERL_ATOF
Built under solaris
Compiled at Feb 5 2017 22:35:18
%ENV:
PERL5LIB=""
PERL5OPT=""
PERL5_CPANPLUS_IS_RUNNING="11386"
PERL5_CPAN_IS_RUNNING="11386"
PERL5_CPAN_IS_RUNNING_IN_RECURSION="18016,11386"
PERL_CR_SMOKER_CURRENT="Dist-Zilla-PluginBundle-Git-VersionManager-0.004"
PERL_EXTUTILS_AUTOINSTALL="--defaultdeps"
PERL_MM_USE_DEFAULT="1"
@INC:
/home/stro/perl/5.24.1m/lib/site_perl/5.24.1/i86pc-solaris-multi
/home/stro/perl/5.24.1m/lib/site_perl/5.24.1
/home/stro/perl/5.24.1m/lib/5.24.1/i86pc-solaris-multi
/home/stro/perl/5.24.1m/lib/5.24.1
.