Csistck v0.1003 Perl 5 v5.27.8 OpenBSD.amd64-openbsd
- Status
- Pass
- From
- Alceu Rodrigues de Freitas Junior
- Dist
-
Csistck v0.1003
- Platform
- Perl 5 v5.27.8 OpenBSD.amd64-openbsd
- Date
- 2018-02-02 22:18:10
- ID
- f40e67e2-0866-11e8-a020-f9b7f03f951d
This distribution has been tested as part of the CPAN Testers
project, supporting the Perl programming language. See
http://wiki.cpantesters.org/ for more information or email
questions to cpan-testers-discuss@perl.org
--
Dear Anthony Johnson,
This is a computer-generated report for Csistck-0.1003
on perl 5.27.8, created by CPAN-Reporter-1.2018.
Thank you for uploading your work to CPAN. Congratulations!
All tests were successful.
Sections of this report:
* Tester comments
* Program output
* Prerequisites
* Environment and other context
------------------------------
TESTER COMMENTS
------------------------------
Additional comments from tester:
this report is from an automated smoke testing program
and was not reviewed by a human for accuracy
------------------------------
PROGRAM OUTPUT
------------------------------
Output from '/usr/bin/make test':
PERL_DL_NONLAZY=1 "/home/vegeta/perl5/perlbrew/perls/perl-5.27.8/bin/perl5.27.8" "-MExtUtils::Command::MM" "-MTest::Harness" "-e" "undef *Test::Harness::Switches; test_harness(0, 'inc', 'blib/lib', 'blib/arch')" t/*.t
given is experimental at /mnt/cpan_build_dir/vegeta/Csistck-0.1003-0/blib/lib/Csistck/Oper.pm line 58.
when is experimental at /mnt/cpan_build_dir/vegeta/Csistck-0.1003-0/blib/lib/Csistck/Oper.pm line 59.
when is experimental at /mnt/cpan_build_dir/vegeta/Csistck-0.1003-0/blib/lib/Csistck/Oper.pm line 60.
given is experimental at /mnt/cpan_build_dir/vegeta/Csistck-0.1003-0/blib/lib/Csistck/Test.pm line 45.
when is experimental at /mnt/cpan_build_dir/vegeta/Csistck-0.1003-0/blib/lib/Csistck/Test.pm line 46.
when is experimental at /mnt/cpan_build_dir/vegeta/Csistck-0.1003-0/blib/lib/Csistck/Test.pm line 47.
when is experimental at /mnt/cpan_build_dir/vegeta/Csistck-0.1003-0/blib/lib/Csistck/Test.pm line 48.
given is experimental at /mnt/cpan_build_dir/vegeta/Csistck-0.1003-0/blib/lib/Csistck/Test/Pkg.pm line 197.
when is experimental at /mnt/cpan_build_dir/vegeta/Csistck-0.1003-0/blib/lib/Csistck/Test/Pkg.pm line 198.
when is experimental at /mnt/cpan_build_dir/vegeta/Csistck-0.1003-0/blib/lib/Csistck/Test/Pkg.pm line 199.
when is experimental at /mnt/cpan_build_dir/vegeta/Csistck-0.1003-0/blib/lib/Csistck/Test/Pkg.pm line 200.
given is experimental at /mnt/cpan_build_dir/vegeta/Csistck-0.1003-0/blib/lib/Csistck/Test/Pkg.pm line 201.
when is experimental at /mnt/cpan_build_dir/vegeta/Csistck-0.1003-0/blib/lib/Csistck/Test/Pkg.pm line 202.
when is experimental at /mnt/cpan_build_dir/vegeta/Csistck-0.1003-0/blib/lib/Csistck/Test/Pkg.pm line 203.
when is experimental at /mnt/cpan_build_dir/vegeta/Csistck-0.1003-0/blib/lib/Csistck/Test/Pkg.pm line 204.
when is experimental at /mnt/cpan_build_dir/vegeta/Csistck-0.1003-0/blib/lib/Csistck/Test/Pkg.pm line 205.
when is experimental at /mnt/cpan_build_dir/vegeta/Csistck-0.1003-0/blib/lib/Csistck/Test/Pkg.pm line 209.
given is experimental at /mnt/cpan_build_dir/vegeta/Csistck-0.1003-0/blib/lib/Csistck/Test/Pkg.pm line 228.
when is experimental at /mnt/cpan_build_dir/vegeta/Csistck-0.1003-0/blib/lib/Csistck/Test/Pkg.pm line 229.
when is experimental at /mnt/cpan_build_dir/vegeta/Csistck-0.1003-0/blib/lib/Csistck/Test/Pkg.pm line 232.
given is experimental at /mnt/cpan_build_dir/vegeta/Csistck-0.1003-0/blib/lib/Csistck/Term.pm line 48.
when is experimental at /mnt/cpan_build_dir/vegeta/Csistck-0.1003-0/blib/lib/Csistck/Term.pm line 49.
when is experimental at /mnt/cpan_build_dir/vegeta/Csistck-0.1003-0/blib/lib/Csistck/Term.pm line 52.
given is experimental at /mnt/cpan_build_dir/vegeta/Csistck-0.1003-0/blib/lib/Csistck.pm line 217.
when is experimental at /mnt/cpan_build_dir/vegeta/Csistck-0.1003-0/blib/lib/Csistck.pm line 218.
when is experimental at /mnt/cpan_build_dir/vegeta/Csistck-0.1003-0/blib/lib/Csistck.pm line 221.
t/00load.t ........ ok
given is experimental at /mnt/cpan_build_dir/vegeta/Csistck-0.1003-0/blib/lib/Csistck/Oper.pm line 58.
when is experimental at /mnt/cpan_build_dir/vegeta/Csistck-0.1003-0/blib/lib/Csistck/Oper.pm line 59.
when is experimental at /mnt/cpan_build_dir/vegeta/Csistck-0.1003-0/blib/lib/Csistck/Oper.pm line 60.
given is experimental at /mnt/cpan_build_dir/vegeta/Csistck-0.1003-0/blib/lib/Csistck/Test.pm line 45.
when is experimental at /mnt/cpan_build_dir/vegeta/Csistck-0.1003-0/blib/lib/Csistck/Test.pm line 46.
when is experimental at /mnt/cpan_build_dir/vegeta/Csistck-0.1003-0/blib/lib/Csistck/Test.pm line 47.
when is experimental at /mnt/cpan_build_dir/vegeta/Csistck-0.1003-0/blib/lib/Csistck/Test.pm line 48.
given is experimental at /mnt/cpan_build_dir/vegeta/Csistck-0.1003-0/blib/lib/Csistck/Test/Pkg.pm line 197.
when is experimental at /mnt/cpan_build_dir/vegeta/Csistck-0.1003-0/blib/lib/Csistck/Test/Pkg.pm line 198.
when is experimental at /mnt/cpan_build_dir/vegeta/Csistck-0.1003-0/blib/lib/Csistck/Test/Pkg.pm line 199.
when is experimental at /mnt/cpan_build_dir/vegeta/Csistck-0.1003-0/blib/lib/Csistck/Test/Pkg.pm line 200.
given is experimental at /mnt/cpan_build_dir/vegeta/Csistck-0.1003-0/blib/lib/Csistck/Test/Pkg.pm line 201.
when is experimental at /mnt/cpan_build_dir/vegeta/Csistck-0.1003-0/blib/lib/Csistck/Test/Pkg.pm line 202.
when is experimental at /mnt/cpan_build_dir/vegeta/Csistck-0.1003-0/blib/lib/Csistck/Test/Pkg.pm line 203.
when is experimental at /mnt/cpan_build_dir/vegeta/Csistck-0.1003-0/blib/lib/Csistck/Test/Pkg.pm line 204.
when is experimental at /mnt/cpan_build_dir/vegeta/Csistck-0.1003-0/blib/lib/Csistck/Test/Pkg.pm line 205.
when is experimental at /mnt/cpan_build_dir/vegeta/Csistck-0.1003-0/blib/lib/Csistck/Test/Pkg.pm line 209.
given is experimental at /mnt/cpan_build_dir/vegeta/Csistck-0.1003-0/blib/lib/Csistck/Test/Pkg.pm line 228.
when is experimental at /mnt/cpan_build_dir/vegeta/Csistck-0.1003-0/blib/lib/Csistck/Test/Pkg.pm line 229.
when is experimental at /mnt/cpan_build_dir/vegeta/Csistck-0.1003-0/blib/lib/Csistck/Test/Pkg.pm line 232.
given is experimental at /mnt/cpan_build_dir/vegeta/Csistck-0.1003-0/blib/lib/Csistck/Term.pm line 48.
when is experimental at /mnt/cpan_build_dir/vegeta/Csistck-0.1003-0/blib/lib/Csistck/Term.pm line 49.
when is experimental at /mnt/cpan_build_dir/vegeta/Csistck-0.1003-0/blib/lib/Csistck/Term.pm line 52.
given is experimental at /mnt/cpan_build_dir/vegeta/Csistck-0.1003-0/blib/lib/Csistck.pm line 217.
when is experimental at /mnt/cpan_build_dir/vegeta/Csistck-0.1003-0/blib/lib/Csistck.pm line 218.
when is experimental at /mnt/cpan_build_dir/vegeta/Csistck-0.1003-0/blib/lib/Csistck.pm line 221.
t/01exports.t ..... ok
t/01friday.t ...... ok
given is experimental at /mnt/cpan_build_dir/vegeta/Csistck-0.1003-0/blib/lib/Csistck/Oper.pm line 58.
when is experimental at /mnt/cpan_build_dir/vegeta/Csistck-0.1003-0/blib/lib/Csistck/Oper.pm line 59.
when is experimental at /mnt/cpan_build_dir/vegeta/Csistck-0.1003-0/blib/lib/Csistck/Oper.pm line 60.
given is experimental at /mnt/cpan_build_dir/vegeta/Csistck-0.1003-0/blib/lib/Csistck/Test.pm line 45.
when is experimental at /mnt/cpan_build_dir/vegeta/Csistck-0.1003-0/blib/lib/Csistck/Test.pm line 46.
when is experimental at /mnt/cpan_build_dir/vegeta/Csistck-0.1003-0/blib/lib/Csistck/Test.pm line 47.
when is experimental at /mnt/cpan_build_dir/vegeta/Csistck-0.1003-0/blib/lib/Csistck/Test.pm line 48.
given is experimental at /mnt/cpan_build_dir/vegeta/Csistck-0.1003-0/blib/lib/Csistck/Test/Pkg.pm line 197.
when is experimental at /mnt/cpan_build_dir/vegeta/Csistck-0.1003-0/blib/lib/Csistck/Test/Pkg.pm line 198.
when is experimental at /mnt/cpan_build_dir/vegeta/Csistck-0.1003-0/blib/lib/Csistck/Test/Pkg.pm line 199.
when is experimental at /mnt/cpan_build_dir/vegeta/Csistck-0.1003-0/blib/lib/Csistck/Test/Pkg.pm line 200.
given is experimental at /mnt/cpan_build_dir/vegeta/Csistck-0.1003-0/blib/lib/Csistck/Test/Pkg.pm line 201.
when is experimental at /mnt/cpan_build_dir/vegeta/Csistck-0.1003-0/blib/lib/Csistck/Test/Pkg.pm line 202.
when is experimental at /mnt/cpan_build_dir/vegeta/Csistck-0.1003-0/blib/lib/Csistck/Test/Pkg.pm line 203.
when is experimental at /mnt/cpan_build_dir/vegeta/Csistck-0.1003-0/blib/lib/Csistck/Test/Pkg.pm line 204.
when is experimental at /mnt/cpan_build_dir/vegeta/Csistck-0.1003-0/blib/lib/Csistck/Test/Pkg.pm line 205.
when is experimental at /mnt/cpan_build_dir/vegeta/Csistck-0.1003-0/blib/lib/Csistck/Test/Pkg.pm line 209.
given is experimental at /mnt/cpan_build_dir/vegeta/Csistck-0.1003-0/blib/lib/Csistck/Test/Pkg.pm line 228.
when is experimental at /mnt/cpan_build_dir/vegeta/Csistck-0.1003-0/blib/lib/Csistck/Test/Pkg.pm line 229.
when is experimental at /mnt/cpan_build_dir/vegeta/Csistck-0.1003-0/blib/lib/Csistck/Test/Pkg.pm line 232.
given is experimental at /mnt/cpan_build_dir/vegeta/Csistck-0.1003-0/blib/lib/Csistck/Term.pm line 48.
when is experimental at /mnt/cpan_build_dir/vegeta/Csistck-0.1003-0/blib/lib/Csistck/Term.pm line 49.
when is experimental at /mnt/cpan_build_dir/vegeta/Csistck-0.1003-0/blib/lib/Csistck/Term.pm line 52.
given is experimental at /mnt/cpan_build_dir/vegeta/Csistck-0.1003-0/blib/lib/Csistck.pm line 217.
when is experimental at /mnt/cpan_build_dir/vegeta/Csistck-0.1003-0/blib/lib/Csistck.pm line 218.
when is experimental at /mnt/cpan_build_dir/vegeta/Csistck-0.1003-0/blib/lib/Csistck.pm line 221.
t/02check.t ....... ok
given is experimental at /mnt/cpan_build_dir/vegeta/Csistck-0.1003-0/blib/lib/Csistck/Oper.pm line 58.
when is experimental at /mnt/cpan_build_dir/vegeta/Csistck-0.1003-0/blib/lib/Csistck/Oper.pm line 59.
when is experimental at /mnt/cpan_build_dir/vegeta/Csistck-0.1003-0/blib/lib/Csistck/Oper.pm line 60.
given is experimental at /mnt/cpan_build_dir/vegeta/Csistck-0.1003-0/blib/lib/Csistck/Test.pm line 45.
when is experimental at /mnt/cpan_build_dir/vegeta/Csistck-0.1003-0/blib/lib/Csistck/Test.pm line 46.
when is experimental at /mnt/cpan_build_dir/vegeta/Csistck-0.1003-0/blib/lib/Csistck/Test.pm line 47.
when is experimental at /mnt/cpan_build_dir/vegeta/Csistck-0.1003-0/blib/lib/Csistck/Test.pm line 48.
given is experimental at /mnt/cpan_build_dir/vegeta/Csistck-0.1003-0/blib/lib/Csistck/Test/Pkg.pm line 197.
when is experimental at /mnt/cpan_build_dir/vegeta/Csistck-0.1003-0/blib/lib/Csistck/Test/Pkg.pm line 198.
when is experimental at /mnt/cpan_build_dir/vegeta/Csistck-0.1003-0/blib/lib/Csistck/Test/Pkg.pm line 199.
when is experimental at /mnt/cpan_build_dir/vegeta/Csistck-0.1003-0/blib/lib/Csistck/Test/Pkg.pm line 200.
given is experimental at /mnt/cpan_build_dir/vegeta/Csistck-0.1003-0/blib/lib/Csistck/Test/Pkg.pm line 201.
when is experimental at /mnt/cpan_build_dir/vegeta/Csistck-0.1003-0/blib/lib/Csistck/Test/Pkg.pm line 202.
when is experimental at /mnt/cpan_build_dir/vegeta/Csistck-0.1003-0/blib/lib/Csistck/Test/Pkg.pm line 203.
when is experimental at /mnt/cpan_build_dir/vegeta/Csistck-0.1003-0/blib/lib/Csistck/Test/Pkg.pm line 204.
when is experimental at /mnt/cpan_build_dir/vegeta/Csistck-0.1003-0/blib/lib/Csistck/Test/Pkg.pm line 205.
when is experimental at /mnt/cpan_build_dir/vegeta/Csistck-0.1003-0/blib/lib/Csistck/Test/Pkg.pm line 209.
given is experimental at /mnt/cpan_build_dir/vegeta/Csistck-0.1003-0/blib/lib/Csistck/Test/Pkg.pm line 228.
when is experimental at /mnt/cpan_build_dir/vegeta/Csistck-0.1003-0/blib/lib/Csistck/Test/Pkg.pm line 229.
when is experimental at /mnt/cpan_build_dir/vegeta/Csistck-0.1003-0/blib/lib/Csistck/Test/Pkg.pm line 232.
given is experimental at /mnt/cpan_build_dir/vegeta/Csistck-0.1003-0/blib/lib/Csistck/Term.pm line 48.
when is experimental at /mnt/cpan_build_dir/vegeta/Csistck-0.1003-0/blib/lib/Csistck/Term.pm line 49.
when is experimental at /mnt/cpan_build_dir/vegeta/Csistck-0.1003-0/blib/lib/Csistck/Term.pm line 52.
given is experimental at /mnt/cpan_build_dir/vegeta/Csistck-0.1003-0/blib/lib/Csistck.pm line 217.
when is experimental at /mnt/cpan_build_dir/vegeta/Csistck-0.1003-0/blib/lib/Csistck.pm line 218.
when is experimental at /mnt/cpan_build_dir/vegeta/Csistck-0.1003-0/blib/lib/Csistck.pm line 221.
t/02hosts.t ....... ok
given is experimental at /mnt/cpan_build_dir/vegeta/Csistck-0.1003-0/blib/lib/Csistck/Oper.pm line 58.
when is experimental at /mnt/cpan_build_dir/vegeta/Csistck-0.1003-0/blib/lib/Csistck/Oper.pm line 59.
when is experimental at /mnt/cpan_build_dir/vegeta/Csistck-0.1003-0/blib/lib/Csistck/Oper.pm line 60.
given is experimental at /mnt/cpan_build_dir/vegeta/Csistck-0.1003-0/blib/lib/Csistck/Test.pm line 45.
when is experimental at /mnt/cpan_build_dir/vegeta/Csistck-0.1003-0/blib/lib/Csistck/Test.pm line 46.
when is experimental at /mnt/cpan_build_dir/vegeta/Csistck-0.1003-0/blib/lib/Csistck/Test.pm line 47.
when is experimental at /mnt/cpan_build_dir/vegeta/Csistck-0.1003-0/blib/lib/Csistck/Test.pm line 48.
given is experimental at /mnt/cpan_build_dir/vegeta/Csistck-0.1003-0/blib/lib/Csistck/Test/Pkg.pm line 197.
when is experimental at /mnt/cpan_build_dir/vegeta/Csistck-0.1003-0/blib/lib/Csistck/Test/Pkg.pm line 198.
when is experimental at /mnt/cpan_build_dir/vegeta/Csistck-0.1003-0/blib/lib/Csistck/Test/Pkg.pm line 199.
when is experimental at /mnt/cpan_build_dir/vegeta/Csistck-0.1003-0/blib/lib/Csistck/Test/Pkg.pm line 200.
given is experimental at /mnt/cpan_build_dir/vegeta/Csistck-0.1003-0/blib/lib/Csistck/Test/Pkg.pm line 201.
when is experimental at /mnt/cpan_build_dir/vegeta/Csistck-0.1003-0/blib/lib/Csistck/Test/Pkg.pm line 202.
when is experimental at /mnt/cpan_build_dir/vegeta/Csistck-0.1003-0/blib/lib/Csistck/Test/Pkg.pm line 203.
when is experimental at /mnt/cpan_build_dir/vegeta/Csistck-0.1003-0/blib/lib/Csistck/Test/Pkg.pm line 204.
when is experimental at /mnt/cpan_build_dir/vegeta/Csistck-0.1003-0/blib/lib/Csistck/Test/Pkg.pm line 205.
when is experimental at /mnt/cpan_build_dir/vegeta/Csistck-0.1003-0/blib/lib/Csistck/Test/Pkg.pm line 209.
given is experimental at /mnt/cpan_build_dir/vegeta/Csistck-0.1003-0/blib/lib/Csistck/Test/Pkg.pm line 228.
when is experimental at /mnt/cpan_build_dir/vegeta/Csistck-0.1003-0/blib/lib/Csistck/Test/Pkg.pm line 229.
when is experimental at /mnt/cpan_build_dir/vegeta/Csistck-0.1003-0/blib/lib/Csistck/Test/Pkg.pm line 232.
given is experimental at /mnt/cpan_build_dir/vegeta/Csistck-0.1003-0/blib/lib/Csistck/Term.pm line 48.
when is experimental at /mnt/cpan_build_dir/vegeta/Csistck-0.1003-0/blib/lib/Csistck/Term.pm line 49.
when is experimental at /mnt/cpan_build_dir/vegeta/Csistck-0.1003-0/blib/lib/Csistck/Term.pm line 52.
given is experimental at /mnt/cpan_build_dir/vegeta/Csistck-0.1003-0/blib/lib/Csistck.pm line 217.
when is experimental at /mnt/cpan_build_dir/vegeta/Csistck-0.1003-0/blib/lib/Csistck.pm line 218.
when is experimental at /mnt/cpan_build_dir/vegeta/Csistck-0.1003-0/blib/lib/Csistck.pm line 221.
t/02on_repair.t ... ok
given is experimental at /mnt/cpan_build_dir/vegeta/Csistck-0.1003-0/blib/lib/Csistck/Oper.pm line 58.
when is experimental at /mnt/cpan_build_dir/vegeta/Csistck-0.1003-0/blib/lib/Csistck/Oper.pm line 59.
when is experimental at /mnt/cpan_build_dir/vegeta/Csistck-0.1003-0/blib/lib/Csistck/Oper.pm line 60.
given is experimental at /mnt/cpan_build_dir/vegeta/Csistck-0.1003-0/blib/lib/Csistck/Test.pm line 45.
when is experimental at /mnt/cpan_build_dir/vegeta/Csistck-0.1003-0/blib/lib/Csistck/Test.pm line 46.
when is experimental at /mnt/cpan_build_dir/vegeta/Csistck-0.1003-0/blib/lib/Csistck/Test.pm line 47.
when is experimental at /mnt/cpan_build_dir/vegeta/Csistck-0.1003-0/blib/lib/Csistck/Test.pm line 48.
given is experimental at /mnt/cpan_build_dir/vegeta/Csistck-0.1003-0/blib/lib/Csistck/Test/Pkg.pm line 197.
when is experimental at /mnt/cpan_build_dir/vegeta/Csistck-0.1003-0/blib/lib/Csistck/Test/Pkg.pm line 198.
when is experimental at /mnt/cpan_build_dir/vegeta/Csistck-0.1003-0/blib/lib/Csistck/Test/Pkg.pm line 199.
when is experimental at /mnt/cpan_build_dir/vegeta/Csistck-0.1003-0/blib/lib/Csistck/Test/Pkg.pm line 200.
given is experimental at /mnt/cpan_build_dir/vegeta/Csistck-0.1003-0/blib/lib/Csistck/Test/Pkg.pm line 201.
when is experimental at /mnt/cpan_build_dir/vegeta/Csistck-0.1003-0/blib/lib/Csistck/Test/Pkg.pm line 202.
when is experimental at /mnt/cpan_build_dir/vegeta/Csistck-0.1003-0/blib/lib/Csistck/Test/Pkg.pm line 203.
when is experimental at /mnt/cpan_build_dir/vegeta/Csistck-0.1003-0/blib/lib/Csistck/Test/Pkg.pm line 204.
when is experimental at /mnt/cpan_build_dir/vegeta/Csistck-0.1003-0/blib/lib/Csistck/Test/Pkg.pm line 205.
when is experimental at /mnt/cpan_build_dir/vegeta/Csistck-0.1003-0/blib/lib/Csistck/Test/Pkg.pm line 209.
given is experimental at /mnt/cpan_build_dir/vegeta/Csistck-0.1003-0/blib/lib/Csistck/Test/Pkg.pm line 228.
when is experimental at /mnt/cpan_build_dir/vegeta/Csistck-0.1003-0/blib/lib/Csistck/Test/Pkg.pm line 229.
when is experimental at /mnt/cpan_build_dir/vegeta/Csistck-0.1003-0/blib/lib/Csistck/Test/Pkg.pm line 232.
given is experimental at /mnt/cpan_build_dir/vegeta/Csistck-0.1003-0/blib/lib/Csistck/Term.pm line 48.
when is experimental at /mnt/cpan_build_dir/vegeta/Csistck-0.1003-0/blib/lib/Csistck/Term.pm line 49.
when is experimental at /mnt/cpan_build_dir/vegeta/Csistck-0.1003-0/blib/lib/Csistck/Term.pm line 52.
given is experimental at /mnt/cpan_build_dir/vegeta/Csistck-0.1003-0/blib/lib/Csistck.pm line 217.
when is experimental at /mnt/cpan_build_dir/vegeta/Csistck-0.1003-0/blib/lib/Csistck.pm line 218.
when is experimental at /mnt/cpan_build_dir/vegeta/Csistck-0.1003-0/blib/lib/Csistck.pm line 221.
t/02options.t ..... ok
given is experimental at /mnt/cpan_build_dir/vegeta/Csistck-0.1003-0/blib/lib/Csistck/Oper.pm line 58.
when is experimental at /mnt/cpan_build_dir/vegeta/Csistck-0.1003-0/blib/lib/Csistck/Oper.pm line 59.
when is experimental at /mnt/cpan_build_dir/vegeta/Csistck-0.1003-0/blib/lib/Csistck/Oper.pm line 60.
given is experimental at /mnt/cpan_build_dir/vegeta/Csistck-0.1003-0/blib/lib/Csistck/Test.pm line 45.
when is experimental at /mnt/cpan_build_dir/vegeta/Csistck-0.1003-0/blib/lib/Csistck/Test.pm line 46.
when is experimental at /mnt/cpan_build_dir/vegeta/Csistck-0.1003-0/blib/lib/Csistck/Test.pm line 47.
when is experimental at /mnt/cpan_build_dir/vegeta/Csistck-0.1003-0/blib/lib/Csistck/Test.pm line 48.
given is experimental at /mnt/cpan_build_dir/vegeta/Csistck-0.1003-0/blib/lib/Csistck/Test/Pkg.pm line 197.
when is experimental at /mnt/cpan_build_dir/vegeta/Csistck-0.1003-0/blib/lib/Csistck/Test/Pkg.pm line 198.
when is experimental at /mnt/cpan_build_dir/vegeta/Csistck-0.1003-0/blib/lib/Csistck/Test/Pkg.pm line 199.
when is experimental at /mnt/cpan_build_dir/vegeta/Csistck-0.1003-0/blib/lib/Csistck/Test/Pkg.pm line 200.
given is experimental at /mnt/cpan_build_dir/vegeta/Csistck-0.1003-0/blib/lib/Csistck/Test/Pkg.pm line 201.
when is experimental at /mnt/cpan_build_dir/vegeta/Csistck-0.1003-0/blib/lib/Csistck/Test/Pkg.pm line 202.
when is experimental at /mnt/cpan_build_dir/vegeta/Csistck-0.1003-0/blib/lib/Csistck/Test/Pkg.pm line 203.
when is experimental at /mnt/cpan_build_dir/vegeta/Csistck-0.1003-0/blib/lib/Csistck/Test/Pkg.pm line 204.
when is experimental at /mnt/cpan_build_dir/vegeta/Csistck-0.1003-0/blib/lib/Csistck/Test/Pkg.pm line 205.
when is experimental at /mnt/cpan_build_dir/vegeta/Csistck-0.1003-0/blib/lib/Csistck/Test/Pkg.pm line 209.
given is experimental at /mnt/cpan_build_dir/vegeta/Csistck-0.1003-0/blib/lib/Csistck/Test/Pkg.pm line 228.
when is experimental at /mnt/cpan_build_dir/vegeta/Csistck-0.1003-0/blib/lib/Csistck/Test/Pkg.pm line 229.
when is experimental at /mnt/cpan_build_dir/vegeta/Csistck-0.1003-0/blib/lib/Csistck/Test/Pkg.pm line 232.
given is experimental at /mnt/cpan_build_dir/vegeta/Csistck-0.1003-0/blib/lib/Csistck/Term.pm line 48.
when is experimental at /mnt/cpan_build_dir/vegeta/Csistck-0.1003-0/blib/lib/Csistck/Term.pm line 49.
when is experimental at /mnt/cpan_build_dir/vegeta/Csistck-0.1003-0/blib/lib/Csistck/Term.pm line 52.
given is experimental at /mnt/cpan_build_dir/vegeta/Csistck-0.1003-0/blib/lib/Csistck.pm line 217.
when is experimental at /mnt/cpan_build_dir/vegeta/Csistck-0.1003-0/blib/lib/Csistck.pm line 218.
when is experimental at /mnt/cpan_build_dir/vegeta/Csistck-0.1003-0/blib/lib/Csistck.pm line 221.
t/02process.t ..... ok
given is experimental at /mnt/cpan_build_dir/vegeta/Csistck-0.1003-0/blib/lib/Csistck/Oper.pm line 58.
when is experimental at /mnt/cpan_build_dir/vegeta/Csistck-0.1003-0/blib/lib/Csistck/Oper.pm line 59.
when is experimental at /mnt/cpan_build_dir/vegeta/Csistck-0.1003-0/blib/lib/Csistck/Oper.pm line 60.
given is experimental at /mnt/cpan_build_dir/vegeta/Csistck-0.1003-0/blib/lib/Csistck/Test.pm line 45.
when is experimental at /mnt/cpan_build_dir/vegeta/Csistck-0.1003-0/blib/lib/Csistck/Test.pm line 46.
when is experimental at /mnt/cpan_build_dir/vegeta/Csistck-0.1003-0/blib/lib/Csistck/Test.pm line 47.
when is experimental at /mnt/cpan_build_dir/vegeta/Csistck-0.1003-0/blib/lib/Csistck/Test.pm line 48.
given is experimental at /mnt/cpan_build_dir/vegeta/Csistck-0.1003-0/blib/lib/Csistck/Test/Pkg.pm line 197.
when is experimental at /mnt/cpan_build_dir/vegeta/Csistck-0.1003-0/blib/lib/Csistck/Test/Pkg.pm line 198.
when is experimental at /mnt/cpan_build_dir/vegeta/Csistck-0.1003-0/blib/lib/Csistck/Test/Pkg.pm line 199.
when is experimental at /mnt/cpan_build_dir/vegeta/Csistck-0.1003-0/blib/lib/Csistck/Test/Pkg.pm line 200.
given is experimental at /mnt/cpan_build_dir/vegeta/Csistck-0.1003-0/blib/lib/Csistck/Test/Pkg.pm line 201.
when is experimental at /mnt/cpan_build_dir/vegeta/Csistck-0.1003-0/blib/lib/Csistck/Test/Pkg.pm line 202.
when is experimental at /mnt/cpan_build_dir/vegeta/Csistck-0.1003-0/blib/lib/Csistck/Test/Pkg.pm line 203.
when is experimental at /mnt/cpan_build_dir/vegeta/Csistck-0.1003-0/blib/lib/Csistck/Test/Pkg.pm line 204.
when is experimental at /mnt/cpan_build_dir/vegeta/Csistck-0.1003-0/blib/lib/Csistck/Test/Pkg.pm line 205.
when is experimental at /mnt/cpan_build_dir/vegeta/Csistck-0.1003-0/blib/lib/Csistck/Test/Pkg.pm line 209.
given is experimental at /mnt/cpan_build_dir/vegeta/Csistck-0.1003-0/blib/lib/Csistck/Test/Pkg.pm line 228.
when is experimental at /mnt/cpan_build_dir/vegeta/Csistck-0.1003-0/blib/lib/Csistck/Test/Pkg.pm line 229.
when is experimental at /mnt/cpan_build_dir/vegeta/Csistck-0.1003-0/blib/lib/Csistck/Test/Pkg.pm line 232.
given is experimental at /mnt/cpan_build_dir/vegeta/Csistck-0.1003-0/blib/lib/Csistck/Term.pm line 48.
when is experimental at /mnt/cpan_build_dir/vegeta/Csistck-0.1003-0/blib/lib/Csistck/Term.pm line 49.
when is experimental at /mnt/cpan_build_dir/vegeta/Csistck-0.1003-0/blib/lib/Csistck/Term.pm line 52.
given is experimental at /mnt/cpan_build_dir/vegeta/Csistck-0.1003-0/blib/lib/Csistck.pm line 217.
when is experimental at /mnt/cpan_build_dir/vegeta/Csistck-0.1003-0/blib/lib/Csistck.pm line 218.
when is experimental at /mnt/cpan_build_dir/vegeta/Csistck-0.1003-0/blib/lib/Csistck.pm line 221.
t/02roles.t ....... ok
given is experimental at /mnt/cpan_build_dir/vegeta/Csistck-0.1003-0/blib/lib/Csistck/Oper.pm line 58.
when is experimental at /mnt/cpan_build_dir/vegeta/Csistck-0.1003-0/blib/lib/Csistck/Oper.pm line 59.
when is experimental at /mnt/cpan_build_dir/vegeta/Csistck-0.1003-0/blib/lib/Csistck/Oper.pm line 60.
given is experimental at /mnt/cpan_build_dir/vegeta/Csistck-0.1003-0/blib/lib/Csistck/Test.pm line 45.
when is experimental at /mnt/cpan_build_dir/vegeta/Csistck-0.1003-0/blib/lib/Csistck/Test.pm line 46.
when is experimental at /mnt/cpan_build_dir/vegeta/Csistck-0.1003-0/blib/lib/Csistck/Test.pm line 47.
when is experimental at /mnt/cpan_build_dir/vegeta/Csistck-0.1003-0/blib/lib/Csistck/Test.pm line 48.
given is experimental at /mnt/cpan_build_dir/vegeta/Csistck-0.1003-0/blib/lib/Csistck/Test/Pkg.pm line 197.
when is experimental at /mnt/cpan_build_dir/vegeta/Csistck-0.1003-0/blib/lib/Csistck/Test/Pkg.pm line 198.
when is experimental at /mnt/cpan_build_dir/vegeta/Csistck-0.1003-0/blib/lib/Csistck/Test/Pkg.pm line 199.
when is experimental at /mnt/cpan_build_dir/vegeta/Csistck-0.1003-0/blib/lib/Csistck/Test/Pkg.pm line 200.
given is experimental at /mnt/cpan_build_dir/vegeta/Csistck-0.1003-0/blib/lib/Csistck/Test/Pkg.pm line 201.
when is experimental at /mnt/cpan_build_dir/vegeta/Csistck-0.1003-0/blib/lib/Csistck/Test/Pkg.pm line 202.
when is experimental at /mnt/cpan_build_dir/vegeta/Csistck-0.1003-0/blib/lib/Csistck/Test/Pkg.pm line 203.
when is experimental at /mnt/cpan_build_dir/vegeta/Csistck-0.1003-0/blib/lib/Csistck/Test/Pkg.pm line 204.
when is experimental at /mnt/cpan_build_dir/vegeta/Csistck-0.1003-0/blib/lib/Csistck/Test/Pkg.pm line 205.
when is experimental at /mnt/cpan_build_dir/vegeta/Csistck-0.1003-0/blib/lib/Csistck/Test/Pkg.pm line 209.
given is experimental at /mnt/cpan_build_dir/vegeta/Csistck-0.1003-0/blib/lib/Csistck/Test/Pkg.pm line 228.
when is experimental at /mnt/cpan_build_dir/vegeta/Csistck-0.1003-0/blib/lib/Csistck/Test/Pkg.pm line 229.
when is experimental at /mnt/cpan_build_dir/vegeta/Csistck-0.1003-0/blib/lib/Csistck/Test/Pkg.pm line 232.
given is experimental at /mnt/cpan_build_dir/vegeta/Csistck-0.1003-0/blib/lib/Csistck/Term.pm line 48.
when is experimental at /mnt/cpan_build_dir/vegeta/Csistck-0.1003-0/blib/lib/Csistck/Term.pm line 49.
when is experimental at /mnt/cpan_build_dir/vegeta/Csistck-0.1003-0/blib/lib/Csistck/Term.pm line 52.
given is experimental at /mnt/cpan_build_dir/vegeta/Csistck-0.1003-0/blib/lib/Csistck.pm line 217.
when is experimental at /mnt/cpan_build_dir/vegeta/Csistck-0.1003-0/blib/lib/Csistck.pm line 218.
when is experimental at /mnt/cpan_build_dir/vegeta/Csistck-0.1003-0/blib/lib/Csistck.pm line 221.
t/02tests.t ....... ok
given is experimental at /mnt/cpan_build_dir/vegeta/Csistck-0.1003-0/blib/lib/Csistck/Oper.pm line 58.
when is experimental at /mnt/cpan_build_dir/vegeta/Csistck-0.1003-0/blib/lib/Csistck/Oper.pm line 59.
when is experimental at /mnt/cpan_build_dir/vegeta/Csistck-0.1003-0/blib/lib/Csistck/Oper.pm line 60.
given is experimental at /mnt/cpan_build_dir/vegeta/Csistck-0.1003-0/blib/lib/Csistck/Test.pm line 45.
when is experimental at /mnt/cpan_build_dir/vegeta/Csistck-0.1003-0/blib/lib/Csistck/Test.pm line 46.
when is experimental at /mnt/cpan_build_dir/vegeta/Csistck-0.1003-0/blib/lib/Csistck/Test.pm line 47.
when is experimental at /mnt/cpan_build_dir/vegeta/Csistck-0.1003-0/blib/lib/Csistck/Test.pm line 48.
given is experimental at /mnt/cpan_build_dir/vegeta/Csistck-0.1003-0/blib/lib/Csistck/Test/Pkg.pm line 197.
when is experimental at /mnt/cpan_build_dir/vegeta/Csistck-0.1003-0/blib/lib/Csistck/Test/Pkg.pm line 198.
when is experimental at /mnt/cpan_build_dir/vegeta/Csistck-0.1003-0/blib/lib/Csistck/Test/Pkg.pm line 199.
when is experimental at /mnt/cpan_build_dir/vegeta/Csistck-0.1003-0/blib/lib/Csistck/Test/Pkg.pm line 200.
given is experimental at /mnt/cpan_build_dir/vegeta/Csistck-0.1003-0/blib/lib/Csistck/Test/Pkg.pm line 201.
when is experimental at /mnt/cpan_build_dir/vegeta/Csistck-0.1003-0/blib/lib/Csistck/Test/Pkg.pm line 202.
when is experimental at /mnt/cpan_build_dir/vegeta/Csistck-0.1003-0/blib/lib/Csistck/Test/Pkg.pm line 203.
when is experimental at /mnt/cpan_build_dir/vegeta/Csistck-0.1003-0/blib/lib/Csistck/Test/Pkg.pm line 204.
when is experimental at /mnt/cpan_build_dir/vegeta/Csistck-0.1003-0/blib/lib/Csistck/Test/Pkg.pm line 205.
when is experimental at /mnt/cpan_build_dir/vegeta/Csistck-0.1003-0/blib/lib/Csistck/Test/Pkg.pm line 209.
given is experimental at /mnt/cpan_build_dir/vegeta/Csistck-0.1003-0/blib/lib/Csistck/Test/Pkg.pm line 228.
when is experimental at /mnt/cpan_build_dir/vegeta/Csistck-0.1003-0/blib/lib/Csistck/Test/Pkg.pm line 229.
when is experimental at /mnt/cpan_build_dir/vegeta/Csistck-0.1003-0/blib/lib/Csistck/Test/Pkg.pm line 232.
given is experimental at /mnt/cpan_build_dir/vegeta/Csistck-0.1003-0/blib/lib/Csistck/Term.pm line 48.
when is experimental at /mnt/cpan_build_dir/vegeta/Csistck-0.1003-0/blib/lib/Csistck/Term.pm line 49.
when is experimental at /mnt/cpan_build_dir/vegeta/Csistck-0.1003-0/blib/lib/Csistck/Term.pm line 52.
given is experimental at /mnt/cpan_build_dir/vegeta/Csistck-0.1003-0/blib/lib/Csistck.pm line 217.
when is experimental at /mnt/cpan_build_dir/vegeta/Csistck-0.1003-0/blib/lib/Csistck.pm line 218.
when is experimental at /mnt/cpan_build_dir/vegeta/Csistck-0.1003-0/blib/lib/Csistck.pm line 221.
t/20detect.t ...... ok
given is experimental at /mnt/cpan_build_dir/vegeta/Csistck-0.1003-0/blib/lib/Csistck/Oper.pm line 58.
when is experimental at /mnt/cpan_build_dir/vegeta/Csistck-0.1003-0/blib/lib/Csistck/Oper.pm line 59.
when is experimental at /mnt/cpan_build_dir/vegeta/Csistck-0.1003-0/blib/lib/Csistck/Oper.pm line 60.
given is experimental at /mnt/cpan_build_dir/vegeta/Csistck-0.1003-0/blib/lib/Csistck/Test.pm line 45.
when is experimental at /mnt/cpan_build_dir/vegeta/Csistck-0.1003-0/blib/lib/Csistck/Test.pm line 46.
when is experimental at /mnt/cpan_build_dir/vegeta/Csistck-0.1003-0/blib/lib/Csistck/Test.pm line 47.
when is experimental at /mnt/cpan_build_dir/vegeta/Csistck-0.1003-0/blib/lib/Csistck/Test.pm line 48.
given is experimental at /mnt/cpan_build_dir/vegeta/Csistck-0.1003-0/blib/lib/Csistck/Test/Pkg.pm line 197.
when is experimental at /mnt/cpan_build_dir/vegeta/Csistck-0.1003-0/blib/lib/Csistck/Test/Pkg.pm line 198.
when is experimental at /mnt/cpan_build_dir/vegeta/Csistck-0.1003-0/blib/lib/Csistck/Test/Pkg.pm line 199.
when is experimental at /mnt/cpan_build_dir/vegeta/Csistck-0.1003-0/blib/lib/Csistck/Test/Pkg.pm line 200.
given is experimental at /mnt/cpan_build_dir/vegeta/Csistck-0.1003-0/blib/lib/Csistck/Test/Pkg.pm line 201.
when is experimental at /mnt/cpan_build_dir/vegeta/Csistck-0.1003-0/blib/lib/Csistck/Test/Pkg.pm line 202.
when is experimental at /mnt/cpan_build_dir/vegeta/Csistck-0.1003-0/blib/lib/Csistck/Test/Pkg.pm line 203.
when is experimental at /mnt/cpan_build_dir/vegeta/Csistck-0.1003-0/blib/lib/Csistck/Test/Pkg.pm line 204.
when is experimental at /mnt/cpan_build_dir/vegeta/Csistck-0.1003-0/blib/lib/Csistck/Test/Pkg.pm line 205.
when is experimental at /mnt/cpan_build_dir/vegeta/Csistck-0.1003-0/blib/lib/Csistck/Test/Pkg.pm line 209.
given is experimental at /mnt/cpan_build_dir/vegeta/Csistck-0.1003-0/blib/lib/Csistck/Test/Pkg.pm line 228.
when is experimental at /mnt/cpan_build_dir/vegeta/Csistck-0.1003-0/blib/lib/Csistck/Test/Pkg.pm line 229.
when is experimental at /mnt/cpan_build_dir/vegeta/Csistck-0.1003-0/blib/lib/Csistck/Test/Pkg.pm line 232.
given is experimental at /mnt/cpan_build_dir/vegeta/Csistck-0.1003-0/blib/lib/Csistck/Term.pm line 48.
when is experimental at /mnt/cpan_build_dir/vegeta/Csistck-0.1003-0/blib/lib/Csistck/Term.pm line 49.
when is experimental at /mnt/cpan_build_dir/vegeta/Csistck-0.1003-0/blib/lib/Csistck/Term.pm line 52.
given is experimental at /mnt/cpan_build_dir/vegeta/Csistck-0.1003-0/blib/lib/Csistck.pm line 217.
when is experimental at /mnt/cpan_build_dir/vegeta/Csistck-0.1003-0/blib/lib/Csistck.pm line 218.
when is experimental at /mnt/cpan_build_dir/vegeta/Csistck-0.1003-0/blib/lib/Csistck.pm line 221.
t/20file.t ........ ok
given is experimental at /mnt/cpan_build_dir/vegeta/Csistck-0.1003-0/blib/lib/Csistck/Oper.pm line 58.
when is experimental at /mnt/cpan_build_dir/vegeta/Csistck-0.1003-0/blib/lib/Csistck/Oper.pm line 59.
when is experimental at /mnt/cpan_build_dir/vegeta/Csistck-0.1003-0/blib/lib/Csistck/Oper.pm line 60.
given is experimental at /mnt/cpan_build_dir/vegeta/Csistck-0.1003-0/blib/lib/Csistck/Test.pm line 45.
when is experimental at /mnt/cpan_build_dir/vegeta/Csistck-0.1003-0/blib/lib/Csistck/Test.pm line 46.
when is experimental at /mnt/cpan_build_dir/vegeta/Csistck-0.1003-0/blib/lib/Csistck/Test.pm line 47.
when is experimental at /mnt/cpan_build_dir/vegeta/Csistck-0.1003-0/blib/lib/Csistck/Test.pm line 48.
given is experimental at /mnt/cpan_build_dir/vegeta/Csistck-0.1003-0/blib/lib/Csistck/Test/Pkg.pm line 197.
when is experimental at /mnt/cpan_build_dir/vegeta/Csistck-0.1003-0/blib/lib/Csistck/Test/Pkg.pm line 198.
when is experimental at /mnt/cpan_build_dir/vegeta/Csistck-0.1003-0/blib/lib/Csistck/Test/Pkg.pm line 199.
when is experimental at /mnt/cpan_build_dir/vegeta/Csistck-0.1003-0/blib/lib/Csistck/Test/Pkg.pm line 200.
given is experimental at /mnt/cpan_build_dir/vegeta/Csistck-0.1003-0/blib/lib/Csistck/Test/Pkg.pm line 201.
when is experimental at /mnt/cpan_build_dir/vegeta/Csistck-0.1003-0/blib/lib/Csistck/Test/Pkg.pm line 202.
when is experimental at /mnt/cpan_build_dir/vegeta/Csistck-0.1003-0/blib/lib/Csistck/Test/Pkg.pm line 203.
when is experimental at /mnt/cpan_build_dir/vegeta/Csistck-0.1003-0/blib/lib/Csistck/Test/Pkg.pm line 204.
when is experimental at /mnt/cpan_build_dir/vegeta/Csistck-0.1003-0/blib/lib/Csistck/Test/Pkg.pm line 205.
when is experimental at /mnt/cpan_build_dir/vegeta/Csistck-0.1003-0/blib/lib/Csistck/Test/Pkg.pm line 209.
given is experimental at /mnt/cpan_build_dir/vegeta/Csistck-0.1003-0/blib/lib/Csistck/Test/Pkg.pm line 228.
when is experimental at /mnt/cpan_build_dir/vegeta/Csistck-0.1003-0/blib/lib/Csistck/Test/Pkg.pm line 229.
when is experimental at /mnt/cpan_build_dir/vegeta/Csistck-0.1003-0/blib/lib/Csistck/Test/Pkg.pm line 232.
given is experimental at /mnt/cpan_build_dir/vegeta/Csistck-0.1003-0/blib/lib/Csistck/Term.pm line 48.
when is experimental at /mnt/cpan_build_dir/vegeta/Csistck-0.1003-0/blib/lib/Csistck/Term.pm line 49.
when is experimental at /mnt/cpan_build_dir/vegeta/Csistck-0.1003-0/blib/lib/Csistck/Term.pm line 52.
given is experimental at /mnt/cpan_build_dir/vegeta/Csistck-0.1003-0/blib/lib/Csistck.pm line 217.
when is experimental at /mnt/cpan_build_dir/vegeta/Csistck-0.1003-0/blib/lib/Csistck.pm line 218.
when is experimental at /mnt/cpan_build_dir/vegeta/Csistck-0.1003-0/blib/lib/Csistck.pm line 221.
t/20permission.t .. ok
given is experimental at /mnt/cpan_build_dir/vegeta/Csistck-0.1003-0/blib/lib/Csistck/Oper.pm line 58.
when is experimental at /mnt/cpan_build_dir/vegeta/Csistck-0.1003-0/blib/lib/Csistck/Oper.pm line 59.
when is experimental at /mnt/cpan_build_dir/vegeta/Csistck-0.1003-0/blib/lib/Csistck/Oper.pm line 60.
given is experimental at /mnt/cpan_build_dir/vegeta/Csistck-0.1003-0/blib/lib/Csistck/Test.pm line 45.
when is experimental at /mnt/cpan_build_dir/vegeta/Csistck-0.1003-0/blib/lib/Csistck/Test.pm line 46.
when is experimental at /mnt/cpan_build_dir/vegeta/Csistck-0.1003-0/blib/lib/Csistck/Test.pm line 47.
when is experimental at /mnt/cpan_build_dir/vegeta/Csistck-0.1003-0/blib/lib/Csistck/Test.pm line 48.
given is experimental at /mnt/cpan_build_dir/vegeta/Csistck-0.1003-0/blib/lib/Csistck/Test/Pkg.pm line 197.
when is experimental at /mnt/cpan_build_dir/vegeta/Csistck-0.1003-0/blib/lib/Csistck/Test/Pkg.pm line 198.
when is experimental at /mnt/cpan_build_dir/vegeta/Csistck-0.1003-0/blib/lib/Csistck/Test/Pkg.pm line 199.
when is experimental at /mnt/cpan_build_dir/vegeta/Csistck-0.1003-0/blib/lib/Csistck/Test/Pkg.pm line 200.
given is experimental at /mnt/cpan_build_dir/vegeta/Csistck-0.1003-0/blib/lib/Csistck/Test/Pkg.pm line 201.
when is experimental at /mnt/cpan_build_dir/vegeta/Csistck-0.1003-0/blib/lib/Csistck/Test/Pkg.pm line 202.
when is experimental at /mnt/cpan_build_dir/vegeta/Csistck-0.1003-0/blib/lib/Csistck/Test/Pkg.pm line 203.
when is experimental at /mnt/cpan_build_dir/vegeta/Csistck-0.1003-0/blib/lib/Csistck/Test/Pkg.pm line 204.
when is experimental at /mnt/cpan_build_dir/vegeta/Csistck-0.1003-0/blib/lib/Csistck/Test/Pkg.pm line 205.
when is experimental at /mnt/cpan_build_dir/vegeta/Csistck-0.1003-0/blib/lib/Csistck/Test/Pkg.pm line 209.
given is experimental at /mnt/cpan_build_dir/vegeta/Csistck-0.1003-0/blib/lib/Csistck/Test/Pkg.pm line 228.
when is experimental at /mnt/cpan_build_dir/vegeta/Csistck-0.1003-0/blib/lib/Csistck/Test/Pkg.pm line 229.
when is experimental at /mnt/cpan_build_dir/vegeta/Csistck-0.1003-0/blib/lib/Csistck/Test/Pkg.pm line 232.
given is experimental at /mnt/cpan_build_dir/vegeta/Csistck-0.1003-0/blib/lib/Csistck/Term.pm line 48.
when is experimental at /mnt/cpan_build_dir/vegeta/Csistck-0.1003-0/blib/lib/Csistck/Term.pm line 49.
when is experimental at /mnt/cpan_build_dir/vegeta/Csistck-0.1003-0/blib/lib/Csistck/Term.pm line 52.
given is experimental at /mnt/cpan_build_dir/vegeta/Csistck-0.1003-0/blib/lib/Csistck.pm line 217.
when is experimental at /mnt/cpan_build_dir/vegeta/Csistck-0.1003-0/blib/lib/Csistck.pm line 218.
when is experimental at /mnt/cpan_build_dir/vegeta/Csistck-0.1003-0/blib/lib/Csistck.pm line 221.
Redundant argument in sprintf at /mnt/cpan_build_dir/vegeta/Csistck-0.1003-0/blib/lib/Csistck/Test/Pkg.pm line 130.
Redundant argument in sprintf at /mnt/cpan_build_dir/vegeta/Csistck-0.1003-0/blib/lib/Csistck/Test/Pkg.pm line 130.
Redundant argument in sprintf at /mnt/cpan_build_dir/vegeta/Csistck-0.1003-0/blib/lib/Csistck/Test/Pkg.pm line 130.
Redundant argument in sprintf at /mnt/cpan_build_dir/vegeta/Csistck-0.1003-0/blib/lib/Csistck/Test/Pkg.pm line 149.
Redundant argument in sprintf at /mnt/cpan_build_dir/vegeta/Csistck-0.1003-0/blib/lib/Csistck/Test/Pkg.pm line 130.
t/20pkg.t ......... ok
given is experimental at /mnt/cpan_build_dir/vegeta/Csistck-0.1003-0/blib/lib/Csistck/Oper.pm line 58.
when is experimental at /mnt/cpan_build_dir/vegeta/Csistck-0.1003-0/blib/lib/Csistck/Oper.pm line 59.
when is experimental at /mnt/cpan_build_dir/vegeta/Csistck-0.1003-0/blib/lib/Csistck/Oper.pm line 60.
given is experimental at /mnt/cpan_build_dir/vegeta/Csistck-0.1003-0/blib/lib/Csistck/Test.pm line 45.
when is experimental at /mnt/cpan_build_dir/vegeta/Csistck-0.1003-0/blib/lib/Csistck/Test.pm line 46.
when is experimental at /mnt/cpan_build_dir/vegeta/Csistck-0.1003-0/blib/lib/Csistck/Test.pm line 47.
when is experimental at /mnt/cpan_build_dir/vegeta/Csistck-0.1003-0/blib/lib/Csistck/Test.pm line 48.
given is experimental at /mnt/cpan_build_dir/vegeta/Csistck-0.1003-0/blib/lib/Csistck/Test/Pkg.pm line 197.
when is experimental at /mnt/cpan_build_dir/vegeta/Csistck-0.1003-0/blib/lib/Csistck/Test/Pkg.pm line 198.
when is experimental at /mnt/cpan_build_dir/vegeta/Csistck-0.1003-0/blib/lib/Csistck/Test/Pkg.pm line 199.
when is experimental at /mnt/cpan_build_dir/vegeta/Csistck-0.1003-0/blib/lib/Csistck/Test/Pkg.pm line 200.
given is experimental at /mnt/cpan_build_dir/vegeta/Csistck-0.1003-0/blib/lib/Csistck/Test/Pkg.pm line 201.
when is experimental at /mnt/cpan_build_dir/vegeta/Csistck-0.1003-0/blib/lib/Csistck/Test/Pkg.pm line 202.
when is experimental at /mnt/cpan_build_dir/vegeta/Csistck-0.1003-0/blib/lib/Csistck/Test/Pkg.pm line 203.
when is experimental at /mnt/cpan_build_dir/vegeta/Csistck-0.1003-0/blib/lib/Csistck/Test/Pkg.pm line 204.
when is experimental at /mnt/cpan_build_dir/vegeta/Csistck-0.1003-0/blib/lib/Csistck/Test/Pkg.pm line 205.
when is experimental at /mnt/cpan_build_dir/vegeta/Csistck-0.1003-0/blib/lib/Csistck/Test/Pkg.pm line 209.
given is experimental at /mnt/cpan_build_dir/vegeta/Csistck-0.1003-0/blib/lib/Csistck/Test/Pkg.pm line 228.
when is experimental at /mnt/cpan_build_dir/vegeta/Csistck-0.1003-0/blib/lib/Csistck/Test/Pkg.pm line 229.
when is experimental at /mnt/cpan_build_dir/vegeta/Csistck-0.1003-0/blib/lib/Csistck/Test/Pkg.pm line 232.
given is experimental at /mnt/cpan_build_dir/vegeta/Csistck-0.1003-0/blib/lib/Csistck/Term.pm line 48.
when is experimental at /mnt/cpan_build_dir/vegeta/Csistck-0.1003-0/blib/lib/Csistck/Term.pm line 49.
when is experimental at /mnt/cpan_build_dir/vegeta/Csistck-0.1003-0/blib/lib/Csistck/Term.pm line 52.
given is experimental at /mnt/cpan_build_dir/vegeta/Csistck-0.1003-0/blib/lib/Csistck.pm line 217.
when is experimental at /mnt/cpan_build_dir/vegeta/Csistck-0.1003-0/blib/lib/Csistck.pm line 218.
when is experimental at /mnt/cpan_build_dir/vegeta/Csistck-0.1003-0/blib/lib/Csistck.pm line 221.
t/20role.t ........ ok
given is experimental at /mnt/cpan_build_dir/vegeta/Csistck-0.1003-0/blib/lib/Csistck/Oper.pm line 58.
when is experimental at /mnt/cpan_build_dir/vegeta/Csistck-0.1003-0/blib/lib/Csistck/Oper.pm line 59.
when is experimental at /mnt/cpan_build_dir/vegeta/Csistck-0.1003-0/blib/lib/Csistck/Oper.pm line 60.
given is experimental at /mnt/cpan_build_dir/vegeta/Csistck-0.1003-0/blib/lib/Csistck/Test.pm line 45.
when is experimental at /mnt/cpan_build_dir/vegeta/Csistck-0.1003-0/blib/lib/Csistck/Test.pm line 46.
when is experimental at /mnt/cpan_build_dir/vegeta/Csistck-0.1003-0/blib/lib/Csistck/Test.pm line 47.
when is experimental at /mnt/cpan_build_dir/vegeta/Csistck-0.1003-0/blib/lib/Csistck/Test.pm line 48.
given is experimental at /mnt/cpan_build_dir/vegeta/Csistck-0.1003-0/blib/lib/Csistck/Test/Pkg.pm line 197.
when is experimental at /mnt/cpan_build_dir/vegeta/Csistck-0.1003-0/blib/lib/Csistck/Test/Pkg.pm line 198.
when is experimental at /mnt/cpan_build_dir/vegeta/Csistck-0.1003-0/blib/lib/Csistck/Test/Pkg.pm line 199.
when is experimental at /mnt/cpan_build_dir/vegeta/Csistck-0.1003-0/blib/lib/Csistck/Test/Pkg.pm line 200.
given is experimental at /mnt/cpan_build_dir/vegeta/Csistck-0.1003-0/blib/lib/Csistck/Test/Pkg.pm line 201.
when is experimental at /mnt/cpan_build_dir/vegeta/Csistck-0.1003-0/blib/lib/Csistck/Test/Pkg.pm line 202.
when is experimental at /mnt/cpan_build_dir/vegeta/Csistck-0.1003-0/blib/lib/Csistck/Test/Pkg.pm line 203.
when is experimental at /mnt/cpan_build_dir/vegeta/Csistck-0.1003-0/blib/lib/Csistck/Test/Pkg.pm line 204.
when is experimental at /mnt/cpan_build_dir/vegeta/Csistck-0.1003-0/blib/lib/Csistck/Test/Pkg.pm line 205.
when is experimental at /mnt/cpan_build_dir/vegeta/Csistck-0.1003-0/blib/lib/Csistck/Test/Pkg.pm line 209.
given is experimental at /mnt/cpan_build_dir/vegeta/Csistck-0.1003-0/blib/lib/Csistck/Test/Pkg.pm line 228.
when is experimental at /mnt/cpan_build_dir/vegeta/Csistck-0.1003-0/blib/lib/Csistck/Test/Pkg.pm line 229.
when is experimental at /mnt/cpan_build_dir/vegeta/Csistck-0.1003-0/blib/lib/Csistck/Test/Pkg.pm line 232.
given is experimental at /mnt/cpan_build_dir/vegeta/Csistck-0.1003-0/blib/lib/Csistck/Term.pm line 48.
when is experimental at /mnt/cpan_build_dir/vegeta/Csistck-0.1003-0/blib/lib/Csistck/Term.pm line 49.
when is experimental at /mnt/cpan_build_dir/vegeta/Csistck-0.1003-0/blib/lib/Csistck/Term.pm line 52.
given is experimental at /mnt/cpan_build_dir/vegeta/Csistck-0.1003-0/blib/lib/Csistck.pm line 217.
when is experimental at /mnt/cpan_build_dir/vegeta/Csistck-0.1003-0/blib/lib/Csistck.pm line 218.
when is experimental at /mnt/cpan_build_dir/vegeta/Csistck-0.1003-0/blib/lib/Csistck.pm line 221.
t/20script.t ...... ok
given is experimental at /mnt/cpan_build_dir/vegeta/Csistck-0.1003-0/blib/lib/Csistck/Oper.pm line 58.
when is experimental at /mnt/cpan_build_dir/vegeta/Csistck-0.1003-0/blib/lib/Csistck/Oper.pm line 59.
when is experimental at /mnt/cpan_build_dir/vegeta/Csistck-0.1003-0/blib/lib/Csistck/Oper.pm line 60.
given is experimental at /mnt/cpan_build_dir/vegeta/Csistck-0.1003-0/blib/lib/Csistck/Test.pm line 45.
when is experimental at /mnt/cpan_build_dir/vegeta/Csistck-0.1003-0/blib/lib/Csistck/Test.pm line 46.
when is experimental at /mnt/cpan_build_dir/vegeta/Csistck-0.1003-0/blib/lib/Csistck/Test.pm line 47.
when is experimental at /mnt/cpan_build_dir/vegeta/Csistck-0.1003-0/blib/lib/Csistck/Test.pm line 48.
given is experimental at /mnt/cpan_build_dir/vegeta/Csistck-0.1003-0/blib/lib/Csistck/Test/Pkg.pm line 197.
when is experimental at /mnt/cpan_build_dir/vegeta/Csistck-0.1003-0/blib/lib/Csistck/Test/Pkg.pm line 198.
when is experimental at /mnt/cpan_build_dir/vegeta/Csistck-0.1003-0/blib/lib/Csistck/Test/Pkg.pm line 199.
when is experimental at /mnt/cpan_build_dir/vegeta/Csistck-0.1003-0/blib/lib/Csistck/Test/Pkg.pm line 200.
given is experimental at /mnt/cpan_build_dir/vegeta/Csistck-0.1003-0/blib/lib/Csistck/Test/Pkg.pm line 201.
when is experimental at /mnt/cpan_build_dir/vegeta/Csistck-0.1003-0/blib/lib/Csistck/Test/Pkg.pm line 202.
when is experimental at /mnt/cpan_build_dir/vegeta/Csistck-0.1003-0/blib/lib/Csistck/Test/Pkg.pm line 203.
when is experimental at /mnt/cpan_build_dir/vegeta/Csistck-0.1003-0/blib/lib/Csistck/Test/Pkg.pm line 204.
when is experimental at /mnt/cpan_build_dir/vegeta/Csistck-0.1003-0/blib/lib/Csistck/Test/Pkg.pm line 205.
when is experimental at /mnt/cpan_build_dir/vegeta/Csistck-0.1003-0/blib/lib/Csistck/Test/Pkg.pm line 209.
given is experimental at /mnt/cpan_build_dir/vegeta/Csistck-0.1003-0/blib/lib/Csistck/Test/Pkg.pm line 228.
when is experimental at /mnt/cpan_build_dir/vegeta/Csistck-0.1003-0/blib/lib/Csistck/Test/Pkg.pm line 229.
when is experimental at /mnt/cpan_build_dir/vegeta/Csistck-0.1003-0/blib/lib/Csistck/Test/Pkg.pm line 232.
given is experimental at /mnt/cpan_build_dir/vegeta/Csistck-0.1003-0/blib/lib/Csistck/Term.pm line 48.
when is experimental at /mnt/cpan_build_dir/vegeta/Csistck-0.1003-0/blib/lib/Csistck/Term.pm line 49.
when is experimental at /mnt/cpan_build_dir/vegeta/Csistck-0.1003-0/blib/lib/Csistck/Term.pm line 52.
given is experimental at /mnt/cpan_build_dir/vegeta/Csistck-0.1003-0/blib/lib/Csistck.pm line 217.
when is experimental at /mnt/cpan_build_dir/vegeta/Csistck-0.1003-0/blib/lib/Csistck.pm line 218.
when is experimental at /mnt/cpan_build_dir/vegeta/Csistck-0.1003-0/blib/lib/Csistck.pm line 221.
t/20template.t .... ok
given is experimental at /mnt/cpan_build_dir/vegeta/Csistck-0.1003-0/blib/lib/Csistck/Oper.pm line 58.
when is experimental at /mnt/cpan_build_dir/vegeta/Csistck-0.1003-0/blib/lib/Csistck/Oper.pm line 59.
when is experimental at /mnt/cpan_build_dir/vegeta/Csistck-0.1003-0/blib/lib/Csistck/Oper.pm line 60.
given is experimental at /mnt/cpan_build_dir/vegeta/Csistck-0.1003-0/blib/lib/Csistck/Test.pm line 45.
when is experimental at /mnt/cpan_build_dir/vegeta/Csistck-0.1003-0/blib/lib/Csistck/Test.pm line 46.
when is experimental at /mnt/cpan_build_dir/vegeta/Csistck-0.1003-0/blib/lib/Csistck/Test.pm line 47.
when is experimental at /mnt/cpan_build_dir/vegeta/Csistck-0.1003-0/blib/lib/Csistck/Test.pm line 48.
given is experimental at /mnt/cpan_build_dir/vegeta/Csistck-0.1003-0/blib/lib/Csistck/Test/Pkg.pm line 197.
when is experimental at /mnt/cpan_build_dir/vegeta/Csistck-0.1003-0/blib/lib/Csistck/Test/Pkg.pm line 198.
when is experimental at /mnt/cpan_build_dir/vegeta/Csistck-0.1003-0/blib/lib/Csistck/Test/Pkg.pm line 199.
when is experimental at /mnt/cpan_build_dir/vegeta/Csistck-0.1003-0/blib/lib/Csistck/Test/Pkg.pm line 200.
given is experimental at /mnt/cpan_build_dir/vegeta/Csistck-0.1003-0/blib/lib/Csistck/Test/Pkg.pm line 201.
when is experimental at /mnt/cpan_build_dir/vegeta/Csistck-0.1003-0/blib/lib/Csistck/Test/Pkg.pm line 202.
when is experimental at /mnt/cpan_build_dir/vegeta/Csistck-0.1003-0/blib/lib/Csistck/Test/Pkg.pm line 203.
when is experimental at /mnt/cpan_build_dir/vegeta/Csistck-0.1003-0/blib/lib/Csistck/Test/Pkg.pm line 204.
when is experimental at /mnt/cpan_build_dir/vegeta/Csistck-0.1003-0/blib/lib/Csistck/Test/Pkg.pm line 205.
when is experimental at /mnt/cpan_build_dir/vegeta/Csistck-0.1003-0/blib/lib/Csistck/Test/Pkg.pm line 209.
given is experimental at /mnt/cpan_build_dir/vegeta/Csistck-0.1003-0/blib/lib/Csistck/Test/Pkg.pm line 228.
when is experimental at /mnt/cpan_build_dir/vegeta/Csistck-0.1003-0/blib/lib/Csistck/Test/Pkg.pm line 229.
when is experimental at /mnt/cpan_build_dir/vegeta/Csistck-0.1003-0/blib/lib/Csistck/Test/Pkg.pm line 232.
given is experimental at /mnt/cpan_build_dir/vegeta/Csistck-0.1003-0/blib/lib/Csistck/Term.pm line 48.
when is experimental at /mnt/cpan_build_dir/vegeta/Csistck-0.1003-0/blib/lib/Csistck/Term.pm line 49.
when is experimental at /mnt/cpan_build_dir/vegeta/Csistck-0.1003-0/blib/lib/Csistck/Term.pm line 52.
given is experimental at /mnt/cpan_build_dir/vegeta/Csistck-0.1003-0/blib/lib/Csistck.pm line 217.
when is experimental at /mnt/cpan_build_dir/vegeta/Csistck-0.1003-0/blib/lib/Csistck.pm line 218.
when is experimental at /mnt/cpan_build_dir/vegeta/Csistck-0.1003-0/blib/lib/Csistck.pm line 221.
t/50bug11.t ....... ok
All tests successful.
Files=18, Tests=101, 4 wallclock secs ( 0.04 usr 0.16 sys + 1.96 cusr 1.04 csys = 3.20 CPU)
Result: PASS
------------------------------
PREREQUISITES
------------------------------
Prerequisite modules loaded:
requires:
Module Need Have
------------------- ----- --------
Digest::MD5 0 2.55
File::Basename 0 2.85
File::Copy 0 2.33
File::stat 0 1.08
Getopt::Long 0 2.5
perl 5.010 5.027008
Scalar::Util 0 1.49
Sys::Hostname::Long 0 1.5
Template 0 2.27
Term::ReadKey 0 2.37
Test::Exception 0 0.43
Text::Diff 0 1.45
build_requires:
Module Need Have
------------------- ----- --------
ExtUtils::MakeMaker 6.59 7.31_07
configure_requires:
Module Need Have
------------------- ----- --------
ExtUtils::MakeMaker 6.59 7.31_07
------------------------------
ENVIRONMENT AND OTHER CONTEXT
------------------------------
Environment variables:
AUTOMATED_TESTING = 1
DBD_MYSQL_TESTDB = test
DBD_MYSQL_TESTHOST = localhost
DBD_MYSQL_TESTPASSWORD =
DBD_MYSQL_TESTPORT = 3306
DBD_MYSQL_TESTUSER = vegeta
EXTENDED_TESTING = 1
PATH = /home/vegeta/perl5/perlbrew/bin:/home/vegeta/perl5/perlbrew/perls/perl-5.27.8/bin:/home/vegeta/bin:/usr/bin:/bin:/usr/sbin:/sbin:/usr/X11R6/bin:/usr/local/bin:/usr/local/sbin
PERL5LIB =
PERL5OPT =
PERL5_CPANPLUS_IS_RUNNING = 41258
PERL5_CPAN_IS_RUNNING = 41258
PERL5_CPAN_IS_RUNNING_IN_RECURSION = 57495,41258
PERLBREW_HOME = /home/vegeta/.perlbrew
PERLBREW_MANPATH = /home/vegeta/perl5/perlbrew/perls/perl-5.27.8/man
PERLBREW_PATH = /home/vegeta/perl5/perlbrew/bin:/home/vegeta/perl5/perlbrew/perls/perl-5.27.8/bin
PERLBREW_PERL = perl-5.27.8
PERLBREW_ROOT = /home/vegeta/perl5/perlbrew
PERLBREW_SHELLRC_VERSION = 0.82
PERLBREW_VERSION = 0.82
PERL_CR_SMOKER_CURRENT = Csistck-0.1003
PERL_EXTUTILS_AUTOINSTALL = --defaultdeps
PERL_MM_USE_DEFAULT = 1
PERL_USE_UNSAFE_INC = 1
SHELL = /usr/local/bin/bash
TERM = xterm
Perl special variables (and OS-specific diagnostics, for MSWin32):
$^X = /home/vegeta/perl5/perlbrew/perls/perl-5.27.8/bin/perl5.27.8
$UID/$EUID = 1002 / 1002
$GID = 1002 1002 1001
$EGID = 1002 1002 1001
Perl module toolchain versions installed:
Module Have
------------------- --------
CPAN 2.20
CPAN::Meta 2.150010
Cwd 3.62
ExtUtils::CBuilder 0.280230
ExtUtils::Command 7.31_07
ExtUtils::Install 2.14
ExtUtils::MakeMaker 7.31_07
ExtUtils::Manifest 1.70
ExtUtils::ParseXS 3.35
File::Spec 3.62
JSON 2.90
JSON::PP 2.97001
Module::Build 0.4224
Module::Signature n/a
Parse::CPAN::Meta 2.150010
Test::Harness 3.39
Test::More 1.302120
YAML 1.24
YAML::Syck n/a
version 0.9918
--
Summary of my perl5 (revision 5 version 27 subversion 8) configuration:
Platform:
osname=openbsd
osvers=6.2
archname=OpenBSD.amd64-openbsd
uname='openbsd cpan-smoker-openbsd 6.2 generic.mp#134 amd64 '
config_args='-de -Dprefix=/home/vegeta/perl5/perlbrew/perls/perl-5.27.8 -Dusedevel -Aeval:scriptdir=/home/vegeta/perl5/perlbrew/perls/perl-5.27.8/bin'
hint=recommended
useposix=true
d_sigaction=define
useithreads=undef
usemultiplicity=undef
use64bitint=define
use64bitall=define
uselongdouble=undef
usemymalloc=n
default_inc_excludes_dot=define
bincompat5005=undef
Compiler:
cc='cc'
ccflags ='-fno-strict-aliasing -pipe -fstack-protector-strong -I/usr/local/include -D_FORTIFY_SOURCE=2'
optimize='-O2'
cppflags='-fno-strict-aliasing -pipe -fstack-protector-strong -I/usr/local/include'
ccversion=''
gccversion='4.2.1 Compatible OpenBSD Clang 4.0.0 (tags/RELEASE_400/final)'
gccosandvers=''
intsize=4
longsize=8
ptrsize=8
doublesize=8
byteorder=12345678
doublekind=3
d_longlong=define
longlongsize=8
d_longdbl=define
longdblsize=16
longdblkind=3
ivtype='long'
ivsize=8
nvtype='double'
nvsize=8
Off_t='off_t'
lseeksize=8
alignbytes=8
prototype=define
Linker and Libraries:
ld='cc'
ldflags ='-Wl,-E -fstack-protector-strong -L/usr/local/lib'
libpth=/usr/lib /usr/local/lib
libs=-lpthread -lm -lutil -lc
perllibs=-lpthread -lm -lutil -lc
libc=/usr/lib/libc.so.90.0
so=so
useshrplib=false
libperl=libperl.a
gnulibc_version=''
Dynamic Linking:
dlsrc=dl_dlopen.xs
dlext=so
d_dlsymun=undef
ccdlflags=' '
cccdlflags='-DPIC -fPIC '
lddlflags='-shared -fPIC -L/usr/local/lib -fstack-protector-strong'
Characteristics of this binary (from libperl):
Compile-time options:
HAS_TIMES
PERLIO_LAYERS
PERL_COPY_ON_WRITE
PERL_DONT_CREATE_GVSV
PERL_MALLOC_WRAP
PERL_OP_PARENT
PERL_PRESERVE_IVUV
PERL_USE_DEVEL
USE_64_BIT_ALL
USE_64_BIT_INT
USE_LARGE_FILES
USE_LOCALE
USE_LOCALE_COLLATE
USE_LOCALE_CTYPE
USE_LOCALE_NUMERIC
USE_LOCALE_TIME
USE_PERLIO
USE_PERL_ATOF
Locally applied patches:
Devel::PatchPerl 1.48
Built under openbsd
Compiled at Jan 23 2018 17:20:45
%ENV:
PERL5LIB=""
PERL5OPT=""
PERL5_CPANPLUS_IS_RUNNING="41258"
PERL5_CPAN_IS_RUNNING="41258"
PERL5_CPAN_IS_RUNNING_IN_RECURSION="57495,41258"
PERLBREW_HOME="/home/vegeta/.perlbrew"
PERLBREW_MANPATH="/home/vegeta/perl5/perlbrew/perls/perl-5.27.8/man"
PERLBREW_PATH="/home/vegeta/perl5/perlbrew/bin:/home/vegeta/perl5/perlbrew/perls/perl-5.27.8/bin"
PERLBREW_PERL="perl-5.27.8"
PERLBREW_ROOT="/home/vegeta/perl5/perlbrew"
PERLBREW_SHELLRC_VERSION="0.82"
PERLBREW_VERSION="0.82"
PERL_CR_SMOKER_CURRENT="Csistck-0.1003"
PERL_EXTUTILS_AUTOINSTALL="--defaultdeps"
PERL_MM_USE_DEFAULT="1"
PERL_USE_UNSAFE_INC="1"
@INC:
/home/vegeta/perl5/perlbrew/perls/perl-5.27.8/lib/site_perl/5.27.8/OpenBSD.amd64-openbsd
/home/vegeta/perl5/perlbrew/perls/perl-5.27.8/lib/site_perl/5.27.8
/home/vegeta/perl5/perlbrew/perls/perl-5.27.8/lib/5.27.8/OpenBSD.amd64-openbsd
/home/vegeta/perl5/perlbrew/perls/perl-5.27.8/lib/5.27.8
.