Archive-Tar-Wrapper v0.33 Perl 5 v5.8.9 amd64-freebsd

Status
Pass
From
Slaven Rezić (SREZIC)
Dist
Archive-Tar-Wrapper v0.33
Platform
Perl 5 v5.8.9 amd64-freebsd
Date
2018-07-10 14:02:59
ID
f3e3cf46-8449-11e8-b41f-c5aee30ec11d
This distribution has been tested as part of the CPAN Testers
project, supporting the Perl programming language.  See
http://wiki.cpantesters.org/ for more information or email
questions to cpan-testers-discuss@perl.org


--
Dear Alceu Rodrigues de Freitas Junior,

This is a computer-generated report for Archive-Tar-Wrapper-0.33
on perl 5.8.9, created by CPAN-Reporter-1.2018.

Thank you for uploading your work to CPAN.  Congratulations!
All tests were successful.

Sections of this report:

    * Tester comments
    * Program output
    * Prerequisites
    * Environment and other context

------------------------------
TESTER COMMENTS
------------------------------

Additional comments from tester:

none provided

------------------------------
PROGRAM OUTPUT
------------------------------

Output from '/usr/bin/make test':

PERL_DL_NONLAZY=1 "/usr/perl5.8.9/bin/perl" "-MExtUtils::Command::MM" "-MTest::Harness" "-e" "undef *Test::Harness::Switches; test_harness(0, 'blib/lib', 'blib/arch')" t/*.t
t/001Basic.t .............. ok
t/002Mult.t ............... ok
t/003Dirs.t ............... ok
t/004Utf8.t ............... ok
t/005Cwd.t ................ ok
t/006DirPerms.t ........... ok
t/007bzip.t ............... ok
# with grep: Ran 1337 iterations (314 outliers).
# with grep: Rounded run time per iteration: 0.000482 +/- 0.000001 (0.1%)
# with grep and compiled regex: Ran 1274 iterations (246 outliers).
# with grep and compiled regex: Rounded run time per iteration: 0.000544 +/- 0.000001 (0.2%)
# with eq: Ran 1337 iterations (307 outliers).
# with eq: Rounded run time per iteration: 0.000515 +/- 0.000001 (0.1%)
# with enhanced eq: Ran 1214 iterations (211 outliers).
# with enhanced eq: Rounded run time per iteration: 0.000479 +/- 0.000001 (0.3%)
# with enhanced eq mark2: Ran 1403 iterations (379 outliers).
# with enhanced eq mark2: Rounded run time per iteration: 0.000354 +/- 0.000000 (0.0%)
# with enhanced eq mark3: Ran 1274 iterations (269 outliers).
# with enhanced eq mark3: Rounded run time per iteration: 0.000270 +/- 0.000000 (0.2%)
# sort and shift: Ran 1337 iterations (300 outliers).
# sort and shift: Rounded run time per iteration: 0.000636 +/- 0.000000 (0.1%)
t/008performance.t ........ ok
# with grep: Ran 1403 iterations (345 outliers).
# with grep: Rounded run time per iteration: 0.000013 +/- 0.000000 (0.1%)
# with grep and compiled regex: Ran 1403 iterations (342 outliers).
# with grep and compiled regex: Rounded run time per iteration: 0.000014 +/- 0.000000 (0.1%)
# with eq: Ran 1403 iterations (361 outliers).
# with eq: Rounded run time per iteration: 0.000013 +/- 0.000000 (0.0%)
# with enhanced eq: Ran 1403 iterations (388 outliers).
# with enhanced eq: Rounded run time per iteration: 0.000013 +/- 0.000000 (0.1%)
# with enhanced eq mark2: Ran 1274 iterations (229 outliers).
# with enhanced eq mark2: Rounded run time per iteration: 0.000012 +/- 0.000000 (0.2%)
# with enhanced eq mark3: Ran 1403 iterations (360 outliers).
# with enhanced eq mark3: Rounded run time per iteration: 0.000011 +/- 0.000000 (0.1%)
# sort and shift: Ran 1337 iterations (297 outliers).
# sort and shift: Rounded run time per iteration: 0.000011 +/- 0.000000 (0.1%)
t/009performance-small.t .. ok
All tests successful.

Test Summary Report
-------------------
t/008performance.t      (Wstat: 0 Tests: 1 Failed: 0)
  TODO passed:   1
t/009performance-small.t (Wstat: 0 Tests: 1 Failed: 0)
  TODO passed:   1
Files=9, Tests=54, 1369 wallclock secs ( 0.00 usr  0.06 sys + 1138.22 cusr 186.61 csys = 1324.89 CPU)
Result: PASS

------------------------------
PREREQUISITES
------------------------------

Prerequisite modules loaded:

requires:

    Module              Need     Have      
    ------------------- -------- ----------
    Cwd                 0        3.74      
    File::Temp          0        0.2304    
    File::Which         0        1.22      
    IPC::Run            0        20180523.0
    Log::Log4perl       0        1.49      
    perl                5.008001 5.008009  

build_requires:

    Module              Need     Have      
    ------------------- -------- ----------
    Dumbbench           0.111    0.111     
    ExtUtils::MakeMaker 0        7.34      
    Test::Simple        1.302073 1.302136  

configure_requires:

    Module              Need     Have      
    ------------------- -------- ----------
    ExtUtils::MakeMaker 0        7.34      
    File::Which         0        1.22      


------------------------------
ENVIRONMENT AND OTHER CONTEXT
------------------------------

Environment variables:

    LC_ALL = de_DE.ISO8859-1
    PATH = /usr/local/bin:/usr/bin:/bin:/usr/local/sbin:/usr/sbin:/sbin:/home/cpansand/bin/freebsd9.3:/home/cpansand/bin/sh:/home/cpansand/bin:/usr/games:/home/cpansand/devel:/usr/home/eserte/src/srezic-misc/scripts
    PERL5LIB = 
    PERL5OPT = 
    PERL5_CPANPLUS_IS_RUNNING = 11188
    PERL5_CPAN_IS_RUNNING = 11188
    PERL5_CPAN_IS_RUNNING_IN_RECURSION = 11141,11188
    PERLDOC = -MPod::Perldoc::ToTextOverstrike
    PERL_BATCH = yes
    PERL_CANARY_STABILITY_NOPROMPT = 1
    PERL_CPAN_REPORTER_CONFIG = /var/tmp/cpansmoker-1023/2018071015/cpanreporter_000_config.ini
    PERL_EXTUTILS_AUTOINSTALL = --defaultdeps
    SHELL = /usr/local/bin/zsh
    TERM = screen
    TMPDIR = /var/tmp/cpansmoker-1023/2018071015

Perl special variables (and OS-specific diagnostics, for MSWin32):

    $^X = /usr/perl5.8.9/bin/perl
    $UID/$EUID = 1023 / 1023
    $GID = 1023 1023
    $EGID = 1023 1023

Perl module toolchain versions installed:

    Module              Have    
    ------------------- --------
    CPAN                2.16    
    CPAN::Meta          2.150010
    Cwd                 3.74    
    ExtUtils::CBuilder  0.280230
    ExtUtils::Command   7.34    
    ExtUtils::Install   2.12    
    ExtUtils::MakeMaker 7.34    
    ExtUtils::Manifest  1.71    
    ExtUtils::ParseXS   3.35    
    File::Spec          3.74    
    JSON                2.97001 
    JSON::PP            2.97001 
    Module::Build       0.4224  
    Module::Signature   0.81    
    Parse::CPAN::Meta   2.150010
    Test::Harness       3.41    
    Test::More          1.302136
    YAML                1.23    
    YAML::Syck          1.30    
    version             0.9924  


--

Summary of my perl5 (revision 5 version 8 subversion 9) configuration:
  Platform:
    osname=freebsd, osvers=9.2-release-p4, archname=amd64-freebsd
    uname='freebsd cvrsnica-freebsd-92 9.2-release-p4 freebsd 9.2-release-p4 #0: tue apr 8 18:08:22 utc 2014 root@amd64-builder.daemonology.net:usrobjusrsrcsysgeneric amd64 '
    config_args='-ds -e -Dprefix=/usr/perl5.8.9'
    hint=recommended, useposix=true, d_sigaction=define
    usethreads=undef use5005threads=undef useithreads=undef usemultiplicity=undef
    useperlio=define d_sfio=undef uselargefiles=define usesocks=undef
    use64bitint=define use64bitall=define uselongdouble=undef
    usemymalloc=n, bincompat5005=undef
  Compiler:
    cc='cc', ccflags ='-DHAS_FPSETMASK -DHAS_FLOATINGPOINT_H -fno-strict-aliasing -pipe -I/usr/local/include',
    optimize='-O',
    cppflags='-DHAS_FPSETMASK -DHAS_FLOATINGPOINT_H -fno-strict-aliasing -pipe -I/usr/local/include'
    ccversion='', gccversion='4.2.1 20070831 patched [FreeBSD]', gccosandvers=''
    intsize=4, longsize=8, ptrsize=8, doublesize=8, byteorder=12345678
    d_longlong=define, longlongsize=8, d_longdbl=define, longdblsize=16
    ivtype='long', ivsize=8, nvtype='double', nvsize=8, Off_t='off_t', lseeksize=8
    alignbytes=8, prototype=define
  Linker and Libraries:
    ld='cc', ldflags ='-Wl,-E  -L/usr/local/lib'
    libpth=/usr/lib /usr/local/lib
    libs=-lgdbm -lm -lcrypt -lutil -lc
    perllibs=-lm -lcrypt -lutil -lc
    libc=, so=so, useshrplib=false, libperl=libperl.a
    gnulibc_version=''
  Dynamic Linking:
    dlsrc=dl_dlopen.xs, dlext=so, d_dlsymun=undef, ccdlflags=' '
    cccdlflags='-DPIC -fPIC', lddlflags='-shared  -L/usr/local/lib'


Characteristics of this binary (from libperl): 
  Compile-time options: PERL_MALLOC_WRAP USE_64_BIT_ALL USE_64_BIT_INT
                        USE_FAST_STDIO USE_LARGE_FILES USE_PERLIO
  Built under freebsd
  Compiled at May 15 2014 22:27:57
  %ENV:
    PERL5LIB=""
    PERL5OPT=""
    PERL5_CPANPLUS_IS_RUNNING="11188"
    PERL5_CPAN_IS_RUNNING="11188"
    PERL5_CPAN_IS_RUNNING_IN_RECURSION="11141,11188"
    PERLDOC="-MPod::Perldoc::ToTextOverstrike"
    PERL_BATCH="yes"
    PERL_CANARY_STABILITY_NOPROMPT="1"
    PERL_CPAN_REPORTER_CONFIG="/var/tmp/cpansmoker-1023/2018071015/cpanreporter_000_config.ini"
    PERL_EXTUTILS_AUTOINSTALL="--defaultdeps"
  @INC:
    /usr/perl5.8.9/lib/5.8.9/amd64-freebsd
    /usr/perl5.8.9/lib/5.8.9
    /usr/perl5.8.9/lib/site_perl/5.8.9/amd64-freebsd
    /usr/perl5.8.9/lib/site_perl/5.8.9
    .