Test-Harness v3.52 Perl 5 v5.42.0 RC1 x86_64-linux
- Status
- Pass
- From
- John SJ Anderson
- Dist
-
Test-Harness v3.52
- Platform
- Perl 5 v5.42.0 RC1 x86_64-linux
- Date
- 2025-06-25 20:42:46
- ID
- f34861f6-5204-11f0-84b9-9f1b1d3d49d3
This distribution has been tested as part of the CPAN Testers
project, supporting the Perl programming language. See
http://wiki.cpantesters.org/ for more information or email
questions to cpan-testers-discuss@perl.org
--
Dear LEONT,
This is a computer-generated report for Test-Harness-3.52
on perl 5.42.0, created by App::cpanminus::reporter 0.22 (1.7048).
Thank you for uploading your work to CPAN. Congratulations!
All tests were successful.
Sections of this report:
* Tester comments
* Program output
* Prerequisites
* Environment and other context
------------------------------
TESTER COMMENTS
------------------------------
Additional comments from tester:
none provided
------------------------------
PROGRAM OUTPUT
------------------------------
Output from '':
Building and testing Test-Harness-3.52
cp lib/App/Prove/State.pm blib/lib/App/Prove/State.pm
cp lib/TAP/Formatter/Console/Session.pm blib/lib/TAP/Formatter/Console/Session.pm
cp lib/TAP/Formatter/Color.pm blib/lib/TAP/Formatter/Color.pm
cp lib/TAP/Formatter/Console.pm blib/lib/TAP/Formatter/Console.pm
cp lib/TAP/Parser/Iterator.pm blib/lib/TAP/Parser/Iterator.pm
cp lib/App/Prove.pm blib/lib/App/Prove.pm
cp lib/TAP/Parser/Result/Plan.pm blib/lib/TAP/Parser/Result/Plan.pm
cp lib/TAP/Parser/Grammar.pm blib/lib/TAP/Parser/Grammar.pm
cp lib/TAP/Formatter/Session.pm blib/lib/TAP/Formatter/Session.pm
cp lib/TAP/Base.pm blib/lib/TAP/Base.pm
cp lib/TAP/Parser/Result/Comment.pm blib/lib/TAP/Parser/Result/Comment.pm
cp lib/TAP/Parser/Aggregator.pm blib/lib/TAP/Parser/Aggregator.pm
cp lib/TAP/Parser/Result/Bailout.pm blib/lib/TAP/Parser/Result/Bailout.pm
cp lib/TAP/Parser/Result.pm blib/lib/TAP/Parser/Result.pm
cp lib/TAP/Parser/Iterator/Array.pm blib/lib/TAP/Parser/Iterator/Array.pm
cp lib/App/Prove/State/Result.pm blib/lib/App/Prove/State/Result.pm
cp lib/TAP/Parser.pm blib/lib/TAP/Parser.pm
cp lib/TAP/Parser/Result/Test.pm blib/lib/TAP/Parser/Result/Test.pm
cp lib/TAP/Formatter/File/Session.pm blib/lib/TAP/Formatter/File/Session.pm
cp lib/App/Prove/State/Result/Test.pm blib/lib/App/Prove/State/Result/Test.pm
cp lib/TAP/Parser/Result/Pragma.pm blib/lib/TAP/Parser/Result/Pragma.pm
cp lib/TAP/Harness.pm blib/lib/TAP/Harness.pm
cp lib/TAP/Harness/Env.pm blib/lib/TAP/Harness/Env.pm
cp lib/TAP/Object.pm blib/lib/TAP/Object.pm
cp lib/TAP/Formatter/File.pm blib/lib/TAP/Formatter/File.pm
cp lib/TAP/Parser/Result/Version.pm blib/lib/TAP/Parser/Result/Version.pm
cp lib/TAP/Parser/Iterator/Stream.pm blib/lib/TAP/Parser/Iterator/Stream.pm
cp lib/TAP/Parser/Result/Unknown.pm blib/lib/TAP/Parser/Result/Unknown.pm
cp lib/TAP/Parser/IteratorFactory.pm blib/lib/TAP/Parser/IteratorFactory.pm
cp lib/TAP/Formatter/Base.pm blib/lib/TAP/Formatter/Base.pm
cp lib/TAP/Harness/Beyond.pod blib/lib/TAP/Harness/Beyond.pod
cp lib/TAP/Parser/Iterator/Process.pm blib/lib/TAP/Parser/Iterator/Process.pm
cp lib/TAP/Parser/Multiplexer.pm blib/lib/TAP/Parser/Multiplexer.pm
cp lib/TAP/Formatter/Console/ParallelSession.pm blib/lib/TAP/Formatter/Console/ParallelSession.pm
cp HACKING.pod blib/lib/Test/HACKING.pod
cp lib/TAP/Parser/YAMLish/Writer.pm blib/lib/TAP/Parser/YAMLish/Writer.pm
cp lib/TAP/Parser/Scheduler.pm blib/lib/TAP/Parser/Scheduler.pm
cp lib/TAP/Parser/SourceHandler/RawTAP.pm blib/lib/TAP/Parser/SourceHandler/RawTAP.pm
cp lib/Test/Harness.pm blib/lib/Test/Harness.pm
cp lib/TAP/Parser/SourceHandler/Perl.pm blib/lib/TAP/Parser/SourceHandler/Perl.pm
cp lib/TAP/Parser/Scheduler/Spinner.pm blib/lib/TAP/Parser/Scheduler/Spinner.pm
cp lib/TAP/Parser/SourceHandler/File.pm blib/lib/TAP/Parser/SourceHandler/File.pm
cp lib/TAP/Parser/SourceHandler/Handle.pm blib/lib/TAP/Parser/SourceHandler/Handle.pm
cp lib/TAP/Parser/Source.pm blib/lib/TAP/Parser/Source.pm
cp lib/TAP/Parser/SourceHandler/Executable.pm blib/lib/TAP/Parser/SourceHandler/Executable.pm
cp lib/TAP/Parser/SourceHandler.pm blib/lib/TAP/Parser/SourceHandler.pm
cp lib/TAP/Parser/Result/YAML.pm blib/lib/TAP/Parser/Result/YAML.pm
cp lib/TAP/Parser/ResultFactory.pm blib/lib/TAP/Parser/ResultFactory.pm
cp lib/TAP/Parser/YAMLish/Reader.pm blib/lib/TAP/Parser/YAMLish/Reader.pm
cp lib/TAP/Parser/Scheduler/Job.pm blib/lib/TAP/Parser/Scheduler/Job.pm
cp bin/prove blib/script/prove
"/opt/plenv/versions/5.42.0-RC1/bin/perl5.42.0" -MExtUtils::MY -e 'MY->fixin(shift)' -- blib/script/prove
Manifying 1 pod document
Manifying 33 pod documents
Manifying 17 pod documents
PERL_DL_NONLAZY=1 "/opt/plenv/versions/5.42.0-RC1/bin/perl5.42.0" "-Iblib/lib" "-Iblib/arch" "-MExtUtils::Command::MM" "-MTest::Harness" "-e" "undef *Test::Harness::Switches; test_harness(0, 'blib/lib', 'blib/arch')" t/*.t t/compat/*.t
# Testing Test::Harness 3.52, Perl 5.042000, /opt/plenv/versions/5.42.0-RC1/bin/perl5.42.0
t/000-load.t .................... ok
t/aggregator.t .................. ok
t/bailout.t ..................... ok
t/base.t ........................ ok
t/callbacks.t ................... ok
t/compat/env.t .................. ok
t/compat/env_opts.t ............. ok
t/compat/failure.t .............. ok
t/compat/inc-propagation.t ...... ok
t/compat/inc_taint.t ............ ok
t/compat/nonumbers.t ............ ok
t/compat/regression.t ........... ok
t/compat/subclass.t ............. ok
t/compat/switches.t ............. ok
t/compat/test-harness-compat.t .. ok
t/compat/version.t .............. ok
t/console.t ..................... ok
t/env_opts.t .................... ok
t/errors.t ...................... ok
t/file.t ........................ ok
t/glob-to-regexp.t .............. ok
t/grammar.t ..................... ok
t/harness-bailout.t ............. ok
t/harness-subclass.t ............ ok
t/harness.t ..................... ok
t/iterator_factory.t ............ ok
t/iterators.t ................... ok
t/multiplexer.t ................. ok
t/nested.t ...................... ok
t/nofork-mux.t .................. ok
t/nofork.t ...................... ok
t/object.t ...................... ok
t/parse.t ....................... ok
t/parser-config.t ............... ok
t/parser-subclass.t ............. ok
t/perl5lib.t .................... ok
t/premature-bailout.t ........... ok
t/process.t ..................... ok
t/prove.t ....................... ok
t/proverc.t ..................... ok
t/proverun.t .................... ok
t/proveversion.t ................ ok
t/regression.t .................. ok
t/results.t ..................... ok
t/rulesfile.t ................... ok
t/scheduler.t ................... ok
t/source.t ...................... ok
t/source_handler.t .............. ok
t/spool.t ....................... ok
t/state.t ....................... ok
t/state_results.t ............... ok
t/streams.t ..................... ok
t/taint.t ....................... ok
t/testargs.t .................... ok
t/unicode.t ..................... ok
t/yamlish-output.t .............. ok
t/yamlish-writer.t .............. ok
t/yamlish.t ..................... ok
All tests successful.
Files=58, Tests=12168, 9 wallclock secs ( 0.45 usr 0.08 sys + 5.31 cusr 0.96 csys = 6.80 CPU)
Result: PASS
------------------------------
PREREQUISITES
------------------------------
Prerequisite modules loaded:
build:
Module Need Have
------------------- ---- ----
ExtUtils::MakeMaker 0 7.76
configure:
Module Need Have
------------------- ---- ----
ExtUtils::MakeMaker 0 7.76
------------------------------
ENVIRONMENT AND OTHER CONTEXT
------------------------------
Environment variables:
LANG = en_US.UTF-8
LC_ALL = en_US.UTF-8
LC_TERMINAL = iTerm2
LC_TERMINAL_VERSION = 3.5.14
PATH = /opt/plenv/versions/5.42.0-RC1/bin:/opt/plenv/libexec:/opt/plenv/plugins/Perl-Build/bin:/opt/rbenv/shims:/home/genehack/src/git-subrepo/lib:/opt/local/bin:/opt/rbenv/shims:/home/genehack/src/git-subrepo/lib:/opt/nextstrain-env/cli-standalone:/home/genehack/bin:/opt/rust/cargo/bin:/opt/miniconda3/bin:/opt/miniconda3/condabin:/opt/plenv/shims:/opt/plenv/bin:/opt/git/bin:/opt/emacs/bin:/opt/local/bin:/usr/local/bin:/usr/bin:/bin:/usr/games:/opt/rbenv/bin/
PERL_CPANM_OPT = --skip-installed --prompt
SHELL = /usr/bin/zsh
TERM = screen-256color
Perl special variables (and OS-specific diagnostics, for MSWin32):
EGID = 1000 24 25 27 29 30 44 46 100 106 1000
EUID = 1027
EXECUTABLE_NAME = /opt/plenv/versions/5.42.0-RC1/bin/perl5.42.0
GID = 1000 24 25 27 29 30 44 46 100 106 1000
UID = 1027
Perl module toolchain versions installed:
Module Have
------------------- --------
CPAN 2.38
CPAN::Meta 2.150010
Cwd 3.94
ExtUtils::CBuilder 0.280241
ExtUtils::Command 7.76
ExtUtils::Install 2.22
ExtUtils::MakeMaker 7.76
ExtUtils::Manifest 1.75
ExtUtils::ParseXS 3.57
File::Spec 3.94
JSON 4.10
JSON::PP 4.16
Module::Build 0.4234
Module::Signature n/a
Parse::CPAN::Meta 2.150010
Test::Harness 3.52
Test::More 1.302214
YAML 1.31
YAML::Syck n/a
version 0.9933
--
Summary of my perl5 (revision 5 version 42 subversion 0) configuration:
Platform:
osname=linux
osvers=6.1.0-35-amd64
archname=x86_64-linux
uname='linux beeves 6.1.0-35-amd64 #1 smp preempt_dynamic debian 6.1.137-1 (2025-05-07) x86_64 gnulinux '
config_args='-Dprefix=/opt/plenv/versions/5.42.0-RC1 -de -Dversiononly -Dusedevel -A'eval:scriptdir=/opt/plenv/versions/5.42.0-RC1/bin''
hint=recommended
useposix=true
d_sigaction=define
useithreads=undef
usemultiplicity=undef
use64bitint=define
use64bitall=define
uselongdouble=undef
usemymalloc=n
default_inc_excludes_dot=define
Compiler:
cc='cc'
ccflags ='-fwrapv -fno-strict-aliasing -pipe -fstack-protector-strong -I/usr/local/include -D_LARGEFILE_SOURCE -D_FILE_OFFSET_BITS=64 -D_FORTIFY_SOURCE=2'
optimize='-O2'
cppflags='-fwrapv -fno-strict-aliasing -pipe -fstack-protector-strong -I/usr/local/include'
ccversion=''
gccversion='12.2.0'
gccosandvers=''
intsize=4
longsize=8
ptrsize=8
doublesize=8
byteorder=12345678
doublekind=3
d_longlong=define
longlongsize=8
d_longdbl=define
longdblsize=16
longdblkind=3
ivtype='long'
ivsize=8
nvtype='double'
nvsize=8
Off_t='off_t'
lseeksize=8
alignbytes=8
prototype=define
Linker and Libraries:
ld='cc'
ldflags =' -fstack-protector-strong -L/usr/local/lib'
libpth=/usr/local/lib /usr/lib/x86_64-linux-gnu /usr/lib /usr/lib64
libs=-lpthread -ldl -lm -lcrypt -lutil -lc
perllibs=-lpthread -ldl -lm -lcrypt -lutil -lc
libc=/lib/x86_64-linux-gnu/libc.so.6
so=so
useshrplib=false
libperl=libperl.a
gnulibc_version='2.36'
Dynamic Linking:
dlsrc=dl_dlopen.xs
dlext=so
d_dlsymun=undef
ccdlflags='-Wl,-E'
cccdlflags='-fPIC'
lddlflags='-shared -O2 -L/usr/local/lib -fstack-protector-strong'
Characteristics of this binary (from libperl):
Compile-time options:
HAS_LONG_DOUBLE
HAS_STRTOLD
HAS_TIMES
PERLIO_LAYERS
PERL_COPY_ON_WRITE
PERL_DONT_CREATE_GVSV
PERL_HASH_FUNC_SIPHASH13
PERL_HASH_USE_SBOX32
PERL_MALLOC_WRAP
PERL_OP_PARENT
PERL_PRESERVE_IVUV
PERL_USE_DEVEL
PERL_USE_SAFE_PUTENV
USE_64_BIT_ALL
USE_64_BIT_INT
USE_LARGE_FILES
USE_LOCALE
USE_LOCALE_COLLATE
USE_LOCALE_CTYPE
USE_LOCALE_NUMERIC
USE_LOCALE_TIME
USE_PERLIO
USE_PERL_ATOF
Locally applied patches:
RC1
Built under linux
Compiled at Jun 25 2025 11:01:04
%ENV:
PERL_CPANM_OPT="--skip-installed --prompt"
@INC:
/opt/plenv/versions/5.42.0-RC1/lib/perl5/site_perl/5.42.0/x86_64-linux
/opt/plenv/versions/5.42.0-RC1/lib/perl5/site_perl/5.42.0
/opt/plenv/versions/5.42.0-RC1/lib/perl5/5.42.0/x86_64-linux
/opt/plenv/versions/5.42.0-RC1/lib/perl5/5.42.0