Google-Ads-GoogleAds-Client v23.0.0 Perl 5 v5.39.7 x86_64-linux-ld

Status
Pass
From
Andreas J. König (ANDK)
Dist
Google-Ads-GoogleAds-Client v23.0.0
Platform
Perl 5 v5.39.7 x86_64-linux-ld
Date
2024-06-25 18:22:58
ID
f30bff86-331f-11ef-ab43-70d29627a942
This distribution has been tested as part of the CPAN Testers
project, supporting the Perl programming language.  See
http://wiki.cpantesters.org/ for more information or email
questions to cpan-testers-discuss@perl.org


--
Dear Google Ads API,

This is a computer-generated report for Google-Ads-GoogleAds-Client-23.0.0
on perl 5.39.7, created by CPAN-Reporter-1.2019.

Thank you for uploading your work to CPAN.  Congratulations!
All tests were successful.

Sections of this report:

    * Tester comments
    * Program output
    * Prerequisites
    * Environment and other context

------------------------------
TESTER COMMENTS
------------------------------

Additional comments from tester:

this report is from an automated smoke testing program
and was not reviewed by a human for accuracy

------------------------------
PROGRAM OUTPUT
------------------------------

Output from './Build test':

t/001_require.t ....................... ok
t/011_Client.t ........................ ok
t/012_GoogleAdsException.t ............ ok
t/013_OAuth2ApplicationsHandler.t ..... ok
t/014_GoogleAdsHelper.t ............... ok
t/015_SearchGoogleAdsIterator.t ....... ok
t/016_FieldMasks.t .................... ok
t/017_PartialFailureUtils.t ........... ok
t/018_MediaUtils.t .................... ok
t/019_GoogleAdsLogger.t ............... ok
t/020_ResourcesNames.t ................ ok
t/021_OperationService.t .............. ok
t/022_SearchStreamHandler.t ........... ok
t/023_OAuth2ServiceAccountsHandler.t .. ok
All tests successful.
Files=14, Tests=5547,  6 wallclock secs ( 0.46 usr  0.08 sys +  3.97 cusr  0.66 csys =  5.17 CPU)
Result: PASS

------------------------------
PREREQUISITES
------------------------------

Prerequisite modules loaded:

requires:

    Module                     Need    Have      
    -------------------------- ------- ----------
    Class::Load                0       0.25      
    Class::Std::Fast           0       0.0.8     
    Const::Exporter            0       v1.2.3    
    Crypt::OpenSSL::RSA        0       0.33      
    Cwd                        0       3.90      
    Data::Compare              0       1.29      
    Data::Uniqid               0       0.12      
    Date::Format               0       2.24      
    Date::Parse                0       2.33      
    Digest::SHA                0       6.04      
    Exporter::Auto             0       0.04      
    File::Basename             0       2.86      
    File::HomeDir              0       1.006     
    File::Path                 0       2.18      
    File::Spec                 0       3.90      
    File::Temp                 0       0.2311    
    FindBin                    0       1.54      
    Getopt::Long               0       2.57      
    HTTP::Server::Simple::CGI  0       0         
    IO::Socket::SSL            0       2.084     
    JSON::Parse                0       0.62      
    JSON::SL                   0       1.0.7     
    JSON::WebToken             0       0.10      
    JSON::XS                   0       4.03      
    List::Util                 0       1.63      
    Log::Log4perl              0       1.57      
    LWP::Protocol::https       0       6.14      
    LWP::UserAgent             0       6.73      
    LWP::UserAgent::Determined 0       1.07      
    MIME::Base64               0       3.16_01   
    perl                       v5.28.1 5.039007  
    POSIX                      0       2.17      
    Storable                   0       3.32      
    Template                   0       3.101     
    Time::HiRes                0       1.9776    
    URI::Escape                0       5.21      
    URI::Query                 0       0.16      

build_requires:

    Module                     Need    Have      
    -------------------------- ------- ----------
    Class::Std::Fast           0       0.0.8     
    Config::Properties         0       1.80      
    Module::Build              0       0.4234    
    Test::Deep                 0       1.204     
    Test::Exception            0       0.43      
    Test::MockObject           0       1.20200122
    Test::MockObject::Extends  0       1.20200122
    Test::More                 0       1.302199  

configure_requires:

    Module                     Need    Have      
    -------------------------- ------- ----------
    Module::Build              0.42    0.4234    


------------------------------
ENVIRONMENT AND OTHER CONTEXT
------------------------------

Environment variables:

    AUTOMATED_TESTING = 1
    LANG = en_US.UTF-8
    LANGUAGE = en_US:en
    PATH = /home/sand/bin:/usr/local/bin:/usr/bin:/bin:/usr/games:/usr/local/perl/bin:/usr/X11/bin:/sbin:/usr/sbin
    PERL5LIB = 
    PERL5OPT = 
    PERL5_CPANPLUS_IS_RUNNING = 3252120
    PERL5_CPAN_IS_RUNNING = 3252120
    PERL_CANARY_STABILITY_NOPROMPT = 1
    PERL_MM_USE_DEFAULT = 1
    PERL_USE_UNSAFE_INC = 1
    SHELL = /usr/bin/zsh
    TERM = screen

Perl special variables (and OS-specific diagnostics, for MSWin32):

    $^X = /home/sand/src/perl/repoperls/installed-perls/host/k93msid/v5.39.7/af11/bin/perl
    $UID/$EUID = 1005 / 1005
    $GID = 1005 1005
    $EGID = 1005 1005

Perl module toolchain versions installed:

    Module              Have    
    ------------------- --------
    CPAN                2.36    
    CPAN::Meta          2.150010
    Cwd                 3.90    
    ExtUtils::CBuilder  0.280240
    ExtUtils::Command   7.70    
    ExtUtils::Install   2.22    
    ExtUtils::MakeMaker 7.70    
    ExtUtils::Manifest  1.75    
    ExtUtils::ParseXS   3.51    
    File::Spec          3.90    
    JSON                4.10    
    JSON::PP            4.16    
    Module::Build       0.4234  
    Module::Signature   0.88    
    Parse::CPAN::Meta   2.150010
    Test2               1.302199
    Test::Harness       3.48    
    Test::More          1.302199
    YAML                1.31    
    YAML::Syck          1.34    
    version             0.9930  


--

Summary of my perl5 (revision 5 version 39 subversion 7) configuration:
  Commit id: 96559478fdc3f2fe9c51cad02ebbae0c950b7b68
  Platform:
    osname=linux
    osvers=6.5.0-5-amd64
    archname=x86_64-linux-ld
    uname='linux k93msid 6.5.0-5-amd64 #1 smp preempt_dynamic debian 6.5.13-1 (2023-11-29) x86_64 gnulinux '
    config_args='-Dprefix=/home/sand/src/perl/repoperls/installed-perls/host/k93msid/v5.39.7/af11 -Dmyhostname=k93msid -Dinstallusrbinperl=n -Uversiononly -Dusedevel -des -Ui_db -Dlibswanted=cl pthread socket inet nsl gdbm dbm malloc dl ld sun m crypt sec util c cposix posix ucb BSD gdbm_compat -Uuseithreads -Duselongdouble -DEBUGGING=-g'
    hint=recommended
    useposix=true
    d_sigaction=define
    useithreads=undef
    usemultiplicity=undef
    use64bitint=define
    use64bitall=define
    uselongdouble=define
    usemymalloc=n
    default_inc_excludes_dot=define
  Compiler:
    cc='cc'
    ccflags ='-fwrapv -fno-strict-aliasing -pipe -fstack-protector-strong -I/usr/local/include -D_LARGEFILE_SOURCE -D_FILE_OFFSET_BITS=64 -D_FORTIFY_SOURCE=2'
    optimize='-O2 -g'
    cppflags='-fwrapv -fno-strict-aliasing -pipe -fstack-protector-strong -I/usr/local/include'
    ccversion=''
    gccversion='13.2.0'
    gccosandvers=''
    intsize=4
    longsize=8
    ptrsize=8
    doublesize=8
    byteorder=12345678
    doublekind=3
    d_longlong=define
    longlongsize=8
    d_longdbl=define
    longdblsize=16
    longdblkind=3
    ivtype='long'
    ivsize=8
    nvtype='long double'
    nvsize=16
    Off_t='off_t'
    lseeksize=8
    alignbytes=16
    prototype=define
  Linker and Libraries:
    ld='cc'
    ldflags =' -fstack-protector-strong -L/usr/local/lib'
    libpth=/usr/local/lib /usr/lib/x86_64-linux-gnu /usr/lib /usr/lib64
    libs=-lpthread -lnsl -ldl -lm -lcrypt -lutil -lc
    perllibs=-lpthread -lnsl -ldl -lm -lcrypt -lutil -lc
    libc=/lib/x86_64-linux-gnu/libc.so.6
    so=so
    useshrplib=false
    libperl=libperl.a
    gnulibc_version='2.37'
  Dynamic Linking:
    dlsrc=dl_dlopen.xs
    dlext=so
    d_dlsymun=undef
    ccdlflags='-Wl,-E'
    cccdlflags='-fPIC'
    lddlflags='-shared -O2 -g -L/usr/local/lib -fstack-protector-strong'


Characteristics of this binary (from libperl): 
  Compile-time options:
    HAS_LONG_DOUBLE
    HAS_STRTOLD
    HAS_TIMES
    PERLIO_LAYERS
    PERL_COPY_ON_WRITE
    PERL_DONT_CREATE_GVSV
    PERL_HASH_FUNC_SIPHASH13
    PERL_HASH_USE_SBOX32
    PERL_MALLOC_WRAP
    PERL_OP_PARENT
    PERL_PRESERVE_IVUV
    PERL_USE_DEVEL
    PERL_USE_SAFE_PUTENV
    USE_64_BIT_ALL
    USE_64_BIT_INT
    USE_LARGE_FILES
    USE_LOCALE
    USE_LOCALE_COLLATE
    USE_LOCALE_CTYPE
    USE_LOCALE_NUMERIC
    USE_LOCALE_TIME
    USE_LONG_DOUBLE
    USE_PERLIO
    USE_PERL_ATOF
  Built under linux
  Compiled at Jan 20 2024 17:02:19
  %ENV:
    PERL5LIB=""
    PERL5OPT=""
    PERL5_CPANPLUS_IS_RUNNING="3252120"
    PERL5_CPAN_IS_RUNNING="3252120"
    PERL_CANARY_STABILITY_NOPROMPT="1"
    PERL_MM_USE_DEFAULT="1"
    PERL_USE_UNSAFE_INC="1"
  @INC:
    /home/sand/src/perl/repoperls/installed-perls/host/k93msid/v5.39.7/af11/lib/site_perl/5.39.7/x86_64-linux-ld
    /home/sand/src/perl/repoperls/installed-perls/host/k93msid/v5.39.7/af11/lib/site_perl/5.39.7
    /home/sand/src/perl/repoperls/installed-perls/host/k93msid/v5.39.7/af11/lib/5.39.7/x86_64-linux-ld
    /home/sand/src/perl/repoperls/installed-perls/host/k93msid/v5.39.7/af11/lib/5.39.7
    .