Back
From: metabase:user:e7b3d300-37b2-11e1-8492-b07eb89c7f72
Subject: PASS Module-Build-Deprecated-0.4210 v5.20.2 GNU/Linux
Date: 2015-02-22T23:10:10Z
This distribution has been tested as part of the CPAN Testers
project, supporting the Perl programming language. See
http://wiki.cpantesters.org/ for more information or email
questions to cpan-testers-discuss@perl.org
--
Dear LEONT,
This is a computer-generated report for Module-Build-Deprecated-0.4210
on perl 5.20.2, created by App::cpanminus::reporter 0.12 (1.6102).
Thank you for uploading your work to CPAN. Congratulations!
All tests were successful.
Sections of this report:
* Tester comments
* Program output
* Prerequisites
* Environment and other context
------------------------------
TESTER COMMENTS
------------------------------
Additional comments from tester:
none provided
------------------------------
PROGRAM OUTPUT
------------------------------
Output from '':
Building and testing Module-Build-Deprecated-0.4210
Building Module-Build-Deprecated
t/00-compile.t ............ ok
t/release-pod-coverage.t .. skipped: these tests are for release candidate testing
t/release-pod-syntax.t .... skipped: these tests are for release candidate testing
All tests successful.
Files=3, Tests=4, 0 wallclock secs ( 0.05 usr 0.00 sys + 0.24 cusr 0.04 csys = 0.33 CPU)
Result: PASS
------------------------------
PREREQUISITES
------------------------------
Prerequisite modules loaded:
No requirements found
------------------------------
ENVIRONMENT AND OTHER CONTEXT
------------------------------
Environment variables:
LANG = en_US.utf8
PATH = /home/len/perl5/perlbrew/bin:/home/len/perl5/perlbrew/perls/perl-5.20.2/bin:/home/len/.gvm/vertx/current/bin:/home/len/.gvm/springboot/current/bin:/home/len/.gvm/lazybones/current/bin:/home/len/.gvm/jbake/current/bin:/home/len/.gvm/groovyserv/current/bin:/home/len/.gvm/groovy/current/bin:/home/len/.gvm/griffon/current/bin:/home/len/.gvm/grails/current/bin:/home/len/.gvm/gradle/current/bin:/home/len/.gvm/glide/current/bin:/home/len/.gvm/gaiden/current/bin:/home/len/.gvm/crash/current/bin:/usr/local/rvm/gems/ruby-2.1.5/bin:/usr/local/rvm/gems/ruby-2.1.5@global/bin:/usr/local/rvm/rubies/ruby-2.1.5/bin:/home/len/bin:/usr/local/bin:/usr/bin:/bin:/usr/local/games:/usr/games:/usr/local/rvm/bin
PERLBREW_BASHRC_VERSION = 0.67
PERLBREW_HOME = /home/len/.perlbrew
PERLBREW_MANPATH = /home/len/perl5/perlbrew/perls/perl-5.20.2/man
PERLBREW_PATH = /home/len/perl5/perlbrew/bin:/home/len/perl5/perlbrew/perls/perl-5.20.2/bin
PERLBREW_PERL = perl-5.20.2
PERLBREW_ROOT = /home/len/perl5/perlbrew
PERLBREW_VERSION = 0.67
SHELL = /bin/bash
TERM = xterm
Perl special variables (and OS-specific diagnostics, for MSWin32):
EGID = 1000 24 25 27 29 30 44 46 108 109 115 1000 1003
EUID = 1000
EXECUTABLE_NAME = /home/len/perl5/perlbrew/perls/perl-5.20.2/bin/perl
GID = 1000 24 25 27 29 30 44 46 108 109 115 1000 1003
UID = 1000
Perl module toolchain versions installed:
Module Have
------------------- --------
CPAN 2.05
CPAN::Meta 2.143240
Cwd 3.48_01
ExtUtils::CBuilder 0.280220
ExtUtils::Command 1.20
ExtUtils::Install 2.04
ExtUtils::MakeMaker 7.04
ExtUtils::Manifest 1.70
ExtUtils::ParseXS 3.24
File::Spec 3.48_01
JSON 2.90
JSON::PP 2.27300
Module::Build 0.4211
Module::Signature n/a
Parse::CPAN::Meta 1.4414
Test::Harness 3.35
Test::More 1.001014
YAML n/a
YAML::Syck n/a
version 0.9912
--
Summary of my perl5 (revision 5 version 20 subversion 2) configuration:
Platform:
osname=linux, osvers=2.6.32-5-686, archname=i686-linux
uname='linux grover 2.6.32-5-686 #1 smp tue may 13 16:33:32 utc 2014 i686 gnulinux '
config_args='-de -Dprefix=/home/len/perl5/perlbrew/perls/perl-5.20.2 -Aeval:scriptdir=/home/len/perl5/perlbrew/perls/perl-5.20.2/bin'
hint=recommended, useposix=true, d_sigaction=define
useithreads=undef, usemultiplicity=undef
use64bitint=undef, use64bitall=undef, uselongdouble=undef
usemymalloc=n, bincompat5005=undef
Compiler:
cc='cc', ccflags ='-fwrapv -fno-strict-aliasing -pipe -fstack-protector -I/usr/local/include -D_LARGEFILE_SOURCE -D_FILE_OFFSET_BITS=64',
optimize='-O2',
cppflags='-fwrapv -fno-strict-aliasing -pipe -fstack-protector -I/usr/local/include'
ccversion='', gccversion='4.4.5', gccosandvers=''
intsize=4, longsize=4, ptrsize=4, doublesize=8, byteorder=1234
d_longlong=define, longlongsize=8, d_longdbl=define, longdblsize=12
ivtype='long', ivsize=4, nvtype='double', nvsize=8, Off_t='off_t', lseeksize=8
alignbytes=4, prototype=define
Linker and Libraries:
ld='cc', ldflags =' -fstack-protector -L/usr/local/lib'
libpth=/usr/local/lib /usr/lib/gcc/i486-linux-gnu/4.4.5/include-fixed /usr/include/i486-linux-gnu /usr/lib /lib/../lib /usr/lib/../lib /lib /usr/lib/i486-linux-gnu /usr/lib64
libs=-lnsl -lgdbm -ldl -lm -lcrypt -lutil -lc -lgdbm_compat
perllibs=-lnsl -ldl -lm -lcrypt -lutil -lc
libc=/lib/libc-2.11.3.so, so=so, useshrplib=false, libperl=libperl.a
gnulibc_version='2.11.3'
Dynamic Linking:
dlsrc=dl_dlopen.xs, dlext=so, d_dlsymun=undef, ccdlflags='-Wl,-E'
cccdlflags='-fPIC', lddlflags='-shared -O2 -L/usr/local/lib -fstack-protector'
Characteristics of this binary (from libperl):
Compile-time options: HAS_TIMES PERLIO_LAYERS PERL_DONT_CREATE_GVSV
PERL_HASH_FUNC_ONE_AT_A_TIME_HARD PERL_MALLOC_WRAP
PERL_NEW_COPY_ON_WRITE PERL_PRESERVE_IVUV
USE_LARGE_FILES USE_LOCALE USE_LOCALE_COLLATE
USE_LOCALE_CTYPE USE_LOCALE_NUMERIC USE_PERLIO
USE_PERL_ATOF
Built under linux
Compiled at Feb 17 2015 23:42:24
%ENV:
PERLBREW_BASHRC_VERSION="0.67"
PERLBREW_HOME="/home/len/.perlbrew"
PERLBREW_MANPATH="/home/len/perl5/perlbrew/perls/perl-5.20.2/man"
PERLBREW_PATH="/home/len/perl5/perlbrew/bin:/home/len/perl5/perlbrew/perls/perl-5.20.2/bin"
PERLBREW_PERL="perl-5.20.2"
PERLBREW_ROOT="/home/len/perl5/perlbrew"
PERLBREW_VERSION="0.67"
@INC:
/home/len/perl5/perlbrew/perls/perl-5.20.2/lib/site_perl/5.20.2/i686-linux
/home/len/perl5/perlbrew/perls/perl-5.20.2/lib/site_perl/5.20.2
/home/len/perl5/perlbrew/perls/perl-5.20.2/lib/5.20.2/i686-linux
/home/len/perl5/perlbrew/perls/perl-5.20.2/lib/5.20.2
.